Workbook

Sheet Sheet1
A1: <DATE> | B1: <TIME> | C1: EU | D1: GU | E1: UC | F1: UCH | G1: UJ | H1: AU
A2: 2022.01.03 | B2: 0 | C2: 1.13729 | D2: 1.35288 | E2: 1.26333 | F2: 0.91116 | G2: 115.113 | H2: 0.7268
A3: 2022.01.03 | B3: 0.041666667 | C3: 1.13725 | D3: 1.35212 | E3: 1.26591 | F3: 0.91116 | G3: 115.139 | H3: 0.72673
A4: 2022.01.03 | B4: 0.083333333 | C4: 1.13617 | D4: 1.35166 | E4: 1.2653 | F4: 0.91201 | G4: 115.277 | H4: 0.7265
A5: 2022.01.03 | B5: 0.125 | C5: 1.13583 | D5: 1.35173 | E5: 1.26614 | F5: 0.91292 | G5: 115.21 | H5: 0.72553
A6: 2022.01.03 | B6: 0.16666667 | C6: 1.13423 | D6: 1.35038 | E6: 1.26725 | F6: 0.91295 | G6: 115.274 | H6: 0.72519
A7: 2022.01.03 | B7: 0.20833333 | C7: 1.13481 | D7: 1.34989 | E7: 1.26777 | F7: 0.91425 | G7: 115.273 | H7: 0.72482
A8: 2022.01.03 | B8: 0.25 | C8: 1.13402 | D8: 1.34978 | E8: 1.26757 | F8: 0.91413 | G8: 115.266 | H8: 0.7249
A9: 2022.01.03 | B9: 0.29166667 | C9: 1.13376 | D9: 1.34982 | E9: 1.2679 | F9: 0.9146 | G9: 115.305 | H9: 0.72453
A10: 2022.01.03 | B10: 0.33333333 | C10: 1.13429 | D10: 1.3505 | E10: 1.26776 | F10: 0.91467 | G10: 115.331 | H10: 0.72526
A11: 2022.01.03 | B11: 0.375 | C11: 1.13478 | D11: 1.35052 | E11: 1.26745 | F11: 0.91408 | G11: 115.287 | H11: 0.72564
A12: 2022.01.03 | B12: 0.41666667 | C12: 1.13462 | D12: 1.3522 | E12: 1.26714 | F12: 0.91376 | G12: 115.254 | H12: 0.72605
A13: 2022.01.03 | B13: 0.45833333 | C13: 1.13514 | D13: 1.35167 | E13: 1.26793 | F13: 0.91268 | G13: 115.172 | H13: 0.72549
... A18: 2022.01.03 | B18: 0.66666667 | C18: 1.13057 | D18: 1.34596 | E18: 1.27389 | F18: 0.91475 | G18: 115.301 | H18: 0.71959

Sheet Sheet2
A1: <DATE> | B1: <TIME> | C1: EU | D1: GU | E1: UC | F1: UCH | G1: UJ | H1: AU
A2: 2022.01.03 | B2: 0
A3: 2022.01.03 | B3: 0.041666667 | C3: =IF(Sheet1!C3>Sheet1!C2,1,-1) -> -1 | D3: =IF(Sheet1!D3>Sheet1!D2,1,-1) -> -1 | E3: =IF(Sheet1!E3>Sheet1!E2,1,-1) -> 1 | F3: =IF(Sheet1!F3>Sheet1!F2,1,-1) -> -1 | G3: =IF(Sheet1!G3>Sheet1!G2,1,-1) -> 1 | H3: =IF(Sheet1!H3>Sheet1!H2,1,-1) -> -1
A4: 2022.01.03 | B4: 0.083333333 | C4: =IF(Sheet1!C4>Sheet1!C3,1,-1) -> -1 | D4: =IF(Sheet1!D4>Sheet1!D3,1,-1) -> -1 | E4: =IF(Sheet1!E4>Sheet1!E3,1,-1) -> -1 | F4: =IF(Sheet1!F4>Sheet1!F3,1,-1) -> 1 | G4: =IF(Sheet1!G4>Sheet1!G3,1,-1) -> 1 | H4: =IF(Sheet1!H4>Sheet1!H3,1,-1) -> -1
A5: 2022.01.03 | B5: 0.125 | C5: =IF(Sheet1!C5>Sheet1!C4,1,-1) -> -1 | D5: =IF(Sheet1!D5>Sheet1!D4,1,-1) -> 1 | E5: =IF(Sheet1!E5>Sheet1!E4,1,-1) -> 1 | F5: =IF(Sheet1!F5>Sheet1!F4,1,-1) -> 1 | G5: =IF(Sheet1!G5>Sheet1!G4,1,-1) -> -1 | H5: =IF(Sheet1!H5>Sheet1!H4,1,-1) -> -1
A6: 2022.01.03 | B6: 0.16666667 | C6: =IF(Sheet1!C6>Sheet1!C5,1,-1) -> -1 | D6: =IF(Sheet1!D6>Sheet1!D5,1,-1) -> -1 | E6: =IF(Sheet1!E6>Sheet1!E5,1,-1) -> 1 | F6: =IF(Sheet1!F6>Sheet1!F5,1,-1) -> 1 | G6: =IF(Sheet1!G6>Sheet1!G5,1,-1) -> 1 | H6: =IF(Sheet1!H6>Sheet1!H5,1,-1) -> -1
A7: 2022.01.03 | B7: 0.20833333 | C7: =IF(Sheet1!C7>Sheet1!C6,1,-1) -> 1 | D7: =IF(Sheet1!D7>Sheet1!D6,1,-1) -> -1 | E7: =IF(Sheet1!E7>Sheet1!E6,1,-1) -> 1 | F7: =IF(Sheet1!F7>Sheet1!F6,1,-1) -> 1 | G7: =IF(Sheet1!G7>Sheet1!G6,1,-1) -> -1 | H7: =IF(Sheet1!H7>Sheet1!H6,1,-1) -> -1
A8: 2022.01.03 | B8: 0.25 | C8: =IF(Sheet1!C8>Sheet1!C7,1,-1) -> -1 | D8: =IF(Sheet1!D8>Sheet1!D7,1,-1) -> -1 | E8: =IF(Sheet1!E8>Sheet1!E7,1,-1) -> -1 | F8: =IF(Sheet1!F8>Sheet1!F7,1,-1) -> -1 | G8: =IF(Sheet1!G8>Sheet1!G7,1,-1) -> -1 | H8: =IF(Sheet1!H8>Sheet1!H7,1,-1) -> 1
A9: 2022.01.03 | B9: 0.29166667 | C9: =IF(Sheet1!C9>Sheet1!C8,1,-1) -> -1 | D9: =IF(Sheet1!D9>Sheet1!D8,1,-1) -> 1 | E9: =IF(Sheet1!E9>Sheet1!E8,1,-1) -> 1 | F9: =IF(Sheet1!F9>Sheet1!F8,1,-1) -> 1 | G9: =IF(Sheet1!G9>Sheet1!G8,1,-1) -> 1 | H9: =IF(Sheet1!H9>Sheet1!H8,1,-1) -> -1
A10: 2022.01.03 | B10: 0.33333333 | C10: =IF(Sheet1!C10>Sheet1!C9,1,-1) -> 1 | D10: =IF(Sheet1!D10>Sheet1!D9,1,-1) -> 1 | E10: =IF(Sheet1!E10>Sheet1!E9,1,-1) -> -1 | F10: =IF(Sheet1!F10>Sheet1!F9,1,-1) -> 1 | G10: =IF(Sheet1!G10>Sheet1!G9,1,-1) -> 1 | H10: =IF(Sheet1!H10>Sheet1!H9,1,-1) -> 1
A11: 2022.01.03 | B11: 0.375 | C11: =IF(Sheet1!C11>Sheet1!C10,1,-1) -> 1 | D11: =IF(Sheet1!D11>Sheet1!D10,1,-1) -> 1 | E11: =IF(Sheet1!E11>Sheet1!E10,1,-1) -> -1 | F11: =IF(Sheet1!F11>Sheet1!F10,1,-1) -> -1 | G11: =IF(Sheet1!G11>Sheet1!G10,1,-1) -> -1 | H11: =IF(Sheet1!H11>Sheet1!H10,1,-1) -> 1
A12: 2022.01.03 | B12: 0.41666667 | C12: =IF(Sheet1!C12>Sheet1!C11,1,-1) -> -1 | D12: =IF(Sheet1!D12>Sheet1!D11,1,-1) -> 1 | E12: =IF(Sheet1!E12>Sheet1!E11,1,-1) -> -1 | F12: =IF(Sheet1!F12>Sheet1!F11,1,-1) -> -1 | G12: =IF(Sheet1!G12>Sheet1!G11,1,-1) -> -1 | H12: =IF(Sheet1!H12>Sheet1!H11,1,-1) -> 1
A13: 2022.01.03 | B13: 0.45833333 | C13: =IF(Sheet1!C13>Sheet1!C12,1,-1) -> 1 | D13: =IF(Sheet1!D13>Sheet1!D12,1,-1) -> -1 | E13: =IF(Sheet1!E13>Sheet1!E12,1,-1) -> 1 | F13: =IF(Sheet1!F13>Sheet1!F12,1,-1) -> -1 | G13: =IF(Sheet1!G13>Sheet1!G12,1,-1) -> -1 | H13: =IF(Sheet1!H13>Sheet1!H12,1,-1) -> -1
A14: 2022.01.03 | B14: 0.5 | C14: =IF(Sheet1!C14>Sheet1!C13,1,-1) -> 1 | D14: =IF(Sheet1!D14>Sheet1!D13,1,-1) -> -1 | E14: =IF(Sheet1!E14>Sheet1!E13,1,-1) -> 1 | F14: =IF(Sheet1!F14>Sheet1!F13,1,-1) -> -1 | G14: =IF(Sheet1!G14>Sheet1!G13,1,-1) -> -1 | H14: =IF(Sheet1!H14>Sheet1!H13,1,-1) -> -1
... A18: 2022.01.03 | B18: 0.66666667 | C18: =IF(Sheet1!C18>Sheet1!C17,1,-1) -> -1 | D18: =IF(Sheet1!D18>Sheet1!D17,1,-1) -> -1 | E18: =IF(Sheet1!E18>Sheet1!E17,1,-1) -> 1 | F18: =IF(Sheet1!F18>Sheet1!F17,1,-1) -> 1 | G18: =IF(Sheet1!G18>Sheet1!G17,1,-1) -> 1 | H18: =IF(Sheet1!H18>Sheet1!H17,1,-1) -> -1

Sheet Sheet3
A1: <DATE> | B1: <TIME> | C1: EU | D1: GU | E1: UC | F1: UCH | G1: UJ | H1: AU
A2: 2022.01.03 | B2: 0
A3: 2022.01.03 | B3: 0.041666667 | C3: =IF(Sheet2!C3=1,"BUY","SELL") -> SELL | D3: =IF(Sheet2!D3=1,"BUY","SELL") -> SELL | E3: =IF(Sheet2!E3=1,"BUY","SELL") -> BUY | F3: =IF(Sheet2!F3=1,"BUY","SELL") -> SELL | G3: =IF(Sheet2!G3=1,"BUY","SELL") -> BUY | H3: =IF(Sheet2!H3=1,"BUY","SELL") -> SELL
A4: 2022.01.03 | B4: 0.083333333 | C4: =IF(Sheet2!C4=1,"BUY","SELL") -> SELL | D4: =IF(Sheet2!D4=1,"BUY","SELL") -> SELL | E4: =IF(Sheet2!E4=1,"BUY","SELL") -> SELL | F4: =IF(Sheet2!F4=1,"BUY","SELL") -> BUY | G4: =IF(Sheet2!G4=1,"BUY","SELL") -> BUY | H4: =IF(Sheet2!H4=1,"BUY","SELL") -> SELL
A5: 2022.01.03 | B5: 0.125 | C5: =IF(Sheet2!C5=1,"BUY","SELL") -> SELL | D5: =IF(Sheet2!D5=1,"BUY","SELL") -> BUY | E5: =IF(Sheet2!E5=1,"BUY","SELL") -> BUY | F5: =IF(Sheet2!F5=1,"BUY","SELL") -> BUY | G5: =IF(Sheet2!G5=1,"BUY","SELL") -> SELL | H5: =IF(Sheet2!H5=1,"BUY","SELL") -> SELL
A6: 2022.01.03 | B6: 0.16666667 | C6: =IF(Sheet2!C6=1,"BUY","SELL") -> SELL | D6: =IF(Sheet2!D6=1,"BUY","SELL") -> SELL | E6: =IF(Sheet2!E6=1,"BUY","SELL") -> BUY | F6: =IF(Sheet2!F6=1,"BUY","SELL") -> BUY | G6: =IF(Sheet2!G6=1,"BUY","SELL") -> BUY | H6: =IF(Sheet2!H6=1,"BUY","SELL") -> SELL
A7: 2022.01.03 | B7: 0.20833333 | C7: =IF(Sheet2!C7=1,"BUY","SELL") -> BUY | D7: =IF(Sheet2!D7=1,"BUY","SELL") -> SELL | E7: =IF(Sheet2!E7=1,"BUY","SELL") -> BUY | F7: =IF(Sheet2!F7=1,"BUY","SELL") -> BUY | G7: =IF(Sheet2!G7=1,"BUY","SELL") -> SELL | H7: =IF(Sheet2!H7=1,"BUY","SELL") -> SELL
A8: 2022.01.03 | B8: 0.25 | C8: =IF(Sheet2!C8=1,"BUY","SELL") -> SELL | D8: =IF(Sheet2!D8=1,"BUY","SELL") -> SELL | E8: =IF(Sheet2!E8=1,"BUY","SELL") -> SELL | F8: =IF(Sheet2!F8=1,"BUY","SELL") -> SELL | G8: =IF(Sheet2!G8=1,"BUY","SELL") -> SELL | H8: =IF(Sheet2!H8=1,"BUY","SELL") -> BUY
A9: 2022.01.03 | B9: 0.29166667 | C9: =IF(Sheet2!C9=1,"BUY","SELL") -> SELL | D9: =IF(Sheet2!D9=1,"BUY","SELL") -> BUY | E9: =IF(Sheet2!E9=1,"BUY","SELL") -> BUY | F9: =IF(Sheet2!F9=1,"BUY","SELL") -> BUY | G9: =IF(Sheet2!G9=1,"BUY","SELL") -> BUY | H9: =IF(Sheet2!H9=1,"BUY","SELL") -> SELL
A10: 2022.01.03 | B10: 0.33333333 | C10: =IF(Sheet2!C10=1,"BUY","SELL") -> BUY | D10: =IF(Sheet2!D10=1,"BUY","SELL") -> BUY | E10: =IF(Sheet2!E10=1,"BUY","SELL") -> SELL | F10: =IF(Sheet2!F10=1,"BUY","SELL") -> BUY | G10: =IF(Sheet2!G10=1,"BUY","SELL") -> BUY | H10: =IF(Sheet2!H10=1,"BUY","SELL") -> BUY
A11: 2022.01.03 | B11: 0.375 | C11: =IF(Sheet2!C11=1,"BUY","SELL") -> BUY | D11: =IF(Sheet2!D11=1,"BUY","SELL") -> BUY | E11: =IF(Sheet2!E11=1,"BUY","SELL") -> SELL | F11: =IF(Sheet2!F11=1,"BUY","SELL") -> SELL | G11: =IF(Sheet2!G11=1,"BUY","SELL") -> SELL | H11: =IF(Sheet2!H11=1,"BUY","SELL") -> BUY
A12: 2022.01.03 | B12: 0.41666667 | C12: =IF(Sheet2!C12=1,"BUY","SELL") -> SELL | D12: =IF(Sheet2!D12=1,"BUY","SELL") -> BUY | E12: =IF(Sheet2!E12=1,"BUY","SELL") -> SELL | F12: =IF(Sheet2!F12=1,"BUY","SELL") -> SELL | G12: =IF(Sheet2!G12=1,"BUY","SELL") -> SELL | H12: =IF(Sheet2!H12=1,"BUY","SELL") -> BUY
A13: 2022.01.03 | B13: 0.45833333 | C13: =IF(Sheet2!C13=1,"BUY","SELL") -> BUY | D13: =IF(Sheet2!D13=1,"BUY","SELL") -> SELL | E13: =IF(Sheet2!E13=1,"BUY","SELL") -> BUY | F13: =IF(Sheet2!F13=1,"BUY","SELL") -> SELL | G13: =IF(Sheet2!G13=1,"BUY","SELL") -> SELL | H13: =IF(Sheet2!H13=1,"BUY","SELL") -> SELL
A14: 2022.01.03 | B14: 0.5 | C14: =IF(Sheet2!C14=1,"BUY","SELL") -> BUY | D14: =IF(Sheet2!D14=1,"BUY","SELL") -> SELL | E14: =IF(Sheet2!E14=1,"BUY","SELL") -> BUY | F14: =IF(Sheet2!F14=1,"BUY","SELL") -> SELL | G14: =IF(Sheet2!G14=1,"BUY","SELL") -> SELL | H14: =IF(Sheet2!H14=1,"BUY","SELL") -> SELL
... A18: 2022.01.03 | B18: 0.66666667 | C18: =IF(Sheet2!C18=1,"BUY","SELL") -> SELL | D18: =IF(Sheet2!D18=1,"BUY","SELL") -> SELL | E18: =IF(Sheet2!E18=1,"BUY","SELL") -> BUY | F18: =IF(Sheet2!F18=1,"BUY","SELL") -> BUY | G18: =IF(Sheet2!G18=1,"BUY","SELL") -> BUY | H18: =IF(Sheet2!H18=1,"BUY","SELL") -> SELL
