Workbook

Sheet EMA and SMA Data
A1: Account Number | C1: xxxxxx
G2: TF | H2: H4
G3: EMA | H3: 10
Q4: Percentage of Current Price
M5: SMA of EMA | O5: Current Price | Q5: to SMA of EMA
C6: 0 | D6: 1 | E6: 2 | F6: 3 | G6: 4 | H6: 5 | I6: 6 | J6: 7 | K6: 8 | L6: 9 | M6: Average of 10 EMA series ( 0 to 9)
A7: EURUSD | C7: =RTD("fxbluelabs.excelrtd",,$C$1,CONCATENATE("@ema,",$A7,",",$H$2,",","Close",",",$H$3,",",C$6)) | D7: =RTD("fxbluelabs.excelrtd",,$C$1,CONCATENATE("@ema,",$A7,",",$H$2,",","Close",",",$H$3,",",D$6)) | E7: =RTD("fxbluelabs.excelrtd",,$C$1,CONCATENATE("@ema,",$A7,",",$H$2,",","Close",",",$H$3,",",E$6)) | F7: =RTD("fxbluelabs.excelrtd",,$C$1,CONCATENATE("@ema,",$A7,",",$H$2,",","Close",",",$H$3,",",F$6)) | G7: =RTD("fxbluelabs.excelrtd",,$C$1,CONCATENATE("@ema,",$A7,",",$H$2,",","Close",",",$H$3,",",G$6)) | H7: =RTD("fxbluelabs.excelrtd",,$C$1,CONCATENATE("@ema,",$A7,",",$H$2,",","Close",",",$H$3,",",H$6)) | I7: =RTD("fxbluelabs.excelrtd",,$C$1,CONCATENATE("@ema,",$A7,",",$H$2,",","Close",",",$H$3,",",I$6)) | J7: =RTD("fxbluelabs.excelrtd",,$C$1,CONCATENATE("@ema,",$A7,",",$H$2,",","Close",",",$H$3,",",J$6)) | ... L7: =RTD("fxbluelabs.excelrtd",,$C$1,CONCATENATE("@ema,",$A7,",",$H$2,",","Close",",",$H$3,",",L$6)) | M7: =AVERAGE(C7:L7) -> #DIV/0! | O7: =RTD("fxbluelabs.excelrtd", , $C$1,_xlfn.CONCAT( "bid", A7)) | Q7: =(O7-M7)/M7*100 -> #VALUE!
A8: EURGBP | C8: =RTD("fxbluelabs.excelrtd",,$C$1,CONCATENATE("@ema,",$A8,",",$H$2,",","Close",",",$H$3,",",C$6)) | D8: =RTD("fxbluelabs.excelrtd",,$C$1,CONCATENATE("@ema,",$A8,",",$H$2,",","Close",",",$H$3,",",D$6)) | E8: =RTD("fxbluelabs.excelrtd",,$C$1,CONCATENATE("@ema,",$A8,",",$H$2,",","Close",",",$H$3,",",E$6)) | F8: =RTD("fxbluelabs.excelrtd",,$C$1,CONCATENATE("@ema,",$A8,",",$H$2,",","Close",",",$H$3,",",F$6)) | G8: =RTD("fxbluelabs.excelrtd",,$C$1,CONCATENATE("@ema,",$A8,",",$H$2,",","Close",",",$H$3,",",G$6)) | H8: =RTD("fxbluelabs.excelrtd",,$C$1,CONCATENATE("@ema,",$A8,",",$H$2,",","Close",",",$H$3,",",H$6)) | I8: =RTD("fxbluelabs.excelrtd",,$C$1,CONCATENATE("@ema,",$A8,",",$H$2,",","Close",",",$H$3,",",I$6)) | J8: =RTD("fxbluelabs.excelrtd",,$C$1,CONCATENATE("@ema,",$A8,",",$H$2,",","Close",",",$H$3,",",J$6)) | ... L8: =RTD("fxbluelabs.excelrtd",,$C$1,CONCATENATE("@ema,",$A8,",",$H$2,",","Close",",",$H$3,",",L$6)) | M8: =AVERAGE(C8:L8) -> #DIV/0! | O8: =RTD("fxbluelabs.excelrtd", , $C$1,_xlfn.CONCAT( "bid", A8)) | Q8: =(O8-M8)/M8*100 -> #VALUE!
A9: EURJPY | C9: =RTD("fxbluelabs.excelrtd",,$C$1,CONCATENATE("@ema,",$A9,",",$H$2,",","Close",",",$H$3,",",C$6)) | D9: =RTD("fxbluelabs.excelrtd",,$C$1,CONCATENATE("@ema,",$A9,",",$H$2,",","Close",",",$H$3,",",D$6)) | E9: =RTD("fxbluelabs.excelrtd",,$C$1,CONCATENATE("@ema,",$A9,",",$H$2,",","Close",",",$H$3,",",E$6)) | F9: =RTD("fxbluelabs.excelrtd",,$C$1,CONCATENATE("@ema,",$A9,",",$H$2,",","Close",",",$H$3,",",F$6)) | G9: =RTD("fxbluelabs.excelrtd",,$C$1,CONCATENATE("@ema,",$A9,",",$H$2,",","Close",",",$H$3,",",G$6)) | H9: =RTD("fxbluelabs.excelrtd",,$C$1,CONCATENATE("@ema,",$A9,",",$H$2,",","Close",",",$H$3,",",H$6)) | I9: =RTD("fxbluelabs.excelrtd",,$C$1,CONCATENATE("@ema,",$A9,",",$H$2,",","Close",",",$H$3,",",I$6)) | J9: =RTD("fxbluelabs.excelrtd",,$C$1,CONCATENATE("@ema,",$A9,",",$H$2,",","Close",",",$H$3,",",J$6)) | ... L9: =RTD("fxbluelabs.excelrtd",,$C$1,CONCATENATE("@ema,",$A9,",",$H$2,",","Close",",",$H$3,",",L$6)) | M9: =AVERAGE(C9:L9) -> #DIV/0! | O9: =RTD("fxbluelabs.excelrtd", , $C$1,_xlfn.CONCAT( "bid", A9)) | Q9: =(O9-M9)/M9*100 -> #VALUE!
A10: EURAUD | C10: =RTD("fxbluelabs.excelrtd",,$C$1,CONCATENATE("@ema,",$A10,",",$H$2,",","Close",",",$H$3,",",C$6)) | D10: =RTD("fxbluelabs.excelrtd",,$C$1,CONCATENATE("@ema,",$A10,",",$H$2,",","Close",",",$H$3,",",D$6)) | E10: =RTD("fxbluelabs.excelrtd",,$C$1,CONCATENATE("@ema,",$A10,",",$H$2,",","Close",",",$H$3,",",E$6)) | F10: =RTD("fxbluelabs.excelrtd",,$C$1,CONCATENATE("@ema,",$A10,",",$H$2,",","Close",",",$H$3,",",F$6)) | G10: =RTD("fxbluelabs.excelrtd",,$C$1,CONCATENATE("@ema,",$A10,",",$H$2,",","Close",",",$H$3,",",G$6)) | H10: =RTD("fxbluelabs.excelrtd",,$C$1,CONCATENATE("@ema,",$A10,",",$H$2,",","Close",",",$H$3,",",H$6)) | I10: =RTD("fxbluelabs.excelrtd",,$C$1,CONCATENATE("@ema,",$A10,",",$H$2,",","Close",",",$H$3,",",I$6)) | J10: =RTD("fxbluelabs.excelrtd",,$C$1,CONCATENATE("@ema,",$A10,",",$H$2,",","Close",",",$H$3,",",J$6)) | ... L10: =RTD("fxbluelabs.excelrtd",,$C$1,CONCATENATE("@ema,",$A10,",",$H$2,",","Close",",",$H$3,",",L$6)) | M10: =AVERAGE(C10:L10) -> #DIV/0! | O10: =RTD("fxbluelabs.excelrtd", , $C$1,_xlfn.CONCAT( "bid", A10)) | Q10: =(O10-M10)/M10*100 -> #VALUE!
A11: EURCAD | C11: =RTD("fxbluelabs.excelrtd",,$C$1,CONCATENATE("@ema,",$A11,",",$H$2,",","Close",",",$H$3,",",C$6)) | D11: =RTD("fxbluelabs.excelrtd",,$C$1,CONCATENATE("@ema,",$A11,",",$H$2,",","Close",",",$H$3,",",D$6)) | E11: =RTD("fxbluelabs.excelrtd",,$C$1,CONCATENATE("@ema,",$A11,",",$H$2,",","Close",",",$H$3,",",E$6)) | F11: =RTD("fxbluelabs.excelrtd",,$C$1,CONCATENATE("@ema,",$A11,",",$H$2,",","Close",",",$H$3,",",F$6)) | G11: =RTD("fxbluelabs.excelrtd",,$C$1,CONCATENATE("@ema,",$A11,",",$H$2,",","Close",",",$H$3,",",G$6)) | H11: =RTD("fxbluelabs.excelrtd",,$C$1,CONCATENATE("@ema,",$A11,",",$H$2,",","Close",",",$H$3,",",H$6)) | I11: =RTD("fxbluelabs.excelrtd",,$C$1,CONCATENATE("@ema,",$A11,",",$H$2,",","Close",",",$H$3,",",I$6)) | J11: =RTD("fxbluelabs.excelrtd",,$C$1,CONCATENATE("@ema,",$A11,",",$H$2,",","Close",",",$H$3,",",J$6)) | ... L11: =RTD("fxbluelabs.excelrtd",,$C$1,CONCATENATE("@ema,",$A11,",",$H$2,",","Close",",",$H$3,",",L$6)) | M11: =AVERAGE(C11:L11) -> #DIV/0! | O11: =RTD("fxbluelabs.excelrtd", , $C$1,_xlfn.CONCAT( "bid", A11)) | Q11: =(O11-M11)/M11*100 -> #VALUE!
A12: EURNZD | C12: =RTD("fxbluelabs.excelrtd",,$C$1,CONCATENATE("@ema,",$A12,",",$H$2,",","Close",",",$H$3,",",C$6)) | D12: =RTD("fxbluelabs.excelrtd",,$C$1,CONCATENATE("@ema,",$A12,",",$H$2,",","Close",",",$H$3,",",D$6)) | E12: =RTD("fxbluelabs.excelrtd",,$C$1,CONCATENATE("@ema,",$A12,",",$H$2,",","Close",",",$H$3,",",E$6)) | F12: =RTD("fxbluelabs.excelrtd",,$C$1,CONCATENATE("@ema,",$A12,",",$H$2,",","Close",",",$H$3,",",F$6)) | G12: =RTD("fxbluelabs.excelrtd",,$C$1,CONCATENATE("@ema,",$A12,",",$H$2,",","Close",",",$H$3,",",G$6)) | H12: =RTD("fxbluelabs.excelrtd",,$C$1,CONCATENATE("@ema,",$A12,",",$H$2,",","Close",",",$H$3,",",H$6)) | I12: =RTD("fxbluelabs.excelrtd",,$C$1,CONCATENATE("@ema,",$A12,",",$H$2,",","Close",",",$H$3,",",I$6)) | J12: =RTD("fxbluelabs.excelrtd",,$C$1,CONCATENATE("@ema,",$A12,",",$H$2,",","Close",",",$H$3,",",J$6)) | ... L12: =RTD("fxbluelabs.excelrtd",,$C$1,CONCATENATE("@ema,",$A12,",",$H$2,",","Close",",",$H$3,",",L$6)) | M12: =AVERAGE(C12:L12) -> #DIV/0! | O12: =RTD("fxbluelabs.excelrtd", , $C$1,_xlfn.CONCAT( "bid", A12)) | Q12: =(O12-M12)/M12*100 -> #VALUE!
A13: EURCHF | C13: =RTD("fxbluelabs.excelrtd",,$C$1,CONCATENATE("@ema,",$A13,",",$H$2,",","Close",",",$H$3,",",C$6)) | D13: =RTD("fxbluelabs.excelrtd",,$C$1,CONCATENATE("@ema,",$A13,",",$H$2,",","Close",",",$H$3,",",D$6)) | E13: =RTD("fxbluelabs.excelrtd",,$C$1,CONCATENATE("@ema,",$A13,",",$H$2,",","Close",",",$H$3,",",E$6)) | F13: =RTD("fxbluelabs.excelrtd",,$C$1,CONCATENATE("@ema,",$A13,",",$H$2,",","Close",",",$H$3,",",F$6)) | G13: =RTD("fxbluelabs.excelrtd",,$C$1,CONCATENATE("@ema,",$A13,",",$H$2,",","Close",",",$H$3,",",G$6)) | H13: =RTD("fxbluelabs.excelrtd",,$C$1,CONCATENATE("@ema,",$A13,",",$H$2,",","Close",",",$H$3,",",H$6)) | I13: =RTD("fxbluelabs.excelrtd",,$C$1,CONCATENATE("@ema,",$A13,",",$H$2,",","Close",",",$H$3,",",I$6)) | J13: =RTD("fxbluelabs.excelrtd",,$C$1,CONCATENATE("@ema,",$A13,",",$H$2,",","Close",",",$H$3,",",J$6)) | ... L13: =RTD("fxbluelabs.excelrtd",,$C$1,CONCATENATE("@ema,",$A13,",",$H$2,",","Close",",",$H$3,",",L$6)) | M13: =AVERAGE(C13:L13) -> #DIV/0! | O13: =RTD("fxbluelabs.excelrtd", , $C$1,_xlfn.CONCAT( "bid", A13)) | Q13: =(O13-M13)/M13*100 -> #VALUE!
A14: USDJPY | C14: =RTD("fxbluelabs.excelrtd",,$C$1,CONCATENATE("@ema,",$A14,",",$H$2,",","Close",",",$H$3,",",C$6)) | D14: =RTD("fxbluelabs.excelrtd",,$C$1,CONCATENATE("@ema,",$A14,",",$H$2,",","Close",",",$H$3,",",D$6)) | E14: =RTD("fxbluelabs.excelrtd",,$C$1,CONCATENATE("@ema,",$A14,",",$H$2,",","Close",",",$H$3,",",E$6)) | F14: =RTD("fxbluelabs.excelrtd",,$C$1,CONCATENATE("@ema,",$A14,",",$H$2,",","Close",",",$H$3,",",F$6)) | G14: =RTD("fxbluelabs.excelrtd",,$C$1,CONCATENATE("@ema,",$A14,",",$H$2,",","Close",",",$H$3,",",G$6)) | H14: =RTD("fxbluelabs.excelrtd",,$C$1,CONCATENATE("@ema,",$A14,",",$H$2,",","Close",",",$H$3,",",H$6)) | I14: =RTD("fxbluelabs.excelrtd",,$C$1,CONCATENATE("@ema,",$A14,",",$H$2,",","Close",",",$H$3,",",I$6)) | J14: =RTD("fxbluelabs.excelrtd",,$C$1,CONCATENATE("@ema,",$A14,",",$H$2,",","Close",",",$H$3,",",J$6)) | ... L14: =RTD("fxbluelabs.excelrtd",,$C$1,CONCATENATE("@ema,",$A14,",",$H$2,",","Close",",",$H$3,",",L$6)) | M14: =AVERAGE(C14:L14) -> #DIV/0! | O14: =RTD("fxbluelabs.excelrtd", , $C$1,_xlfn.CONCAT( "bid", A14)) | Q14: =(O14-M14)/M14*100 -> #VALUE!
A15: USDCAD | C15: =RTD("fxbluelabs.excelrtd",,$C$1,CONCATENATE("@ema,",$A15,",",$H$2,",","Close",",",$H$3,",",C$6)) | D15: =RTD("fxbluelabs.excelrtd",,$C$1,CONCATENATE("@ema,",$A15,",",$H$2,",","Close",",",$H$3,",",D$6)) | E15: =RTD("fxbluelabs.excelrtd",,$C$1,CONCATENATE("@ema,",$A15,",",$H$2,",","Close",",",$H$3,",",E$6)) | F15: =RTD("fxbluelabs.excelrtd",,$C$1,CONCATENATE("@ema,",$A15,",",$H$2,",","Close",",",$H$3,",",F$6)) | G15: =RTD("fxbluelabs.excelrtd",,$C$1,CONCATENATE("@ema,",$A15,",",$H$2,",","Close",",",$H$3,",",G$6)) | H15: =RTD("fxbluelabs.excelrtd",,$C$1,CONCATENATE("@ema,",$A15,",",$H$2,",","Close",",",$H$3,",",H$6)) | I15: =RTD("fxbluelabs.excelrtd",,$C$1,CONCATENATE("@ema,",$A15,",",$H$2,",","Close",",",$H$3,",",I$6)) | J15: =RTD("fxbluelabs.excelrtd",,$C$1,CONCATENATE("@ema,",$A15,",",$H$2,",","Close",",",$H$3,",",J$6)) | ... L15: =RTD("fxbluelabs.excelrtd",,$C$1,CONCATENATE("@ema,",$A15,",",$H$2,",","Close",",",$H$3,",",L$6)) | M15: =AVERAGE(C15:L15) -> #DIV/0! | O15: =RTD("fxbluelabs.excelrtd", , $C$1,_xlfn.CONCAT( "bid", A15)) | Q15: =(O15-M15)/M15*100 -> #VALUE!
A16: USDCHF | C16: =RTD("fxbluelabs.excelrtd",,$C$1,CONCATENATE("@ema,",$A16,",",$H$2,",","Close",",",$H$3,",",C$6)) | D16: =RTD("fxbluelabs.excelrtd",,$C$1,CONCATENATE("@ema,",$A16,",",$H$2,",","Close",",",$H$3,",",D$6)) | E16: =RTD("fxbluelabs.excelrtd",,$C$1,CONCATENATE("@ema,",$A16,",",$H$2,",","Close",",",$H$3,",",E$6)) | F16: =RTD("fxbluelabs.excelrtd",,$C$1,CONCATENATE("@ema,",$A16,",",$H$2,",","Close",",",$H$3,",",F$6)) | G16: =RTD("fxbluelabs.excelrtd",,$C$1,CONCATENATE("@ema,",$A16,",",$H$2,",","Close",",",$H$3,",",G$6)) | H16: =RTD("fxbluelabs.excelrtd",,$C$1,CONCATENATE("@ema,",$A16,",",$H$2,",","Close",",",$H$3,",",H$6)) | I16: =RTD("fxbluelabs.excelrtd",,$C$1,CONCATENATE("@ema,",$A16,",",$H$2,",","Close",",",$H$3,",",I$6)) | J16: =RTD("fxbluelabs.excelrtd",,$C$1,CONCATENATE("@ema,",$A16,",",$H$2,",","Close",",",$H$3,",",J$6)) | ... L16: =RTD("fxbluelabs.excelrtd",,$C$1,CONCATENATE("@ema,",$A16,",",$H$2,",","Close",",",$H$3,",",L$6)) | M16: =AVERAGE(C16:L16) -> #DIV/0! | O16: =RTD("fxbluelabs.excelrtd", , $C$1,_xlfn.CONCAT( "bid", A16)) | Q16: =(O16-M16)/M16*100 -> #VALUE!
A17: GBPUSD | C17: =RTD("fxbluelabs.excelrtd",,$C$1,CONCATENATE("@ema,",$A17,",",$H$2,",","Close",",",$H$3,",",C$6)) | D17: =RTD("fxbluelabs.excelrtd",,$C$1,CONCATENATE("@ema,",$A17,",",$H$2,",","Close",",",$H$3,",",D$6)) | E17: =RTD("fxbluelabs.excelrtd",,$C$1,CONCATENATE("@ema,",$A17,",",$H$2,",","Close",",",$H$3,",",E$6)) | F17: =RTD("fxbluelabs.excelrtd",,$C$1,CONCATENATE("@ema,",$A17,",",$H$2,",","Close",",",$H$3,",",F$6)) | G17: =RTD("fxbluelabs.excelrtd",,$C$1,CONCATENATE("@ema,",$A17,",",$H$2,",","Close",",",$H$3,",",G$6)) | H17: =RTD("fxbluelabs.excelrtd",,$C$1,CONCATENATE("@ema,",$A17,",",$H$2,",","Close",",",$H$3,",",H$6)) | I17: =RTD("fxbluelabs.excelrtd",,$C$1,CONCATENATE("@ema,",$A17,",",$H$2,",","Close",",",$H$3,",",I$6)) | J17: =RTD("fxbluelabs.excelrtd",,$C$1,CONCATENATE("@ema,",$A17,",",$H$2,",","Close",",",$H$3,",",J$6)) | ... L17: =RTD("fxbluelabs.excelrtd",,$C$1,CONCATENATE("@ema,",$A17,",",$H$2,",","Close",",",$H$3,",",L$6)) | M17: =AVERAGE(C17:L17) -> #DIV/0! | O17: =RTD("fxbluelabs.excelrtd", , $C$1,_xlfn.CONCAT( "bid", A17)) | Q17: =(O17-M17)/M17*100 -> #VALUE!
A18: GBPCAD | C18: =RTD("fxbluelabs.excelrtd",,$C$1,CONCATENATE("@ema,",$A18,",",$H$2,",","Close",",",$H$3,",",C$6)) | D18: =RTD("fxbluelabs.excelrtd",,$C$1,CONCATENATE("@ema,",$A18,",",$H$2,",","Close",",",$H$3,",",D$6)) | E18: =RTD("fxbluelabs.excelrtd",,$C$1,CONCATENATE("@ema,",$A18,",",$H$2,",","Close",",",$H$3,",",E$6)) | F18: =RTD("fxbluelabs.excelrtd",,$C$1,CONCATENATE("@ema,",$A18,",",$H$2,",","Close",",",$H$3,",",F$6)) | G18: =RTD("fxbluelabs.excelrtd",,$C$1,CONCATENATE("@ema,",$A18,",",$H$2,",","Close",",",$H$3,",",G$6)) | H18: =RTD("fxbluelabs.excelrtd",,$C$1,CONCATENATE("@ema,",$A18,",",$H$2,",","Close",",",$H$3,",",H$6)) | I18: =RTD("fxbluelabs.excelrtd",,$C$1,CONCATENATE("@ema,",$A18,",",$H$2,",","Close",",",$H$3,",",I$6)) | J18: =RTD("fxbluelabs.excelrtd",,$C$1,CONCATENATE("@ema,",$A18,",",$H$2,",","Close",",",$H$3,",",J$6)) | ... L18: =RTD("fxbluelabs.excelrtd",,$C$1,CONCATENATE("@ema,",$A18,",",$H$2,",","Close",",",$H$3,",",L$6)) | M18: =AVERAGE(C18:L18) -> #DIV/0! | O18: =RTD("fxbluelabs.excelrtd", , $C$1,_xlfn.CONCAT( "bid", A18)) | Q18: =(O18-M18)/M18*100 -> #VALUE!
... A34: CHFJPY | C34: =RTD("fxbluelabs.excelrtd",,$C$1,CONCATENATE("@ema,",$A34,",",$H$2,",","Close",",",$H$3,",",C$6)) | D34: =RTD("fxbluelabs.excelrtd",,$C$1,CONCATENATE("@ema,",$A34,",",$H$2,",","Close",",",$H$3,",",D$6)) | E34: =RTD("fxbluelabs.excelrtd",,$C$1,CONCATENATE("@ema,",$A34,",",$H$2,",","Close",",",$H$3,",",E$6)) | F34: =RTD("fxbluelabs.excelrtd",,$C$1,CONCATENATE("@ema,",$A34,",",$H$2,",","Close",",",$H$3,",",F$6)) | G34: =RTD("fxbluelabs.excelrtd",,$C$1,CONCATENATE("@ema,",$A34,",",$H$2,",","Close",",",$H$3,",",G$6)) | H34: =RTD("fxbluelabs.excelrtd",,$C$1,CONCATENATE("@ema,",$A34,",",$H$2,",","Close",",",$H$3,",",H$6)) | I34: =RTD("fxbluelabs.excelrtd",,$C$1,CONCATENATE("@ema,",$A34,",",$H$2,",","Close",",",$H$3,",",I$6)) | J34: =RTD("fxbluelabs.excelrtd",,$C$1,CONCATENATE("@ema,",$A34,",",$H$2,",","Close",",",$H$3,",",J$6)) | ... L34: =RTD("fxbluelabs.excelrtd",,$C$1,CONCATENATE("@ema,",$A34,",",$H$2,",","Close",",",$H$3,",",L$6)) | M34: =AVERAGE(C34:L34) -> #DIV/0! | O34: =RTD("fxbluelabs.excelrtd", , $C$1,_xlfn.CONCAT( "bid", A34)) | Q34: =(O34-M34)/M34*100 -> #VALUE!
A37: =_xlfn.CONCAT(MID(A7,4,3),MID(A7,1,3)) -> USDEUR | Q37: =-1*Q7 -> #VALUE!
A38: =_xlfn.CONCAT(MID(A8,4,3),MID(A8,1,3)) -> GBPEUR | Q38: =-1*Q8 -> #VALUE!
A39: =_xlfn.CONCAT(MID(A9,4,3),MID(A9,1,3)) -> JPYEUR | Q39: =-1*Q9 -> #VALUE!
A40: =_xlfn.CONCAT(MID(A10,4,3),MID(A10,1,3)) -> AUDEUR | Q40: =-1*Q10 -> #VALUE!
A41: =_xlfn.CONCAT(MID(A11,4,3),MID(A11,1,3)) -> CADEUR | Q41: =-1*Q11 -> #VALUE!
A42: =_xlfn.CONCAT(MID(A12,4,3),MID(A12,1,3)) -> NZDEUR | Q42: =-1*Q12 -> #VALUE!
A43: =_xlfn.CONCAT(MID(A13,4,3),MID(A13,1,3)) -> CHFEUR | Q43: =-1*Q13 -> #VALUE!
A44: =_xlfn.CONCAT(MID(A14,4,3),MID(A14,1,3)) -> JPYUSD | Q44: =-1*Q14 -> #VALUE!
A45: =_xlfn.CONCAT(MID(A15,4,3),MID(A15,1,3)) -> CADUSD | Q45: =-1*Q15 -> #VALUE!
A46: =_xlfn.CONCAT(MID(A16,4,3),MID(A16,1,3)) -> CHFUSD | Q46: =-1*Q16 -> #VALUE!
A47: =_xlfn.CONCAT(MID(A17,4,3),MID(A17,1,3)) -> USDGBP | Q47: =-1*Q17 -> #VALUE!
A48: =_xlfn.CONCAT(MID(A18,4,3),MID(A18,1,3)) -> CADGBP | Q48: =-1*Q18 -> #VALUE!
... A64: =_xlfn.CONCAT(MID(A34,4,3),MID(A34,1,3)) -> JPYCHF | Q64: =-1*Q34 -> #VALUE!

Sheet CSM Calc
G1: CSM Calculation for | J1: {='EMA and SMA Data'!G2:H3} -> TF | K1: H4
J2: EMA | K2: 10
J3: SMA | K3: 10
A5: EUR | B5: EURUSD | C5: EURGBP | D5: EURAUD | E5: EURJPY | F5: EURCAD | G5: EURNZD | H5: EURCHF | I5: Average
A6: =K1 -> H4 | B6: =_xlfn.XLOOKUP(B5,'EMA and SMA Data'!$A$7:$A$64,'EMA and SMA Data'!$Q$7:$Q$64) -> #VALUE! | C6: =_xlfn.XLOOKUP(C5,'EMA and SMA Data'!$A$7:$A$64,'EMA and SMA Data'!$Q$7:$Q$64) -> #VALUE! | D6: =_xlfn.XLOOKUP(D5,'EMA and SMA Data'!$A$7:$A$64,'EMA and SMA Data'!$Q$7:$Q$64) -> #VALUE! | E6: =_xlfn.XLOOKUP(E5,'EMA and SMA Data'!$A$7:$A$64,'EMA and SMA Data'!$Q$7:$Q$64) -> #VALUE! | F6: =_xlfn.XLOOKUP(F5,'EMA and SMA Data'!$A$7:$A$64,'EMA and SMA Data'!$Q$7:$Q$64) -> #VALUE! | G6: =_xlfn.XLOOKUP(G5,'EMA and SMA Data'!$A$7:$A$64,'EMA and SMA Data'!$Q$7:$Q$64) -> #VALUE! | H6: =_xlfn.XLOOKUP(H5,'EMA and SMA Data'!$A$7:$A$64,'EMA and SMA Data'!$Q$7:$Q$64) -> #VALUE! | I6: =AVERAGE(B6:H6) -> #VALUE! | L6: CSM
L7: EUR | M7: USD | N7: GBP | O7: JPY | P7: AUD | Q7: NZD | R7: CHF | S7: CAD
L8: =I6 -> #VALUE! | M8: =I12 -> #VALUE! | N8: =I18 -> #VALUE! | O8: =I24 -> #VALUE! | P8: =I30 -> #VALUE! | Q8: =I36 -> #VALUE! | R8: =I42 -> #VALUE! | S8: =I48 -> #VALUE!
A11: USD | B11: USDEUR | C11: USDGBP | D11: USDJPY | E11: USDAUD | F11: USDNZD | G11: USDCAD | H11: USDCHF | I11: Average
A12: =A6 -> H4 | B12: =_xlfn.XLOOKUP(B11,'EMA and SMA Data'!$A$7:$A$64,'EMA and SMA Data'!$Q$7:$Q$64) -> #VALUE! | C12: =_xlfn.XLOOKUP(C11,'EMA and SMA Data'!$A$7:$A$64,'EMA and SMA Data'!$Q$7:$Q$64) -> #VALUE! | D12: =_xlfn.XLOOKUP(D11,'EMA and SMA Data'!$A$7:$A$64,'EMA and SMA Data'!$Q$7:$Q$64) -> #VALUE! | E12: =_xlfn.XLOOKUP(E11,'EMA and SMA Data'!$A$7:$A$64,'EMA and SMA Data'!$Q$7:$Q$64) -> #VALUE! | F12: =_xlfn.XLOOKUP(F11,'EMA and SMA Data'!$A$7:$A$64,'EMA and SMA Data'!$Q$7:$Q$64) -> #VALUE! | G12: =_xlfn.XLOOKUP(G11,'EMA and SMA Data'!$A$7:$A$64,'EMA and SMA Data'!$Q$7:$Q$64) -> #VALUE! | H12: =_xlfn.XLOOKUP(H11,'EMA and SMA Data'!$A$7:$A$64,'EMA and SMA Data'!$Q$7:$Q$64) -> #VALUE! | I12: =AVERAGE(B12:H12) -> #VALUE!
A17: GBP | B17: GBPEUR | C17: GBPUSD | D17: GBPJPY | E17: GBPCAD | F17: GBPAUD | G17: GBPNZD | H17: GBPCHF | I17: Average
A18: =A6 -> H4 | B18: =_xlfn.XLOOKUP(B17,'EMA and SMA Data'!$A$7:$A$64,'EMA and SMA Data'!$Q$7:$Q$64) -> #VALUE! | C18: =_xlfn.XLOOKUP(C17,'EMA and SMA Data'!$A$7:$A$64,'EMA and SMA Data'!$Q$7:$Q$64) -> #VALUE! | D18: =_xlfn.XLOOKUP(D17,'EMA and SMA Data'!$A$7:$A$64,'EMA and SMA Data'!$Q$7:$Q$64) -> #VALUE! | E18: =_xlfn.XLOOKUP(E17,'EMA and SMA Data'!$A$7:$A$64,'EMA and SMA Data'!$Q$7:$Q$64) -> #VALUE! | F18: =_xlfn.XLOOKUP(F17,'EMA and SMA Data'!$A$7:$A$64,'EMA and SMA Data'!$Q$7:$Q$64) -> #VALUE! | G18: =_xlfn.XLOOKUP(G17,'EMA and SMA Data'!$A$7:$A$64,'EMA and SMA Data'!$Q$7:$Q$64) -> #VALUE! | H18: =_xlfn.XLOOKUP(H17,'EMA and SMA Data'!$A$7:$A$64,'EMA and SMA Data'!$Q$7:$Q$64) -> #VALUE! | I18: =AVERAGE(B18:H18) -> #VALUE!
A23: JPY | B23: JPYUSD | C23: JPYEUR | D23: JPYGBP | E23: JPYCAD | F23: JPYAUD | G23: JPYNZD | H23: JPYCHF | I23: Average
A24: =A6 -> H4 | B24: =_xlfn.XLOOKUP(B23,'EMA and SMA Data'!$A$7:$A$64,'EMA and SMA Data'!$Q$7:$Q$64) -> #VALUE! | C24: =_xlfn.XLOOKUP(C23,'EMA and SMA Data'!$A$7:$A$64,'EMA and SMA Data'!$Q$7:$Q$64) -> #VALUE! | D24: =_xlfn.XLOOKUP(D23,'EMA and SMA Data'!$A$7:$A$64,'EMA and SMA Data'!$Q$7:$Q$64) -> #VALUE! | E24: =_xlfn.XLOOKUP(E23,'EMA and SMA Data'!$A$7:$A$64,'EMA and SMA Data'!$Q$7:$Q$64) -> #VALUE! | F24: =_xlfn.XLOOKUP(F23,'EMA and SMA Data'!$A$7:$A$64,'EMA and SMA Data'!$Q$7:$Q$64) -> #VALUE! | G24: =_xlfn.XLOOKUP(G23,'EMA and SMA Data'!$A$7:$A$64,'EMA and SMA Data'!$Q$7:$Q$64) -> #VALUE! | H24: =_xlfn.XLOOKUP(H23,'EMA and SMA Data'!$A$7:$A$64,'EMA and SMA Data'!$Q$7:$Q$64) -> #VALUE! | I24: =AVERAGE(B24:H24) -> #VALUE!
A29: AUD | B29: AUDEUR | C29: AUDGBP | D29: AUDUSD | E29: AUDCAD | F29: AUDNZD | G29: AUDJPY | H29: AUDCHF | I29: Average
A30: =A6 -> H4 | B30: =_xlfn.XLOOKUP(B29,'EMA and SMA Data'!$A$7:$A$64,'EMA and SMA Data'!$Q$7:$Q$64) -> #VALUE! | C30: =_xlfn.XLOOKUP(C29,'EMA and SMA Data'!$A$7:$A$64,'EMA and SMA Data'!$Q$7:$Q$64) -> #VALUE! | D30: =_xlfn.XLOOKUP(D29,'EMA and SMA Data'!$A$7:$A$64,'EMA and SMA Data'!$Q$7:$Q$64) -> #VALUE! | E30: =_xlfn.XLOOKUP(E29,'EMA and SMA Data'!$A$7:$A$64,'EMA and SMA Data'!$Q$7:$Q$64) -> #VALUE! | F30: =_xlfn.XLOOKUP(F29,'EMA and SMA Data'!$A$7:$A$64,'EMA and SMA Data'!$Q$7:$Q$64) -> #VALUE! | G30: =_xlfn.XLOOKUP(G29,'EMA and SMA Data'!$A$7:$A$64,'EMA and SMA Data'!$Q$7:$Q$64) -> #VALUE! | H30: =_xlfn.XLOOKUP(H29,'EMA and SMA Data'!$A$7:$A$64,'EMA and SMA Data'!$Q$7:$Q$64) -> #VALUE! | I30: =AVERAGE(B30:H30) -> #VALUE!
A35: NZD | B35: NZDUSD | C35: NZDEUR | D35: NZDGBP | E35: NZDCAD | F35: NZDAUD | G35: NZDJPY | H35: NZDCHF | I35: Average
A36: =A6 -> H4 | B36: =_xlfn.XLOOKUP(B35,'EMA and SMA Data'!$A$7:$A$64,'EMA and SMA Data'!$Q$7:$Q$64) -> #VALUE! | C36: =_xlfn.XLOOKUP(C35,'EMA and SMA Data'!$A$7:$A$64,'EMA and SMA Data'!$Q$7:$Q$64) -> #VALUE! | D36: =_xlfn.XLOOKUP(D35,'EMA and SMA Data'!$A$7:$A$64,'EMA and SMA Data'!$Q$7:$Q$64) -> #VALUE! | E36: =_xlfn.XLOOKUP(E35,'EMA and SMA Data'!$A$7:$A$64,'EMA and SMA Data'!$Q$7:$Q$64) -> #VALUE! | F36: =_xlfn.XLOOKUP(F35,'EMA and SMA Data'!$A$7:$A$64,'EMA and SMA Data'!$Q$7:$Q$64) -> #VALUE! | G36: =_xlfn.XLOOKUP(G35,'EMA and SMA Data'!$A$7:$A$64,'EMA and SMA Data'!$Q$7:$Q$64) -> #VALUE! | H36: =_xlfn.XLOOKUP(H35,'EMA and SMA Data'!$A$7:$A$64,'EMA and SMA Data'!$Q$7:$Q$64) -> #VALUE! | I36: =AVERAGE(B36:H36) -> #VALUE!
A41: CHF | B41: CHFUSD | C41: CHFEUR | D41: CHFGBP | E41: CHFAUD | F41: CHFCAD | G41: CHFNZD | H41: CHFJPY | I41: Average
A42: =A6 -> H4 | B42: =_xlfn.XLOOKUP(B41,'EMA and SMA Data'!$A$7:$A$64,'EMA and SMA Data'!$Q$7:$Q$64) -> #VALUE! | C42: =_xlfn.XLOOKUP(C41,'EMA and SMA Data'!$A$7:$A$64,'EMA and SMA Data'!$Q$7:$Q$64) -> #VALUE! | D42: =_xlfn.XLOOKUP(D41,'EMA and SMA Data'!$A$7:$A$64,'EMA and SMA Data'!$Q$7:$Q$64) -> #VALUE! | E42: =_xlfn.XLOOKUP(E41,'EMA and SMA Data'!$A$7:$A$64,'EMA and SMA Data'!$Q$7:$Q$64) -> #VALUE! | F42: =_xlfn.XLOOKUP(F41,'EMA and SMA Data'!$A$7:$A$64,'EMA and SMA Data'!$Q$7:$Q$64) -> #VALUE! | G42: =_xlfn.XLOOKUP(G41,'EMA and SMA Data'!$A$7:$A$64,'EMA and SMA Data'!$Q$7:$Q$64) -> #VALUE! | H42: =_xlfn.XLOOKUP(H41,'EMA and SMA Data'!$A$7:$A$64,'EMA and SMA Data'!$Q$7:$Q$64) -> #VALUE! | I42: =AVERAGE(B42:H42) -> #VALUE!
A47: CAD | B47: CADUSD | C47: CADGBP | D47: CADJPY | E47: CADAUD | F47: CADNZD | G47: CADCHF | H47: CADEUR | I47: Average
A48: =A6 -> H4 | B48: =_xlfn.XLOOKUP(B47,'EMA and SMA Data'!$A$7:$A$64,'EMA and SMA Data'!$Q$7:$Q$64) -> #VALUE! | C48: =_xlfn.XLOOKUP(C47,'EMA and SMA Data'!$A$7:$A$64,'EMA and SMA Data'!$Q$7:$Q$64) -> #VALUE! | D48: =_xlfn.XLOOKUP(D47,'EMA and SMA Data'!$A$7:$A$64,'EMA and SMA Data'!$Q$7:$Q$64) -> #VALUE! | E48: =_xlfn.XLOOKUP(E47,'EMA and SMA Data'!$A$7:$A$64,'EMA and SMA Data'!$Q$7:$Q$64) -> #VALUE! | F48: =_xlfn.XLOOKUP(F47,'EMA and SMA Data'!$A$7:$A$64,'EMA and SMA Data'!$Q$7:$Q$64) -> #VALUE! | G48: =_xlfn.XLOOKUP(G47,'EMA and SMA Data'!$A$7:$A$64,'EMA and SMA Data'!$Q$7:$Q$64) -> #VALUE! | H48: =_xlfn.XLOOKUP(H47,'EMA and SMA Data'!$A$7:$A$64,'EMA and SMA Data'!$Q$7:$Q$64) -> #VALUE! | I48: =AVERAGE(B48:H48) -> #VALUE!
