Workbook

Sheet Do not touch Data (1)
A1: Account: | B1: ='Currency Strength'!D1 -> XXXXXXX
B4: =_xlfn.CONCAT(D4, " ","Look Back", " ", "(",C4, ")") -> H4 Look Back (0) | C4: ='Currency Strength'!S6 -> 0 | D4: ='Currency Strength'!P6 -> H4 | E4: =RTD("fxbluelabs.excelrtd",,$B$1,CONCATENATE("@bh,",$B6,",",$D$4,",","Time",",",$C$4)) | G4: =_xlfn.CONCAT(I4, " ","Look Back", " ", "(",H4, ")") -> D1 Look Back (0) | H4: ='Currency Strength'!S7 -> 0 | I4: ='Currency Strength'!P7 -> D1 | J4: =RTD("fxbluelabs.excelrtd",,$B$1,CONCATENATE("@bh,",$B6,",",$I$4,",","Time",",",$C$4)) | L4: =_xlfn.CONCAT(N4, " ","Look Back", " ", "(",M4, ")") -> W1 Look Back (0) | M4: ='Currency Strength'!S8 -> 0 | N4: ='Currency Strength'!P8 -> W1 | O4: =RTD("fxbluelabs.excelrtd",,$B$1,CONCATENATE("@bh,",$B6,",",$N$4,",","Time",",",$C$4))
C5: Close | D5: High | E5: Low | H5: Close | I5: High | J5: Low | M5: Close | N5: High | O5: Low
B6: EURUSD | C6: =RTD("fxbluelabs.excelrtd",,$B$1,CONCATENATE("@bh,",$B6,",",$D$4,",",$C$5,",",$C$4)) | D6: =RTD("fxbluelabs.excelrtd",,$B$1,CONCATENATE("@bh,",$B6,",",$D$4,",",$D$5,",",$C$4)) | E6: =RTD("fxbluelabs.excelrtd",,$B$1,CONCATENATE("@bh,",$B6,",",$D$4,",",$E$5,",",$C$4)) | H6: =RTD("fxbluelabs.excelrtd",,$B$1,CONCATENATE("@bh,",$B6,",",$I$4,",",$H$5,",",$H$4)) | I6: =RTD("fxbluelabs.excelrtd",,$B$1,CONCATENATE("@bh,",$B6,",",$I$4,",",$I$5,",",$H$4)) | J6: =RTD("fxbluelabs.excelrtd",,$B$1,CONCATENATE("@bh,",$B6,",",$I$4,",",$J$5,",",$H$4)) | M6: =RTD("fxbluelabs.excelrtd",,$B$1,CONCATENATE("@bh,",$B6,",",$N$4,",",$M$5,",",$M$4)) | N6: =RTD("fxbluelabs.excelrtd",,$B$1,CONCATENATE("@bh,",$B6,",",$N$4,",",$N$5,",",$M$4)) | O6: =RTD("fxbluelabs.excelrtd",,$B$1,CONCATENATE("@bh,",$B6,",",$N$4,",",$O$5,",",$M$4))
B7: EURGBP | C7: =RTD("fxbluelabs.excelrtd",,$B$1,CONCATENATE("@bh,",$B7,",",$D$4,",",$C$5,",",$C$4)) | D7: =RTD("fxbluelabs.excelrtd",,$B$1,CONCATENATE("@bh,",$B7,",",$D$4,",",$D$5,",",$C$4)) | E7: =RTD("fxbluelabs.excelrtd",,$B$1,CONCATENATE("@bh,",$B7,",",$D$4,",",$E$5,",",$C$4)) | H7: =RTD("fxbluelabs.excelrtd",,$B$1,CONCATENATE("@bh,",$B7,",",$I$4,",",$H$5,",",$H$4)) | I7: =RTD("fxbluelabs.excelrtd",,$B$1,CONCATENATE("@bh,",$B7,",",$I$4,",",$I$5,",",$H$4)) | J7: =RTD("fxbluelabs.excelrtd",,$B$1,CONCATENATE("@bh,",$B7,",",$I$4,",",$J$5,",",$H$4)) | M7: =RTD("fxbluelabs.excelrtd",,$B$1,CONCATENATE("@bh,",$B7,",",$N$4,",",$M$5,",",$M$4)) | N7: =RTD("fxbluelabs.excelrtd",,$B$1,CONCATENATE("@bh,",$B7,",",$N$4,",",$N$5,",",$M$4)) | O7: =RTD("fxbluelabs.excelrtd",,$B$1,CONCATENATE("@bh,",$B7,",",$N$4,",",$O$5,",",$M$4))
B8: EURJPY | C8: =RTD("fxbluelabs.excelrtd",,$B$1,CONCATENATE("@bh,",$B8,",",$D$4,",",$C$5,",",$C$4)) | D8: =RTD("fxbluelabs.excelrtd",,$B$1,CONCATENATE("@bh,",$B8,",",$D$4,",",$D$5,",",$C$4)) | E8: =RTD("fxbluelabs.excelrtd",,$B$1,CONCATENATE("@bh,",$B8,",",$D$4,",",$E$5,",",$C$4)) | H8: =RTD("fxbluelabs.excelrtd",,$B$1,CONCATENATE("@bh,",$B8,",",$I$4,",",$H$5,",",$H$4)) | I8: =RTD("fxbluelabs.excelrtd",,$B$1,CONCATENATE("@bh,",$B8,",",$I$4,",",$I$5,",",$H$4)) | J8: =RTD("fxbluelabs.excelrtd",,$B$1,CONCATENATE("@bh,",$B8,",",$I$4,",",$J$5,",",$H$4)) | M8: =RTD("fxbluelabs.excelrtd",,$B$1,CONCATENATE("@bh,",$B8,",",$N$4,",",$M$5,",",$M$4)) | N8: =RTD("fxbluelabs.excelrtd",,$B$1,CONCATENATE("@bh,",$B8,",",$N$4,",",$N$5,",",$M$4)) | O8: =RTD("fxbluelabs.excelrtd",,$B$1,CONCATENATE("@bh,",$B8,",",$N$4,",",$O$5,",",$M$4))
B9: EURAUD | C9: =RTD("fxbluelabs.excelrtd",,$B$1,CONCATENATE("@bh,",$B9,",",$D$4,",",$C$5,",",$C$4)) | D9: =RTD("fxbluelabs.excelrtd",,$B$1,CONCATENATE("@bh,",$B9,",",$D$4,",",$D$5,",",$C$4)) | E9: =RTD("fxbluelabs.excelrtd",,$B$1,CONCATENATE("@bh,",$B9,",",$D$4,",",$E$5,",",$C$4)) | H9: =RTD("fxbluelabs.excelrtd",,$B$1,CONCATENATE("@bh,",$B9,",",$I$4,",",$H$5,",",$H$4)) | I9: =RTD("fxbluelabs.excelrtd",,$B$1,CONCATENATE("@bh,",$B9,",",$I$4,",",$I$5,",",$H$4)) | J9: =RTD("fxbluelabs.excelrtd",,$B$1,CONCATENATE("@bh,",$B9,",",$I$4,",",$J$5,",",$H$4)) | M9: =RTD("fxbluelabs.excelrtd",,$B$1,CONCATENATE("@bh,",$B9,",",$N$4,",",$M$5,",",$M$4)) | N9: =RTD("fxbluelabs.excelrtd",,$B$1,CONCATENATE("@bh,",$B9,",",$N$4,",",$N$5,",",$M$4)) | O9: =RTD("fxbluelabs.excelrtd",,$B$1,CONCATENATE("@bh,",$B9,",",$N$4,",",$O$5,",",$M$4))
B10: EURCAD | C10: =RTD("fxbluelabs.excelrtd",,$B$1,CONCATENATE("@bh,",$B10,",",$D$4,",",$C$5,",",$C$4)) | D10: =RTD("fxbluelabs.excelrtd",,$B$1,CONCATENATE("@bh,",$B10,",",$D$4,",",$D$5,",",$C$4)) | E10: =RTD("fxbluelabs.excelrtd",,$B$1,CONCATENATE("@bh,",$B10,",",$D$4,",",$E$5,",",$C$4)) | H10: =RTD("fxbluelabs.excelrtd",,$B$1,CONCATENATE("@bh,",$B10,",",$I$4,",",$H$5,",",$H$4)) | I10: =RTD("fxbluelabs.excelrtd",,$B$1,CONCATENATE("@bh,",$B10,",",$I$4,",",$I$5,",",$H$4)) | J10: =RTD("fxbluelabs.excelrtd",,$B$1,CONCATENATE("@bh,",$B10,",",$I$4,",",$J$5,",",$H$4)) | M10: =RTD("fxbluelabs.excelrtd",,$B$1,CONCATENATE("@bh,",$B10,",",$N$4,",",$M$5,",",$M$4)) | N10: =RTD("fxbluelabs.excelrtd",,$B$1,CONCATENATE("@bh,",$B10,",",$N$4,",",$N$5,",",$M$4)) | O10: =RTD("fxbluelabs.excelrtd",,$B$1,CONCATENATE("@bh,",$B10,",",$N$4,",",$O$5,",",$M$4))
B11: EURNZD | C11: =RTD("fxbluelabs.excelrtd",,$B$1,CONCATENATE("@bh,",$B11,",",$D$4,",",$C$5,",",$C$4)) | D11: =RTD("fxbluelabs.excelrtd",,$B$1,CONCATENATE("@bh,",$B11,",",$D$4,",",$D$5,",",$C$4)) | E11: =RTD("fxbluelabs.excelrtd",,$B$1,CONCATENATE("@bh,",$B11,",",$D$4,",",$E$5,",",$C$4)) | H11: =RTD("fxbluelabs.excelrtd",,$B$1,CONCATENATE("@bh,",$B11,",",$I$4,",",$H$5,",",$H$4)) | I11: =RTD("fxbluelabs.excelrtd",,$B$1,CONCATENATE("@bh,",$B11,",",$I$4,",",$I$5,",",$H$4)) | J11: =RTD("fxbluelabs.excelrtd",,$B$1,CONCATENATE("@bh,",$B11,",",$I$4,",",$J$5,",",$H$4)) | M11: =RTD("fxbluelabs.excelrtd",,$B$1,CONCATENATE("@bh,",$B11,",",$N$4,",",$M$5,",",$M$4)) | N11: =RTD("fxbluelabs.excelrtd",,$B$1,CONCATENATE("@bh,",$B11,",",$N$4,",",$N$5,",",$M$4)) | O11: =RTD("fxbluelabs.excelrtd",,$B$1,CONCATENATE("@bh,",$B11,",",$N$4,",",$O$5,",",$M$4))
B12: EURCHF | C12: =RTD("fxbluelabs.excelrtd",,$B$1,CONCATENATE("@bh,",$B12,",",$D$4,",",$C$5,",",$C$4)) | D12: =RTD("fxbluelabs.excelrtd",,$B$1,CONCATENATE("@bh,",$B12,",",$D$4,",",$D$5,",",$C$4)) | E12: =RTD("fxbluelabs.excelrtd",,$B$1,CONCATENATE("@bh,",$B12,",",$D$4,",",$E$5,",",$C$4)) | H12: =RTD("fxbluelabs.excelrtd",,$B$1,CONCATENATE("@bh,",$B12,",",$I$4,",",$H$5,",",$H$4)) | I12: =RTD("fxbluelabs.excelrtd",,$B$1,CONCATENATE("@bh,",$B12,",",$I$4,",",$I$5,",",$H$4)) | J12: =RTD("fxbluelabs.excelrtd",,$B$1,CONCATENATE("@bh,",$B12,",",$I$4,",",$J$5,",",$H$4)) | M12: =RTD("fxbluelabs.excelrtd",,$B$1,CONCATENATE("@bh,",$B12,",",$N$4,",",$M$5,",",$M$4)) | N12: =RTD("fxbluelabs.excelrtd",,$B$1,CONCATENATE("@bh,",$B12,",",$N$4,",",$N$5,",",$M$4)) | O12: =RTD("fxbluelabs.excelrtd",,$B$1,CONCATENATE("@bh,",$B12,",",$N$4,",",$O$5,",",$M$4))
B13: USDJPY | C13: =RTD("fxbluelabs.excelrtd",,$B$1,CONCATENATE("@bh,",$B13,",",$D$4,",",$C$5,",",$C$4)) | D13: =RTD("fxbluelabs.excelrtd",,$B$1,CONCATENATE("@bh,",$B13,",",$D$4,",",$D$5,",",$C$4)) | E13: =RTD("fxbluelabs.excelrtd",,$B$1,CONCATENATE("@bh,",$B13,",",$D$4,",",$E$5,",",$C$4)) | H13: =RTD("fxbluelabs.excelrtd",,$B$1,CONCATENATE("@bh,",$B13,",",$I$4,",",$H$5,",",$H$4)) | I13: =RTD("fxbluelabs.excelrtd",,$B$1,CONCATENATE("@bh,",$B13,",",$I$4,",",$I$5,",",$H$4)) | J13: =RTD("fxbluelabs.excelrtd",,$B$1,CONCATENATE("@bh,",$B13,",",$I$4,",",$J$5,",",$H$4)) | M13: =RTD("fxbluelabs.excelrtd",,$B$1,CONCATENATE("@bh,",$B13,",",$N$4,",",$M$5,",",$M$4)) | N13: =RTD("fxbluelabs.excelrtd",,$B$1,CONCATENATE("@bh,",$B13,",",$N$4,",",$N$5,",",$M$4)) | O13: =RTD("fxbluelabs.excelrtd",,$B$1,CONCATENATE("@bh,",$B13,",",$N$4,",",$O$5,",",$M$4))
B14: USDCAD | C14: =RTD("fxbluelabs.excelrtd",,$B$1,CONCATENATE("@bh,",$B14,",",$D$4,",",$C$5,",",$C$4)) | D14: =RTD("fxbluelabs.excelrtd",,$B$1,CONCATENATE("@bh,",$B14,",",$D$4,",",$D$5,",",$C$4)) | E14: =RTD("fxbluelabs.excelrtd",,$B$1,CONCATENATE("@bh,",$B14,",",$D$4,",",$E$5,",",$C$4)) | H14: =RTD("fxbluelabs.excelrtd",,$B$1,CONCATENATE("@bh,",$B14,",",$I$4,",",$H$5,",",$H$4)) | I14: =RTD("fxbluelabs.excelrtd",,$B$1,CONCATENATE("@bh,",$B14,",",$I$4,",",$I$5,",",$H$4)) | J14: =RTD("fxbluelabs.excelrtd",,$B$1,CONCATENATE("@bh,",$B14,",",$I$4,",",$J$5,",",$H$4)) | M14: =RTD("fxbluelabs.excelrtd",,$B$1,CONCATENATE("@bh,",$B14,",",$N$4,",",$M$5,",",$M$4)) | N14: =RTD("fxbluelabs.excelrtd",,$B$1,CONCATENATE("@bh,",$B14,",",$N$4,",",$N$5,",",$M$4)) | O14: =RTD("fxbluelabs.excelrtd",,$B$1,CONCATENATE("@bh,",$B14,",",$N$4,",",$O$5,",",$M$4))
B15: USDCHF | C15: =RTD("fxbluelabs.excelrtd",,$B$1,CONCATENATE("@bh,",$B15,",",$D$4,",",$C$5,",",$C$4)) | D15: =RTD("fxbluelabs.excelrtd",,$B$1,CONCATENATE("@bh,",$B15,",",$D$4,",",$D$5,",",$C$4)) | E15: =RTD("fxbluelabs.excelrtd",,$B$1,CONCATENATE("@bh,",$B15,",",$D$4,",",$E$5,",",$C$4)) | H15: =RTD("fxbluelabs.excelrtd",,$B$1,CONCATENATE("@bh,",$B15,",",$I$4,",",$H$5,",",$H$4)) | I15: =RTD("fxbluelabs.excelrtd",,$B$1,CONCATENATE("@bh,",$B15,",",$I$4,",",$I$5,",",$H$4)) | J15: =RTD("fxbluelabs.excelrtd",,$B$1,CONCATENATE("@bh,",$B15,",",$I$4,",",$J$5,",",$H$4)) | M15: =RTD("fxbluelabs.excelrtd",,$B$1,CONCATENATE("@bh,",$B15,",",$N$4,",",$M$5,",",$M$4)) | N15: =RTD("fxbluelabs.excelrtd",,$B$1,CONCATENATE("@bh,",$B15,",",$N$4,",",$N$5,",",$M$4)) | O15: =RTD("fxbluelabs.excelrtd",,$B$1,CONCATENATE("@bh,",$B15,",",$N$4,",",$O$5,",",$M$4))
B16: GBPUSD | C16: =RTD("fxbluelabs.excelrtd",,$B$1,CONCATENATE("@bh,",$B16,",",$D$4,",",$C$5,",",$C$4)) | D16: =RTD("fxbluelabs.excelrtd",,$B$1,CONCATENATE("@bh,",$B16,",",$D$4,",",$D$5,",",$C$4)) | E16: =RTD("fxbluelabs.excelrtd",,$B$1,CONCATENATE("@bh,",$B16,",",$D$4,",",$E$5,",",$C$4)) | H16: =RTD("fxbluelabs.excelrtd",,$B$1,CONCATENATE("@bh,",$B16,",",$I$4,",",$H$5,",",$H$4)) | I16: =RTD("fxbluelabs.excelrtd",,$B$1,CONCATENATE("@bh,",$B16,",",$I$4,",",$I$5,",",$H$4)) | J16: =RTD("fxbluelabs.excelrtd",,$B$1,CONCATENATE("@bh,",$B16,",",$I$4,",",$J$5,",",$H$4)) | M16: =RTD("fxbluelabs.excelrtd",,$B$1,CONCATENATE("@bh,",$B16,",",$N$4,",",$M$5,",",$M$4)) | N16: =RTD("fxbluelabs.excelrtd",,$B$1,CONCATENATE("@bh,",$B16,",",$N$4,",",$N$5,",",$M$4)) | O16: =RTD("fxbluelabs.excelrtd",,$B$1,CONCATENATE("@bh,",$B16,",",$N$4,",",$O$5,",",$M$4))
B17: GBPCAD | C17: =RTD("fxbluelabs.excelrtd",,$B$1,CONCATENATE("@bh,",$B17,",",$D$4,",",$C$5,",",$C$4)) | D17: =RTD("fxbluelabs.excelrtd",,$B$1,CONCATENATE("@bh,",$B17,",",$D$4,",",$D$5,",",$C$4)) | E17: =RTD("fxbluelabs.excelrtd",,$B$1,CONCATENATE("@bh,",$B17,",",$D$4,",",$E$5,",",$C$4)) | H17: =RTD("fxbluelabs.excelrtd",,$B$1,CONCATENATE("@bh,",$B17,",",$I$4,",",$H$5,",",$H$4)) | I17: =RTD("fxbluelabs.excelrtd",,$B$1,CONCATENATE("@bh,",$B17,",",$I$4,",",$I$5,",",$H$4)) | J17: =RTD("fxbluelabs.excelrtd",,$B$1,CONCATENATE("@bh,",$B17,",",$I$4,",",$J$5,",",$H$4)) | M17: =RTD("fxbluelabs.excelrtd",,$B$1,CONCATENATE("@bh,",$B17,",",$N$4,",",$M$5,",",$M$4)) | N17: =RTD("fxbluelabs.excelrtd",,$B$1,CONCATENATE("@bh,",$B17,",",$N$4,",",$N$5,",",$M$4)) | O17: =RTD("fxbluelabs.excelrtd",,$B$1,CONCATENATE("@bh,",$B17,",",$N$4,",",$O$5,",",$M$4))
... B33: CHFJPY | C33: =RTD("fxbluelabs.excelrtd",,$B$1,CONCATENATE("@bh,",$B33,",",$D$4,",",$C$5,",",$C$4)) | D33: =RTD("fxbluelabs.excelrtd",,$B$1,CONCATENATE("@bh,",$B33,",",$D$4,",",$D$5,",",$C$4)) | E33: =RTD("fxbluelabs.excelrtd",,$B$1,CONCATENATE("@bh,",$B33,",",$D$4,",",$E$5,",",$C$4)) | H33: =RTD("fxbluelabs.excelrtd",,$B$1,CONCATENATE("@bh,",$B33,",",$I$4,",",$H$5,",",$H$4)) | I33: =RTD("fxbluelabs.excelrtd",,$B$1,CONCATENATE("@bh,",$B33,",",$I$4,",",$I$5,",",$H$4)) | J33: =RTD("fxbluelabs.excelrtd",,$B$1,CONCATENATE("@bh,",$B33,",",$I$4,",",$J$5,",",$H$4)) | M33: =RTD("fxbluelabs.excelrtd",,$B$1,CONCATENATE("@bh,",$B33,",",$N$4,",",$M$5,",",$M$4)) | N33: =RTD("fxbluelabs.excelrtd",,$B$1,CONCATENATE("@bh,",$B33,",",$N$4,",",$N$5,",",$M$4)) | O33: =RTD("fxbluelabs.excelrtd",,$B$1,CONCATENATE("@bh,",$B33,",",$N$4,",",$O$5,",",$M$4))
C36: =CONCATENATE(D4," ", C5, "-", D5) -> H4 Close-High | D36: =CONCATENATE(D4," ", C5, "-", E5) -> H4 Close-Low | E36: =CONCATENATE(I4," ", H5, "-", I5) -> D1 Close-High | H36: =CONCATENATE(I4," ", H5, "-", J5) -> D1 Close-Low | I36: =CONCATENATE(N4," ", M5, "-", N5) -> W1 Close-High | J36: =CONCATENATE(N4," ", M5, "-", O5) -> W1 Close-Low | M36: FX Pair/TF | N36: =D4 -> H4 | O36: =I4 -> D1 | P36: =N4 -> W1 | S36: Currency/TF | T36: =D4 -> H4 | U36: =I4 -> D1 | V36: =N4 -> W1
B37: =B6 -> EURUSD | C37: =(C6-D6)/D6*100 -> #VALUE! | D37: =(C6-E6)/E6*100 -> #VALUE! | E37: =(H6-I6)/I6*100 -> #VALUE! | H37: =(H6-J6)/J6*100 -> #VALUE! | I37: =(M6-N6)/N6*100 -> #VALUE! | J37: =(M6-O6)/O6*100 -> #VALUE! | M37: =B37 -> EURUSD | N37: =C37+D37 -> #VALUE! | O37: =E37+H37 -> #VALUE! | P37: =I37+J37 -> #VALUE! | S37: EURO | T37: =SUM(N37,N38,N39,N40,N41,N42,N43) -> #VALUE! | U37: =SUM(O37,O38,O39,O40,O41,O42,O43) -> #VALUE! | V37: =SUM(P37,P38,P39,P40,P41,P42,P43) -> #VALUE!
B38: =B7 -> EURGBP | C38: =(C7-D7)/D7*100 -> #VALUE! | D38: =(C7-E7)/E7*100 -> #VALUE! | E38: =(H7-I7)/I7*100 -> #VALUE! | H38: =(H7-J7)/J7*100 -> #VALUE! | I38: =(M7-N7)/N7*100 -> #VALUE! | J38: =(M7-O7)/O7*100 -> #VALUE! | M38: =B38 -> EURGBP | N38: =C38+D38 -> #VALUE! | O38: =E38+H38 -> #VALUE! | P38: =I38+J38 -> #VALUE! | S38: USD | T38: =SUM(-1*N37,N44,N45,N46,-1*N47,-1*N53,-1*N63) -> #VALUE! | U38: =SUM(-1*O37,O44,O45,O46,-1*O47,-1*O53,-1*O63) -> #VALUE! | V38: =SUM(-1*P37,P44,P45,P46,-1*P47,-1*P53,-1*P63) -> #VALUE!
B39: =B8 -> EURJPY | C39: =(C8-D8)/D8*100 -> #VALUE! | D39: =(C8-E8)/E8*100 -> #VALUE! | E39: =(H8-I8)/I8*100 -> #VALUE! | H39: =(H8-J8)/J8*100 -> #VALUE! | I39: =(M8-N8)/N8*100 -> #VALUE! | J39: =(M8-O8)/O8*100 -> #VALUE! | M39: =B39 -> EURJPY | N39: =C39+D39 -> #VALUE! | O39: =E39+H39 -> #VALUE! | P39: =I39+J39 -> #VALUE! | S39: GBP | T39: =SUM(N38*-1,N47,N48,N49,N50,N51,N52) -> #VALUE! | U39: =SUM(O38*-1,O47,O48,O49,O50,O51,O52) -> #VALUE! | V39: =SUM(P38*-1,P47,P48,P49,P50,P51,P52) -> #VALUE!
B40: =B9 -> EURAUD | C40: =(C9-D9)/D9*100 -> #VALUE! | D40: =(C9-E9)/E9*100 -> #VALUE! | E40: =(H9-I9)/I9*100 -> #VALUE! | H40: =(H9-J9)/J9*100 -> #VALUE! | I40: =(M9-N9)/N9*100 -> #VALUE! | J40: =(M9-O9)/O9*100 -> #VALUE! | M40: =B40 -> EURAUD | N40: =C40+D40 -> #VALUE! | O40: =E40+H40 -> #VALUE! | P40: =I40+J40 -> #VALUE! | S40: JPY | T40: =SUM(N39,N44,N49,N57,N58,N60,N64)*-1 -> #VALUE! | U40: =SUM(O39,O44,O49,O57,O58,O60,O64)*-1 -> #VALUE! | V40: =SUM(P39,P44,P49,P57,P58,P60,P64)*-1 -> #VALUE!
B41: =B10 -> EURCAD | C41: =(C10-D10)/D10*100 -> #VALUE! | D41: =(C10-E10)/E10*100 -> #VALUE! | E41: =(H10-I10)/I10*100 -> #VALUE! | H41: =(H10-J10)/J10*100 -> #VALUE! | I41: =(M10-N10)/N10*100 -> #VALUE! | J41: =(M10-O10)/O10*100 -> #VALUE! | M41: =B41 -> EURCAD | N41: =C41+D41 -> #VALUE! | O41: =E41+H41 -> #VALUE! | P41: =I41+J41 -> #VALUE! | S41: AUD | T41: =SUM(N40*-1,N51*-1,N53,N54,N55,N56,N57) -> #VALUE! | U41: =SUM(O40*-1,O51*-1,O53,O54,O55,O56,O57) -> #VALUE! | V41: =SUM(P40*-1,P51*-1,P53,P54,P55,P56,P57) -> #VALUE!
B42: =B11 -> EURNZD | C42: =(C11-D11)/D11*100 -> #VALUE! | D42: =(C11-E11)/E11*100 -> #VALUE! | E42: =(H11-I11)/I11*100 -> #VALUE! | H42: =(H11-J11)/J11*100 -> #VALUE! | I42: =(M11-N11)/N11*100 -> #VALUE! | J42: =(M11-O11)/O11*100 -> #VALUE! | M42: =B42 -> EURNZD | N42: =C42+D42 -> #VALUE! | O42: =E42+H42 -> #VALUE! | P42: =I42+J42 -> #VALUE! | S42: CAD | T42: =SUM(N41*-1,N45*-1,N48*-1,N56*-1,N58,N59,N62*-1) -> #VALUE! | U42: =SUM(O41*-1,O45*-1,O48*-1,O56*-1,O58,O59,O62*-1) -> #VALUE! | V42: =SUM(P41*-1,P45*-1,P48*-1,P56*-1,P58,P59,P62*-1) -> #VALUE!
B43: =B12 -> EURCHF | C43: =(C12-D12)/D12*100 -> #VALUE! | D43: =(C12-E12)/E12*100 -> #VALUE! | E43: =(H12-I12)/I12*100 -> #VALUE! | H43: =(H12-J12)/J12*100 -> #VALUE! | I43: =(M12-N12)/N12*100 -> #VALUE! | J43: =(M12-O12)/O12*100 -> #VALUE! | M43: =B43 -> EURCHF | N43: =C43+D43 -> #VALUE! | O43: =E43+H43 -> #VALUE! | P43: =I43+J43 -> #VALUE! | S43: NZD | T43: =SUM(N42*-1,N50*-1,N54*-1,N60,N61,N62,N63) -> #VALUE! | U43: =SUM(O42*-1,O50*-1,O54*-1,O60,O61,O62,O63) -> #VALUE! | V43: =SUM(P42*-1,P50*-1,P54*-1,P60,P61,P62,P63) -> #VALUE!
B44: =B13 -> USDJPY | C44: =(C13-D13)/D13*100 -> #VALUE! | D44: =(C13-E13)/E13*100 -> #VALUE! | E44: =(H13-I13)/I13*100 -> #VALUE! | H44: =(H13-J13)/J13*100 -> #VALUE! | I44: =(M13-N13)/N13*100 -> #VALUE! | J44: =(M13-O13)/O13*100 -> #VALUE! | M44: =B44 -> USDJPY | N44: =C44+D44 -> #VALUE! | O44: =E44+H44 -> #VALUE! | P44: =I44+J44 -> #VALUE! | S44: CHF | T44: =SUM(N43*-1,N46*-1,N52*-1,N55*-1,N59*-1,N61*-1,N64) -> #VALUE! | U44: =SUM(O43*-1,O46*-1,O52*-1,O55*-1,O59*-1,O61*-1,O64) -> #VALUE! | V44: =SUM(P43*-1,P46*-1,P52*-1,P55*-1,P59*-1,P61*-1,P64) -> #VALUE!
B45: =B14 -> USDCAD | C45: =(C14-D14)/D14*100 -> #VALUE! | D45: =(C14-E14)/E14*100 -> #VALUE! | E45: =(H14-I14)/I14*100 -> #VALUE! | H45: =(H14-J14)/J14*100 -> #VALUE! | I45: =(M14-N14)/N14*100 -> #VALUE! | J45: =(M14-O14)/O14*100 -> #VALUE! | M45: =B45 -> USDCAD | N45: =C45+D45 -> #VALUE! | O45: =E45+H45 -> #VALUE! | P45: =I45+J45 -> #VALUE!
B46: =B15 -> USDCHF | C46: =(C15-D15)/D15*100 -> #VALUE! | D46: =(C15-E15)/E15*100 -> #VALUE! | E46: =(H15-I15)/I15*100 -> #VALUE! | H46: =(H15-J15)/J15*100 -> #VALUE! | I46: =(M15-N15)/N15*100 -> #VALUE! | J46: =(M15-O15)/O15*100 -> #VALUE! | M46: =B46 -> USDCHF | N46: =C46+D46 -> #VALUE! | O46: =E46+H46 -> #VALUE! | P46: =I46+J46 -> #VALUE!
B47: =B16 -> GBPUSD | C47: =(C16-D16)/D16*100 -> #VALUE! | D47: =(C16-E16)/E16*100 -> #VALUE! | E47: =(H16-I16)/I16*100 -> #VALUE! | H47: =(H16-J16)/J16*100 -> #VALUE! | I47: =(M16-N16)/N16*100 -> #VALUE! | J47: =(M16-O16)/O16*100 -> #VALUE! | M47: =B47 -> GBPUSD | N47: =C47+D47 -> #VALUE! | O47: =E47+H47 -> #VALUE! | P47: =I47+J47 -> #VALUE!
B48: =B17 -> GBPCAD | C48: =(C17-D17)/D17*100 -> #VALUE! | D48: =(C17-E17)/E17*100 -> #VALUE! | E48: =(H17-I17)/I17*100 -> #VALUE! | H48: =(H17-J17)/J17*100 -> #VALUE! | I48: =(M17-N17)/N17*100 -> #VALUE! | J48: =(M17-O17)/O17*100 -> #VALUE! | M48: =B48 -> GBPCAD | N48: =C48+D48 -> #VALUE! | O48: =E48+H48 -> #VALUE! | P48: =I48+J48 -> #VALUE!
B49: =B18 -> GBPJPY | C49: =(C18-D18)/D18*100 -> #VALUE! | D49: =(C18-E18)/E18*100 -> #VALUE! | E49: =(H18-I18)/I18*100 -> #VALUE! | H49: =(H18-J18)/J18*100 -> #VALUE! | I49: =(M18-N18)/N18*100 -> #VALUE! | J49: =(M18-O18)/O18*100 -> #VALUE! | M49: =B49 -> GBPJPY | N49: =C49+D49 -> #VALUE! | O49: =E49+H49 -> #VALUE! | P49: =I49+J49 -> #VALUE!
B50: =B19 -> GBPNZD | C50: =(C19-D19)/D19*100 -> #VALUE! | D50: =(C19-E19)/E19*100 -> #VALUE! | E50: =(H19-I19)/I19*100 -> #VALUE! | H50: =(H19-J19)/J19*100 -> #VALUE! | I50: =(M19-N19)/N19*100 -> #VALUE! | J50: =(M19-O19)/O19*100 -> #VALUE! | M50: =B50 -> GBPNZD | N50: =C50+D50 -> #VALUE! | O50: =E50+H50 -> #VALUE! | P50: =I50+J50 -> #VALUE!
B51: =B20 -> GBPAUD | C51: =(C20-D20)/D20*100 -> #VALUE! | D51: =(C20-E20)/E20*100 -> #VALUE! | E51: =(H20-I20)/I20*100 -> #VALUE! | H51: =(H20-J20)/J20*100 -> #VALUE! | I51: =(M20-N20)/N20*100 -> #VALUE! | J51: =(M20-O20)/O20*100 -> #VALUE! | M51: =B51 -> GBPAUD | N51: =C51+D51 -> #VALUE! | O51: =E51+H51 -> #VALUE! | P51: =I51+J51 -> #VALUE!
B52: =B21 -> GBPCHF | C52: =(C21-D21)/D21*100 -> #VALUE! | D52: =(C21-E21)/E21*100 -> #VALUE! | E52: =(H21-I21)/I21*100 -> #VALUE! | H52: =(H21-J21)/J21*100 -> #VALUE! | I52: =(M21-N21)/N21*100 -> #VALUE! | J52: =(M21-O21)/O21*100 -> #VALUE! | M52: =B52 -> GBPCHF | N52: =C52+D52 -> #VALUE! | O52: =E52+H52 -> #VALUE! | P52: =I52+J52 -> #VALUE!
B53: =B22 -> AUDUSD | C53: =(C22-D22)/D22*100 -> #VALUE! | D53: =(C22-E22)/E22*100 -> #VALUE! | E53: =(H22-I22)/I22*100 -> #VALUE! | H53: =(H22-J22)/J22*100 -> #VALUE! | I53: =(M22-N22)/N22*100 -> #VALUE! | J53: =(M22-O22)/O22*100 -> #VALUE! | M53: =B53 -> AUDUSD | N53: =C53+D53 -> #VALUE! | O53: =E53+H53 -> #VALUE! | P53: =I53+J53 -> #VALUE!
B54: =B23 -> AUDNZD | C54: =(C23-D23)/D23*100 -> #VALUE! | D54: =(C23-E23)/E23*100 -> #VALUE! | E54: =(H23-I23)/I23*100 -> #VALUE! | H54: =(H23-J23)/J23*100 -> #VALUE! | I54: =(M23-N23)/N23*100 -> #VALUE! | J54: =(M23-O23)/O23*100 -> #VALUE! | M54: =B54 -> AUDNZD | N54: =C54+D54 -> #VALUE! | O54: =E54+H54 -> #VALUE! | P54: =I54+J54 -> #VALUE!
B55: =B24 -> AUDCHF | C55: =(C24-D24)/D24*100 -> #VALUE! | D55: =(C24-E24)/E24*100 -> #VALUE! | E55: =(H24-I24)/I24*100 -> #VALUE! | H55: =(H24-J24)/J24*100 -> #VALUE! | I55: =(M24-N24)/N24*100 -> #VALUE! | J55: =(M24-O24)/O24*100 -> #VALUE! | M55: =B55 -> AUDCHF | N55: =C55+D55 -> #VALUE! | O55: =E55+H55 -> #VALUE! | P55: =I55+J55 -> #VALUE!
B56: =B25 -> AUDCAD | C56: =(C25-D25)/D25*100 -> #VALUE! | D56: =(C25-E25)/E25*100 -> #VALUE! | E56: =(H25-I25)/I25*100 -> #VALUE! | H56: =(H25-J25)/J25*100 -> #VALUE! | I56: =(M25-N25)/N25*100 -> #VALUE! | J56: =(M25-O25)/O25*100 -> #VALUE! | M56: =B56 -> AUDCAD | N56: =C56+D56 -> #VALUE! | O56: =E56+H56 -> #VALUE! | P56: =I56+J56 -> #VALUE!
... B64: =B33 -> CHFJPY | C64: =(C33-D33)/D33*100 -> #VALUE! | D64: =(C33-E33)/E33*100 -> #VALUE! | E64: =(H33-I33)/I33*100 -> #VALUE! | H64: =(H33-J33)/J33*100 -> #VALUE! | I64: =(M33-N33)/N33*100 -> #VALUE! | J64: =(M33-O33)/O33*100 -> #VALUE! | M64: =B64 -> CHFJPY | N64: =C64+D64 -> #VALUE! | O64: =E64+H64 -> #VALUE! | P64: =I64+J64 -> #VALUE!

Sheet Do not touch Data (2) 
A1: Only for showing current candle for each time frame
A2: ='Currency Strength'!$S$12 -> EURCAD | D2: ='Currency Strength'!T12 -> H1 | F2: Lool Back | G2: ='Currency Strength'!W12 -> 0 | K2: ='Currency Strength'!$U$12 -> H4 | N2: Lool Back | O2: ='Currency Strength'!AE12 -> 0 | R2: ='Currency Strength'!X14 -> D1 | U2: Lool Back | V2: ='Currency Strength'!AL12 -> 0
D4: Time | E4: Open | F4: High | G4: Low | H4: Close | K4: Time | L4: Open | M4: High | N4: Low | O4: Close | R4: Time | S4: Open | T4: High | U4: Low | V4: Close
C5: 0 | D5: =D2 -> H1 | E5: =RTD("fxbluelabs.excelrtd",,"401501",CONCATENATE("@bh,",$A$2,",",$D$2,",",E4,",",$G$2)) -> 1.55714 | F5: =RTD("fxbluelabs.excelrtd",,"401501",CONCATENATE("@bh,",$A$2,",",D2,",",F4,",",$G$2)) -> 1.55879 | G5: =RTD("fxbluelabs.excelrtd",,"401501",CONCATENATE("@bh,",$A$2,",",D2,",",G4,",",$G$2)) -> 1.55674 | H5: =RTD("fxbluelabs.excelrtd",,"401501",CONCATENATE("@bh,",$A$2,",",D2,",",H4,",",$G$2)) -> 1.55795 | J5: 0 | K5: =K2 -> H4 | L5: =RTD("fxbluelabs.excelrtd",,"401501",CONCATENATE("@bh,",$A$2,",",$K$2,",",L4,",",$O$2)) -> 1.55505 | M5: =RTD("fxbluelabs.excelrtd",,"401501",CONCATENATE("@bh,",$A$2,",",$K$2,",",M4,",",$O$2)) -> 1.55879 | N5: =RTD("fxbluelabs.excelrtd",,"401501",CONCATENATE("@bh,",$A$2,",",$K$2,",",N4,",",$O$2)) -> 1.55471 | O5: =RTD("fxbluelabs.excelrtd",,"401501",CONCATENATE("@bh,",$A$2,",",$K$2,",",O4,",",$O$2)) -> 1.55795 | Q5: 0 | R5: =R2 -> D1 | S5: =RTD("fxbluelabs.excelrtd",,"401501",CONCATENATE("@bh,",$A$2,",",$R$2,",",S4,",",$V$2)) -> 1.55543 | T5: =RTD("fxbluelabs.excelrtd",,"401501",CONCATENATE("@bh,",$A$2,",",$R$2,",",T4,",",$V$2)) -> 1.55879 | U5: =RTD("fxbluelabs.excelrtd",,"401501",CONCATENATE("@bh,",$A$2,",",$R$2,",",U4,",",$V$2)) -> 1.5537 | V5: =RTD("fxbluelabs.excelrtd",,"401501",CONCATENATE("@bh,",$A$2,",",$R$2,",",V4,",",$V$2)) -> 1.55795
A9: Only for Loading MTF charts for Pairs
E10: ='Currency Strength'!O41 -> H2 | L10: ='Currency Strength'!P41 -> H6 | S10: ='Currency Strength'!Q41 -> H12
A11: ='Currency Strength'!M40 -> GBPJPY
D12: Time | E12: Open | F12: High | G12: Low | H12: Close | K12: Time | L12: Open | M12: High | N12: Low | O12: Close | R12: Time | S12: Open | T12: High | U12: Low | V12: Close
C13: 8 | D13: =RTD("fxbluelabs.excelrtd",,"401501",CONCATENATE("@bh,",$A$11,",",$E$10,",",$D$12,",",C13)) -> 2020/10/29 16:00:00 | E13: =RTD("fxbluelabs.excelrtd",,"401501",CONCATENATE("@bh,",$A$11,",",$E$10,",",$E$12,",",$C$13)) -> 134.996 | F13: =RTD("fxbluelabs.excelrtd",,"401501",CONCATENATE("@bh,",$A$11,",",$E$10,",",F12,",",$G$2)) -> 134.816 | G13: =RTD("fxbluelabs.excelrtd",,"401501",CONCATENATE("@bh,",$A$11,",",$E$10,",",$G$12,",",C13)) -> 134.646 | H13: =RTD("fxbluelabs.excelrtd",,"401501",CONCATENATE("@bh,",$A$11,",",$E$10,",",$H$12,",",C13)) -> 135.01 | J13: 8 | K13: =RTD("fxbluelabs.excelrtd",,"401501",CONCATENATE("@bh,",$A$11,",",$L$10,",",$K$12,",",J13)) -> 2020/10/28 06:00:00 | L13: =RTD("fxbluelabs.excelrtd",,"401501",CONCATENATE("@bh,",$A$11,",",$L$10,",",$L$12,",",J13)) -> 135.963 | M13: =RTD("fxbluelabs.excelrtd",,"401501",CONCATENATE("@bh,",$A$11,",",$L$10,",",$M$12,",",J13)) -> 136.167 | N13: =RTD("fxbluelabs.excelrtd",,"401501",CONCATENATE("@bh,",$A$11,",",$L$10,",",$N$12,",",J13)) -> 135.43 | O13: =RTD("fxbluelabs.excelrtd",,"401501",CONCATENATE("@bh,",$A$11,",",$L$10,",",$O$12,",",J13)) -> 135.598 | Q13: 7 | R13: =RTD("fxbluelabs.excelrtd",,"401501",CONCATENATE("@bh,",$A$11,",",$S$10,",",$R$12,",",Q13)) -> 2020/10/26 12:00:00 | S13: =RTD("fxbluelabs.excelrtd",,"401501",CONCATENATE("@bh,",$A$11,",",$S$10,",",$S$12,",",Q13)) -> 136.553 | T13: =RTD("fxbluelabs.excelrtd",,"401501",CONCATENATE("@bh,",$A$11,",",$S$10,",",$T$12,",",Q13)) -> 137.066 | U13: =RTD("fxbluelabs.excelrtd",,"401501",CONCATENATE("@bh,",$A$11,",",$S$10,",",$U$12,",",Q13)) -> 136.408 | V13: =RTD("fxbluelabs.excelrtd",,"401501",CONCATENATE("@bh,",$A$11,",",$S$10,",",$V$12,",",Q13)) -> 136.529
C14: 7 | D14: =RTD("fxbluelabs.excelrtd",,"401501",CONCATENATE("@bh,",$A$11,",",$E$10,",",$D$12,",",C14)) -> 2020/10/29 18:00:00 | E14: =RTD("fxbluelabs.excelrtd",,"401501",CONCATENATE("@bh,",$A$11,",",$E$10,",",$E$12,",",C14)) -> 135.011 | F14: =RTD("fxbluelabs.excelrtd",,"401501",CONCATENATE("@bh,",$A$11,",",$E$10,",",$F$12,",",C14)) -> 135.176 | G14: =RTD("fxbluelabs.excelrtd",,"401501",CONCATENATE("@bh,",$A$11,",",$E$10,",",$G$12,",",C14)) -> 134.822 | H14: =RTD("fxbluelabs.excelrtd",,"401501",CONCATENATE("@bh,",$A$11,",",$E$10,",",$H$12,",",C14)) -> 135.164 | J14: 7 | K14: =RTD("fxbluelabs.excelrtd",,"401501",CONCATENATE("@bh,",$A$11,",",$L$10,",",$K$12,",",J14)) -> 2020/10/28 12:00:00 | L14: =RTD("fxbluelabs.excelrtd",,"401501",CONCATENATE("@bh,",$A$11,",",$L$10,",",$L$12,",",J14)) -> 135.598 | M14: =RTD("fxbluelabs.excelrtd",,"401501",CONCATENATE("@bh,",$A$11,",",$L$10,",",$M$12,",",J14)) -> 135.695 | N14: =RTD("fxbluelabs.excelrtd",,"401501",CONCATENATE("@bh,",$A$11,",",$L$10,",",$N$12,",",J14)) -> 134.883 | O14: =RTD("fxbluelabs.excelrtd",,"401501",CONCATENATE("@bh,",$A$11,",",$L$10,",",$O$12,",",J14)) -> 135.368 | Q14: 6 | R14: =RTD("fxbluelabs.excelrtd",,"401501",CONCATENATE("@bh,",$A$11,",",$S$10,",",$R$12,",",Q14)) -> 2020/10/27 00:00:00 | S14: =RTD("fxbluelabs.excelrtd",,"401501",CONCATENATE("@bh,",$A$11,",",$S$10,",",$S$12,",",Q14)) -> 136.527 | T14: =RTD("fxbluelabs.excelrtd",,"401501",CONCATENATE("@bh,",$A$11,",",$S$10,",",$T$12,",",Q14)) -> 136.588 | U14: =RTD("fxbluelabs.excelrtd",,"401501",CONCATENATE("@bh,",$A$11,",",$S$10,",",$U$12,",",Q14)) -> 136.194 | V14: =RTD("fxbluelabs.excelrtd",,"401501",CONCATENATE("@bh,",$A$11,",",$S$10,",",$V$12,",",Q14)) -> 136.318
C15: 6 | D15: =RTD("fxbluelabs.excelrtd",,"401501",CONCATENATE("@bh,",$A$11,",",$E$10,",",$D$12,",",C15)) -> 2020/10/29 20:00:00 | E15: =RTD("fxbluelabs.excelrtd",,"401501",CONCATENATE("@bh,",$A$11,",",$E$10,",",$E$12,",",C15)) -> 135.164 | F15: =RTD("fxbluelabs.excelrtd",,"401501",CONCATENATE("@bh,",$A$11,",",$E$10,",",$F$12,",",C15)) -> 135.369 | G15: =RTD("fxbluelabs.excelrtd",,"401501",CONCATENATE("@bh,",$A$11,",",$E$10,",",$G$12,",",C15)) -> 135.066 | H15: =RTD("fxbluelabs.excelrtd",,"401501",CONCATENATE("@bh,",$A$11,",",$E$10,",",$H$12,",",C15)) -> 135.287 | J15: 6 | K15: =RTD("fxbluelabs.excelrtd",,"401501",CONCATENATE("@bh,",$A$11,",",$L$10,",",$K$12,",",J15)) -> 2020/10/28 18:00:00 | L15: =RTD("fxbluelabs.excelrtd",,"401501",CONCATENATE("@bh,",$A$11,",",$L$10,",",$L$12,",",J15)) -> 135.368 | M15: =RTD("fxbluelabs.excelrtd",,"401501",CONCATENATE("@bh,",$A$11,",",$L$10,",",$M$12,",",J15)) -> 135.655 | N15: =RTD("fxbluelabs.excelrtd",,"401501",CONCATENATE("@bh,",$A$11,",",$L$10,",",$N$12,",",J15)) -> 135.338 | O15: =RTD("fxbluelabs.excelrtd",,"401501",CONCATENATE("@bh,",$A$11,",",$L$10,",",$O$12,",",J15)) -> 135.435 | Q15: 5 | R15: =RTD("fxbluelabs.excelrtd",,"401501",CONCATENATE("@bh,",$A$11,",",$S$10,",",$R$12,",",Q15)) -> 2020/10/27 12:00:00 | S15: =RTD("fxbluelabs.excelrtd",,"401501",CONCATENATE("@bh,",$A$11,",",$S$10,",",$S$12,",",Q15)) -> 136.32 | T15: =RTD("fxbluelabs.excelrtd",,"401501",CONCATENATE("@bh,",$A$11,",",$S$10,",",$T$12,",",Q15)) -> 136.583 | U15: =RTD("fxbluelabs.excelrtd",,"401501",CONCATENATE("@bh,",$A$11,",",$S$10,",",$U$12,",",Q15)) -> 136.15 | V15: =RTD("fxbluelabs.excelrtd",,"401501",CONCATENATE("@bh,",$A$11,",",$S$10,",",$V$12,",",Q15)) -> 136.233
C16: 5 | D16: =RTD("fxbluelabs.excelrtd",,"401501",CONCATENATE("@bh,",$A$11,",",$E$10,",",$D$12,",",C16)) -> 2020/10/29 22:00:00 | E16: =RTD("fxbluelabs.excelrtd",,"401501",CONCATENATE("@bh,",$A$11,",",$E$10,",",$E$12,",",C16)) -> 135.287 | F16: =RTD("fxbluelabs.excelrtd",,"401501",CONCATENATE("@bh,",$A$11,",",$E$10,",",$F$12,",",C16)) -> 135.376 | G16: =RTD("fxbluelabs.excelrtd",,"401501",CONCATENATE("@bh,",$A$11,",",$E$10,",",$G$12,",",C16)) -> 135.21 | H16: =RTD("fxbluelabs.excelrtd",,"401501",CONCATENATE("@bh,",$A$11,",",$E$10,",",$H$12,",",C16)) -> 135.243 | J16: 5 | K16: =RTD("fxbluelabs.excelrtd",,"401501",CONCATENATE("@bh,",$A$11,",",$L$10,",",$K$12,",",J16)) -> 2020/10/29 00:00:00 | L16: =RTD("fxbluelabs.excelrtd",,"401501",CONCATENATE("@bh,",$A$11,",",$L$10,",",$L$12,",",J16)) -> 135.436 | M16: =RTD("fxbluelabs.excelrtd",,"401501",CONCATENATE("@bh,",$A$11,",",$L$10,",",$M$12,",",J16)) -> 135.806 | N16: =RTD("fxbluelabs.excelrtd",,"401501",CONCATENATE("@bh,",$A$11,",",$L$10,",",$N$12,",",J16)) -> 135.358 | O16: =RTD("fxbluelabs.excelrtd",,"401501",CONCATENATE("@bh,",$A$11,",",$L$10,",",$O$12,",",J16)) -> 135.689 | Q16: 4 | R16: =RTD("fxbluelabs.excelrtd",,"401501",CONCATENATE("@bh,",$A$11,",",$S$10,",",$R$12,",",Q16)) -> 2020/10/28 00:00:00 | S16: =RTD("fxbluelabs.excelrtd",,"401501",CONCATENATE("@bh,",$A$11,",",$S$10,",",$S$12,",",Q16)) -> 136.163 | T16: =RTD("fxbluelabs.excelrtd",,"401501",CONCATENATE("@bh,",$A$11,",",$S$10,",",$T$12,",",Q16)) -> 136.278 | U16: =RTD("fxbluelabs.excelrtd",,"401501",CONCATENATE("@bh,",$A$11,",",$S$10,",",$U$12,",",Q16)) -> 135.43 | V16: =RTD("fxbluelabs.excelrtd",,"401501",CONCATENATE("@bh,",$A$11,",",$S$10,",",$V$12,",",Q16)) -> 135.598
C17: 4 | D17: =RTD("fxbluelabs.excelrtd",,"401501",CONCATENATE("@bh,",$A$11,",",$E$10,",",$D$12,",",C17)) -> 2020/10/30 00:00:00 | E17: =RTD("fxbluelabs.excelrtd",,"401501",CONCATENATE("@bh,",$A$11,",",$E$10,",",$E$12,",",C17)) -> 135.201 | F17: =RTD("fxbluelabs.excelrtd",,"401501",CONCATENATE("@bh,",$A$11,",",$E$10,",",$F$12,",",C17)) -> 135.256 | G17: =RTD("fxbluelabs.excelrtd",,"401501",CONCATENATE("@bh,",$A$11,",",$E$10,",",$G$12,",",C17)) -> 135.073 | H17: =RTD("fxbluelabs.excelrtd",,"401501",CONCATENATE("@bh,",$A$11,",",$E$10,",",$H$12,",",C17)) -> 135.246 | J17: 4 | K17: =RTD("fxbluelabs.excelrtd",,"401501",CONCATENATE("@bh,",$A$11,",",$L$10,",",$K$12,",",J17)) -> 2020/10/29 06:00:00 | L17: =RTD("fxbluelabs.excelrtd",,"401501",CONCATENATE("@bh,",$A$11,",",$L$10,",",$L$12,",",J17)) -> 135.689 | M17: =RTD("fxbluelabs.excelrtd",,"401501",CONCATENATE("@bh,",$A$11,",",$L$10,",",$M$12,",",J17)) -> 135.948 | N17: =RTD("fxbluelabs.excelrtd",,"401501",CONCATENATE("@bh,",$A$11,",",$L$10,",",$N$12,",",J17)) -> 135.33 | O17: =RTD("fxbluelabs.excelrtd",,"401501",CONCATENATE("@bh,",$A$11,",",$L$10,",",$O$12,",",J17)) -> 135.41 | Q17: 3 | R17: =RTD("fxbluelabs.excelrtd",,"401501",CONCATENATE("@bh,",$A$11,",",$S$10,",",$R$12,",",Q17)) -> 2020/10/28 12:00:00 | S17: =RTD("fxbluelabs.excelrtd",,"401501",CONCATENATE("@bh,",$A$11,",",$S$10,",",$S$12,",",Q17)) -> 135.598 | T17: =RTD("fxbluelabs.excelrtd",,"401501",CONCATENATE("@bh,",$A$11,",",$S$10,",",$T$12,",",Q17)) -> 135.695 | U17: =RTD("fxbluelabs.excelrtd",,"401501",CONCATENATE("@bh,",$A$11,",",$S$10,",",$U$12,",",Q17)) -> 134.883 | V17: =RTD("fxbluelabs.excelrtd",,"401501",CONCATENATE("@bh,",$A$11,",",$S$10,",",$V$12,",",Q17)) -> 135.435
C18: 3 | D18: =RTD("fxbluelabs.excelrtd",,"401501",CONCATENATE("@bh,",$A$11,",",$E$10,",",$D$12,",",C18)) -> 2020/10/30 02:00:00 | E18: =RTD("fxbluelabs.excelrtd",,"401501",CONCATENATE("@bh,",$A$11,",",$E$10,",",$E$12,",",C18)) -> 135.249 | F18: =RTD("fxbluelabs.excelrtd",,"401501",CONCATENATE("@bh,",$A$11,",",$E$10,",",$F$12,",",C18)) -> 135.326 | G18: =RTD("fxbluelabs.excelrtd",,"401501",CONCATENATE("@bh,",$A$11,",",$E$10,",",$G$12,",",C18)) -> 135.09 | H18: =RTD("fxbluelabs.excelrtd",,"401501",CONCATENATE("@bh,",$A$11,",",$E$10,",",$H$12,",",C18)) -> 135.15 | J18: 3 | K18: =RTD("fxbluelabs.excelrtd",,"401501",CONCATENATE("@bh,",$A$11,",",$L$10,",",$K$12,",",J18)) -> 2020/10/29 12:00:00 | L18: =RTD("fxbluelabs.excelrtd",,"401501",CONCATENATE("@bh,",$A$11,",",$L$10,",",$L$12,",",J18)) -> 135.41 | M18: =RTD("fxbluelabs.excelrtd",,"401501",CONCATENATE("@bh,",$A$11,",",$L$10,",",$M$12,",",J18)) -> 135.661 | N18: =RTD("fxbluelabs.excelrtd",,"401501",CONCATENATE("@bh,",$A$11,",",$L$10,",",$N$12,",",J18)) -> 134.646 | O18: =RTD("fxbluelabs.excelrtd",,"401501",CONCATENATE("@bh,",$A$11,",",$L$10,",",$O$12,",",J18)) -> 135.01 | Q18: 2 | R18: =RTD("fxbluelabs.excelrtd",,"401501",CONCATENATE("@bh,",$A$11,",",$S$10,",",$R$12,",",Q18)) -> 2020/10/29 00:00:00 | S18: =RTD("fxbluelabs.excelrtd",,"401501",CONCATENATE("@bh,",$A$11,",",$S$10,",",$S$12,",",Q18)) -> 135.436 | T18: =RTD("fxbluelabs.excelrtd",,"401501",CONCATENATE("@bh,",$A$11,",",$S$10,",",$T$12,",",Q18)) -> 135.948 | U18: =RTD("fxbluelabs.excelrtd",,"401501",CONCATENATE("@bh,",$A$11,",",$S$10,",",$U$12,",",Q18)) -> 135.33 | V18: =RTD("fxbluelabs.excelrtd",,"401501",CONCATENATE("@bh,",$A$11,",",$S$10,",",$V$12,",",Q18)) -> 135.41
C19: 2 | D19: =RTD("fxbluelabs.excelrtd",,"401501",CONCATENATE("@bh,",$A$11,",",$E$10,",",$D$12,",",C19)) -> 2020/10/30 04:00:00 | E19: =RTD("fxbluelabs.excelrtd",,"401501",CONCATENATE("@bh,",$A$11,",",$E$10,",",$E$12,",",C19)) -> 135.15 | F19: =RTD("fxbluelabs.excelrtd",,"401501",CONCATENATE("@bh,",$A$11,",",$E$10,",",$F$12,",",C19)) -> 135.175 | G19: =RTD("fxbluelabs.excelrtd",,"401501",CONCATENATE("@bh,",$A$11,",",$E$10,",",$G$12,",",C19)) -> 135.043 | H19: =RTD("fxbluelabs.excelrtd",,"401501",CONCATENATE("@bh,",$A$11,",",$E$10,",",$H$12,",",C19)) -> 135.058 | J19: 2 | K19: =RTD("fxbluelabs.excelrtd",,"401501",CONCATENATE("@bh,",$A$11,",",$L$10,",",$K$12,",",J19)) -> 2020/10/29 18:00:00 | L19: =RTD("fxbluelabs.excelrtd",,"401501",CONCATENATE("@bh,",$A$11,",",$L$10,",",$L$12,",",J19)) -> 135.011 | M19: =RTD("fxbluelabs.excelrtd",,"401501",CONCATENATE("@bh,",$A$11,",",$L$10,",",$M$12,",",J19)) -> 135.376 | N19: =RTD("fxbluelabs.excelrtd",,"401501",CONCATENATE("@bh,",$A$11,",",$L$10,",",$N$12,",",J19)) -> 134.822 | O19: =RTD("fxbluelabs.excelrtd",,"401501",CONCATENATE("@bh,",$A$11,",",$L$10,",",$O$12,",",J19)) -> 135.243 | Q19: 1 | R19: =RTD("fxbluelabs.excelrtd",,"401501",CONCATENATE("@bh,",$A$11,",",$S$10,",",$R$12,",",Q19)) -> 2020/10/29 12:00:00 | S19: =RTD("fxbluelabs.excelrtd",,"401501",CONCATENATE("@bh,",$A$11,",",$S$10,",",$S$12,",",Q19)) -> 135.41 | T19: =RTD("fxbluelabs.excelrtd",,"401501",CONCATENATE("@bh,",$A$11,",",$S$10,",",$T$12,",",Q19)) -> 135.661 | U19: =RTD("fxbluelabs.excelrtd",,"401501",CONCATENATE("@bh,",$A$11,",",$S$10,",",$U$12,",",Q19)) -> 134.646 | V19: =RTD("fxbluelabs.excelrtd",,"401501",CONCATENATE("@bh,",$A$11,",",$S$10,",",$V$12,",",Q19)) -> 135.243
C20: 1 | D20: =RTD("fxbluelabs.excelrtd",,"401501",CONCATENATE("@bh,",$A$11,",",$E$10,",",$D$12,",",C20)) -> 2020/10/30 06:00:00 | E20: =RTD("fxbluelabs.excelrtd",,"401501",CONCATENATE("@bh,",$A$11,",",$E$10,",",$E$12,",",C20)) -> 135.058 | F20: =RTD("fxbluelabs.excelrtd",,"401501",CONCATENATE("@bh,",$A$11,",",$E$10,",",$F$12,",",C20)) -> 135.107 | G20: =RTD("fxbluelabs.excelrtd",,"401501",CONCATENATE("@bh,",$A$11,",",$E$10,",",$G$12,",",C20)) -> 134.79 | H20: =RTD("fxbluelabs.excelrtd",,"401501",CONCATENATE("@bh,",$A$11,",",$E$10,",",$H$12,",",C20)) -> 134.805 | J20: 1 | K20: =RTD("fxbluelabs.excelrtd",,"401501",CONCATENATE("@bh,",$A$11,",",$L$10,",",$K$12,",",J20)) -> 2020/10/30 00:00:00 | L20: =RTD("fxbluelabs.excelrtd",,"401501",CONCATENATE("@bh,",$A$11,",",$L$10,",",$L$12,",",J20)) -> 135.201 | M20: =RTD("fxbluelabs.excelrtd",,"401501",CONCATENATE("@bh,",$A$11,",",$L$10,",",$M$12,",",J20)) -> 135.326 | N20: =RTD("fxbluelabs.excelrtd",,"401501",CONCATENATE("@bh,",$A$11,",",$L$10,",",$N$12,",",J20)) -> 135.043 | O20: =RTD("fxbluelabs.excelrtd",,"401501",CONCATENATE("@bh,",$A$11,",",$L$10,",",$O$12,",",J20)) -> 135.058 | Q20: 0 | R20: =RTD("fxbluelabs.excelrtd",,"401501",CONCATENATE("@bh,",$A$11,",",$S$10,",",$R$12,",",Q20)) -> 2020/10/30 00:00:00 | S20: =RTD("fxbluelabs.excelrtd",,"401501",CONCATENATE("@bh,",$A$11,",",$S$10,",",$S$12,",",Q20)) -> 135.201 | T20: =RTD("fxbluelabs.excelrtd",,"401501",CONCATENATE("@bh,",$A$11,",",$S$10,",",$T$12,",",Q20)) -> 135.326 | U20: =RTD("fxbluelabs.excelrtd",,"401501",CONCATENATE("@bh,",$A$11,",",$S$10,",",$U$12,",",Q20)) -> 134.4 | V20: =RTD("fxbluelabs.excelrtd",,"401501",CONCATENATE("@bh,",$A$11,",",$S$10,",",$V$12,",",Q20)) -> 134.65
C21: 0 | D21: =RTD("fxbluelabs.excelrtd",,"401501",CONCATENATE("@bh,",$A$11,",",$E$10,",",$D$12,",",C21)) -> 2020/10/30 08:00:00 | E21: =RTD("fxbluelabs.excelrtd",,"401501",CONCATENATE("@bh,",$A$11,",",$E$10,",",$E$12,",",C21)) -> 134.805 | F21: =RTD("fxbluelabs.excelrtd",,"401501",CONCATENATE("@bh,",$A$11,",",$E$10,",",$F$12,",",C21)) -> 134.816 | G21: =RTD("fxbluelabs.excelrtd",,"401501",CONCATENATE("@bh,",$A$11,",",$E$10,",",$G$12,",",C21)) -> 134.4 | H21: =RTD("fxbluelabs.excelrtd",,"401501",CONCATENATE("@bh,",$A$11,",",$E$10,",",$H$12,",",C21)) -> 134.65 | J21: 0 | K21: =RTD("fxbluelabs.excelrtd",,"401501",CONCATENATE("@bh,",$A$11,",",$L$10,",",$K$12,",",J21)) -> 2020/10/30 06:00:00 | L21: =RTD("fxbluelabs.excelrtd",,"401501",CONCATENATE("@bh,",$A$11,",",$L$10,",",$L$12,",",J21)) -> 135.058 | M21: =RTD("fxbluelabs.excelrtd",,"401501",CONCATENATE("@bh,",$A$11,",",$L$10,",",$M$12,",",J21)) -> 135.107 | N21: =RTD("fxbluelabs.excelrtd",,"401501",CONCATENATE("@bh,",$A$11,",",$L$10,",",$N$12,",",J21)) -> 134.4 | O21: =RTD("fxbluelabs.excelrtd",,"401501",CONCATENATE("@bh,",$A$11,",",$L$10,",",$O$12,",",J21)) -> 134.65

Sheet Currency Strength
A1: Type your Account No. | D1: XXXXXXX
C4: ='Do not touch Data (1)'!M36 -> FX Pair/TF | D4: ='Do not touch Data (1)'!N36 -> H4 | E4: ='Do not touch Data (1)'!O36 -> D1 | F4: ='Do not touch Data (1)'!P36 -> W1
C5: ='Do not touch Data (1)'!M37 -> EURUSD | D5: ='Do not touch Data (1)'!N37 -> #VALUE! | E5: ='Do not touch Data (1)'!O37 -> #VALUE! | F5: ='Do not touch Data (1)'!P37 -> #VALUE! | I5: ='Do not touch Data (1)'!S36 -> Currency/TF | J5: ='Do not touch Data (1)'!T36 -> H4 | K5: ='Do not touch Data (1)'!U36 -> D1 | L5: ='Do not touch Data (1)'!V36 -> W1 | N5: Type Time Frames You Want to Check
C6: ='Do not touch Data (1)'!M38 -> EURGBP | D6: ='Do not touch Data (1)'!N38 -> #VALUE! | E6: ='Do not touch Data (1)'!O38 -> #VALUE! | F6: ='Do not touch Data (1)'!P38 -> #VALUE! | I6: ='Do not touch Data (1)'!S37 -> EURO | J6: ='Do not touch Data (1)'!T37 -> #VALUE! | K6: ='Do not touch Data (1)'!U37 -> #VALUE! | L6: ='Do not touch Data (1)'!V37 -> #VALUE! | N6: 1st Time Frame | P6: H4 | Q6: Look Back Period | S6: 0
C7: ='Do not touch Data (1)'!M39 -> EURJPY | D7: ='Do not touch Data (1)'!N39 -> #VALUE! | E7: ='Do not touch Data (1)'!O39 -> #VALUE! | F7: ='Do not touch Data (1)'!P39 -> #VALUE! | I7: ='Do not touch Data (1)'!S38 -> USD | J7: ='Do not touch Data (1)'!T38 -> #VALUE! | K7: ='Do not touch Data (1)'!U38 -> #VALUE! | L7: ='Do not touch Data (1)'!V38 -> #VALUE! | N7: 2nd Time Frame | P7: D1 | Q7: Look Back Period | S7: 0
C8: ='Do not touch Data (1)'!M40 -> EURAUD | D8: ='Do not touch Data (1)'!N40 -> #VALUE! | E8: ='Do not touch Data (1)'!O40 -> #VALUE! | F8: ='Do not touch Data (1)'!P40 -> #VALUE! | I8: ='Do not touch Data (1)'!S39 -> GBP | J8: ='Do not touch Data (1)'!T39 -> #VALUE! | K8: ='Do not touch Data (1)'!U39 -> #VALUE! | L8: ='Do not touch Data (1)'!V39 -> #VALUE! | N8: 3rd Time Frame | P8: W1 | Q8: Look Back Period | S8: 0
C9: ='Do not touch Data (1)'!M41 -> EURCAD | D9: ='Do not touch Data (1)'!N41 -> #VALUE! | E9: ='Do not touch Data (1)'!O41 -> #VALUE! | F9: ='Do not touch Data (1)'!P41 -> #VALUE! | I9: ='Do not touch Data (1)'!S40 -> JPY | J9: ='Do not touch Data (1)'!T40 -> #VALUE! | K9: ='Do not touch Data (1)'!U40 -> #VALUE! | L9: ='Do not touch Data (1)'!V40 -> #VALUE!
C10: ='Do not touch Data (1)'!M42 -> EURNZD | D10: ='Do not touch Data (1)'!N42 -> #VALUE! | E10: ='Do not touch Data (1)'!O42 -> #VALUE! | F10: ='Do not touch Data (1)'!P42 -> #VALUE! | I10: ='Do not touch Data (1)'!S41 -> AUD | J10: ='Do not touch Data (1)'!T41 -> #VALUE! | K10: ='Do not touch Data (1)'!U41 -> #VALUE! | L10: ='Do not touch Data (1)'!V41 -> #VALUE!
C11: ='Do not touch Data (1)'!M43 -> EURCHF | D11: ='Do not touch Data (1)'!N43 -> #VALUE! | E11: ='Do not touch Data (1)'!O43 -> #VALUE! | F11: ='Do not touch Data (1)'!P43 -> #VALUE! | I11: ='Do not touch Data (1)'!S42 -> CAD | J11: ='Do not touch Data (1)'!T42 -> #VALUE! | K11: ='Do not touch Data (1)'!U42 -> #VALUE! | L11: ='Do not touch Data (1)'!V42 -> #VALUE! | U11: ChangeTime Frames
C12: ='Do not touch Data (1)'!M44 -> USDJPY | D12: ='Do not touch Data (1)'!N44 -> #VALUE! | E12: ='Do not touch Data (1)'!O44 -> #VALUE! | F12: ='Do not touch Data (1)'!P44 -> #VALUE! | I12: ='Do not touch Data (1)'!S43 -> NZD | J12: ='Do not touch Data (1)'!T43 -> #VALUE! | K12: ='Do not touch Data (1)'!U43 -> #VALUE! | L12: ='Do not touch Data (1)'!V43 -> #VALUE! | P12: Type Symbol: | S12: EURCAD | T12: H1 | U12: H4 | V12: D1 | W12: 0 | X12: Look Back Period
C13: ='Do not touch Data (1)'!M45 -> USDCAD | D13: ='Do not touch Data (1)'!N45 -> #VALUE! | E13: ='Do not touch Data (1)'!O45 -> #VALUE! | F13: ='Do not touch Data (1)'!P45 -> #VALUE! | I13: ='Do not touch Data (1)'!S44 -> CHF | J13: ='Do not touch Data (1)'!T44 -> #VALUE! | K13: ='Do not touch Data (1)'!U44 -> #VALUE! | L13: ='Do not touch Data (1)'!V44 -> #VALUE!
C14: ='Do not touch Data (1)'!M46 -> USDCHF | D14: ='Do not touch Data (1)'!N46 -> #VALUE! | E14: ='Do not touch Data (1)'!O46 -> #VALUE! | F14: ='Do not touch Data (1)'!P46 -> #VALUE! | S14: =T12 -> H1 | U14: =U12 -> H4 | X14: =V12 -> D1
C15: ='Do not touch Data (1)'!M47 -> GBPUSD | D15: ='Do not touch Data (1)'!N47 -> #VALUE! | E15: ='Do not touch Data (1)'!O47 -> #VALUE! | F15: ='Do not touch Data (1)'!P47 -> #VALUE!
C16: ='Do not touch Data (1)'!M48 -> GBPCAD | D16: ='Do not touch Data (1)'!N48 -> #VALUE! | E16: ='Do not touch Data (1)'!O48 -> #VALUE! | F16: ='Do not touch Data (1)'!P48 -> #VALUE!
C17: ='Do not touch Data (1)'!M49 -> GBPJPY | D17: ='Do not touch Data (1)'!N49 -> #VALUE! | E17: ='Do not touch Data (1)'!O49 -> #VALUE! | F17: ='Do not touch Data (1)'!P49 -> #VALUE!
C18: ='Do not touch Data (1)'!M50 -> GBPNZD | D18: ='Do not touch Data (1)'!N50 -> #VALUE! | E18: ='Do not touch Data (1)'!O50 -> #VALUE! | F18: ='Do not touch Data (1)'!P50 -> #VALUE!
C19: ='Do not touch Data (1)'!M51 -> GBPAUD | D19: ='Do not touch Data (1)'!N51 -> #VALUE! | E19: ='Do not touch Data (1)'!O51 -> #VALUE! | F19: ='Do not touch Data (1)'!P51 -> #VALUE!
C20: ='Do not touch Data (1)'!M52 -> GBPCHF | D20: ='Do not touch Data (1)'!N52 -> #VALUE! | E20: ='Do not touch Data (1)'!O52 -> #VALUE! | F20: ='Do not touch Data (1)'!P52 -> #VALUE!
C21: ='Do not touch Data (1)'!M53 -> AUDUSD | D21: ='Do not touch Data (1)'!N53 -> #VALUE! | E21: ='Do not touch Data (1)'!O53 -> #VALUE! | F21: ='Do not touch Data (1)'!P53 -> #VALUE!
C22: ='Do not touch Data (1)'!M54 -> AUDNZD | D22: ='Do not touch Data (1)'!N54 -> #VALUE! | E22: ='Do not touch Data (1)'!O54 -> #VALUE! | F22: ='Do not touch Data (1)'!P54 -> #VALUE!
C23: ='Do not touch Data (1)'!M55 -> AUDCHF | D23: ='Do not touch Data (1)'!N55 -> #VALUE! | E23: ='Do not touch Data (1)'!O55 -> #VALUE! | F23: ='Do not touch Data (1)'!P55 -> #VALUE!
C24: ='Do not touch Data (1)'!M56 -> AUDCAD | D24: ='Do not touch Data (1)'!N56 -> #VALUE! | E24: ='Do not touch Data (1)'!O56 -> #VALUE! | F24: ='Do not touch Data (1)'!P56 -> #VALUE!
C25: ='Do not touch Data (1)'!M57 -> AUDJPY | D25: ='Do not touch Data (1)'!N57 -> #VALUE! | E25: ='Do not touch Data (1)'!O57 -> #VALUE! | F25: ='Do not touch Data (1)'!P57 -> #VALUE!
C26: ='Do not touch Data (1)'!M58 -> CADJPY | D26: ='Do not touch Data (1)'!N58 -> #VALUE! | E26: ='Do not touch Data (1)'!O58 -> #VALUE! | F26: ='Do not touch Data (1)'!P58 -> #VALUE!
... C32: ='Do not touch Data (1)'!M64 -> CHFJPY | D32: ='Do not touch Data (1)'!N64 -> #VALUE! | E32: ='Do not touch Data (1)'!O64 -> #VALUE! | F32: ='Do not touch Data (1)'!P64 -> #VALUE!
C34: Formula for Driving these results: | R34: Type ADR Look Back | U34: TF
C35: (Current Price - Low) / Low*100 Result will always be positive | S35: 1 | U35: H1
C36: (Current Price - High) / High*100 Result will always be negative | S36: =CONCATENATE(S35, " ", "(", U35, ")", " ","ADR") -> 1 (H1) ADR | U36: =RTD("fxbluelabs.excelrtd",,'Do not touch Data (1)'!$B$1,CONCATENATE("@bh,",$S$12,",",U35,",","Range",",",S35))
C37: Then add the two results. If the net result is positive, then the pair is bullish and the opposite if negative. | S37: Today's Range | U37: =V14-W14 -> 0
C38: Repeat this for each Time Frame
O39: Type Time Frames
C40: Please try this formula in a demo account! | J40: Type the Currency Pair to load MTF charts : | M40: GBPJPY
O41: H2 | P41: H6 | Q41: H12
