Workbook

Sheet Data (Do not Touch)
A1: Account: | D1: Please type your account number
D4: ='Currency Strength'!P3 -> H4 | G4: ='Currency Strength'!P4 -> D1 | K4: ='Currency Strength'!P5 -> W1
C5: Close | D5: High | E5: Low | F5: Close | G5: High | H5: Low | J5: Close | K5: High | L5: Low
B6: EURUSD | C6: =RTD("fxbluelabs.excelrtd",,$B$1,CONCATENATE("@bh,",$B6,",",$D$4,",",$C$5,",",0)) | D6: =RTD("fxbluelabs.excelrtd",,$B$1,CONCATENATE("@bh,",$B6,",",$D$4,",",$D$5,",",0)) | E6: =RTD("fxbluelabs.excelrtd",,$B$1,CONCATENATE("@bh,",$B6,",",$D$4,",",$E$5,",",0)) | F6: =RTD("fxbluelabs.excelrtd",,$B$1,CONCATENATE("@bh,",$B6,",",$G$4,",",$F$5,",",0)) | G6: =RTD("fxbluelabs.excelrtd",,$B$1,CONCATENATE("@bh,",$B6,",",$G$4,",",$G$5,",",0)) | H6: =RTD("fxbluelabs.excelrtd",,$B$1,CONCATENATE("@bh,",$B6,",",$G$4,",",$H$5,",",0)) | J6: =RTD("fxbluelabs.excelrtd",,$B$1,CONCATENATE("@bh,",$B6,",",$K$4,",",$J$5,",",0)) | K6: =RTD("fxbluelabs.excelrtd",,$B$1,CONCATENATE("@bh,",$B6,",",$K$4,",",$K$5,",",0)) | L6: =RTD("fxbluelabs.excelrtd",,$B$1,CONCATENATE("@bh,",$B6,",",$K$4,",",$L$5,",",0))
B7: EURGBP | C7: =RTD("fxbluelabs.excelrtd",,$B$1,CONCATENATE("@bh,",$B7,",",$D$4,",",$C$5,",",0)) | D7: =RTD("fxbluelabs.excelrtd",,$B$1,CONCATENATE("@bh,",$B7,",",$D$4,",",$D$5,",",0)) | E7: =RTD("fxbluelabs.excelrtd",,$B$1,CONCATENATE("@bh,",$B7,",",$D$4,",",$E$5,",",0)) | F7: =RTD("fxbluelabs.excelrtd",,$B$1,CONCATENATE("@bh,",$B7,",",$G$4,",",$F$5,",",0)) | G7: =RTD("fxbluelabs.excelrtd",,$B$1,CONCATENATE("@bh,",$B7,",",$G$4,",",$G$5,",",0)) | H7: =RTD("fxbluelabs.excelrtd",,$B$1,CONCATENATE("@bh,",$B7,",",$G$4,",",$H$5,",",0)) | J7: =RTD("fxbluelabs.excelrtd",,$B$1,CONCATENATE("@bh,",$B7,",",$K$4,",",$J$5,",",0)) | K7: =RTD("fxbluelabs.excelrtd",,$B$1,CONCATENATE("@bh,",$B7,",",$K$4,",",$K$5,",",0)) | L7: =RTD("fxbluelabs.excelrtd",,$B$1,CONCATENATE("@bh,",$B7,",",$K$4,",",$L$5,",",0))
B8: EURJPY | C8: =RTD("fxbluelabs.excelrtd",,$B$1,CONCATENATE("@bh,",$B8,",",$D$4,",",$C$5,",",0)) | D8: =RTD("fxbluelabs.excelrtd",,$B$1,CONCATENATE("@bh,",$B8,",",$D$4,",",$D$5,",",0)) | E8: =RTD("fxbluelabs.excelrtd",,$B$1,CONCATENATE("@bh,",$B8,",",$D$4,",",$E$5,",",0)) | F8: =RTD("fxbluelabs.excelrtd",,$B$1,CONCATENATE("@bh,",$B8,",",$G$4,",",$F$5,",",0)) | G8: =RTD("fxbluelabs.excelrtd",,$B$1,CONCATENATE("@bh,",$B8,",",$G$4,",",$G$5,",",0)) | H8: =RTD("fxbluelabs.excelrtd",,$B$1,CONCATENATE("@bh,",$B8,",",$G$4,",",$H$5,",",0)) | J8: =RTD("fxbluelabs.excelrtd",,$B$1,CONCATENATE("@bh,",$B8,",",$K$4,",",$J$5,",",0)) | K8: =RTD("fxbluelabs.excelrtd",,$B$1,CONCATENATE("@bh,",$B8,",",$K$4,",",$K$5,",",0)) | L8: =RTD("fxbluelabs.excelrtd",,$B$1,CONCATENATE("@bh,",$B8,",",$K$4,",",$L$5,",",0))
B9: EURAUD | C9: =RTD("fxbluelabs.excelrtd",,$B$1,CONCATENATE("@bh,",$B9,",",$D$4,",",$C$5,",",0)) | D9: =RTD("fxbluelabs.excelrtd",,$B$1,CONCATENATE("@bh,",$B9,",",$D$4,",",$D$5,",",0)) | E9: =RTD("fxbluelabs.excelrtd",,$B$1,CONCATENATE("@bh,",$B9,",",$D$4,",",$E$5,",",0)) | F9: =RTD("fxbluelabs.excelrtd",,$B$1,CONCATENATE("@bh,",$B9,",",$G$4,",",$F$5,",",0)) | G9: =RTD("fxbluelabs.excelrtd",,$B$1,CONCATENATE("@bh,",$B9,",",$G$4,",",$G$5,",",0)) | H9: =RTD("fxbluelabs.excelrtd",,$B$1,CONCATENATE("@bh,",$B9,",",$G$4,",",$H$5,",",0)) | J9: =RTD("fxbluelabs.excelrtd",,$B$1,CONCATENATE("@bh,",$B9,",",$K$4,",",$J$5,",",0)) | K9: =RTD("fxbluelabs.excelrtd",,$B$1,CONCATENATE("@bh,",$B9,",",$K$4,",",$K$5,",",0)) | L9: =RTD("fxbluelabs.excelrtd",,$B$1,CONCATENATE("@bh,",$B9,",",$K$4,",",$L$5,",",0))
B10: EURCAD | C10: =RTD("fxbluelabs.excelrtd",,$B$1,CONCATENATE("@bh,",$B10,",",$D$4,",",$C$5,",",0)) | D10: =RTD("fxbluelabs.excelrtd",,$B$1,CONCATENATE("@bh,",$B10,",",$D$4,",",$D$5,",",0)) | E10: =RTD("fxbluelabs.excelrtd",,$B$1,CONCATENATE("@bh,",$B10,",",$D$4,",",$E$5,",",0)) | F10: =RTD("fxbluelabs.excelrtd",,$B$1,CONCATENATE("@bh,",$B10,",",$G$4,",",$F$5,",",0)) | G10: =RTD("fxbluelabs.excelrtd",,$B$1,CONCATENATE("@bh,",$B10,",",$G$4,",",$G$5,",",0)) | H10: =RTD("fxbluelabs.excelrtd",,$B$1,CONCATENATE("@bh,",$B10,",",$G$4,",",$H$5,",",0)) | J10: =RTD("fxbluelabs.excelrtd",,$B$1,CONCATENATE("@bh,",$B10,",",$K$4,",",$J$5,",",0)) | K10: =RTD("fxbluelabs.excelrtd",,$B$1,CONCATENATE("@bh,",$B10,",",$K$4,",",$K$5,",",0)) | L10: =RTD("fxbluelabs.excelrtd",,$B$1,CONCATENATE("@bh,",$B10,",",$K$4,",",$L$5,",",0))
B11: EURNZD | C11: =RTD("fxbluelabs.excelrtd",,$B$1,CONCATENATE("@bh,",$B11,",",$D$4,",",$C$5,",",0)) | D11: =RTD("fxbluelabs.excelrtd",,$B$1,CONCATENATE("@bh,",$B11,",",$D$4,",",$D$5,",",0)) | E11: =RTD("fxbluelabs.excelrtd",,$B$1,CONCATENATE("@bh,",$B11,",",$D$4,",",$E$5,",",0)) | F11: =RTD("fxbluelabs.excelrtd",,$B$1,CONCATENATE("@bh,",$B11,",",$G$4,",",$F$5,",",0)) | G11: =RTD("fxbluelabs.excelrtd",,$B$1,CONCATENATE("@bh,",$B11,",",$G$4,",",$G$5,",",0)) | H11: =RTD("fxbluelabs.excelrtd",,$B$1,CONCATENATE("@bh,",$B11,",",$G$4,",",$H$5,",",0)) | J11: =RTD("fxbluelabs.excelrtd",,$B$1,CONCATENATE("@bh,",$B11,",",$K$4,",",$J$5,",",0)) | K11: =RTD("fxbluelabs.excelrtd",,$B$1,CONCATENATE("@bh,",$B11,",",$K$4,",",$K$5,",",0)) | L11: =RTD("fxbluelabs.excelrtd",,$B$1,CONCATENATE("@bh,",$B11,",",$K$4,",",$L$5,",",0))
B12: EURCHF | C12: =RTD("fxbluelabs.excelrtd",,$B$1,CONCATENATE("@bh,",$B12,",",$D$4,",",$C$5,",",0)) | D12: =RTD("fxbluelabs.excelrtd",,$B$1,CONCATENATE("@bh,",$B12,",",$D$4,",",$D$5,",",0)) | E12: =RTD("fxbluelabs.excelrtd",,$B$1,CONCATENATE("@bh,",$B12,",",$D$4,",",$E$5,",",0)) | F12: =RTD("fxbluelabs.excelrtd",,$B$1,CONCATENATE("@bh,",$B12,",",$G$4,",",$F$5,",",0)) | G12: =RTD("fxbluelabs.excelrtd",,$B$1,CONCATENATE("@bh,",$B12,",",$G$4,",",$G$5,",",0)) | H12: =RTD("fxbluelabs.excelrtd",,$B$1,CONCATENATE("@bh,",$B12,",",$G$4,",",$H$5,",",0)) | J12: =RTD("fxbluelabs.excelrtd",,$B$1,CONCATENATE("@bh,",$B12,",",$K$4,",",$J$5,",",0)) | K12: =RTD("fxbluelabs.excelrtd",,$B$1,CONCATENATE("@bh,",$B12,",",$K$4,",",$K$5,",",0)) | L12: =RTD("fxbluelabs.excelrtd",,$B$1,CONCATENATE("@bh,",$B12,",",$K$4,",",$L$5,",",0))
B13: USDJPY | C13: =RTD("fxbluelabs.excelrtd",,$B$1,CONCATENATE("@bh,",$B13,",",$D$4,",",$C$5,",",0)) | D13: =RTD("fxbluelabs.excelrtd",,$B$1,CONCATENATE("@bh,",$B13,",",$D$4,",",$D$5,",",0)) | E13: =RTD("fxbluelabs.excelrtd",,$B$1,CONCATENATE("@bh,",$B13,",",$D$4,",",$E$5,",",0)) | F13: =RTD("fxbluelabs.excelrtd",,$B$1,CONCATENATE("@bh,",$B13,",",$G$4,",",$F$5,",",0)) | G13: =RTD("fxbluelabs.excelrtd",,$B$1,CONCATENATE("@bh,",$B13,",",$G$4,",",$G$5,",",0)) | H13: =RTD("fxbluelabs.excelrtd",,$B$1,CONCATENATE("@bh,",$B13,",",$G$4,",",$H$5,",",0)) | J13: =RTD("fxbluelabs.excelrtd",,$B$1,CONCATENATE("@bh,",$B13,",",$K$4,",",$J$5,",",0)) | K13: =RTD("fxbluelabs.excelrtd",,$B$1,CONCATENATE("@bh,",$B13,",",$K$4,",",$K$5,",",0)) | L13: =RTD("fxbluelabs.excelrtd",,$B$1,CONCATENATE("@bh,",$B13,",",$K$4,",",$L$5,",",0))
B14: USDCAD | C14: =RTD("fxbluelabs.excelrtd",,$B$1,CONCATENATE("@bh,",$B14,",",$D$4,",",$C$5,",",0)) | D14: =RTD("fxbluelabs.excelrtd",,$B$1,CONCATENATE("@bh,",$B14,",",$D$4,",",$D$5,",",0)) | E14: =RTD("fxbluelabs.excelrtd",,$B$1,CONCATENATE("@bh,",$B14,",",$D$4,",",$E$5,",",0)) | F14: =RTD("fxbluelabs.excelrtd",,$B$1,CONCATENATE("@bh,",$B14,",",$G$4,",",$F$5,",",0)) | G14: =RTD("fxbluelabs.excelrtd",,$B$1,CONCATENATE("@bh,",$B14,",",$G$4,",",$G$5,",",0)) | H14: =RTD("fxbluelabs.excelrtd",,$B$1,CONCATENATE("@bh,",$B14,",",$G$4,",",$H$5,",",0)) | J14: =RTD("fxbluelabs.excelrtd",,$B$1,CONCATENATE("@bh,",$B14,",",$K$4,",",$J$5,",",0)) | K14: =RTD("fxbluelabs.excelrtd",,$B$1,CONCATENATE("@bh,",$B14,",",$K$4,",",$K$5,",",0)) | L14: =RTD("fxbluelabs.excelrtd",,$B$1,CONCATENATE("@bh,",$B14,",",$K$4,",",$L$5,",",0))
B15: USDCHF | C15: =RTD("fxbluelabs.excelrtd",,$B$1,CONCATENATE("@bh,",$B15,",",$D$4,",",$C$5,",",0)) | D15: =RTD("fxbluelabs.excelrtd",,$B$1,CONCATENATE("@bh,",$B15,",",$D$4,",",$D$5,",",0)) | E15: =RTD("fxbluelabs.excelrtd",,$B$1,CONCATENATE("@bh,",$B15,",",$D$4,",",$E$5,",",0)) | F15: =RTD("fxbluelabs.excelrtd",,$B$1,CONCATENATE("@bh,",$B15,",",$G$4,",",$F$5,",",0)) | G15: =RTD("fxbluelabs.excelrtd",,$B$1,CONCATENATE("@bh,",$B15,",",$G$4,",",$G$5,",",0)) | H15: =RTD("fxbluelabs.excelrtd",,$B$1,CONCATENATE("@bh,",$B15,",",$G$4,",",$H$5,",",0)) | J15: =RTD("fxbluelabs.excelrtd",,$B$1,CONCATENATE("@bh,",$B15,",",$K$4,",",$J$5,",",0)) | K15: =RTD("fxbluelabs.excelrtd",,$B$1,CONCATENATE("@bh,",$B15,",",$K$4,",",$K$5,",",0)) | L15: =RTD("fxbluelabs.excelrtd",,$B$1,CONCATENATE("@bh,",$B15,",",$K$4,",",$L$5,",",0))
B16: GBPUSD | C16: =RTD("fxbluelabs.excelrtd",,$B$1,CONCATENATE("@bh,",$B16,",",$D$4,",",$C$5,",",0)) | D16: =RTD("fxbluelabs.excelrtd",,$B$1,CONCATENATE("@bh,",$B16,",",$D$4,",",$D$5,",",0)) | E16: =RTD("fxbluelabs.excelrtd",,$B$1,CONCATENATE("@bh,",$B16,",",$D$4,",",$E$5,",",0)) | F16: =RTD("fxbluelabs.excelrtd",,$B$1,CONCATENATE("@bh,",$B16,",",$G$4,",",$F$5,",",0)) | G16: =RTD("fxbluelabs.excelrtd",,$B$1,CONCATENATE("@bh,",$B16,",",$G$4,",",$G$5,",",0)) | H16: =RTD("fxbluelabs.excelrtd",,$B$1,CONCATENATE("@bh,",$B16,",",$G$4,",",$H$5,",",0)) | J16: =RTD("fxbluelabs.excelrtd",,$B$1,CONCATENATE("@bh,",$B16,",",$K$4,",",$J$5,",",0)) | K16: =RTD("fxbluelabs.excelrtd",,$B$1,CONCATENATE("@bh,",$B16,",",$K$4,",",$K$5,",",0)) | L16: =RTD("fxbluelabs.excelrtd",,$B$1,CONCATENATE("@bh,",$B16,",",$K$4,",",$L$5,",",0))
B17: GBPCAD | C17: =RTD("fxbluelabs.excelrtd",,$B$1,CONCATENATE("@bh,",$B17,",",$D$4,",",$C$5,",",0)) | D17: =RTD("fxbluelabs.excelrtd",,$B$1,CONCATENATE("@bh,",$B17,",",$D$4,",",$D$5,",",0)) | E17: =RTD("fxbluelabs.excelrtd",,$B$1,CONCATENATE("@bh,",$B17,",",$D$4,",",$E$5,",",0)) | F17: =RTD("fxbluelabs.excelrtd",,$B$1,CONCATENATE("@bh,",$B17,",",$G$4,",",$F$5,",",0)) | G17: =RTD("fxbluelabs.excelrtd",,$B$1,CONCATENATE("@bh,",$B17,",",$G$4,",",$G$5,",",0)) | H17: =RTD("fxbluelabs.excelrtd",,$B$1,CONCATENATE("@bh,",$B17,",",$G$4,",",$H$5,",",0)) | J17: =RTD("fxbluelabs.excelrtd",,$B$1,CONCATENATE("@bh,",$B17,",",$K$4,",",$J$5,",",0)) | K17: =RTD("fxbluelabs.excelrtd",,$B$1,CONCATENATE("@bh,",$B17,",",$K$4,",",$K$5,",",0)) | L17: =RTD("fxbluelabs.excelrtd",,$B$1,CONCATENATE("@bh,",$B17,",",$K$4,",",$L$5,",",0))
... B33: CHFJPY | C33: =RTD("fxbluelabs.excelrtd",,$B$1,CONCATENATE("@bh,",$B33,",",$D$4,",",$C$5,",",0)) | D33: =RTD("fxbluelabs.excelrtd",,$B$1,CONCATENATE("@bh,",$B33,",",$D$4,",",$D$5,",",0)) | E33: =RTD("fxbluelabs.excelrtd",,$B$1,CONCATENATE("@bh,",$B33,",",$D$4,",",$E$5,",",0)) | F33: =RTD("fxbluelabs.excelrtd",,$B$1,CONCATENATE("@bh,",$B33,",",$G$4,",",$F$5,",",0)) | G33: =RTD("fxbluelabs.excelrtd",,$B$1,CONCATENATE("@bh,",$B33,",",$G$4,",",$G$5,",",0)) | H33: =RTD("fxbluelabs.excelrtd",,$B$1,CONCATENATE("@bh,",$B33,",",$G$4,",",$H$5,",",0)) | J33: =RTD("fxbluelabs.excelrtd",,$B$1,CONCATENATE("@bh,",$B33,",",$K$4,",",$J$5,",",0)) | K33: =RTD("fxbluelabs.excelrtd",,$B$1,CONCATENATE("@bh,",$B33,",",$K$4,",",$K$5,",",0)) | L33: =RTD("fxbluelabs.excelrtd",,$B$1,CONCATENATE("@bh,",$B33,",",$K$4,",",$L$5,",",0))
C36: =CONCATENATE(D4," ", C5, "-", D5) -> H4 Close-High | D36: =CONCATENATE(D4," ", C5, "-", E5) -> H4 Close-Low | E36: =CONCATENATE(G4," ", F5, "-", G5) -> D1 Close-High | F36: =CONCATENATE(G4," ", F5, "-", H5) -> D1 Close-Low | G36: =CONCATENATE(K4," ", J5, "-", K5) -> W1 Close-High | H36: =CONCATENATE(K4," ", J5, "-", L5) -> W1 Close-Low | J36: FX Pair/TF | K36: =D4 -> H4 | L36: =G4 -> D1 | M36: =K4 -> W1 | P36: Currency/TF | Q36: =D4 -> H4 | R36: =G4 -> D1 | S36: =K4 -> W1
B37: =B6 -> EURUSD | C37: =(C6-D6)/D6*100 -> #VALUE! | D37: =(C6-E6)/E6*100 -> #VALUE! | E37: =(F6-G6)/G6*100 -> #VALUE! | F37: =(F6-H6)/H6*100 -> #VALUE! | G37: =(J6-K6)/K6*100 -> #VALUE! | H37: =(J6-L6)/L6*100 -> #VALUE! | J37: =B37 -> EURUSD | K37: =C37+D37 -> #VALUE! | L37: =E37+F37 -> #VALUE! | M37: =G37+H37 -> #VALUE! | P37: EURO | Q37: =SUM(K37,K38,K39,K40,K41,K42,K43) -> #VALUE! | R37: =SUM(L37,L38,L39,L40,L41,L42,L43) -> #VALUE! | S37: =SUM(M37,M38,M39,M40,M41,M42,M43) -> #VALUE!
B38: =B7 -> EURGBP | C38: =(C7-D7)/D7*100 -> #VALUE! | D38: =(C7-E7)/E7*100 -> #VALUE! | E38: =(F7-G7)/G7*100 -> #VALUE! | F38: =(F7-H7)/H7*100 -> #VALUE! | G38: =(J7-K7)/K7*100 -> #VALUE! | H38: =(J7-L7)/L7*100 -> #VALUE! | J38: =B38 -> EURGBP | K38: =C38+D38 -> #VALUE! | L38: =E38+F38 -> #VALUE! | M38: =G38+H38 -> #VALUE! | P38: USD | Q38: =SUM(-1*K37,K44,K45,K46,-1*K47,-1*K53,-1*K63) -> #VALUE! | R38: =SUM(-1*L37,L44,L45,L46,-1*L47,-1*L53,-1*L63) -> #VALUE! | S38: =SUM(-1*M37,M44,M45,M46,-1*M47,-1*M53,-1*M63) -> #VALUE!
B39: =B8 -> EURJPY | C39: =(C8-D8)/D8*100 -> #VALUE! | D39: =(C8-E8)/E8*100 -> #VALUE! | E39: =(F8-G8)/G8*100 -> #VALUE! | F39: =(F8-H8)/H8*100 -> #VALUE! | G39: =(J8-K8)/K8*100 -> #VALUE! | H39: =(J8-L8)/L8*100 -> #VALUE! | J39: =B39 -> EURJPY | K39: =C39+D39 -> #VALUE! | L39: =E39+F39 -> #VALUE! | M39: =G39+H39 -> #VALUE! | P39: GBP | Q39: =SUM(K38*-1,K47,K48,K49,K50,K51,K52) -> #VALUE! | R39: =SUM(L38*-1,L47,L48,L49,L50,L51,L52) -> #VALUE! | S39: =SUM(M38*-1,M47,M48,M49,M50,M51,M52) -> #VALUE!
B40: =B9 -> EURAUD | C40: =(C9-D9)/D9*100 -> #VALUE! | D40: =(C9-E9)/E9*100 -> #VALUE! | E40: =(F9-G9)/G9*100 -> #VALUE! | F40: =(F9-H9)/H9*100 -> #VALUE! | G40: =(J9-K9)/K9*100 -> #VALUE! | H40: =(J9-L9)/L9*100 -> #VALUE! | J40: =B40 -> EURAUD | K40: =C40+D40 -> #VALUE! | L40: =E40+F40 -> #VALUE! | M40: =G40+H40 -> #VALUE! | P40: JPY | Q40: =SUM(K39,K44,K49,K57,K58,K60,K64)*-1 -> #VALUE! | R40: =SUM(L39,L44,L49,L57,L58,L60,L64)*-1 -> #VALUE! | S40: =SUM(M39,M44,M49,M57,M58,M60,M64)*-1 -> #VALUE!
B41: =B10 -> EURCAD | C41: =(C10-D10)/D10*100 -> #VALUE! | D41: =(C10-E10)/E10*100 -> #VALUE! | E41: =(F10-G10)/G10*100 -> #VALUE! | F41: =(F10-H10)/H10*100 -> #VALUE! | G41: =(J10-K10)/K10*100 -> #VALUE! | H41: =(J10-L10)/L10*100 -> #VALUE! | J41: =B41 -> EURCAD | K41: =C41+D41 -> #VALUE! | L41: =E41+F41 -> #VALUE! | M41: =G41+H41 -> #VALUE! | P41: AUD | Q41: =SUM(K40*-1,K51*-1,K53,K54,K55,K56,K57) -> #VALUE! | R41: =SUM(L40*-1,L51*-1,L53,L54,L55,L56,L57) -> #VALUE! | S41: =SUM(M40*-1,M51*-1,M53,M54,M55,M56,M57) -> #VALUE!
B42: =B11 -> EURNZD | C42: =(C11-D11)/D11*100 -> #VALUE! | D42: =(C11-E11)/E11*100 -> #VALUE! | E42: =(F11-G11)/G11*100 -> #VALUE! | F42: =(F11-H11)/H11*100 -> #VALUE! | G42: =(J11-K11)/K11*100 -> #VALUE! | H42: =(J11-L11)/L11*100 -> #VALUE! | J42: =B42 -> EURNZD | K42: =C42+D42 -> #VALUE! | L42: =E42+F42 -> #VALUE! | M42: =G42+H42 -> #VALUE! | P42: CAD | Q42: =SUM(K41*-1,K45*-1,K48*-1,K56*-1,K58,K59,K62*-1) -> #VALUE! | R42: =SUM(L41*-1,L45*-1,L48*-1,L56*-1,L58,L59,L62*-1) -> #VALUE! | S42: =SUM(M41*-1,M45*-1,M48*-1,M56*-1,M58,M59,M62*-1) -> #VALUE!
B43: =B12 -> EURCHF | C43: =(C12-D12)/D12*100 -> #VALUE! | D43: =(C12-E12)/E12*100 -> #VALUE! | E43: =(F12-G12)/G12*100 -> #VALUE! | F43: =(F12-H12)/H12*100 -> #VALUE! | G43: =(J12-K12)/K12*100 -> #VALUE! | H43: =(J12-L12)/L12*100 -> #VALUE! | J43: =B43 -> EURCHF | K43: =C43+D43 -> #VALUE! | L43: =E43+F43 -> #VALUE! | M43: =G43+H43 -> #VALUE! | P43: NZD | Q43: =SUM(K42*-1,K50*-1,K54*-1,K60,K61,K62,K63) -> #VALUE! | R43: =SUM(L42*-1,L50*-1,L54*-1,L60,L61,L62,L63) -> #VALUE! | S43: =SUM(M42*-1,M50*-1,M54*-1,M60,M61,M62,M63) -> #VALUE!
B44: =B13 -> USDJPY | C44: =(C13-D13)/D13*100 -> #VALUE! | D44: =(C13-E13)/E13*100 -> #VALUE! | E44: =(F13-G13)/G13*100 -> #VALUE! | F44: =(F13-H13)/H13*100 -> #VALUE! | G44: =(J13-K13)/K13*100 -> #VALUE! | H44: =(J13-L13)/L13*100 -> #VALUE! | J44: =B44 -> USDJPY | K44: =C44+D44 -> #VALUE! | L44: =E44+F44 -> #VALUE! | M44: =G44+H44 -> #VALUE! | P44: CHF | Q44: =SUM(K43*-1,K46*-1,K52*-1,K55*-1,K59*-1,K61*-1,K64) -> #VALUE! | R44: =SUM(L43*-1,L46*-1,L52*-1,L55*-1,L59*-1,L61*-1,L64) -> #VALUE! | S44: =SUM(M43*-1,M46*-1,M52*-1,M55*-1,M59*-1,M61*-1,M64) -> #VALUE!
B45: =B14 -> USDCAD | C45: =(C14-D14)/D14*100 -> #VALUE! | D45: =(C14-E14)/E14*100 -> #VALUE! | E45: =(F14-G14)/G14*100 -> #VALUE! | F45: =(F14-H14)/H14*100 -> #VALUE! | G45: =(J14-K14)/K14*100 -> #VALUE! | H45: =(J14-L14)/L14*100 -> #VALUE! | J45: =B45 -> USDCAD | K45: =C45+D45 -> #VALUE! | L45: =E45+F45 -> #VALUE! | M45: =G45+H45 -> #VALUE!
B46: =B15 -> USDCHF | C46: =(C15-D15)/D15*100 -> #VALUE! | D46: =(C15-E15)/E15*100 -> #VALUE! | E46: =(F15-G15)/G15*100 -> #VALUE! | F46: =(F15-H15)/H15*100 -> #VALUE! | G46: =(J15-K15)/K15*100 -> #VALUE! | H46: =(J15-L15)/L15*100 -> #VALUE! | J46: =B46 -> USDCHF | K46: =C46+D46 -> #VALUE! | L46: =E46+F46 -> #VALUE! | M46: =G46+H46 -> #VALUE!
B47: =B16 -> GBPUSD | C47: =(C16-D16)/D16*100 -> #VALUE! | D47: =(C16-E16)/E16*100 -> #VALUE! | E47: =(F16-G16)/G16*100 -> #VALUE! | F47: =(F16-H16)/H16*100 -> #VALUE! | G47: =(J16-K16)/K16*100 -> #VALUE! | H47: =(J16-L16)/L16*100 -> #VALUE! | J47: =B47 -> GBPUSD | K47: =C47+D47 -> #VALUE! | L47: =E47+F47 -> #VALUE! | M47: =G47+H47 -> #VALUE!
B48: =B17 -> GBPCAD | C48: =(C17-D17)/D17*100 -> #VALUE! | D48: =(C17-E17)/E17*100 -> #VALUE! | E48: =(F17-G17)/G17*100 -> #VALUE! | F48: =(F17-H17)/H17*100 -> #VALUE! | G48: =(J17-K17)/K17*100 -> #VALUE! | H48: =(J17-L17)/L17*100 -> #VALUE! | J48: =B48 -> GBPCAD | K48: =C48+D48 -> #VALUE! | L48: =E48+F48 -> #VALUE! | M48: =G48+H48 -> #VALUE!
B49: =B18 -> GBPJPY | C49: =(C18-D18)/D18*100 -> #VALUE! | D49: =(C18-E18)/E18*100 -> #VALUE! | E49: =(F18-G18)/G18*100 -> #VALUE! | F49: =(F18-H18)/H18*100 -> #VALUE! | G49: =(J18-K18)/K18*100 -> #VALUE! | H49: =(J18-L18)/L18*100 -> #VALUE! | J49: =B49 -> GBPJPY | K49: =C49+D49 -> #VALUE! | L49: =E49+F49 -> #VALUE! | M49: =G49+H49 -> #VALUE!
B50: =B19 -> GBPNZD | C50: =(C19-D19)/D19*100 -> #VALUE! | D50: =(C19-E19)/E19*100 -> #VALUE! | E50: =(F19-G19)/G19*100 -> #VALUE! | F50: =(F19-H19)/H19*100 -> #VALUE! | G50: =(J19-K19)/K19*100 -> #VALUE! | H50: =(J19-L19)/L19*100 -> #VALUE! | J50: =B50 -> GBPNZD | K50: =C50+D50 -> #VALUE! | L50: =E50+F50 -> #VALUE! | M50: =G50+H50 -> #VALUE!
B51: =B20 -> GBPAUD | C51: =(C20-D20)/D20*100 -> #VALUE! | D51: =(C20-E20)/E20*100 -> #VALUE! | E51: =(F20-G20)/G20*100 -> #VALUE! | F51: =(F20-H20)/H20*100 -> #VALUE! | G51: =(J20-K20)/K20*100 -> #VALUE! | H51: =(J20-L20)/L20*100 -> #VALUE! | J51: =B51 -> GBPAUD | K51: =C51+D51 -> #VALUE! | L51: =E51+F51 -> #VALUE! | M51: =G51+H51 -> #VALUE!
B52: =B21 -> GBPCHF | C52: =(C21-D21)/D21*100 -> #VALUE! | D52: =(C21-E21)/E21*100 -> #VALUE! | E52: =(F21-G21)/G21*100 -> #VALUE! | F52: =(F21-H21)/H21*100 -> #VALUE! | G52: =(J21-K21)/K21*100 -> #VALUE! | H52: =(J21-L21)/L21*100 -> #VALUE! | J52: =B52 -> GBPCHF | K52: =C52+D52 -> #VALUE! | L52: =E52+F52 -> #VALUE! | M52: =G52+H52 -> #VALUE!
B53: =B22 -> AUDUSD | C53: =(C22-D22)/D22*100 -> #VALUE! | D53: =(C22-E22)/E22*100 -> #VALUE! | E53: =(F22-G22)/G22*100 -> #VALUE! | F53: =(F22-H22)/H22*100 -> #VALUE! | G53: =(J22-K22)/K22*100 -> #VALUE! | H53: =(J22-L22)/L22*100 -> #VALUE! | J53: =B53 -> AUDUSD | K53: =C53+D53 -> #VALUE! | L53: =E53+F53 -> #VALUE! | M53: =G53+H53 -> #VALUE!
B54: =B23 -> AUDNZD | C54: =(C23-D23)/D23*100 -> #VALUE! | D54: =(C23-E23)/E23*100 -> #VALUE! | E54: =(F23-G23)/G23*100 -> #VALUE! | F54: =(F23-H23)/H23*100 -> #VALUE! | G54: =(J23-K23)/K23*100 -> #VALUE! | H54: =(J23-L23)/L23*100 -> #VALUE! | J54: =B54 -> AUDNZD | K54: =C54+D54 -> #VALUE! | L54: =E54+F54 -> #VALUE! | M54: =G54+H54 -> #VALUE!
B55: =B24 -> AUDCHF | C55: =(C24-D24)/D24*100 -> #VALUE! | D55: =(C24-E24)/E24*100 -> #VALUE! | E55: =(F24-G24)/G24*100 -> #VALUE! | F55: =(F24-H24)/H24*100 -> #VALUE! | G55: =(J24-K24)/K24*100 -> #VALUE! | H55: =(J24-L24)/L24*100 -> #VALUE! | J55: =B55 -> AUDCHF | K55: =C55+D55 -> #VALUE! | L55: =E55+F55 -> #VALUE! | M55: =G55+H55 -> #VALUE!
B56: =B25 -> AUDCAD | C56: =(C25-D25)/D25*100 -> #VALUE! | D56: =(C25-E25)/E25*100 -> #VALUE! | E56: =(F25-G25)/G25*100 -> #VALUE! | F56: =(F25-H25)/H25*100 -> #VALUE! | G56: =(J25-K25)/K25*100 -> #VALUE! | H56: =(J25-L25)/L25*100 -> #VALUE! | J56: =B56 -> AUDCAD | K56: =C56+D56 -> #VALUE! | L56: =E56+F56 -> #VALUE! | M56: =G56+H56 -> #VALUE!
... B64: =B33 -> CHFJPY | C64: =(C33-D33)/D33*100 -> #VALUE! | D64: =(C33-E33)/E33*100 -> #VALUE! | E64: =(F33-G33)/G33*100 -> #VALUE! | F64: =(F33-H33)/H33*100 -> #VALUE! | G64: =(J33-K33)/K33*100 -> #VALUE! | H64: =(J33-L33)/L33*100 -> #VALUE! | J64: =B64 -> CHFJPY | K64: =C64+D64 -> #VALUE! | L64: =E64+F64 -> #VALUE! | M64: =G64+H64 -> #VALUE!

Sheet Currency Strength
C1: ='Data (Do not Touch)'!J36 -> FX Pair/TF | D1: ='Data (Do not Touch)'!K36 -> H4 | E1: ='Data (Do not Touch)'!L36 -> D1 | F1: ='Data (Do not Touch)'!M36 -> W1
C2: ='Data (Do not Touch)'!J37 -> EURUSD | D2: ='Data (Do not Touch)'!K37 -> #VALUE! | E2: ='Data (Do not Touch)'!L37 -> #VALUE! | F2: ='Data (Do not Touch)'!M37 -> #VALUE! | I2: ='Data (Do not Touch)'!P36 -> Currency/TF | J2: ='Data (Do not Touch)'!Q36 -> H4 | K2: ='Data (Do not Touch)'!R36 -> D1 | L2: ='Data (Do not Touch)'!S36 -> W1 | N2: Type Time Frames You Want to Check
C3: ='Data (Do not Touch)'!J38 -> EURGBP | D3: ='Data (Do not Touch)'!K38 -> #VALUE! | E3: ='Data (Do not Touch)'!L38 -> #VALUE! | F3: ='Data (Do not Touch)'!M38 -> #VALUE! | I3: ='Data (Do not Touch)'!P37 -> EURO | J3: ='Data (Do not Touch)'!Q37 -> #VALUE! | K3: ='Data (Do not Touch)'!R37 -> #VALUE! | L3: ='Data (Do not Touch)'!S37 -> #VALUE! | N3: 1st Time Frame | P3: H4
C4: ='Data (Do not Touch)'!J39 -> EURJPY | D4: ='Data (Do not Touch)'!K39 -> #VALUE! | E4: ='Data (Do not Touch)'!L39 -> #VALUE! | F4: ='Data (Do not Touch)'!M39 -> #VALUE! | I4: ='Data (Do not Touch)'!P38 -> USD | J4: ='Data (Do not Touch)'!Q38 -> #VALUE! | K4: ='Data (Do not Touch)'!R38 -> #VALUE! | L4: ='Data (Do not Touch)'!S38 -> #VALUE! | N4: 2nd Time Frame | P4: D1
C5: ='Data (Do not Touch)'!J40 -> EURAUD | D5: ='Data (Do not Touch)'!K40 -> #VALUE! | E5: ='Data (Do not Touch)'!L40 -> #VALUE! | F5: ='Data (Do not Touch)'!M40 -> #VALUE! | I5: ='Data (Do not Touch)'!P39 -> GBP | J5: ='Data (Do not Touch)'!Q39 -> #VALUE! | K5: ='Data (Do not Touch)'!R39 -> #VALUE! | L5: ='Data (Do not Touch)'!S39 -> #VALUE! | N5: 3rd Time Frame | P5: W1
C6: ='Data (Do not Touch)'!J41 -> EURCAD | D6: ='Data (Do not Touch)'!K41 -> #VALUE! | E6: ='Data (Do not Touch)'!L41 -> #VALUE! | F6: ='Data (Do not Touch)'!M41 -> #VALUE! | I6: ='Data (Do not Touch)'!P40 -> JPY | J6: ='Data (Do not Touch)'!Q40 -> #VALUE! | K6: ='Data (Do not Touch)'!R40 -> #VALUE! | L6: ='Data (Do not Touch)'!S40 -> #VALUE!
C7: ='Data (Do not Touch)'!J42 -> EURNZD | D7: ='Data (Do not Touch)'!K42 -> #VALUE! | E7: ='Data (Do not Touch)'!L42 -> #VALUE! | F7: ='Data (Do not Touch)'!M42 -> #VALUE! | I7: ='Data (Do not Touch)'!P41 -> AUD | J7: ='Data (Do not Touch)'!Q41 -> #VALUE! | K7: ='Data (Do not Touch)'!R41 -> #VALUE! | L7: ='Data (Do not Touch)'!S41 -> #VALUE!
C8: ='Data (Do not Touch)'!J43 -> EURCHF | D8: ='Data (Do not Touch)'!K43 -> #VALUE! | E8: ='Data (Do not Touch)'!L43 -> #VALUE! | F8: ='Data (Do not Touch)'!M43 -> #VALUE! | I8: ='Data (Do not Touch)'!P42 -> CAD | J8: ='Data (Do not Touch)'!Q42 -> #VALUE! | K8: ='Data (Do not Touch)'!R42 -> #VALUE! | L8: ='Data (Do not Touch)'!S42 -> #VALUE!
C9: ='Data (Do not Touch)'!J44 -> USDJPY | D9: ='Data (Do not Touch)'!K44 -> #VALUE! | E9: ='Data (Do not Touch)'!L44 -> #VALUE! | F9: ='Data (Do not Touch)'!M44 -> #VALUE! | I9: ='Data (Do not Touch)'!P43 -> NZD | J9: ='Data (Do not Touch)'!Q43 -> #VALUE! | K9: ='Data (Do not Touch)'!R43 -> #VALUE! | L9: ='Data (Do not Touch)'!S43 -> #VALUE!
C10: ='Data (Do not Touch)'!J45 -> USDCAD | D10: ='Data (Do not Touch)'!K45 -> #VALUE! | E10: ='Data (Do not Touch)'!L45 -> #VALUE! | F10: ='Data (Do not Touch)'!M45 -> #VALUE! | I10: ='Data (Do not Touch)'!P44 -> CHF | J10: ='Data (Do not Touch)'!Q44 -> #VALUE! | K10: ='Data (Do not Touch)'!R44 -> #VALUE! | L10: ='Data (Do not Touch)'!S44 -> #VALUE!
C11: ='Data (Do not Touch)'!J46 -> USDCHF | D11: ='Data (Do not Touch)'!K46 -> #VALUE! | E11: ='Data (Do not Touch)'!L46 -> #VALUE! | F11: ='Data (Do not Touch)'!M46 -> #VALUE!
C12: ='Data (Do not Touch)'!J47 -> GBPUSD | D12: ='Data (Do not Touch)'!K47 -> #VALUE! | E12: ='Data (Do not Touch)'!L47 -> #VALUE! | F12: ='Data (Do not Touch)'!M47 -> #VALUE!
C13: ='Data (Do not Touch)'!J48 -> GBPCAD | D13: ='Data (Do not Touch)'!K48 -> #VALUE! | E13: ='Data (Do not Touch)'!L48 -> #VALUE! | F13: ='Data (Do not Touch)'!M48 -> #VALUE!
C14: ='Data (Do not Touch)'!J49 -> GBPJPY | D14: ='Data (Do not Touch)'!K49 -> #VALUE! | E14: ='Data (Do not Touch)'!L49 -> #VALUE! | F14: ='Data (Do not Touch)'!M49 -> #VALUE!
C15: ='Data (Do not Touch)'!J50 -> GBPNZD | D15: ='Data (Do not Touch)'!K50 -> #VALUE! | E15: ='Data (Do not Touch)'!L50 -> #VALUE! | F15: ='Data (Do not Touch)'!M50 -> #VALUE!
C16: ='Data (Do not Touch)'!J51 -> GBPAUD | D16: ='Data (Do not Touch)'!K51 -> #VALUE! | E16: ='Data (Do not Touch)'!L51 -> #VALUE! | F16: ='Data (Do not Touch)'!M51 -> #VALUE!
C17: ='Data (Do not Touch)'!J52 -> GBPCHF | D17: ='Data (Do not Touch)'!K52 -> #VALUE! | E17: ='Data (Do not Touch)'!L52 -> #VALUE! | F17: ='Data (Do not Touch)'!M52 -> #VALUE!
C18: ='Data (Do not Touch)'!J53 -> AUDUSD | D18: ='Data (Do not Touch)'!K53 -> #VALUE! | E18: ='Data (Do not Touch)'!L53 -> #VALUE! | F18: ='Data (Do not Touch)'!M53 -> #VALUE!
C19: ='Data (Do not Touch)'!J54 -> AUDNZD | D19: ='Data (Do not Touch)'!K54 -> #VALUE! | E19: ='Data (Do not Touch)'!L54 -> #VALUE! | F19: ='Data (Do not Touch)'!M54 -> #VALUE!
C20: ='Data (Do not Touch)'!J55 -> AUDCHF | D20: ='Data (Do not Touch)'!K55 -> #VALUE! | E20: ='Data (Do not Touch)'!L55 -> #VALUE! | F20: ='Data (Do not Touch)'!M55 -> #VALUE!
C21: ='Data (Do not Touch)'!J56 -> AUDCAD | D21: ='Data (Do not Touch)'!K56 -> #VALUE! | E21: ='Data (Do not Touch)'!L56 -> #VALUE! | F21: ='Data (Do not Touch)'!M56 -> #VALUE!
C22: ='Data (Do not Touch)'!J57 -> AUDJPY | D22: ='Data (Do not Touch)'!K57 -> #VALUE! | E22: ='Data (Do not Touch)'!L57 -> #VALUE! | F22: ='Data (Do not Touch)'!M57 -> #VALUE!
... C29: ='Data (Do not Touch)'!J64 -> CHFJPY | D29: ='Data (Do not Touch)'!K64 -> #VALUE! | E29: ='Data (Do not Touch)'!L64 -> #VALUE! | F29: ='Data (Do not Touch)'!M64 -> #VALUE!
C33: Formula for Driving these results:
C34: (Current Price - Low) / Low*100 Result will always be positive
C35: (Current Price - High) / High*100 Result will always be negative
C36: Then add the two results. If the net result is positive, then the pair is bullish and the opposite if negative.
C37: Repeat this for each Time Frame
C39: Please try this formula in a demo account!
