Workbook

Sheet SUMMARY
A1: FLOWS: | B1: SUMMARY ANALYSIS:
A3: Dom Prod : | B3: Very slight drop / Near all time high
A5: Crude Exports: | B5: Drop back to average
A6: Crude Imports: | B6: Slightly up
A7: Net Imports : | B7: Up
A9: Refinery Input: | B9: Steady / Just above a low
A11: Gasoline Stocks: | B11: Continuing to drop steadily
A12: Distillate Stocks: | B12: After dropping from a high have leveled off
A13: Crude Stocks: | B13: Slightly down / Still very high
A14: Total Stocks: | B14: Dropping steadily
A17: CONCLUSIONS: | B17: GS dropping steadily from a high / some way to go
B18: DS stocks levelled out / Still high
B19: Refinery input at a low / will probably rise only slowly
B20: Net imports will probably remain steady
B21: Exports down from high / but still trending up
B22: Domestic prod to remain high // Continues unabated
B23: Crude stocks may drop slowly / Still hovering at the same level as the past 16 weeks
A25: NOTES: | B25: Saudi plans to cut crude in April to 7mbpd and keep production well below 10mbd.
B26: If US production steps up this may negate the Saudi plans.
B27: Saudis shipping significantly less oil to US. Reason for fall in imports.
A30: OIL PRICE | B30: Expect WTI to range from $65 - 50

Sheet Tot Stocks
B3: Tot Stocks
A5: =A6+1 -> 46 | B5: ='Crude Stocks'!B5+'GS DS'!C5+'GS DS'!F5 -> 831.6
A6: =A7+1 -> 45 | B6: ='Crude Stocks'!B6+'GS DS'!C6+'GS DS'!F6 -> 839.6
A7: =A8+1 -> 44 | B7: ='Crude Stocks'!B7+'GS DS'!C7+'GS DS'!F7 -> 839.2
A8: =A9+1 -> 43 | B8: ='Crude Stocks'!B8+'GS DS'!C8+'GS DS'!F8 -> 850
A9: =A10+1 -> 42 | B9: ='Crude Stocks'!B9+'GS DS'!C9+'GS DS'!F9 -> 847.3
A10: =A11+1 -> 41 | B10: ='Crude Stocks'!B10+'GS DS'!C10+'GS DS'!F10 -> 844.1
A11: =A12+1 -> 40 | B11: ='Crude Stocks'!B11+'GS DS'!C11+'GS DS'!F11 -> 844.6
A12: =A13+1 -> 39 | B12: ='Crude Stocks'!B12+'GS DS'!C12+'GS DS'!F12 -> 847
A13: =A14+1 -> 38 | B13: ='Crude Stocks'!B13+'GS DS'!C13+'GS DS'!F13 -> 835.7
A14: =A15+1 -> 37 | B14: ='Crude Stocks'!B14+'GS DS'!C14+'GS DS'!F14 -> 827.8
A15: =A16+1 -> 36 | B15: ='Crude Stocks'!B15+'GS DS'!C15+'GS DS'!F15 -> 810.8
A16: =A17+1 -> 35 | B16: ='Crude Stocks'!B16+'GS DS'!C16+'GS DS'!F16 -> 791.5
... A49: =A50+1 -> 2 | B49: ='Crude Stocks'!B49+'GS DS'!C49+'GS DS'!F49 -> 792.8
A50: 1 | B50: ='Crude Stocks'!B50+'GS DS'!C50+'GS DS'!F50 -> 789.2

Sheet Crude Stocks
B3: Crude Stocks
A5: =A6+1 -> 46 | B5: 449.1
A6: =A7+1 -> 45 | B6: 452.9
A7: =A8+1 -> 44 | B7: 445.9
A8: =A9+1 -> 43 | B8: 454.5
A9: =A10+1 -> 42 | B9: 450.8
A10: =A11+1 -> 41 | B10: 447.2
A11: =A12+1 -> 40 | B11: 445.9
A12: =A13+1 -> 39 | B12: 445
A13: =A14+1 -> 38 | B13: 437.1
A14: =A15+1 -> 37 | B14: 439.7
A15: =A16+1 -> 36 | B15: 441.4
A16: =A17+1 -> 35 | B16: 441.5
... A49: =A50+1 -> 2 | B49: 436
A50: 1 | B50: 429.7

Sheet GS DS
C3: Gasoline Stocks | F3: Distillate Stocks
B5: =B6+1 -> 46 | C5: 246.1 | E5: =E6+1 -> 46 | F5: 136.4
B6: =B7+1 -> 45 | C6: 250.7 | E6: =E7+1 -> 45 | F6: 136
B7: =B8+1 -> 44 | C7: 254.9 | E7: =E8+1 -> 44 | F7: 138.4
B8: =B9+1 -> 43 | C8: 256.8 | E8: =E9+1 -> 43 | F8: 138.7
B9: =B10+1 -> 42 | C9: 256.3 | E9: =E10+1 -> 42 | F9: 140.2
B10: =B11+1 -> 41 | C10: 257.9 | E10: =E11+1 -> 41 | F10: 139
B11: =B12+1 -> 40 | C11: 257.4 | E11: =E12+1 -> 40 | F11: 141.3
B12: =B13+1 -> 39 | C12: 259.6 | E12: =E13+1 -> 39 | F12: 142.4
B13: =B14+1 -> 38 | C13: 255.6 | E13: =E14+1 -> 38 | F13: 143
B14: =B15+1 -> 37 | C14: 248.1 | E14: =E15+1 -> 37 | F14: 140
B15: =B16+1 -> 36 | C15: 240 | E15: =E16+1 -> 36 | F15: 129.4
B16: =B17+1 -> 35 | C16: 230.1 | E16: =E17+1 -> 35 | F16: 119.9
... B49: =B50+1 -> 2 | C49: 238 | E49: =E50+1 -> 2 | F49: 118.8
B50: 1 | C50: 236.8 | E50: 1 | F50: 122.7

Sheet Dom Prod
C3: Dom Product
B5: =B6+1 -> 46 | C5: 12000
B6: =B7+1 -> 45 | C6: 12100
B7: =B8+1 -> 44 | C7: 12100
B8: =B9+1 -> 43 | C8: 12000
B9: =B10+1 -> 42 | C9: 11900
B10: =B11+1 -> 41 | C10: 11900
B11: =B12+1 -> 40 | C11: 11900
B12: =B13+1 -> 39 | C12: 11900
B13: =B14+1 -> 38 | C13: 11900
B14: =B15+1 -> 37 | C14: 11700
B15: =B16+1 -> 36 | C15: 11700
B16: =B17+1 -> 35 | C16: 11600
... B49: =B50+1 -> 2 | C49: 10619
B50: 1 | C50: 10586

Sheet Net Imports
B3: Net Imports
A5: =A6+1 -> 46 | B5: ='Imp Exp'!B4-'Imp Exp'!E4 -> 4200
A6: =A7+1 -> 45 | B6: ='Imp Exp'!B5-'Imp Exp'!E5 -> 4198
A7: =A8+1 -> 44 | B7: ='Imp Exp'!B6-'Imp Exp'!E6 -> 2558
A8: =A9+1 -> 43 | B8: ='Imp Exp'!B7-'Imp Exp'!E7 -> 3915
A9: =A10+1 -> 42 | B9: ='Imp Exp'!B8-'Imp Exp'!E8 -> 3846
A10: =A11+1 -> 41 | B10: ='Imp Exp'!B9-'Imp Exp'!E9 -> 4276
A11: =A12+1 -> 40 | B11: ='Imp Exp'!B10-'Imp Exp'!E10 -> 5139
A12: =A13+1 -> 39 | B12: ='Imp Exp'!B11-'Imp Exp'!E11 -> 6156
A13: =A14+1 -> 38 | B13: ='Imp Exp'!B12-'Imp Exp'!E12 -> 4561
A14: =A15+1 -> 37 | B14: ='Imp Exp'!B13-'Imp Exp'!E13 -> 5781
A15: =A16+1 -> 36 | B15: ='Imp Exp'!B14-'Imp Exp'!E14 -> 5155
A16: =A17+1 -> 35 | B16: ='Imp Exp'!B15-'Imp Exp'!E15 -> 5098
... A49: =A50+1 -> 2 | B49: ='Imp Exp'!B48-'Imp Exp'!E48 -> 6401
A50: 1 | B50: ='Imp Exp'!B49-'Imp Exp'!E49 -> 6138

Sheet Imp Exp
B2: Crude Imports | E2: Crude Exports
A4: =A5+1 -> 46 | B4: 6746 | D4: =D5+1 -> 46 | E4: 2546
A5: =A6+1 -> 45 | B5: 7001 | D5: =D6+1 -> 45 | E5: 2803
A6: =A7+1 -> 44 | B6: 5917 | D6: =D7+1 -> 44 | E6: 3359
A7: =A8+1 -> 43 | B7: 7522 | D7: =D8+1 -> 43 | E7: 3607
A8: =A9+1 -> 42 | B8: 6210 | D8: =D9+1 -> 42 | E8: 2364
A9: =A10+1 -> 41 | B9: 7146 | D9: =D10+1 -> 41 | E9: 2870
A10: =A11+1 -> 40 | B10: 7083 | D10: =D11+1 -> 40 | E10: 1944
A11: =A12+1 -> 39 | B11: 8191 | D11: =D12+1 -> 39 | E11: 2035
A12: =A13+1 -> 38 | B12: 7527 | D12: =D13+1 -> 38 | E12: 2966
A13: =A14+1 -> 37 | B13: 7846 | D13: =D14+1 -> 37 | E13: 2065
A14: =A15+1 -> 36 | B14: 7392 | D14: =D15+1 -> 36 | E14: 2237
A15: =A16+1 -> 35 | B15: 7423 | D15: =D16+1 -> 35 | E15: 2325
... A48: =A49+1 -> 2 | B48: 8549 | D48: =D49+1 -> 2 | E48: 2148
A49: 1 | B49: 8469 | D49: 1 | E49: 2331

Sheet Ref Input
B3: Ref Input
A5: 46 | B5: 16020
A6: =A7+1 -> 45 | B6: 15990
A7: =A8+1 -> 44 | B7: 15890
A8: =A9+1 -> 43 | B8: 15711
A9: =A10+1 -> 42 | B9: 15768
A10: =A11+1 -> 41 | B10: 16633
A11: =A12+1 -> 40 | B11: 16463
A12: =A13+1 -> 39 | B12: 17049
A13: =A14+1 -> 38 | B13: 17223
A14: =A15+1 -> 37 | B14: 17566
A15: =A16+1 -> 36 | B15: 17760
A16: =A17+1 -> 35 | B16: 17487
A17: =A18+1 -> 34 | B17: 17553
... A47: =A48+1 -> 4 | B47: 16561
A48: 3 | B48: 16621
