Workbook

Sheet Monday
A1: Manually | B1: 43304 | D1: Monday's deals | K1: x
B2: S/N | C2: Symbol (Capital letters) | D2: Type | E2: Entry Price | F2: T/P | G2: S/L | H2: Closed Price | I2: P / L | K2: Symbol | L2: Multiplier
B3: 1 | C3: BTC/USD | D3: Sell | E3: 7340.00 | G3: 7650.00 | H3: 7650.00 | I3: =IF(H3="","",IF(LEFT(D3)="B",H3-E3,E3-H3)*VLOOKUP(C3,$K$3:$L$38,2,0)) -> -31 | K3: EUR/USD | L3: 10000 | N3: Net Profit
A4: S | B4: 2 | C4: BTC/USD | D4: Sell | E4: 7400.00 | G4: 7650.00 | H4: 7650.00 | I4: =IF(H4="","",IF(LEFT(D4)="B",H4-E4,E4-H4)*VLOOKUP(C4,$K$3:$L$38,2,0)) -> -25 | K4: EUR/GBP | L4: 10000
A5: C | B5: 3 | C5: EUR/USD | D5: Sell | E5: 1.1722 | G5: 1.1785 | H5: 1.1717 | I5: =IF(H5="","",IF(LEFT(D5)="B",H5-E5,E5-H5)*VLOOKUP(C5,$K$3:$L$38,2,0)) -> 5 | K5: EUR/AUD | L5: 10000
A6: R | B6: 4 | C6: EUR/USD | D6: Sell | E6: 1.1742 | G6: 1.1785 | H6: 1.1717 | I6: =IF(H6="","",IF(LEFT(D6)="B",H6-E6,E6-H6)*VLOOKUP(C6,$K$3:$L$38,2,0)) -> 25 | K6: EUR/CAD | L6: 10000
A7: O | B7: 5 | C7: EUR/USD | D7: Buy | E7: 1.1707 | G7: 1.1670 | H7: 1.1660 | I7: =IF(H7="","",IF(LEFT(D7)="B",H7-E7,E7-H7)*VLOOKUP(C7,$K$3:$L$38,2,0)) -> -47 | K7: EUR/CHF | L7: 10000 | N7: =I32 -> -130 | O7: Pips
A8: L | B8: 6 | C8: GBP/USD | D8: Buy | E8: 1.3130 | G8: 1.3070 | H8: 1.3143 | I8: =IF(H8="","",IF(LEFT(D8)="B",H8-E8,E8-H8)*VLOOKUP(C8,$K$3:$L$38,2,0)) -> 13 | K8: EUR/NZD | L8: 10000
A9: L | B9: 7 | C9: NZD/JPY | D9: Buy | E9: 75.66 | G9: 75.20 | H9: 75.66 | I9: =IF(H9="","",IF(LEFT(D9)="B",H9-E9,E9-H9)*VLOOKUP(C9,$K$3:$L$38,2,0)) -> 0 | K9: EUR/TRY | L9: 10000
B10: 8 | C10: USD/JPY | D10: Buy | E10: 111.45 | G10: 110.90 | H10: 110.90 | I10: =IF(H10="","",IF(LEFT(D10)="B",H10-E10,E10-H10)*VLOOKUP(C10,$K$3:$L$38,2,0)) -> -55 | K10: EUR/SGD | L10: 10000
A11: D | B11: 9 | C11: USD/JPY | D11: Buy | E11: 110.95 | G11: 110.70 | H11: 111.06 | I11: =IF(H11="","",IF(LEFT(D11)="B",H11-E11,E11-H11)*VLOOKUP(C11,$K$3:$L$38,2,0)) -> 11 | K11: EUR/JPY | L11: 100
A12: O | B12: 10 | C12: USD/JPY | D12: Buy | E12: 111.16 | G12: 110.90 | H12: 110.90 | I12: =IF(H12="","",IF(LEFT(D12)="B",H12-E12,E12-H12)*VLOOKUP(C12,$K$3:$L$38,2,0)) -> -26 | K12: GBP/USD | L12: 10000
A13: W | I13: =IF(H13="","",IF(LEFT(D13)="B",H13-E13,E13-H13)*VLOOKUP(C13,$K$3:$L$38,2,0)) | K13: GBP/JPY | L13: 100
A14: N | I14: =IF(H14="","",IF(LEFT(D14)="B",H14-E14,E14-H14)*VLOOKUP(C14,$K$3:$L$38,2,0)) | K14: GBP/AUD | L14: 10000
I15: =IF(H15="","",IF(LEFT(D15)="B",H15-E15,E15-H15)*VLOOKUP(C15,$K$3:$L$38,2,0)) | K15: GBP/NZD | L15: 10000
I16: =IF(H16="","",IF(LEFT(D16)="B",H16-E16,E16-H16)*VLOOKUP(C16,$K$3:$L$38,2,0)) | K16: GBP/CAD | L16: 10000
I17: =IF(H17="","",IF(LEFT(D17)="B",H17-E17,E17-H17)*VLOOKUP(C17,$K$3:$L$38,2,0)) | K17: GBP/CHF | L17: 10000
I18: =IF(H18="","",IF(LEFT(D18)="B",H18-E18,E18-H18)*VLOOKUP(C18,$K$3:$L$38,2,0)) | K18: USD/JPY | L18: 100
I19: =IF(H19="","",IF(LEFT(D19)="B",H19-E19,E19-H19)*VLOOKUP(C19,$K$3:$L$38,2,0)) | K19: USD/CAD | L19: 10000
I20: =IF(H20="","",IF(LEFT(D20)="B",H20-E20,E20-H20)*VLOOKUP(C20,$K$3:$L$38,2,0)) | K20: USD/CHF | L20: 10000
I21: =IF(H21="","",IF(LEFT(D21)="B",H21-E21,E21-H21)*VLOOKUP(C21,$K$3:$L$38,2,0)) | K21: USD/TRY | L21: 10000
I22: =IF(H22="","",IF(LEFT(D22)="B",H22-E22,E22-H22)*VLOOKUP(C22,$K$3:$L$38,2,0)) | K22: USD/PLN | L22: 10000
I23: =IF(H23="","",IF(LEFT(D23)="B",H23-E23,E23-H23)*VLOOKUP(C23,$K$3:$L$38,2,0)) | K23: AUD/USD | L23: 10000
I24: =IF(H24="","",IF(LEFT(D24)="B",H24-E24,E24-H24)*VLOOKUP(C24,$K$3:$L$38,2,0)) | K24: AUD/NZD | L24: 10000
I25: =IF(H25="","",IF(LEFT(D25)="B",H25-E25,E25-H25)*VLOOKUP(C25,$K$3:$L$38,2,0)) | K25: AUD/JPY | L25: 100
I26: =IF(H26="","",IF(LEFT(D26)="B",H26-E26,E26-H26)*VLOOKUP(C26,$K$3:$L$38,2,0)) | K26: AUD/CHF | L26: 10000
... I31: =IF(H31="","",IF(LEFT(D31)="B",H31-E31,E31-H31)*VLOOKUP(C31,$K$3:$L$38,2,0)) | K31: NZD/CAD | L31: 10000
H32: Net Profit | I32: =SUM(I3:I31) -> -130 | K32: CAD/CHF | L32: 10000
B33: * NOTE: | K33: CAD/JPY | L33: 100
B34: - Any other currencies out of the table X will give wrong result (N/A) in P / L. - Symbols must be a Capital Letters, otherwise you will get nothing in P / L. | K34: CHF/JPY | L34: 100
K35: GOLD | L35: 10
B36: * ADDING NEW CURRENCY TO TABLE X | K36: SILVER | L36: 100
B37: 1) Add new raw first, go to the bottom, select the last raw, then right click / Insert. | K37: BTC/USD | L37: 0.1
B38: 2) In the table X, currencies are SORTED as you can see. To Add New currency Select 1 cell from column (K) and next 1 cell from column (L) then right click / Insert / Shift cells down. | K38: OIL | L38: 100
B40: 3) Repeat Step (1) & (2) for each currency you add.
B41: 4) Find the correct Multiplier for each currency you add. Check the Multipliers in table X.

Sheet Tuesday
A1: Manually | B1: 43305 | D1: Tuesday's deals | K1: x
B2: S/N | C2: Symbol (Capital letters) | D2: Type | E2: Entry Price | F2: T/P | G2: S/L | H2: Closed Price | I2: P / L | K2: Symbol | L2: Multiplier
B3: 1 | C3: EUR/SGD | D3: Sell Limit | E3: 1.59670 | F3: 1.57990 | G3: 1.6040 | I3: =IF(H3="","",IF(LEFT(D3)="B",H3-E3,E3-H3)*VLOOKUP(C3,$K$3:$L$38,2,0)) | K3: EUR/USD | L3: 10000 | N3: Net Profit
A4: S | B4: 2 | C4: EUR/SGD | D4: Sell | E4: 1.59562 | F4: 1.57990 | G4: 1.6040 | I4: =IF(H4="","",IF(LEFT(D4)="B",H4-E4,E4-H4)*VLOOKUP(C4,$K$3:$L$38,2,0)) | K4: EUR/GBP | L4: 10000
A5: C | B5: 3 | C5: AUD/JPY | D5: Buy Limit | E5: 82.065 | F5: 83.850 | G5: 81.450 | I5: =IF(H5="","",IF(LEFT(D5)="B",H5-E5,E5-H5)*VLOOKUP(C5,$K$3:$L$38,2,0)) | K5: EUR/AUD | L5: 10000
A6: R | B6: 4 | C6: AUD/JPY | D6: Buy | E6: 82.16 | F6: 83.850 | G6: 81.450 | I6: =IF(H6="","",IF(LEFT(D6)="B",H6-E6,E6-H6)*VLOOKUP(C6,$K$3:$L$38,2,0)) | K6: EUR/CAD | L6: 10000
A7: O | B7: 5 | C7: SILVER | D7: Buy Limit | E7: 15.408 | F7: 17.000 | G7: 14.200 | I7: =IF(H7="","",IF(LEFT(D7)="B",H7-E7,E7-H7)*VLOOKUP(C7,$K$3:$L$38,2,0)) | K7: EUR/CHF | L7: 10000 | N7: =I32 -> 0 | O7: Pips
A8: L | B8: 6 | C8: SILVER | D8: Buy | E8: 15.48 | F8: 17.000 | G8: 14.200 | I8: =IF(H8="","",IF(LEFT(D8)="B",H8-E8,E8-H8)*VLOOKUP(C8,$K$3:$L$38,2,0)) | K8: EUR/NZD | L8: 10000
A9: L | B9: 7 | C9: EUR/NZD | D9: Sell | E9: 1.71932 | F9: 1.7080 | G9: 1.7290 | I9: =IF(H9="","",IF(LEFT(D9)="B",H9-E9,E9-H9)*VLOOKUP(C9,$K$3:$L$38,2,0)) | K9: EUR/TRY | L9: 10000
I10: =IF(H10="","",IF(LEFT(D10)="B",H10-E10,E10-H10)*VLOOKUP(C10,$K$3:$L$38,2,0)) | K10: EUR/SGD | L10: 10000
A11: D | I11: =IF(H11="","",IF(LEFT(D11)="B",H11-E11,E11-H11)*VLOOKUP(C11,$K$3:$L$38,2,0)) | K11: EUR/JPY | L11: 100
A12: O | I12: =IF(H12="","",IF(LEFT(D12)="B",H12-E12,E12-H12)*VLOOKUP(C12,$K$3:$L$38,2,0)) | K12: GBP/USD | L12: 10000
A13: W | I13: =IF(H13="","",IF(LEFT(D13)="B",H13-E13,E13-H13)*VLOOKUP(C13,$K$3:$L$38,2,0)) | K13: GBP/JPY | L13: 100
A14: N | I14: =IF(H14="","",IF(LEFT(D14)="B",H14-E14,E14-H14)*VLOOKUP(C14,$K$3:$L$38,2,0)) | K14: GBP/AUD | L14: 10000
I15: =IF(H15="","",IF(LEFT(D15)="B",H15-E15,E15-H15)*VLOOKUP(C15,$K$3:$L$38,2,0)) | K15: GBP/NZD | L15: 10000
I16: =IF(H16="","",IF(LEFT(D16)="B",H16-E16,E16-H16)*VLOOKUP(C16,$K$3:$L$38,2,0)) | K16: GBP/CAD | L16: 10000
I17: =IF(H17="","",IF(LEFT(D17)="B",H17-E17,E17-H17)*VLOOKUP(C17,$K$3:$L$38,2,0)) | K17: GBP/CHF | L17: 10000
I18: =IF(H18="","",IF(LEFT(D18)="B",H18-E18,E18-H18)*VLOOKUP(C18,$K$3:$L$38,2,0)) | K18: USD/JPY | L18: 100
I19: =IF(H19="","",IF(LEFT(D19)="B",H19-E19,E19-H19)*VLOOKUP(C19,$K$3:$L$38,2,0)) | K19: USD/CAD | L19: 10000
I20: =IF(H20="","",IF(LEFT(D20)="B",H20-E20,E20-H20)*VLOOKUP(C20,$K$3:$L$38,2,0)) | K20: USD/CHF | L20: 10000
I21: =IF(H21="","",IF(LEFT(D21)="B",H21-E21,E21-H21)*VLOOKUP(C21,$K$3:$L$38,2,0)) | K21: USD/TRY | L21: 10000
I22: =IF(H22="","",IF(LEFT(D22)="B",H22-E22,E22-H22)*VLOOKUP(C22,$K$3:$L$38,2,0)) | K22: USD/PLN | L22: 10000
I23: =IF(H23="","",IF(LEFT(D23)="B",H23-E23,E23-H23)*VLOOKUP(C23,$K$3:$L$38,2,0)) | K23: AUD/USD | L23: 10000
I24: =IF(H24="","",IF(LEFT(D24)="B",H24-E24,E24-H24)*VLOOKUP(C24,$K$3:$L$38,2,0)) | K24: AUD/NZD | L24: 10000
I25: =IF(H25="","",IF(LEFT(D25)="B",H25-E25,E25-H25)*VLOOKUP(C25,$K$3:$L$38,2,0)) | K25: AUD/JPY | L25: 100
I26: =IF(H26="","",IF(LEFT(D26)="B",H26-E26,E26-H26)*VLOOKUP(C26,$K$3:$L$38,2,0)) | K26: AUD/CHF | L26: 10000
... I31: =IF(H31="","",IF(LEFT(D31)="B",H31-E31,E31-H31)*VLOOKUP(C31,$K$3:$L$38,2,0)) | K31: NZD/CAD | L31: 10000
H32: Net Profit | I32: =SUM(I3:I31) -> 0 | K32: CAD/CHF | L32: 10000
B33: * NOTE: | K33: CAD/JPY | L33: 100
B34: - Any other currencies out of the table X will give wrong result (N/A) in P / L. - Symbols must be a Capital Letters, otherwise you will get nothing in P / L. | K34: CHF/JPY | L34: 100
K35: GOLD | L35: 10
B36: * ADDING NEW CURRENCY TO TABLE X | K36: SILVER | L36: 100
B37: 1) Add new raw first, go to the bottom, select the last raw, then right click / Insert. | K37: BTC/USD | L37: 0.1
B38: 2) In the table X, currencies are SORTED as you can see. To Add New currency Select 1 cell from column (K) and next 1 cell from column (L) then right click / Insert / Shift cells down. | K38: OIL | L38: 100
B40: 3) Repeat Step (1) & (2) for each currency you add.
B41: 4) Find the correct Multiplier for each currency you add. Check the Multipliers in table X.

Sheet Wednesday
A1: Manually | B1: 43306 | D1: Wednesday's deals | K1: x
B2: S/N | C2: Symbol (Capital letters) | D2: Type | E2: Entry Price | F2: T/P | G2: S/L | H2: Closed Price | I2: P / L | K2: Symbol | L2: Multiplier
I3: =IF(H3="","",IF(LEFT(D3)="B",H3-E3,E3-H3)*VLOOKUP(C3,$K$3:$L$38,2,0)) | K3: EUR/USD | L3: 10000 | N3: Net Profit
A4: S | I4: =IF(H4="","",IF(LEFT(D4)="B",H4-E4,E4-H4)*VLOOKUP(C4,$K$3:$L$38,2,0)) | K4: EUR/GBP | L4: 10000
A5: C | I5: =IF(H5="","",IF(LEFT(D5)="B",H5-E5,E5-H5)*VLOOKUP(C5,$K$3:$L$38,2,0)) | K5: EUR/AUD | L5: 10000
A6: R | I6: =IF(H6="","",IF(LEFT(D6)="B",H6-E6,E6-H6)*VLOOKUP(C6,$K$3:$L$38,2,0)) | K6: EUR/CAD | L6: 10000
A7: O | I7: =IF(H7="","",IF(LEFT(D7)="B",H7-E7,E7-H7)*VLOOKUP(C7,$K$3:$L$38,2,0)) | K7: EUR/CHF | L7: 10000 | N7: =I32 -> 0 | O7: Pips
A8: L | I8: =IF(H8="","",IF(LEFT(D8)="B",H8-E8,E8-H8)*VLOOKUP(C8,$K$3:$L$38,2,0)) | K8: EUR/NZD | L8: 10000
A9: L | I9: =IF(H9="","",IF(LEFT(D9)="B",H9-E9,E9-H9)*VLOOKUP(C9,$K$3:$L$38,2,0)) | K9: EUR/TRY | L9: 10000
I10: =IF(H10="","",IF(LEFT(D10)="B",H10-E10,E10-H10)*VLOOKUP(C10,$K$3:$L$38,2,0)) | K10: EUR/SGD | L10: 10000
A11: D | I11: =IF(H11="","",IF(LEFT(D11)="B",H11-E11,E11-H11)*VLOOKUP(C11,$K$3:$L$38,2,0)) | K11: EUR/JPY | L11: 100
A12: O | I12: =IF(H12="","",IF(LEFT(D12)="B",H12-E12,E12-H12)*VLOOKUP(C12,$K$3:$L$38,2,0)) | K12: GBP/USD | L12: 10000
A13: W | I13: =IF(H13="","",IF(LEFT(D13)="B",H13-E13,E13-H13)*VLOOKUP(C13,$K$3:$L$38,2,0)) | K13: GBP/JPY | L13: 100
A14: N | I14: =IF(H14="","",IF(LEFT(D14)="B",H14-E14,E14-H14)*VLOOKUP(C14,$K$3:$L$38,2,0)) | K14: GBP/AUD | L14: 10000
I15: =IF(H15="","",IF(LEFT(D15)="B",H15-E15,E15-H15)*VLOOKUP(C15,$K$3:$L$38,2,0)) | K15: GBP/NZD | L15: 10000
I16: =IF(H16="","",IF(LEFT(D16)="B",H16-E16,E16-H16)*VLOOKUP(C16,$K$3:$L$38,2,0)) | K16: GBP/CAD | L16: 10000
I17: =IF(H17="","",IF(LEFT(D17)="B",H17-E17,E17-H17)*VLOOKUP(C17,$K$3:$L$38,2,0)) | K17: GBP/CHF | L17: 10000
I18: =IF(H18="","",IF(LEFT(D18)="B",H18-E18,E18-H18)*VLOOKUP(C18,$K$3:$L$38,2,0)) | K18: USD/JPY | L18: 100
I19: =IF(H19="","",IF(LEFT(D19)="B",H19-E19,E19-H19)*VLOOKUP(C19,$K$3:$L$38,2,0)) | K19: USD/CAD | L19: 10000
I20: =IF(H20="","",IF(LEFT(D20)="B",H20-E20,E20-H20)*VLOOKUP(C20,$K$3:$L$38,2,0)) | K20: USD/CHF | L20: 10000
I21: =IF(H21="","",IF(LEFT(D21)="B",H21-E21,E21-H21)*VLOOKUP(C21,$K$3:$L$38,2,0)) | K21: USD/TRY | L21: 10000
I22: =IF(H22="","",IF(LEFT(D22)="B",H22-E22,E22-H22)*VLOOKUP(C22,$K$3:$L$38,2,0)) | K22: USD/PLN | L22: 10000
I23: =IF(H23="","",IF(LEFT(D23)="B",H23-E23,E23-H23)*VLOOKUP(C23,$K$3:$L$38,2,0)) | K23: AUD/USD | L23: 10000
I24: =IF(H24="","",IF(LEFT(D24)="B",H24-E24,E24-H24)*VLOOKUP(C24,$K$3:$L$38,2,0)) | K24: AUD/NZD | L24: 10000
I25: =IF(H25="","",IF(LEFT(D25)="B",H25-E25,E25-H25)*VLOOKUP(C25,$K$3:$L$38,2,0)) | K25: AUD/JPY | L25: 100
I26: =IF(H26="","",IF(LEFT(D26)="B",H26-E26,E26-H26)*VLOOKUP(C26,$K$3:$L$38,2,0)) | K26: AUD/CHF | L26: 10000
... I31: =IF(H31="","",IF(LEFT(D31)="B",H31-E31,E31-H31)*VLOOKUP(C31,$K$3:$L$38,2,0)) | K31: NZD/CAD | L31: 10000
H32: Net Profit | I32: =SUM(I3:I31) -> 0 | K32: CAD/CHF | L32: 10000
B33: * NOTE: | K33: CAD/JPY | L33: 100
B34: - Any other currencies out of the table X will give wrong result (N/A) in P / L. - Symbols must be a Capital Letters, otherwise you will get nothing in P / L. | K34: CHF/JPY | L34: 100
K35: GOLD | L35: 10
B36: * ADDING NEW CURRENCY TO TABLE X | K36: SILVER | L36: 100
B37: 1) Add new raw first, go to the bottom, select the last raw, then right click / Insert. | K37: BTC/USD | L37: 0.1
B38: 2) In the table X, currencies are SORTED as you can see. To Add New currency Select 1 cell from column (K) and next 1 cell from column (L) then right click / Insert / Shift cells down. | K38: OIL | L38: 100
B40: 3) Repeat Step (1) & (2) for each currency you add.
B41: 4) Find the correct Multiplier for each currency you add. Check the Multipliers in table X.

Sheet Thursday
A1: Manually | B1: 43307 | D1: Thursday's deals | K1: x
B2: S/N | C2: Symbol (Capital letters) | D2: Type | E2: Entry Price | F2: T/P | G2: S/L | H2: Closed Price | I2: P / L | K2: Symbol | L2: Multiplier
I3: =IF(H3="","",IF(LEFT(D3)="B",H3-E3,E3-H3)*VLOOKUP(C3,$K$3:$L$38,2,0)) | K3: EUR/USD | L3: 10000 | N3: Net Profit
A4: S | I4: =IF(H4="","",IF(LEFT(D4)="B",H4-E4,E4-H4)*VLOOKUP(C4,$K$3:$L$38,2,0)) | K4: EUR/GBP | L4: 10000
A5: C | I5: =IF(H5="","",IF(LEFT(D5)="B",H5-E5,E5-H5)*VLOOKUP(C5,$K$3:$L$38,2,0)) | K5: EUR/AUD | L5: 10000
A6: R | I6: =IF(H6="","",IF(LEFT(D6)="B",H6-E6,E6-H6)*VLOOKUP(C6,$K$3:$L$38,2,0)) | K6: EUR/CAD | L6: 10000
A7: O | I7: =IF(H7="","",IF(LEFT(D7)="B",H7-E7,E7-H7)*VLOOKUP(C7,$K$3:$L$38,2,0)) | K7: EUR/CHF | L7: 10000 | N7: =I32 -> 0 | O7: Pips
A8: L | I8: =IF(H8="","",IF(LEFT(D8)="B",H8-E8,E8-H8)*VLOOKUP(C8,$K$3:$L$38,2,0)) | K8: EUR/NZD | L8: 10000
A9: L | I9: =IF(H9="","",IF(LEFT(D9)="B",H9-E9,E9-H9)*VLOOKUP(C9,$K$3:$L$38,2,0)) | K9: EUR/TRY | L9: 10000
I10: =IF(H10="","",IF(LEFT(D10)="B",H10-E10,E10-H10)*VLOOKUP(C10,$K$3:$L$38,2,0)) | K10: EUR/SGD | L10: 10000
A11: D | I11: =IF(H11="","",IF(LEFT(D11)="B",H11-E11,E11-H11)*VLOOKUP(C11,$K$3:$L$38,2,0)) | K11: EUR/JPY | L11: 100
A12: O | I12: =IF(H12="","",IF(LEFT(D12)="B",H12-E12,E12-H12)*VLOOKUP(C12,$K$3:$L$38,2,0)) | K12: GBP/USD | L12: 10000
A13: W | I13: =IF(H13="","",IF(LEFT(D13)="B",H13-E13,E13-H13)*VLOOKUP(C13,$K$3:$L$38,2,0)) | K13: GBP/JPY | L13: 100
A14: N | I14: =IF(H14="","",IF(LEFT(D14)="B",H14-E14,E14-H14)*VLOOKUP(C14,$K$3:$L$38,2,0)) | K14: GBP/AUD | L14: 10000
I15: =IF(H15="","",IF(LEFT(D15)="B",H15-E15,E15-H15)*VLOOKUP(C15,$K$3:$L$38,2,0)) | K15: GBP/NZD | L15: 10000
I16: =IF(H16="","",IF(LEFT(D16)="B",H16-E16,E16-H16)*VLOOKUP(C16,$K$3:$L$38,2,0)) | K16: GBP/CAD | L16: 10000
I17: =IF(H17="","",IF(LEFT(D17)="B",H17-E17,E17-H17)*VLOOKUP(C17,$K$3:$L$38,2,0)) | K17: GBP/CHF | L17: 10000
I18: =IF(H18="","",IF(LEFT(D18)="B",H18-E18,E18-H18)*VLOOKUP(C18,$K$3:$L$38,2,0)) | K18: USD/JPY | L18: 100
I19: =IF(H19="","",IF(LEFT(D19)="B",H19-E19,E19-H19)*VLOOKUP(C19,$K$3:$L$38,2,0)) | K19: USD/CAD | L19: 10000
I20: =IF(H20="","",IF(LEFT(D20)="B",H20-E20,E20-H20)*VLOOKUP(C20,$K$3:$L$38,2,0)) | K20: USD/CHF | L20: 10000
I21: =IF(H21="","",IF(LEFT(D21)="B",H21-E21,E21-H21)*VLOOKUP(C21,$K$3:$L$38,2,0)) | K21: USD/TRY | L21: 10000
I22: =IF(H22="","",IF(LEFT(D22)="B",H22-E22,E22-H22)*VLOOKUP(C22,$K$3:$L$38,2,0)) | K22: USD/PLN | L22: 10000
I23: =IF(H23="","",IF(LEFT(D23)="B",H23-E23,E23-H23)*VLOOKUP(C23,$K$3:$L$38,2,0)) | K23: AUD/USD | L23: 10000
I24: =IF(H24="","",IF(LEFT(D24)="B",H24-E24,E24-H24)*VLOOKUP(C24,$K$3:$L$38,2,0)) | K24: AUD/NZD | L24: 10000
I25: =IF(H25="","",IF(LEFT(D25)="B",H25-E25,E25-H25)*VLOOKUP(C25,$K$3:$L$38,2,0)) | K25: AUD/JPY | L25: 100
I26: =IF(H26="","",IF(LEFT(D26)="B",H26-E26,E26-H26)*VLOOKUP(C26,$K$3:$L$38,2,0)) | K26: AUD/CHF | L26: 10000
... I31: =IF(H31="","",IF(LEFT(D31)="B",H31-E31,E31-H31)*VLOOKUP(C31,$K$3:$L$38,2,0)) | K31: NZD/CAD | L31: 10000
H32: Net Profit | I32: =SUM(I3:I31) -> 0 | K32: CAD/CHF | L32: 10000
B33: * NOTE: | K33: CAD/JPY | L33: 100
B34: - Any other currencies out of the table X will give wrong result (N/A) in P / L. - Symbols must be a Capital Letters, otherwise you will get nothing in P / L. | K34: CHF/JPY | L34: 100
K35: GOLD | L35: 10
B36: * ADDING NEW CURRENCY TO TABLE X | K36: SILVER | L36: 100
B37: 1) Add new raw first, go to the bottom, select the last raw, then right click / Insert. | K37: BTC/USD | L37: 0.1
B38: 2) In the table X, currencies are SORTED as you can see. To Add New currency Select 1 cell from column (K) and next 1 cell from column (L) then right click / Insert / Shift cells down. | K38: OIL | L38: 100
B40: 3) Repeat Step (1) & (2) for each currency you add.
B41: 4) Find the correct Multiplier for each currency you add. Check the Multipliers in table X.

Sheet Friday
A1: Manually | B1: 43308 | D1: Friday's deals | K1: x
B2: S/N | C2: Symbol (Capital letters) | D2: Type | E2: Entry Price | F2: T/P | G2: S/L | H2: Closed Price | I2: P / L | K2: Symbol | L2: Multiplier
I3: =IF(H3="","",IF(LEFT(D3)="B",H3-E3,E3-H3)*VLOOKUP(C3,$K$3:$L$38,2,0)) | K3: EUR/USD | L3: 10000 | N3: Net Profit
A4: S | I4: =IF(H4="","",IF(LEFT(D4)="B",H4-E4,E4-H4)*VLOOKUP(C4,$K$3:$L$38,2,0)) | K4: EUR/GBP | L4: 10000
A5: C | I5: =IF(H5="","",IF(LEFT(D5)="B",H5-E5,E5-H5)*VLOOKUP(C5,$K$3:$L$38,2,0)) | K5: EUR/AUD | L5: 10000
A6: R | I6: =IF(H6="","",IF(LEFT(D6)="B",H6-E6,E6-H6)*VLOOKUP(C6,$K$3:$L$38,2,0)) | K6: EUR/CAD | L6: 10000
A7: O | I7: =IF(H7="","",IF(LEFT(D7)="B",H7-E7,E7-H7)*VLOOKUP(C7,$K$3:$L$38,2,0)) | K7: EUR/CHF | L7: 10000 | N7: =I32 -> 0 | O7: Pips
A8: L | I8: =IF(H8="","",IF(LEFT(D8)="B",H8-E8,E8-H8)*VLOOKUP(C8,$K$3:$L$38,2,0)) | K8: EUR/NZD | L8: 10000
A9: L | I9: =IF(H9="","",IF(LEFT(D9)="B",H9-E9,E9-H9)*VLOOKUP(C9,$K$3:$L$38,2,0)) | K9: EUR/TRY | L9: 10000
I10: =IF(H10="","",IF(LEFT(D10)="B",H10-E10,E10-H10)*VLOOKUP(C10,$K$3:$L$38,2,0)) | K10: EUR/SGD | L10: 10000
A11: D | I11: =IF(H11="","",IF(LEFT(D11)="B",H11-E11,E11-H11)*VLOOKUP(C11,$K$3:$L$38,2,0)) | K11: EUR/JPY | L11: 100
A12: O | I12: =IF(H12="","",IF(LEFT(D12)="B",H12-E12,E12-H12)*VLOOKUP(C12,$K$3:$L$38,2,0)) | K12: GBP/USD | L12: 10000
A13: W | I13: =IF(H13="","",IF(LEFT(D13)="B",H13-E13,E13-H13)*VLOOKUP(C13,$K$3:$L$38,2,0)) | K13: GBP/JPY | L13: 100
A14: N | I14: =IF(H14="","",IF(LEFT(D14)="B",H14-E14,E14-H14)*VLOOKUP(C14,$K$3:$L$38,2,0)) | K14: GBP/AUD | L14: 10000
I15: =IF(H15="","",IF(LEFT(D15)="B",H15-E15,E15-H15)*VLOOKUP(C15,$K$3:$L$38,2,0)) | K15: GBP/NZD | L15: 10000
I16: =IF(H16="","",IF(LEFT(D16)="B",H16-E16,E16-H16)*VLOOKUP(C16,$K$3:$L$38,2,0)) | K16: GBP/CAD | L16: 10000
I17: =IF(H17="","",IF(LEFT(D17)="B",H17-E17,E17-H17)*VLOOKUP(C17,$K$3:$L$38,2,0)) | K17: GBP/CHF | L17: 10000
I18: =IF(H18="","",IF(LEFT(D18)="B",H18-E18,E18-H18)*VLOOKUP(C18,$K$3:$L$38,2,0)) | K18: USD/JPY | L18: 100
I19: =IF(H19="","",IF(LEFT(D19)="B",H19-E19,E19-H19)*VLOOKUP(C19,$K$3:$L$38,2,0)) | K19: USD/CAD | L19: 10000
I20: =IF(H20="","",IF(LEFT(D20)="B",H20-E20,E20-H20)*VLOOKUP(C20,$K$3:$L$38,2,0)) | K20: USD/CHF | L20: 10000
I21: =IF(H21="","",IF(LEFT(D21)="B",H21-E21,E21-H21)*VLOOKUP(C21,$K$3:$L$38,2,0)) | K21: USD/TRY | L21: 10000
I22: =IF(H22="","",IF(LEFT(D22)="B",H22-E22,E22-H22)*VLOOKUP(C22,$K$3:$L$38,2,0)) | K22: USD/PLN | L22: 10000
I23: =IF(H23="","",IF(LEFT(D23)="B",H23-E23,E23-H23)*VLOOKUP(C23,$K$3:$L$38,2,0)) | K23: AUD/USD | L23: 10000
I24: =IF(H24="","",IF(LEFT(D24)="B",H24-E24,E24-H24)*VLOOKUP(C24,$K$3:$L$38,2,0)) | K24: AUD/NZD | L24: 10000
I25: =IF(H25="","",IF(LEFT(D25)="B",H25-E25,E25-H25)*VLOOKUP(C25,$K$3:$L$38,2,0)) | K25: AUD/JPY | L25: 100
I26: =IF(H26="","",IF(LEFT(D26)="B",H26-E26,E26-H26)*VLOOKUP(C26,$K$3:$L$38,2,0)) | K26: AUD/CHF | L26: 10000
... I31: =IF(H31="","",IF(LEFT(D31)="B",H31-E31,E31-H31)*VLOOKUP(C31,$K$3:$L$38,2,0)) | K31: NZD/CAD | L31: 10000
H32: Net Profit | I32: =SUM(I3:I31) -> 0 | K32: CAD/CHF | L32: 10000
B33: * NOTE: | K33: CAD/JPY | L33: 100
B34: - Any other currencies out of the table X will give wrong result (N/A) in P / L. - Symbols must be a Capital Letters, otherwise you will get nothing in P / L. | K34: CHF/JPY | L34: 100
K35: GOLD | L35: 10
B36: * ADDING NEW CURRENCY TO TABLE X | K36: SILVER | L36: 100
B37: 1) Add new raw first, go to the bottom, select the last raw, then right click / Insert. | K37: BTC/USD | L37: 0.1
B38: 2) In the table X, currencies are SORTED as you can see. To Add New currency Select 1 cell from column (K) and next 1 cell from column (L) then right click / Insert / Shift cells down. | K38: OIL | L38: 100
B40: 3) Repeat Step (1) & (2) for each currency you add.
B41: 4) Find the correct Multiplier for each currency you add. Check the Multipliers in table X.

Sheet W. Repport
A1: Weekly Summery Report | L1: P / L | O1: =SUM(E35,H35,K35,N35,Q35) -> -130 | Q1: Pips
D3: =Monday!B1 -> 43304 | G3: =Tuesday!B1 -> 43305 | J3: =Wednesday!B1 -> 43306 | M3: =Thursday!B1 -> 43307 | P3: =Friday!B1 -> 43308
D4: Monday | G4: Tuesday | J4: Wednesday | M4: Thursday | P4: Friday
D5: Currency | E5: P / L | F5: =E35 -> -130 | G5: Currency | H5: P / L | I5: =H35 -> 0 | J5: Currency | K5: P / L | L5: =K35 -> 0 | M5: Currency | N5: P / L | O5: =N35 -> 0 | P5: Currency | Q5: P / L | R5: =Q35 -> 0
D6: =Monday!C3 -> BTC/USD | E6: =Monday!I3 -> -31 | G6: =Tuesday!C3 -> EUR/SGD | H6: =Tuesday!I3 | J6: =Wednesday!C3 -> 0 | K6: =Wednesday!I3 | M6: =Thursday!C3 -> 0 | N6: =Thursday!I3 | P6: =Friday!C3 -> 0 | Q6: =Friday!I3
C7: S | D7: =Monday!C4 -> BTC/USD | E7: =Monday!I4 -> -25 | G7: =Tuesday!C4 -> EUR/SGD | H7: =Tuesday!I4 | J7: =Wednesday!C4 -> 0 | K7: =Wednesday!I4 | M7: =Thursday!C4 -> 0 | N7: =Thursday!I4 | P7: =Friday!C4 -> 0 | Q7: =Friday!I4
C8: C | D8: =Monday!C5 -> EUR/USD | E8: =Monday!I5 -> 5 | G8: =Tuesday!C5 -> AUD/JPY | H8: =Tuesday!I5 | J8: =Wednesday!C5 -> 0 | K8: =Wednesday!I5 | M8: =Thursday!C5 -> 0 | N8: =Thursday!I5 | P8: =Friday!C5 -> 0 | Q8: =Friday!I5
C9: R | D9: =Monday!C6 -> EUR/USD | E9: =Monday!I6 -> 25 | G9: =Tuesday!C6 -> AUD/JPY | H9: =Tuesday!I6 | J9: =Wednesday!C6 -> 0 | K9: =Wednesday!I6 | M9: =Thursday!C6 -> 0 | N9: =Thursday!I6 | P9: =Friday!C6 -> 0 | Q9: =Friday!I6
C10: O | D10: =Monday!C7 -> EUR/USD | E10: =Monday!I7 -> -47 | G10: =Tuesday!C7 -> SILVER | H10: =Tuesday!I7 | J10: =Wednesday!C7 -> 0 | K10: =Wednesday!I7 | M10: =Thursday!C7 -> 0 | N10: =Thursday!I7 | P10: =Friday!C7 -> 0 | Q10: =Friday!I7
C11: L | D11: =Monday!C8 -> GBP/USD | E11: =Monday!I8 -> 13 | G11: =Tuesday!C8 -> SILVER | H11: =Tuesday!I8 | J11: =Wednesday!C8 -> 0 | K11: =Wednesday!I8 | M11: =Thursday!C8 -> 0 | N11: =Thursday!I8 | P11: =Friday!C8 -> 0 | Q11: =Friday!I8
C12: L | D12: =Monday!C9 -> NZD/JPY | E12: =Monday!I9 -> 0 | G12: =Tuesday!C9 -> EUR/NZD | H12: =Tuesday!I9 | J12: =Wednesday!C9 -> 0 | K12: =Wednesday!I9 | M12: =Thursday!C9 -> 0 | N12: =Thursday!I9 | P12: =Friday!C9 -> 0 | Q12: =Friday!I9
D13: =Monday!C10 -> USD/JPY | E13: =Monday!I10 -> -55 | G13: =Tuesday!C10 -> 0 | H13: =Tuesday!I10 | J13: =Wednesday!C10 -> 0 | K13: =Wednesday!I10 | M13: =Thursday!C10 -> 0 | N13: =Thursday!I10 | P13: =Friday!C10 -> 0 | Q13: =Friday!I10
C14: D | D14: =Monday!C11 -> USD/JPY | E14: =Monday!I11 -> 11 | G14: =Tuesday!C11 -> 0 | H14: =Tuesday!I11 | J14: =Wednesday!C11 -> 0 | K14: =Wednesday!I11 | M14: =Thursday!C11 -> 0 | N14: =Thursday!I11 | P14: =Friday!C11 -> 0 | Q14: =Friday!I11
C15: O | D15: =Monday!C12 -> USD/JPY | E15: =Monday!I12 -> -26 | G15: =Tuesday!C12 -> 0 | H15: =Tuesday!I12 | J15: =Wednesday!C12 -> 0 | K15: =Wednesday!I12 | M15: =Thursday!C12 -> 0 | N15: =Thursday!I12 | P15: =Friday!C12 -> 0 | Q15: =Friday!I12
C16: W | D16: =Monday!C13 -> 0 | E16: =Monday!I13 | G16: =Tuesday!C13 -> 0 | H16: =Tuesday!I13 | J16: =Wednesday!C13 -> 0 | K16: =Wednesday!I13 | M16: =Thursday!C13 -> 0 | N16: =Thursday!I13 | P16: =Friday!C13 -> 0 | Q16: =Friday!I13
C17: N | D17: =Monday!C14 -> 0 | E17: =Monday!I14 | G17: =Tuesday!C14 -> 0 | H17: =Tuesday!I14 | J17: =Wednesday!C14 -> 0 | K17: =Wednesday!I14 | M17: =Thursday!C14 -> 0 | N17: =Thursday!I14 | P17: =Friday!C14 -> 0 | Q17: =Friday!I14
D18: =Monday!C15 -> 0 | E18: =Monday!I15 | G18: =Tuesday!C15 -> 0 | H18: =Tuesday!I15 | J18: =Wednesday!C15 -> 0 | K18: =Wednesday!I15 | M18: =Thursday!C15 -> 0 | N18: =Thursday!I15 | P18: =Friday!C15 -> 0 | Q18: =Friday!I15
D19: =Monday!C16 -> 0 | E19: =Monday!I16 | G19: =Tuesday!C16 -> 0 | H19: =Tuesday!I16 | J19: =Wednesday!C16 -> 0 | K19: =Wednesday!I16 | M19: =Thursday!C16 -> 0 | N19: =Thursday!I16 | P19: =Friday!C16 -> 0 | Q19: =Friday!I16
D20: =Monday!C17 -> 0 | E20: =Monday!I17 | G20: =Tuesday!C17 -> 0 | H20: =Tuesday!I17 | J20: =Wednesday!C17 -> 0 | K20: =Wednesday!I17 | M20: =Thursday!C17 -> 0 | N20: =Thursday!I17 | P20: =Friday!C17 -> 0 | Q20: =Friday!I17
D21: =Monday!C18 -> 0 | E21: =Monday!I18 | G21: =Tuesday!C18 -> 0 | H21: =Tuesday!I18 | J21: =Wednesday!C18 -> 0 | K21: =Wednesday!I18 | M21: =Thursday!C18 -> 0 | N21: =Thursday!I18 | P21: =Friday!C18 -> 0 | Q21: =Friday!I18
D22: =Monday!C19 -> 0 | E22: =Monday!I19 | G22: =Tuesday!C19 -> 0 | H22: =Tuesday!I19 | J22: =Wednesday!C19 -> 0 | K22: =Wednesday!I19 | M22: =Thursday!C19 -> 0 | N22: =Thursday!I19 | P22: =Friday!C19 -> 0 | Q22: =Friday!I19
D23: =Monday!C20 -> 0 | E23: =Monday!I20 | G23: =Tuesday!C20 -> 0 | H23: =Tuesday!I20 | J23: =Wednesday!C20 -> 0 | K23: =Wednesday!I20 | M23: =Thursday!C20 -> 0 | N23: =Thursday!I20 | P23: =Friday!C20 -> 0 | Q23: =Friday!I20
D24: =Monday!C21 -> 0 | E24: =Monday!I21 | G24: =Tuesday!C21 -> 0 | H24: =Tuesday!I21 | J24: =Wednesday!C21 -> 0 | K24: =Wednesday!I21 | M24: =Thursday!C21 -> 0 | N24: =Thursday!I21 | P24: =Friday!C21 -> 0 | Q24: =Friday!I21
D25: =Monday!C22 -> 0 | E25: =Monday!I22 | G25: =Tuesday!C22 -> 0 | H25: =Tuesday!I22 | J25: =Wednesday!C22 -> 0 | K25: =Wednesday!I22 | M25: =Thursday!C22 -> 0 | N25: =Thursday!I22 | P25: =Friday!C22 -> 0 | Q25: =Friday!I22
D26: =Monday!C23 -> 0 | E26: =Monday!I23 | G26: =Tuesday!C23 -> 0 | H26: =Tuesday!I23 | J26: =Wednesday!C23 -> 0 | K26: =Wednesday!I23 | M26: =Thursday!C23 -> 0 | N26: =Thursday!I23 | P26: =Friday!C23 -> 0 | Q26: =Friday!I23
D27: =Monday!C24 -> 0 | E27: =Monday!I24 | G27: =Tuesday!C24 -> 0 | H27: =Tuesday!I24 | J27: =Wednesday!C24 -> 0 | K27: =Wednesday!I24 | M27: =Thursday!C24 -> 0 | N27: =Thursday!I24 | P27: =Friday!C24 -> 0 | Q27: =Friday!I24
D28: =Monday!C25 -> 0 | E28: =Monday!I25 | G28: =Tuesday!C25 -> 0 | H28: =Tuesday!I25 | J28: =Wednesday!C25 -> 0 | K28: =Wednesday!I25 | M28: =Thursday!C25 -> 0 | N28: =Thursday!I25 | P28: =Friday!C25 -> 0 | Q28: =Friday!I25
D29: =Monday!C26 -> 0 | E29: =Monday!I26 | G29: =Tuesday!C26 -> 0 | H29: =Tuesday!I26 | J29: =Wednesday!C26 -> 0 | K29: =Wednesday!I26 | M29: =Thursday!C26 -> 0 | N29: =Thursday!I26 | P29: =Friday!C26 -> 0 | Q29: =Friday!I26
... D32: =Monday!C29 -> 0 | E32: =Monday!I29 | G32: =Tuesday!C29 -> 0 | H32: =Tuesday!I29 | J32: =Wednesday!C29 -> 0 | K32: =Wednesday!I29 | M32: =Thursday!C29 -> 0 | N32: =Thursday!I29 | P32: =Friday!C29 -> 0 | Q32: =Friday!I29
D33: =Monday!C29 -> 0 | E33: =Monday!I29 | G33: =Tuesday!C30 -> 0 | H33: =Tuesday!I30 | J33: =Wednesday!C30 -> 0 | K33: =Wednesday!I30 | M33: =Thursday!C30 -> 0 | N33: =Thursday!I30 | P33: =Friday!C30 -> 0 | Q33: =Friday!I30
D34: =Monday!C29 -> 0 | E34: =Monday!I29 | G34: =Tuesday!C31 -> 0 | H34: =Tuesday!I31 | J34: =Wednesday!C31 -> 0 | K34: =Wednesday!I31 | M34: =Thursday!C31 -> 0 | N34: =Thursday!I31 | P34: =Friday!C31 -> 0 | Q34: =Friday!I31
D35: TOTAL | E35: =SUM(E6:E34) -> -130 | G35: TOTAL | H35: =SUM(H6:H34) -> 0 | J35: TOTAL | K35: =SUM(K6:K34) -> 0 | M35: TOTAL | N35: =SUM(N6:N34) -> 0 | P35: TOTAL | Q35: =SUM(Q6:Q34) -> 0
D36: Loss | E36: Profit | G36: Loss | H36: Profit | J36: Loss | K36: Profit | M36: Loss | N36: Profit | P36: Loss | Q36: Profit
D37: =SUMIF($E$5:$E$34,"<0") -> -184 | E37: =SUMIF($E$5:$E$34,">0") -> 54 | G37: =SUMIF($H$5:$H$34,"<0") -> 0 | H37: =SUMIF($H$5:$H$34,">0") -> 0 | J37: =SUMIF($K$5:$K$34,"<0") -> 0 | K37: =SUMIF($K$5:$K$34,">0") -> 0 | M37: =SUMIF($N$5:$N$34,"<0") -> 0 | N37: =SUMIF($N$5:$N$34,">0") -> 0 | P37: =SUMIF($Q$5:$Q$34,"<0") -> 0 | Q37: =SUMIF($Q$5:$Q$34,">0") -> 0

Sheet Weekly
B2: =Monday!B1 -> 43304 | E2: TO | F2: =Friday!B1 -> 43308 | J2: Weekly
B6: Date: | C6: =Monday!B1 -> 43304 | F6: Date: | G6: =Tuesday!B1 -> 43305 | J6: Date: | K6: =Wednesday!B1 -> 43306 | N6: Date: | O6: =Thursday!B1 -> 43307 | R6: Date: | S6: =Friday!B1 -> 43308
B7: Monday | F7: Teusday | J7: Wednesday | N7: Thursday | R7: Friday
B10: Pips | C10: =Monday!N7 -> -130 | F10: Pips | G10: =Tuesday!N7 -> 0 | J10: Pips | K10: =Wednesday!N7 -> 0 | N10: Pips | O10: =Thursday!N7 -> 0 | R10: Pips | S10: =Friday!N7 -> 0
G13: NET Profit | L13: Pips | M13: =SUM(C10+G10+K10+O10+S10) -> -130
H18: Manually | I18: Weeks | J18: 2 To 6 | K18: 9 To 13 | L18: 16 To 20 | M18: 23 To 27

Sheet Monthly
D2: =TEXT(TODAY(),"MM-YYYY") -> 07-2018 | H2: Monthly
D6: From | E6: =Weekly!J18 -> 2 To 6 | H6: Date: | I6: =Weekly!K18 -> 9 To 13 | L6: Date: | M6: =Weekly!L18 -> 16 To 20 | P6: Date: | Q6: =Weekly!M18 -> 23 To 27
D7: 1st WeeK | H7: 2nd WeeK | L7: 3rd WeeK | P7: 4th WeeK
D10: Pips | E10: =Weekly!J19 -> 0 | H10: Pips | I10: =Weekly!K19 -> 0 | L10: Pips | M10: =Weekly!L19 -> 0 | P10: Pips | Q10: =Weekly!M19 -> 0
G13: NET Profit | L13: Pips | M13: =SUM(E10+I10+M10+Q10) -> 0
D18: Manually | E18: Months | F18: M1 | G18: M2 | H18: M3 | I18: M4 | J18: M5 | K18: M6 | L18: M7 | M18: M8 | N18: M9 | O18: M10 | P18: M11 | Q18: M12
