Workbook
Name A: #REF!
Name A: #REF!
Name A: #REF!
Name A: #REF!
Name A: #REF!
Name A: #REF!
Name A: #REF!
Name A: #REF!
Name A: #REF!
Name A: #REF!
Name A: #REF!
Name A: #REF!
Name ADFDF: #REF!
Name ADFDF: #REF!
Name ADFDF: #REF!
Name ADFDF: #REF!
Name ADFDF: #REF!
Name ADFDF: #REF!
Name ADFDF: #REF!
Name ADFDF: #REF!
Name ADFDF: #REF!
Name ADFDF: #REF!
Name ADFDF: #REF!
Name ADFDF: #REF!
Name CANCEL: #REF!
Name CANCEL: #REF!
Name CANCEL: #REF!
Name CANCEL: #REF!
Name CANCEL: #REF!
Name CANCEL: #REF!
Name CANCEL: #REF!
Name CANCEL: #REF!
Name CANCEL: #REF!
Name CANCEL: #REF!
Name CANCEL: #REF!
Name CANCEL: #REF!
Name Cancelled: #REF!
Name Cancelled: #REF!
Name Cancelled: #REF!
Name Cancelled: #REF!
Name Cancelled: #REF!
Name Cancelled: #REF!
Name Cancelled: #REF!
Name Cancelled: #REF!
Name Cancelled: #REF!
Name Cancelled: #REF!
Name Cancelled: #REF!
Name Cancelled: #REF!
Name Cancelled: #REF!
Name Cancelled1: #REF!
Name Cancelled1: #REF!
Name Cancelled1: #REF!
Name Cancelled1: #REF!
Name Cancelled1: #REF!
Name Cancelled1: #REF!
Name Cancelled1: #REF!
Name Cancelled1: #REF!
Name Cancelled1: #REF!
Name Cancelled1: #REF!
Name Cancelled1: #REF!

Sheet SD
A1: SD | D1: M15 | H1: M30/H1 | L1: H4 | P1: D1 | T1: W1 | X1: M1
A2: # | B2: Symbol | C2: Bid | D2: SD Level Sell | E2: Sel | F2: SD Level Buy | G2: Buy | H2: SD Level Sell | I2: Sel | J2: SD Level Buy | K2: Buy | L2: SD Level Sell | M2: Sel | N2: SD Level Buy | O2: Buy | P2: SD Level Sell | Q2: Sel | R2: SD Level Buy | S2: Buy | T2: SD Level Sell | U2: Sel | V2: SD Level Buy | W2: Buy | X2: SD Level Sell | Y2: Sel | Z2: SD Level Buy | AA2: Buy
A3: 1 | B3: AUDUSD | C3: =[1]!AUDUSD -> 0.78151 | D3: 0.7852 | E3: =(D3-$C$3:$C$18)*10000 -> 36.9 | F3: 0.7778 | G3: =($C$3:$C$18-F3)*10000 -> 37.1 | H3: 0.782 | I3: =(H3-$C$3:$C$18)*10000 -> 4.9 | J3: 0.781 | K3: =($C$3:$C$18-J3)*10000 -> 5.1 | L3: 0.782 | M3: =(L3-$C$3:$C$18)*10000 -> 4.9 | N3: 0.781 | O3: =($C$3:$C$18-N3)*10000 -> 5.1 | P3: 0.782 | Q3: =(P3-$C$3:$C$18)*10000 -> 4.9 | R3: 0.781 | S3: =($C$3:$C$18-R3)*10000 -> 5.1 | T3: 0.782 | U3: =(T3-$C$3:$C$18)*10000 -> 4.9 | V3: 0.781 | W3: =($C$3:$C$18-V3)*10000 -> 5.1 | X3: 0.782 | Y3: =(X3-$C$3:$C$18)*10000 -> 4.9 | Z3: 0.781 | AA3: =($C$3:$C$18-Z3)*10000 -> 5.1
A4: 2 | B4: EURUSD | C4: =[1]!EURUSD -> 1.1779 | D4: 1.1785 | E4: =(D4-$C$3:$C$18)*10000 -> 6 | F4: 1.1775 | G4: =($C$3:$C$18-F4)*10000 -> 4 | H4: 1.1785 | I4: =(H4-$C$3:$C$18)*10000 -> 6 | J4: 1.1775 | K4: =($C$3:$C$18-J4)*10000 -> 4 | L4: 1.1785 | M4: =(L4-$C$3:$C$18)*10000 -> 6 | N4: 1.1775 | O4: =($C$3:$C$18-N4)*10000 -> 4 | P4: 1.1785 | Q4: =(P4-$C$3:$C$18)*10000 -> 6 | R4: 1.1775 | S4: =($C$3:$C$18-R4)*10000 -> 4 | T4: 1.1785 | U4: =(T4-$C$3:$C$18)*10000 -> 6 | V4: 1.1775 | W4: =($C$3:$C$18-V4)*10000 -> 4 | X4: 1.1785 | Y4: =(X4-$C$3:$C$18)*10000 -> 6 | Z4: 1.1775 | AA4: =($C$3:$C$18-Z4)*10000 -> 4
A5: 3 | B5: GBPUSD | C5: =[1]!GBPUSD -> 1.31873 | D5: 1.3192 | E5: =(D5-$C$3:$C$18)*10000 -> 4.7 | F5: 1.3182 | G5: =($C$3:$C$18-F5)*10000 -> 5.3 | H5: 1.3192 | I5: =(H5-$C$3:$C$18)*10000 -> 4.7 | J5: 1.3182 | K5: =($C$3:$C$18-J5)*10000 -> 5.3 | L5: 1.3192 | M5: =(L5-$C$3:$C$18)*10000 -> 4.7 | N5: 1.3182 | O5: =($C$3:$C$18-N5)*10000 -> 5.3 | P5: 1.3192 | Q5: =(P5-$C$3:$C$18)*10000 -> 4.7 | R5: 1.3182 | S5: =($C$3:$C$18-R5)*10000 -> 5.3 | T5: 1.3192 | U5: =(T5-$C$3:$C$18)*10000 -> 4.7 | V5: 1.3182 | W5: =($C$3:$C$18-V5)*10000 -> 5.3 | X5: 1.3192 | Y5: =(X5-$C$3:$C$18)*10000 -> 4.7 | Z5: 1.3182 | AA5: =($C$3:$C$18-Z5)*10000 -> 5.3
A6: 4 | B6: NZDUSD | C6: =[1]!NZDUSD -> 0.69629 | D6: 0.697 | E6: =(D6-$C$3:$C$18)*10000 -> 7.1 | F6: 0.696 | G6: =($C$3:$C$18-F6)*10000 -> 2.9 | H6: 0.697 | I6: =(H6-$C$3:$C$18)*10000 -> 7.1 | J6: 0.696 | K6: =($C$3:$C$18-J6)*10000 -> 2.9 | L6: 0.697 | M6: =(L6-$C$3:$C$18)*10000 -> 7.1 | N6: 0.696 | O6: =($C$3:$C$18-N6)*10000 -> 2.9 | P6: 0.697 | Q6: =(P6-$C$3:$C$18)*10000 -> 7.1 | R6: 0.696 | S6: =($C$3:$C$18-R6)*10000 -> 2.9 | T6: 0.697 | U6: =(T6-$C$3:$C$18)*10000 -> 7.1 | V6: 0.696 | W6: =($C$3:$C$18-V6)*10000 -> 2.9 | X6: 0.697 | Y6: =(X6-$C$3:$C$18)*10000 -> 7.1 | Z6: 0.696 | AA6: =($C$3:$C$18-Z6)*10000 -> 2.9
A7: 5 | B7: USDCAD | C7: =[1]!USDCAD -> 1.26249 | D7: 1.263 | E7: =(D7-$C$3:$C$18)*10000 -> 5.1 | F7: 1.262 | G7: =($C$3:$C$18-F7)*10000 -> 4.9 | H7: 1.263 | I7: =(H7-$C$3:$C$18)*10000 -> 5.1 | J7: 1.262 | K7: =($C$3:$C$18-J7)*10000 -> 4.9 | L7: 1.263 | M7: =(L7-$C$3:$C$18)*10000 -> 5.1 | N7: 1.262 | O7: =($C$3:$C$18-N7)*10000 -> 4.9 | P7: 1.263 | Q7: =(P7-$C$3:$C$18)*10000 -> 5.1 | R7: 1.262 | S7: =($C$3:$C$18-R7)*10000 -> 4.9 | T7: 1.263 | U7: =(T7-$C$3:$C$18)*10000 -> 5.1 | V7: 1.262 | W7: =($C$3:$C$18-V7)*10000 -> 4.9 | X7: 1.263 | Y7: =(X7-$C$3:$C$18)*10000 -> 5.1 | Z7: 1.262 | AA7: =($C$3:$C$18-Z7)*10000 -> 4.9
A8: 6 | B8: USDJPY | C8: =[1]!USDJPY -> 113.493 | D8: 113.52 | E8: =(D8-$C$3:$C$18)*100 -> 2.7 | F8: 113.44 | G8: =($C$3:$C$18-F8)*100 -> 5.3 | H8: 113.52 | I8: =(H8-$C$3:$C$18)*100 -> 2.7 | J8: 113.44 | K8: =($C$3:$C$18-J8)*100 -> 5.3 | L8: 113.52 | M8: =(L8-$C$3:$C$18)*100 -> 2.7 | N8: 113.44 | O8: =($C$3:$C$18-N8)*100 -> 5.3 | P8: 113.52 | Q8: =(P8-$C$3:$C$18)*100 -> 2.7 | R8: 113.44 | S8: =($C$3:$C$18-R8)*100 -> 5.3 | T8: 113.52 | U8: =(T8-$C$3:$C$18)*100 -> 2.7 | V8: 113.44 | W8: =($C$3:$C$18-V8)*100 -> 5.3 | X8: 113.52 | Y8: =(X8-$C$3:$C$18)*100 -> 2.7 | Z8: 113.44 | AA8: =($C$3:$C$18-Z8)*100 -> 5.3
A9: 7 | B9: AUDJPY | C9: =[1]!AUDJPY -> 88.683 | D9: 88.72 | E9: =(D9-$C$3:$C$18)*100 -> 3.7 | F9: 88.62 | G9: =($C$3:$C$18-F9)*100 -> 6.3 | H9: 88.72 | I9: =(H9-$C$3:$C$18)*100 -> 3.7 | J9: 88.62 | K9: =($C$3:$C$18-J9)*100 -> 6.3 | L9: 88.72 | M9: =(L9-$C$3:$C$18)*100 -> 3.7 | N9: 88.62 | O9: =($C$3:$C$18-N9)*100 -> 6.3 | P9: 88.72 | Q9: =(P9-$C$3:$C$18)*100 -> 3.7 | R9: 88.62 | S9: =($C$3:$C$18-R9)*100 -> 6.3 | T9: 88.72 | U9: =(T9-$C$3:$C$18)*100 -> 3.7 | V9: 88.62 | W9: =($C$3:$C$18-V9)*100 -> 6.3 | X9: 88.72 | Y9: =(X9-$C$3:$C$18)*100 -> 3.7 | Z9: 88.62 | AA9: =($C$3:$C$18-Z9)*100 -> 6.3
A10: 8 | B10: EURJPY | C10: =[1]!EURJPY -> 133.65 | D10: 133.7 | E10: =(D10-$C$3:$C$18)*100 -> 5 | F10: 133.6 | G10: =($C$3:$C$18-F10)*100 -> 5 | H10: 133.7 | I10: =(H10-$C$3:$C$18)*100 -> 5 | J10: 133.6 | K10: =($C$3:$C$18-J10)*100 -> 5 | L10: 133.7 | M10: =(L10-$C$3:$C$18)*100 -> 5 | N10: 133.6 | O10: =($C$3:$C$18-N10)*100 -> 5 | P10: 133.7 | Q10: =(P10-$C$3:$C$18)*100 -> 5 | R10: 133.6 | S10: =($C$3:$C$18-R10)*100 -> 5 | T10: 133.7 | U10: =(T10-$C$3:$C$18)*100 -> 5 | V10: 133.6 | W10: =($C$3:$C$18-V10)*100 -> 5 | X10: 133.7 | Y10: =(X10-$C$3:$C$18)*100 -> 5 | Z10: 133.6 | AA10: =($C$3:$C$18-Z10)*100 -> 5
A11: 9 | B11: GBPJPY | C11: =[1]!GBPJPY -> 149.678 | D11: 149.72 | E11: =(D11-$C$3:$C$18)*100 -> 4.2 | F11: 149.62 | G11: =($C$3:$C$18-F11)*100 -> 5.8 | H11: 149.72 | I11: =(H11-$C$3:$C$18)*100 -> 4.2 | J11: 149.62 | K11: =($C$3:$C$18-J11)*100 -> 5.8 | L11: 149.72 | M11: =(L11-$C$3:$C$18)*100 -> 4.2 | N11: 149.62 | O11: =($C$3:$C$18-N11)*100 -> 5.8 | P11: 149.72 | Q11: =(P11-$C$3:$C$18)*100 -> 4.2 | R11: 149.62 | S11: =($C$3:$C$18-R11)*100 -> 5.8 | T11: 149.72 | U11: =(T11-$C$3:$C$18)*100 -> 4.2 | V11: 149.62 | W11: =($C$3:$C$18-V11)*100 -> 5.8 | X11: 149.72 | Y11: =(X11-$C$3:$C$18)*100 -> 4.2 | Z11: 149.62 | AA11: =($C$3:$C$18-Z11)*100 -> 5.8
A12: 10 | B12: EURAUD | C12: =[1]!EURAUD -> 1.50637 | D12: 1.5068 | E12: =(D12-$C$3:$C$18)*10000 -> 4.3 | F12: 1.506 | G12: =($C$3:$C$18-F12)*10000 -> 3.7 | H12: 1.5068 | I12: =(H12-$C$3:$C$18)*10000 -> 4.3 | J12: 1.506 | K12: =($C$3:$C$18-J12)*10000 -> 3.7 | L12: 1.5068 | M12: =(L12-$C$3:$C$18)*10000 -> 4.3 | N12: 1.506 | O12: =($C$3:$C$18-N12)*10000 -> 3.7 | P12: 1.5068 | Q12: =(P12-$C$3:$C$18)*10000 -> 4.3 | R12: 1.506 | S12: =($C$3:$C$18-R12)*10000 -> 3.7 | T12: 1.5068 | U12: =(T12-$C$3:$C$18)*10000 -> 4.3 | V12: 1.506 | W12: =($C$3:$C$18-V12)*10000 -> 3.7 | X12: 1.5068 | Y12: =(X12-$C$3:$C$18)*10000 -> 4.3 | Z12: 1.506 | AA12: =($C$3:$C$18-Z12)*10000 -> 3.7
A13: 11 | B13: EURCAD | C13: =[1]!EURCAD -> 1.48679 | D13: 1.4872 | E13: =(D13-$C$3:$C$18)*10000 -> 4.1 | F13: 1.4862 | G13: =($C$3:$C$18-F13)*10000 -> 5.9 | H13: 1.4872 | I13: =(H13-$C$3:$C$18)*10000 -> 4.1 | J13: 1.4862 | K13: =($C$3:$C$18-J13)*10000 -> 5.9 | L13: 1.4872 | M13: =(L13-$C$3:$C$18)*10000 -> 4.1 | N13: 1.4862 | O13: =($C$3:$C$18-N13)*10000 -> 5.9 | P13: 1.4872 | Q13: =(P13-$C$3:$C$18)*10000 -> 4.1 | R13: 1.4862 | S13: =($C$3:$C$18-R13)*10000 -> 5.9 | T13: 1.4872 | U13: =(T13-$C$3:$C$18)*10000 -> 4.1 | V13: 1.4862 | W13: =($C$3:$C$18-V13)*10000 -> 5.9 | X13: 1.4872 | Y13: =(X13-$C$3:$C$18)*10000 -> 4.1 | Z13: 1.4862 | AA13: =($C$3:$C$18-Z13)*10000 -> 5.9
A14: 12 | B14: EURGBP | C14: =[1]!EURGBP -> 0.89236 | D14: 0.893 | E14: =(D14-$C$3:$C$18)*10000 -> 6.4 | F14: 0.892 | G14: =($C$3:$C$18-F14)*10000 -> 3.6 | H14: 0.893 | I14: =(H14-$C$3:$C$18)*10000 -> 6.4 | J14: 0.892 | K14: =($C$3:$C$18-J14)*10000 -> 3.6 | L14: 0.893 | M14: =(L14-$C$3:$C$18)*10000 -> 6.4 | N14: 0.892 | O14: =($C$3:$C$18-N14)*10000 -> 3.6 | P14: 0.893 | Q14: =(P14-$C$3:$C$18)*10000 -> 6.4 | R14: 0.892 | S14: =($C$3:$C$18-R14)*10000 -> 3.6 | T14: 0.893 | U14: =(T14-$C$3:$C$18)*10000 -> 6.4 | V14: 0.892 | W14: =($C$3:$C$18-V14)*10000 -> 3.6 | X14: 0.893 | Y14: =(X14-$C$3:$C$18)*10000 -> 6.4 | Z14: 0.892 | AA14: =($C$3:$C$18-Z14)*10000 -> 3.6
A15: 13 | B15: EURNZD | C15: =[1]!EURNZD -> 1.6915 | D15: 1.692 | E15: =(D15-$C$3:$C$18)*10000 -> 5 | F15: 1.691 | G15: =($C$3:$C$18-F15)*10000 -> 5 | H15: 1.692 | I15: =(H15-$C$3:$C$18)*10000 -> 5 | J15: 1.691 | K15: =($C$3:$C$18-J15)*10000 -> 5 | L15: 1.692 | M15: =(L15-$C$3:$C$18)*10000 -> 5 | N15: 1.691 | O15: =($C$3:$C$18-N15)*10000 -> 5 | P15: 1.692 | Q15: =(P15-$C$3:$C$18)*10000 -> 5 | R15: 1.691 | S15: =($C$3:$C$18-R15)*10000 -> 5 | T15: 1.692 | U15: =(T15-$C$3:$C$18)*10000 -> 5 | V15: 1.691 | W15: =($C$3:$C$18-V15)*10000 -> 5 | X15: 1.692 | Y15: =(X15-$C$3:$C$18)*10000 -> 5 | Z15: 1.691 | AA15: =($C$3:$C$18-Z15)*10000 -> 5
A16: 14 | B16: GBPAUD | C16: =[1]!GBPAUD -> 1.68692 | D16: 1.6874 | E16: =(D16-$C$3:$C$18)*10000 -> 4.8 | F16: 1.6864 | G16: =($C$3:$C$18-F16)*10000 -> 5.2 | H16: 1.6874 | I16: =(H16-$C$3:$C$18)*10000 -> 4.8 | J16: 1.6864 | K16: =($C$3:$C$18-J16)*10000 -> 5.2 | L16: 1.6874 | M16: =(L16-$C$3:$C$18)*10000 -> 4.8 | N16: 1.6864 | O16: =($C$3:$C$18-N16)*10000 -> 5.2 | P16: 1.6874 | Q16: =(P16-$C$3:$C$18)*10000 -> 4.8 | R16: 1.6864 | S16: =($C$3:$C$18-R16)*10000 -> 5.2 | T16: 1.6874 | U16: =(T16-$C$3:$C$18)*10000 -> 4.8 | V16: 1.6864 | W16: =($C$3:$C$18-V16)*10000 -> 5.2 | X16: 1.6874 | Y16: =(X16-$C$3:$C$18)*10000 -> 4.8 | Z16: 1.6864 | AA16: =($C$3:$C$18-Z16)*10000 -> 5.2
A17: 15 | B17: GBPCAD | C17: =[1]!GBPCAD -> 1.66501 | D17: 1.6655 | E17: =(D17-$C$3:$C$18)*10000 -> 4.9 | F17: 1.6645 | G17: =($C$3:$C$18-F17)*10000 -> 5.1 | H17: 1.6655 | I17: =(H17-$C$3:$C$18)*10000 -> 4.9 | J17: 1.6645 | K17: =($C$3:$C$18-J17)*10000 -> 5.1 | L17: 1.6655 | M17: =(L17-$C$3:$C$18)*10000 -> 4.9 | N17: 1.6645 | O17: =($C$3:$C$18-N17)*10000 -> 5.1 | P17: 1.6655 | Q17: =(P17-$C$3:$C$18)*10000 -> 4.9 | R17: 1.6645 | S17: =($C$3:$C$18-R17)*10000 -> 5.1 | T17: 1.6655 | U17: =(T17-$C$3:$C$18)*10000 -> 4.9 | V17: 1.6645 | W17: =($C$3:$C$18-V17)*10000 -> 5.1 | X17: 1.6655 | Y17: =(X17-$C$3:$C$18)*10000 -> 4.9 | Z17: 1.6645 | AA17: =($C$3:$C$18-Z17)*10000 -> 5.1
A18: 16 | B18: GBPNZD | C18: =[1]!GBPNZD -> 1.89435 | D18: 1.895 | E18: =(D18-$C$3:$C$18)*10000 -> 6.5 | F18: 1.894 | G18: =($C$3:$C$18-F18)*10000 -> 3.5 | H18: 1.895 | I18: =(H18-$C$3:$C$18)*10000 -> 6.5 | J18: 1.894 | K18: =($C$3:$C$18-J18)*10000 -> 3.5 | L18: 1.895 | M18: =(L18-$C$3:$C$18)*10000 -> 6.5 | N18: 1.894 | O18: =($C$3:$C$18-N18)*10000 -> 3.5 | P18: 1.895 | Q18: =(P18-$C$3:$C$18)*10000 -> 6.5 | R18: 1.894 | S18: =($C$3:$C$18-R18)*10000 -> 3.5 | T18: 1.895 | U18: =(T18-$C$3:$C$18)*10000 -> 6.5 | V18: 1.894 | W18: =($C$3:$C$18-V18)*10000 -> 3.5 | X18: 1.895 | Y18: =(X18-$C$3:$C$18)*10000 -> 6.5 | Z18: 1.894 | AA18: =($C$3:$C$18-Z18)*10000 -> 3.5

Sheet FTB
A1: FTB | D1: M15 | H1: H1 | L1: H4 | P1: D1 | T1: W1 | X1: M1
A2: # | B2: Symbol | C2: Bid | D2: SD Level Sell | E2: Sel | F2: SD Level Buy | G2: Buy | H2: SD Level Sell | I2: Sel | J2: SD Level Buy | K2: Buy | L2: SD Level Sell | M2: Sel | N2: SD Level Buy | O2: Buy | P2: SD Level Sell | Q2: Sel | R2: SD Level Buy | S2: Buy | T2: SD Level Sell | U2: Sel | V2: SD Level Buy | W2: Buy | X2: SD Level Sell | Y2: Sel | Z2: SD Level Buy | AA2: Buy
A3: 1 | B3: AUDUSD | C3: =[1]!AUDUSD -> 0.78151 | D3: 0.7847 | E3: =(D3-$C$3:$C$18)*10000 -> 31.9 | G3: =($C$3:$C$18-F3)*10000 -> 7815.1 | H3: 0.782 | I3: =(H3-$C$3:$C$18)*10000 -> 4.9 | J3: 0.781 | K3: =($C$3:$C$18-J3)*10000 -> 5.1 | L3: 0.7847 | M3: =(L3-$C$3:$C$18)*10000 -> 31.9 | N3: 0.781 | O3: =($C$3:$C$18-N3)*10000 -> 5.1 | P3: 0.782 | Q3: =(P3-$C$3:$C$18)*10000 -> 4.9 | R3: 0.781 | S3: =($C$3:$C$18-R3)*10000 -> 5.1 | T3: 0.782 | U3: =(T3-$C$3:$C$18)*10000 -> 4.9 | V3: 0.781 | W3: =($C$3:$C$18-V3)*10000 -> 5.1 | X3: 0.782 | Y3: =(X3-$C$3:$C$18)*10000 -> 4.9 | Z3: 0.781 | AA3: =($C$3:$C$18-Z3)*10000 -> 5.1
A4: 2 | B4: EURUSD | C4: =[1]!EURUSD -> 1.1779 | D4: 1.1785 | E4: =(D4-$C$3:$C$18)*10000 -> 6 | F4: 1.1775 | G4: =($C$3:$C$18-F4)*10000 -> 4 | H4: 1.1785 | I4: =(H4-$C$3:$C$18)*10000 -> 6 | J4: 1.1775 | K4: =($C$3:$C$18-J4)*10000 -> 4 | L4: 1.1785 | M4: =(L4-$C$3:$C$18)*10000 -> 6 | N4: 1.1775 | O4: =($C$3:$C$18-N4)*10000 -> 4 | P4: 1.1785 | Q4: =(P4-$C$3:$C$18)*10000 -> 6 | R4: 1.1775 | S4: =($C$3:$C$18-R4)*10000 -> 4 | T4: 1.1785 | U4: =(T4-$C$3:$C$18)*10000 -> 6 | V4: 1.1775 | W4: =($C$3:$C$18-V4)*10000 -> 4 | X4: 1.1795 | Y4: =(X4-$C$3:$C$18)*10000 -> 16 | Z4: 1.1765 | AA4: =($C$3:$C$18-Z4)*10000 -> 14
A5: 3 | B5: GBPUSD | C5: =[1]!GBPUSD -> 1.31873 | D5: 1.3192 | E5: =(D5-$C$3:$C$18)*10000 -> 4.7 | F5: 1.3182 | G5: =($C$3:$C$18-F5)*10000 -> 5.3 | H5: 1.3192 | I5: =(H5-$C$3:$C$18)*10000 -> 4.7 | J5: 1.3182 | K5: =($C$3:$C$18-J5)*10000 -> 5.3 | L5: 1.3192 | M5: =(L5-$C$3:$C$18)*10000 -> 4.7 | N5: 1.3182 | O5: =($C$3:$C$18-N5)*10000 -> 5.3 | P5: 1.3192 | Q5: =(P5-$C$3:$C$18)*10000 -> 4.7 | R5: 1.3182 | S5: =($C$3:$C$18-R5)*10000 -> 5.3 | T5: 1.3192 | U5: =(T5-$C$3:$C$18)*10000 -> 4.7 | V5: 1.3182 | W5: =($C$3:$C$18-V5)*10000 -> 5.3 | X5: 1.3192 | Y5: =(X5-$C$3:$C$18)*10000 -> 4.7 | Z5: 1.3182 | AA5: =($C$3:$C$18-Z5)*10000 -> 5.3
A6: 4 | B6: NZDUSD | C6: =[1]!NZDUSD -> 0.69629 | D6: 0.697 | E6: =(D6-$C$3:$C$18)*10000 -> 7.1 | F6: 0.696 | G6: =($C$3:$C$18-F6)*10000 -> 2.9 | H6: 0.697 | I6: =(H6-$C$3:$C$18)*10000 -> 7.1 | J6: 0.696 | K6: =($C$3:$C$18-J6)*10000 -> 2.9 | L6: 0.697 | M6: =(L6-$C$3:$C$18)*10000 -> 7.1 | N6: 0.696 | O6: =($C$3:$C$18-N6)*10000 -> 2.9 | P6: 0.697 | Q6: =(P6-$C$3:$C$18)*10000 -> 7.1 | R6: 0.696 | S6: =($C$3:$C$18-R6)*10000 -> 2.9 | T6: 0.697 | U6: =(T6-$C$3:$C$18)*10000 -> 7.1 | V6: 0.696 | W6: =($C$3:$C$18-V6)*10000 -> 2.9 | X6: 0.697 | Y6: =(X6-$C$3:$C$18)*10000 -> 7.1 | Z6: 0.696 | AA6: =($C$3:$C$18-Z6)*10000 -> 2.9
A7: 5 | B7: USDCAD | C7: =[1]!USDCAD -> 1.26249 | D7: 1.263 | E7: =(D7-$C$3:$C$18)*10000 -> 5.1 | F7: 1.262 | G7: =($C$3:$C$18-F7)*10000 -> 4.9 | H7: 1.263 | I7: =(H7-$C$3:$C$18)*10000 -> 5.1 | J7: 1.262 | K7: =($C$3:$C$18-J7)*10000 -> 4.9 | L7: 1.263 | M7: =(L7-$C$3:$C$18)*10000 -> 5.1 | N7: 1.262 | O7: =($C$3:$C$18-N7)*10000 -> 4.9 | P7: 1.263 | Q7: =(P7-$C$3:$C$18)*10000 -> 5.1 | R7: 1.262 | S7: =($C$3:$C$18-R7)*10000 -> 4.9 | T7: 1.263 | U7: =(T7-$C$3:$C$18)*10000 -> 5.1 | V7: 1.262 | W7: =($C$3:$C$18-V7)*10000 -> 4.9 | X7: 1.263 | Y7: =(X7-$C$3:$C$18)*10000 -> 5.1 | Z7: 1.262 | AA7: =($C$3:$C$18-Z7)*10000 -> 4.9
A8: 6 | B8: USDJPY | C8: =[1]!USDJPY -> 113.493 | D8: 113.52 | E8: =(D8-$C$3:$C$18)*100 -> 2.7 | F8: 113.44 | G8: =($C$3:$C$18-F8)*100 -> 5.3 | H8: 113.52 | I8: =(H8-$C$3:$C$18)*100 -> 2.7 | J8: 113.44 | K8: =($C$3:$C$18-J8)*100 -> 5.3 | L8: 113.52 | M8: =(L8-$C$3:$C$18)*100 -> 2.7 | N8: 113.44 | O8: =($C$3:$C$18-N8)*100 -> 5.3 | P8: 113.52 | Q8: =(P8-$C$3:$C$18)*100 -> 2.7 | R8: 113.44 | S8: =($C$3:$C$18-R8)*100 -> 5.3 | T8: 113.52 | U8: =(T8-$C$3:$C$18)*100 -> 2.7 | V8: 113.44 | W8: =($C$3:$C$18-V8)*100 -> 5.3 | X8: 113.52 | Y8: =(X8-$C$3:$C$18)*100 -> 2.7 | Z8: 113.44 | AA8: =($C$3:$C$18-Z8)*100 -> 5.3
A9: 7 | B9: AUDJPY | C9: =[1]!AUDJPY -> 88.683 | D9: 88.72 | E9: =(D9-$C$3:$C$18)*100 -> 3.7 | F9: 88.62 | G9: =($C$3:$C$18-F9)*100 -> 6.3 | H9: 88.72 | I9: =(H9-$C$3:$C$18)*100 -> 3.7 | J9: 88.62 | K9: =($C$3:$C$18-J9)*100 -> 6.3 | L9: 88.72 | M9: =(L9-$C$3:$C$18)*100 -> 3.7 | N9: 88.62 | O9: =($C$3:$C$18-N9)*100 -> 6.3 | P9: 88.72 | Q9: =(P9-$C$3:$C$18)*100 -> 3.7 | R9: 88.62 | S9: =($C$3:$C$18-R9)*100 -> 6.3 | T9: 88.72 | U9: =(T9-$C$3:$C$18)*100 -> 3.7 | V9: 88.62 | W9: =($C$3:$C$18-V9)*100 -> 6.3 | X9: 88.72 | Y9: =(X9-$C$3:$C$18)*100 -> 3.7 | Z9: 88.62 | AA9: =($C$3:$C$18-Z9)*100 -> 6.3
A10: 8 | B10: EURJPY | C10: =[1]!EURJPY -> 133.65 | D10: 133.7 | E10: =(D10-$C$3:$C$18)*100 -> 5 | F10: 133.6 | G10: =($C$3:$C$18-F10)*100 -> 5 | H10: 133.7 | I10: =(H10-$C$3:$C$18)*100 -> 5 | J10: 133.6 | K10: =($C$3:$C$18-J10)*100 -> 5 | L10: 133.7 | M10: =(L10-$C$3:$C$18)*100 -> 5 | N10: 133.6 | O10: =($C$3:$C$18-N10)*100 -> 5 | P10: 133.7 | Q10: =(P10-$C$3:$C$18)*100 -> 5 | R10: 133.6 | S10: =($C$3:$C$18-R10)*100 -> 5 | T10: 133.7 | U10: =(T10-$C$3:$C$18)*100 -> 5 | V10: 133.6 | W10: =($C$3:$C$18-V10)*100 -> 5 | X10: 133.7 | Y10: =(X10-$C$3:$C$18)*100 -> 5 | Z10: 133.6 | AA10: =($C$3:$C$18-Z10)*100 -> 5
A11: 9 | B11: GBPJPY | C11: =[1]!GBPJPY -> 149.678 | D11: 149.72 | E11: =(D11-$C$3:$C$18)*100 -> 4.2 | F11: 149.62 | G11: =($C$3:$C$18-F11)*100 -> 5.8 | H11: 149.72 | I11: =(H11-$C$3:$C$18)*100 -> 4.2 | J11: 149.62 | K11: =($C$3:$C$18-J11)*100 -> 5.8 | L11: 149.72 | M11: =(L11-$C$3:$C$18)*100 -> 4.2 | N11: 149.62 | O11: =($C$3:$C$18-N11)*100 -> 5.8 | P11: 149.72 | Q11: =(P11-$C$3:$C$18)*100 -> 4.2 | R11: 149.62 | S11: =($C$3:$C$18-R11)*100 -> 5.8 | T11: 149.72 | U11: =(T11-$C$3:$C$18)*100 -> 4.2 | V11: 149.62 | W11: =($C$3:$C$18-V11)*100 -> 5.8 | X11: 149.72 | Y11: =(X11-$C$3:$C$18)*100 -> 4.2 | Z11: 149.62 | AA11: =($C$3:$C$18-Z11)*100 -> 5.8
A12: 10 | B12: EURAUD | C12: =[1]!EURAUD -> 1.50637 | D12: 1.5068 | E12: =(D12-$C$3:$C$18)*10000 -> 4.3 | F12: 1.506 | G12: =($C$3:$C$18-F12)*10000 -> 3.7 | H12: 1.5068 | I12: =(H12-$C$3:$C$18)*10000 -> 4.3 | J12: 1.506 | K12: =($C$3:$C$18-J12)*10000 -> 3.7 | L12: 1.5068 | M12: =(L12-$C$3:$C$18)*10000 -> 4.3 | N12: 1.506 | O12: =($C$3:$C$18-N12)*10000 -> 3.7 | P12: 1.5068 | Q12: =(P12-$C$3:$C$18)*10000 -> 4.3 | R12: 1.506 | S12: =($C$3:$C$18-R12)*10000 -> 3.7 | T12: 1.5068 | U12: =(T12-$C$3:$C$18)*10000 -> 4.3 | V12: 1.506 | W12: =($C$3:$C$18-V12)*10000 -> 3.7 | X12: 1.5068 | Y12: =(X12-$C$3:$C$18)*10000 -> 4.3 | Z12: 1.506 | AA12: =($C$3:$C$18-Z12)*10000 -> 3.7
A13: 11 | B13: EURCAD | C13: =[1]!EURCAD -> 1.48679 | D13: 1.4872 | E13: =(D13-$C$3:$C$18)*10000 -> 4.1 | F13: 1.4862 | G13: =($C$3:$C$18-F13)*10000 -> 5.9 | H13: 1.4872 | I13: =(H13-$C$3:$C$18)*10000 -> 4.1 | J13: 1.4862 | K13: =($C$3:$C$18-J13)*10000 -> 5.9 | L13: 1.4872 | M13: =(L13-$C$3:$C$18)*10000 -> 4.1 | N13: 1.4862 | O13: =($C$3:$C$18-N13)*10000 -> 5.9 | P13: 1.4872 | Q13: =(P13-$C$3:$C$18)*10000 -> 4.1 | R13: 1.4862 | S13: =($C$3:$C$18-R13)*10000 -> 5.9 | T13: 1.4872 | U13: =(T13-$C$3:$C$18)*10000 -> 4.1 | V13: 1.4862 | W13: =($C$3:$C$18-V13)*10000 -> 5.9 | X13: 1.4872 | Y13: =(X13-$C$3:$C$18)*10000 -> 4.1 | Z13: 1.4862 | AA13: =($C$3:$C$18-Z13)*10000 -> 5.9
A14: 12 | B14: EURGBP | C14: =[1]!EURGBP -> 0.89236 | D14: 0.893 | E14: =(D14-$C$3:$C$18)*10000 -> 6.4 | F14: 0.892 | G14: =($C$3:$C$18-F14)*10000 -> 3.6 | H14: 0.893 | I14: =(H14-$C$3:$C$18)*10000 -> 6.4 | J14: 0.892 | K14: =($C$3:$C$18-J14)*10000 -> 3.6 | L14: 0.893 | M14: =(L14-$C$3:$C$18)*10000 -> 6.4 | N14: 0.892 | O14: =($C$3:$C$18-N14)*10000 -> 3.6 | P14: 0.893 | Q14: =(P14-$C$3:$C$18)*10000 -> 6.4 | R14: 0.892 | S14: =($C$3:$C$18-R14)*10000 -> 3.6 | T14: 0.893 | U14: =(T14-$C$3:$C$18)*10000 -> 6.4 | V14: 0.892 | W14: =($C$3:$C$18-V14)*10000 -> 3.6 | X14: 0.893 | Y14: =(X14-$C$3:$C$18)*10000 -> 6.4 | Z14: 0.892 | AA14: =($C$3:$C$18-Z14)*10000 -> 3.6
A15: 13 | B15: EURNZD | C15: =[1]!EURNZD -> 1.6915 | D15: 1.692 | E15: =(D15-$C$3:$C$18)*10000 -> 5 | F15: 1.691 | G15: =($C$3:$C$18-F15)*10000 -> 5 | H15: 1.692 | I15: =(H15-$C$3:$C$18)*10000 -> 5 | J15: 1.691 | K15: =($C$3:$C$18-J15)*10000 -> 5 | L15: 1.692 | M15: =(L15-$C$3:$C$18)*10000 -> 5 | N15: 1.691 | O15: =($C$3:$C$18-N15)*10000 -> 5 | P15: 1.692 | Q15: =(P15-$C$3:$C$18)*10000 -> 5 | R15: 1.691 | S15: =($C$3:$C$18-R15)*10000 -> 5 | T15: 1.692 | U15: =(T15-$C$3:$C$18)*10000 -> 5 | V15: 1.691 | W15: =($C$3:$C$18-V15)*10000 -> 5 | X15: 1.692 | Y15: =(X15-$C$3:$C$18)*10000 -> 5 | Z15: 1.691 | AA15: =($C$3:$C$18-Z15)*10000 -> 5
A16: 14 | B16: GBPAUD | C16: =[1]!GBPAUD -> 1.68692 | D16: 1.6874 | E16: =(D16-$C$3:$C$18)*10000 -> 4.8 | F16: 1.6864 | G16: =($C$3:$C$18-F16)*10000 -> 5.2 | H16: 1.6874 | I16: =(H16-$C$3:$C$18)*10000 -> 4.8 | J16: 1.6864 | K16: =($C$3:$C$18-J16)*10000 -> 5.2 | L16: 1.6874 | M16: =(L16-$C$3:$C$18)*10000 -> 4.8 | N16: 1.6864 | O16: =($C$3:$C$18-N16)*10000 -> 5.2 | P16: 1.6874 | Q16: =(P16-$C$3:$C$18)*10000 -> 4.8 | R16: 1.6864 | S16: =($C$3:$C$18-R16)*10000 -> 5.2 | T16: 1.6874 | U16: =(T16-$C$3:$C$18)*10000 -> 4.8 | V16: 1.6864 | W16: =($C$3:$C$18-V16)*10000 -> 5.2 | X16: 1.6874 | Y16: =(X16-$C$3:$C$18)*10000 -> 4.8 | Z16: 1.6864 | AA16: =($C$3:$C$18-Z16)*10000 -> 5.2
A17: 15 | B17: GBPCAD | C17: =[1]!GBPCAD -> 1.66501 | D17: 1.6655 | E17: =(D17-$C$3:$C$18)*10000 -> 4.9 | F17: 1.6645 | G17: =($C$3:$C$18-F17)*10000 -> 5.1 | H17: 1.6655 | I17: =(H17-$C$3:$C$18)*10000 -> 4.9 | J17: 1.6645 | K17: =($C$3:$C$18-J17)*10000 -> 5.1 | L17: 1.6655 | M17: =(L17-$C$3:$C$18)*10000 -> 4.9 | N17: 1.6645 | O17: =($C$3:$C$18-N17)*10000 -> 5.1 | P17: 1.6655 | Q17: =(P17-$C$3:$C$18)*10000 -> 4.9 | R17: 1.6645 | S17: =($C$3:$C$18-R17)*10000 -> 5.1 | T17: 1.6655 | U17: =(T17-$C$3:$C$18)*10000 -> 4.9 | V17: 1.6645 | W17: =($C$3:$C$18-V17)*10000 -> 5.1 | X17: 1.6655 | Y17: =(X17-$C$3:$C$18)*10000 -> 4.9 | Z17: 1.6645 | AA17: =($C$3:$C$18-Z17)*10000 -> 5.1
A18: 16 | B18: GBPNZD | C18: =[1]!GBPNZD -> 1.89435 | D18: 1.895 | E18: =(D18-$C$3:$C$18)*10000 -> 6.5 | F18: 1.894 | G18: =($C$3:$C$18-F18)*10000 -> 3.5 | H18: 1.895 | I18: =(H18-$C$3:$C$18)*10000 -> 6.5 | J18: 1.894 | K18: =($C$3:$C$18-J18)*10000 -> 3.5 | L18: 1.895 | M18: =(L18-$C$3:$C$18)*10000 -> 6.5 | N18: 1.894 | O18: =($C$3:$C$18-N18)*10000 -> 3.5 | P18: 1.895 | Q18: =(P18-$C$3:$C$18)*10000 -> 6.5 | R18: 1.894 | S18: =($C$3:$C$18-R18)*10000 -> 3.5 | T18: 1.895 | U18: =(T18-$C$3:$C$18)*10000 -> 6.5 | V18: 1.894 | W18: =($C$3:$C$18-V18)*10000 -> 3.5 | X18: 1.895 | Y18: =(X18-$C$3:$C$18)*10000 -> 6.5 | Z18: 1.894 | AA18: =($C$3:$C$18-Z18)*10000 -> 3.5

Sheet QMC
A1: QMC | D1: M15 | H1: H1 | L1: H4 | P1: D1 | T1: W1 | X1: M1
A2: # | B2: Symbol | C2: Bid | D2: SD Level Sell | E2: Sel | F2: SD Level Buy | G2: Buy | H2: SD Level Sell | I2: Sel | J2: SD Level Buy | K2: Buy | L2: SD Level Sell | M2: Sel | N2: SD Level Buy | O2: Buy | P2: SD Level Sell | Q2: Sel | R2: SD Level Buy | S2: Buy | T2: SD Level Sell | U2: Sel | V2: SD Level Buy | W2: Buy | X2: SD Level Sell | Y2: Sel | Z2: SD Level Buy | AA2: Buy
A3: 1 | B3: AUDUSD | C3: =[1]!AUDUSD -> 0.78151 | D3: 0.7849 | E3: =(D3-$C$3:$C$18)*10000 -> 33.9 | G3: =($C$3:$C$18-F3)*10000 -> 7815.1 | H3: 0.782 | I3: =(H3-$C$3:$C$18)*10000 -> 4.9 | J3: 0.781 | K3: =($C$3:$C$18-J3)*10000 -> 5.1 | L3: 0.782 | M3: =(L3-$C$3:$C$18)*10000 -> 4.9 | N3: 0.781 | O3: =($C$3:$C$18-N3)*10000 -> 5.1 | P3: 0.782 | Q3: =(P3-$C$3:$C$18)*10000 -> 4.9 | R3: 0.781 | S3: =($C$3:$C$18-R3)*10000 -> 5.1 | T3: 0.782 | U3: =(T3-$C$3:$C$18)*10000 -> 4.9 | V3: 0.781 | W3: =($C$3:$C$18-V3)*10000 -> 5.1 | X3: 0.782 | Y3: =(X3-$C$3:$C$18)*10000 -> 4.9 | Z3: 0.781 | AA3: =($C$3:$C$18-Z3)*10000 -> 5.1
A4: 2 | B4: EURUSD | C4: =[1]!EURUSD -> 1.1779 | D4: 1.1785 | E4: =(D4-$C$3:$C$18)*10000 -> 6 | F4: 1.1775 | G4: =($C$3:$C$18-F4)*10000 -> 4 | H4: 1.1785 | I4: =(H4-$C$3:$C$18)*10000 -> 6 | J4: 1.1775 | K4: =($C$3:$C$18-J4)*10000 -> 4 | L4: 1.1785 | M4: =(L4-$C$3:$C$18)*10000 -> 6 | N4: 1.1775 | O4: =($C$3:$C$18-N4)*10000 -> 4 | P4: 1.1785 | Q4: =(P4-$C$3:$C$18)*10000 -> 6 | R4: 1.1775 | S4: =($C$3:$C$18-R4)*10000 -> 4 | T4: 1.1785 | U4: =(T4-$C$3:$C$18)*10000 -> 6 | V4: 1.1775 | W4: =($C$3:$C$18-V4)*10000 -> 4 | X4: 1.1785 | Y4: =(X4-$C$3:$C$18)*10000 -> 6 | Z4: 1.1775 | AA4: =($C$3:$C$18-Z4)*10000 -> 4
A5: 3 | B5: GBPUSD | C5: =[1]!GBPUSD -> 1.31873 | D5: 1.3192 | E5: =(D5-$C$3:$C$18)*10000 -> 4.7 | F5: 1.3182 | G5: =($C$3:$C$18-F5)*10000 -> 5.3 | H5: 1.3192 | I5: =(H5-$C$3:$C$18)*10000 -> 4.7 | J5: 1.3182 | K5: =($C$3:$C$18-J5)*10000 -> 5.3 | L5: 1.3192 | M5: =(L5-$C$3:$C$18)*10000 -> 4.7 | N5: 1.3182 | O5: =($C$3:$C$18-N5)*10000 -> 5.3 | P5: 1.3192 | Q5: =(P5-$C$3:$C$18)*10000 -> 4.7 | R5: 1.3182 | S5: =($C$3:$C$18-R5)*10000 -> 5.3 | T5: 1.3192 | U5: =(T5-$C$3:$C$18)*10000 -> 4.7 | V5: 1.3182 | W5: =($C$3:$C$18-V5)*10000 -> 5.3 | X5: 1.3192 | Y5: =(X5-$C$3:$C$18)*10000 -> 4.7 | Z5: 1.3182 | AA5: =($C$3:$C$18-Z5)*10000 -> 5.3
A6: 4 | B6: NZDUSD | C6: =[1]!NZDUSD -> 0.69629 | D6: 0.697 | E6: =(D6-$C$3:$C$18)*10000 -> 7.1 | F6: 0.696 | G6: =($C$3:$C$18-F6)*10000 -> 2.9 | H6: 0.697 | I6: =(H6-$C$3:$C$18)*10000 -> 7.1 | J6: 0.696 | K6: =($C$3:$C$18-J6)*10000 -> 2.9 | L6: 0.697 | M6: =(L6-$C$3:$C$18)*10000 -> 7.1 | N6: 0.696 | O6: =($C$3:$C$18-N6)*10000 -> 2.9 | P6: 0.697 | Q6: =(P6-$C$3:$C$18)*10000 -> 7.1 | R6: 0.696 | S6: =($C$3:$C$18-R6)*10000 -> 2.9 | T6: 0.697 | U6: =(T6-$C$3:$C$18)*10000 -> 7.1 | V6: 0.696 | W6: =($C$3:$C$18-V6)*10000 -> 2.9 | X6: 0.697 | Y6: =(X6-$C$3:$C$18)*10000 -> 7.1 | Z6: 0.696 | AA6: =($C$3:$C$18-Z6)*10000 -> 2.9
A7: 5 | B7: USDCAD | C7: =[1]!USDCAD -> 1.26249 | D7: 1.263 | E7: =(D7-$C$3:$C$18)*10000 -> 5.1 | F7: 1.262 | G7: =($C$3:$C$18-F7)*10000 -> 4.9 | H7: 1.263 | I7: =(H7-$C$3:$C$18)*10000 -> 5.1 | J7: 1.262 | K7: =($C$3:$C$18-J7)*10000 -> 4.9 | L7: 1.263 | M7: =(L7-$C$3:$C$18)*10000 -> 5.1 | N7: 1.262 | O7: =($C$3:$C$18-N7)*10000 -> 4.9 | P7: 1.263 | Q7: =(P7-$C$3:$C$18)*10000 -> 5.1 | R7: 1.262 | S7: =($C$3:$C$18-R7)*10000 -> 4.9 | T7: 1.263 | U7: =(T7-$C$3:$C$18)*10000 -> 5.1 | V7: 1.262 | W7: =($C$3:$C$18-V7)*10000 -> 4.9 | X7: 1.263 | Y7: =(X7-$C$3:$C$18)*10000 -> 5.1 | Z7: 1.262 | AA7: =($C$3:$C$18-Z7)*10000 -> 4.9
A8: 6 | B8: USDJPY | C8: =[1]!USDJPY -> 113.493 | D8: 113.52 | E8: =(D8-$C$3:$C$18)*100 -> 2.7 | F8: 113.44 | G8: =($C$3:$C$18-F8)*100 -> 5.3 | H8: 113.52 | I8: =(H8-$C$3:$C$18)*100 -> 2.7 | J8: 113.44 | K8: =($C$3:$C$18-J8)*100 -> 5.3 | L8: 113.52 | M8: =(L8-$C$3:$C$18)*100 -> 2.7 | N8: 113.44 | O8: =($C$3:$C$18-N8)*100 -> 5.3 | P8: 113.52 | Q8: =(P8-$C$3:$C$18)*100 -> 2.7 | R8: 113.44 | S8: =($C$3:$C$18-R8)*100 -> 5.3 | T8: 113.52 | U8: =(T8-$C$3:$C$18)*100 -> 2.7 | V8: 113.44 | W8: =($C$3:$C$18-V8)*100 -> 5.3 | X8: 113.52 | Y8: =(X8-$C$3:$C$18)*100 -> 2.7 | Z8: 113.44 | AA8: =($C$3:$C$18-Z8)*100 -> 5.3
A9: 7 | B9: AUDJPY | C9: =[1]!AUDJPY -> 88.683 | D9: 88.72 | E9: =(D9-$C$3:$C$18)*100 -> 3.7 | F9: 88.62 | G9: =($C$3:$C$18-F9)*100 -> 6.3 | H9: 88.72 | I9: =(H9-$C$3:$C$18)*100 -> 3.7 | J9: 88.62 | K9: =($C$3:$C$18-J9)*100 -> 6.3 | L9: 88.72 | M9: =(L9-$C$3:$C$18)*100 -> 3.7 | N9: 88.62 | O9: =($C$3:$C$18-N9)*100 -> 6.3 | P9: 88.72 | Q9: =(P9-$C$3:$C$18)*100 -> 3.7 | R9: 88.62 | S9: =($C$3:$C$18-R9)*100 -> 6.3 | T9: 88.72 | U9: =(T9-$C$3:$C$18)*100 -> 3.7 | V9: 88.62 | W9: =($C$3:$C$18-V9)*100 -> 6.3 | X9: 88.72 | Y9: =(X9-$C$3:$C$18)*100 -> 3.7 | Z9: 88.62 | AA9: =($C$3:$C$18-Z9)*100 -> 6.3
A10: 8 | B10: EURJPY | C10: =[1]!EURJPY -> 133.65 | D10: 133.7 | E10: =(D10-$C$3:$C$18)*100 -> 5 | F10: 133.6 | G10: =($C$3:$C$18-F10)*100 -> 5 | H10: 133.7 | I10: =(H10-$C$3:$C$18)*100 -> 5 | J10: 133.6 | K10: =($C$3:$C$18-J10)*100 -> 5 | L10: 133.7 | M10: =(L10-$C$3:$C$18)*100 -> 5 | N10: 133.6 | O10: =($C$3:$C$18-N10)*100 -> 5 | P10: 133.7 | Q10: =(P10-$C$3:$C$18)*100 -> 5 | R10: 133.6 | S10: =($C$3:$C$18-R10)*100 -> 5 | T10: 133.7 | U10: =(T10-$C$3:$C$18)*100 -> 5 | V10: 133.6 | W10: =($C$3:$C$18-V10)*100 -> 5 | X10: 133.7 | Y10: =(X10-$C$3:$C$18)*100 -> 5 | Z10: 133.6 | AA10: =($C$3:$C$18-Z10)*100 -> 5
A11: 9 | B11: GBPJPY | C11: =[1]!GBPJPY -> 149.678 | D11: 149.72 | E11: =(D11-$C$3:$C$18)*100 -> 4.2 | F11: 149.62 | G11: =($C$3:$C$18-F11)*100 -> 5.8 | H11: 149.72 | I11: =(H11-$C$3:$C$18)*100 -> 4.2 | J11: 149.62 | K11: =($C$3:$C$18-J11)*100 -> 5.8 | L11: 149.72 | M11: =(L11-$C$3:$C$18)*100 -> 4.2 | N11: 149.62 | O11: =($C$3:$C$18-N11)*100 -> 5.8 | P11: 149.72 | Q11: =(P11-$C$3:$C$18)*100 -> 4.2 | R11: 149.62 | S11: =($C$3:$C$18-R11)*100 -> 5.8 | T11: 149.72 | U11: =(T11-$C$3:$C$18)*100 -> 4.2 | V11: 149.62 | W11: =($C$3:$C$18-V11)*100 -> 5.8 | X11: 149.72 | Y11: =(X11-$C$3:$C$18)*100 -> 4.2 | Z11: 149.62 | AA11: =($C$3:$C$18-Z11)*100 -> 5.8
A12: 10 | B12: EURAUD | C12: =[1]!EURAUD -> 1.50637 | D12: 1.5068 | E12: =(D12-$C$3:$C$18)*10000 -> 4.3 | F12: 1.506 | G12: =($C$3:$C$18-F12)*10000 -> 3.7 | H12: 1.5068 | I12: =(H12-$C$3:$C$18)*10000 -> 4.3 | J12: 1.506 | K12: =($C$3:$C$18-J12)*10000 -> 3.7 | L12: 1.5068 | M12: =(L12-$C$3:$C$18)*10000 -> 4.3 | N12: 1.506 | O12: =($C$3:$C$18-N12)*10000 -> 3.7 | P12: 1.5068 | Q12: =(P12-$C$3:$C$18)*10000 -> 4.3 | R12: 1.506 | S12: =($C$3:$C$18-R12)*10000 -> 3.7 | T12: 1.5068 | U12: =(T12-$C$3:$C$18)*10000 -> 4.3 | V12: 1.506 | W12: =($C$3:$C$18-V12)*10000 -> 3.7 | X12: 1.5068 | Y12: =(X12-$C$3:$C$18)*10000 -> 4.3 | Z12: 1.506 | AA12: =($C$3:$C$18-Z12)*10000 -> 3.7
A13: 11 | B13: EURCAD | C13: =[1]!EURCAD -> 1.48679 | D13: 1.4872 | E13: =(D13-$C$3:$C$18)*10000 -> 4.1 | F13: 1.4862 | G13: =($C$3:$C$18-F13)*10000 -> 5.9 | H13: 1.4872 | I13: =(H13-$C$3:$C$18)*10000 -> 4.1 | J13: 1.4862 | K13: =($C$3:$C$18-J13)*10000 -> 5.9 | L13: 1.4872 | M13: =(L13-$C$3:$C$18)*10000 -> 4.1 | N13: 1.4862 | O13: =($C$3:$C$18-N13)*10000 -> 5.9 | P13: 1.4872 | Q13: =(P13-$C$3:$C$18)*10000 -> 4.1 | R13: 1.4862 | S13: =($C$3:$C$18-R13)*10000 -> 5.9 | T13: 1.4872 | U13: =(T13-$C$3:$C$18)*10000 -> 4.1 | V13: 1.4862 | W13: =($C$3:$C$18-V13)*10000 -> 5.9 | X13: 1.4872 | Y13: =(X13-$C$3:$C$18)*10000 -> 4.1 | Z13: 1.4862 | AA13: =($C$3:$C$18-Z13)*10000 -> 5.9
A14: 12 | B14: EURGBP | C14: =[1]!EURGBP -> 0.89236 | D14: 0.893 | E14: =(D14-$C$3:$C$18)*10000 -> 6.4 | F14: 0.892 | G14: =($C$3:$C$18-F14)*10000 -> 3.6 | H14: 0.893 | I14: =(H14-$C$3:$C$18)*10000 -> 6.4 | J14: 0.892 | K14: =($C$3:$C$18-J14)*10000 -> 3.6 | L14: 0.893 | M14: =(L14-$C$3:$C$18)*10000 -> 6.4 | N14: 0.892 | O14: =($C$3:$C$18-N14)*10000 -> 3.6 | P14: 0.893 | Q14: =(P14-$C$3:$C$18)*10000 -> 6.4 | R14: 0.892 | S14: =($C$3:$C$18-R14)*10000 -> 3.6 | T14: 0.893 | U14: =(T14-$C$3:$C$18)*10000 -> 6.4 | V14: 0.892 | W14: =($C$3:$C$18-V14)*10000 -> 3.6 | X14: 0.893 | Y14: =(X14-$C$3:$C$18)*10000 -> 6.4 | Z14: 0.892 | AA14: =($C$3:$C$18-Z14)*10000 -> 3.6
A15: 13 | B15: EURNZD | C15: =[1]!EURNZD -> 1.6915 | D15: 1.692 | E15: =(D15-$C$3:$C$18)*10000 -> 5 | F15: 1.691 | G15: =($C$3:$C$18-F15)*10000 -> 5 | H15: 1.692 | I15: =(H15-$C$3:$C$18)*10000 -> 5 | J15: 1.691 | K15: =($C$3:$C$18-J15)*10000 -> 5 | L15: 1.692 | M15: =(L15-$C$3:$C$18)*10000 -> 5 | N15: 1.691 | O15: =($C$3:$C$18-N15)*10000 -> 5 | P15: 1.692 | Q15: =(P15-$C$3:$C$18)*10000 -> 5 | R15: 1.691 | S15: =($C$3:$C$18-R15)*10000 -> 5 | T15: 1.692 | U15: =(T15-$C$3:$C$18)*10000 -> 5 | V15: 1.691 | W15: =($C$3:$C$18-V15)*10000 -> 5 | X15: 1.692 | Y15: =(X15-$C$3:$C$18)*10000 -> 5 | Z15: 1.691 | AA15: =($C$3:$C$18-Z15)*10000 -> 5
A16: 14 | B16: GBPAUD | C16: =[1]!GBPAUD -> 1.68692 | D16: 1.6874 | E16: =(D16-$C$3:$C$18)*10000 -> 4.8 | F16: 1.6864 | G16: =($C$3:$C$18-F16)*10000 -> 5.2 | H16: 1.6874 | I16: =(H16-$C$3:$C$18)*10000 -> 4.8 | J16: 1.6864 | K16: =($C$3:$C$18-J16)*10000 -> 5.2 | L16: 1.6874 | M16: =(L16-$C$3:$C$18)*10000 -> 4.8 | N16: 1.6864 | O16: =($C$3:$C$18-N16)*10000 -> 5.2 | P16: 1.6874 | Q16: =(P16-$C$3:$C$18)*10000 -> 4.8 | R16: 1.6864 | S16: =($C$3:$C$18-R16)*10000 -> 5.2 | T16: 1.6874 | U16: =(T16-$C$3:$C$18)*10000 -> 4.8 | V16: 1.6864 | W16: =($C$3:$C$18-V16)*10000 -> 5.2 | X16: 1.6874 | Y16: =(X16-$C$3:$C$18)*10000 -> 4.8 | Z16: 1.6864 | AA16: =($C$3:$C$18-Z16)*10000 -> 5.2
A17: 15 | B17: GBPCAD | C17: =[1]!GBPCAD -> 1.66501 | D17: 1.6655 | E17: =(D17-$C$3:$C$18)*10000 -> 4.9 | F17: 1.6645 | G17: =($C$3:$C$18-F17)*10000 -> 5.1 | H17: 1.6655 | I17: =(H17-$C$3:$C$18)*10000 -> 4.9 | J17: 1.6645 | K17: =($C$3:$C$18-J17)*10000 -> 5.1 | L17: 1.6655 | M17: =(L17-$C$3:$C$18)*10000 -> 4.9 | N17: 1.6645 | O17: =($C$3:$C$18-N17)*10000 -> 5.1 | P17: 1.6655 | Q17: =(P17-$C$3:$C$18)*10000 -> 4.9 | R17: 1.6645 | S17: =($C$3:$C$18-R17)*10000 -> 5.1 | T17: 1.6655 | U17: =(T17-$C$3:$C$18)*10000 -> 4.9 | V17: 1.6645 | W17: =($C$3:$C$18-V17)*10000 -> 5.1 | X17: 1.6655 | Y17: =(X17-$C$3:$C$18)*10000 -> 4.9 | Z17: 1.6645 | AA17: =($C$3:$C$18-Z17)*10000 -> 5.1
A18: 16 | B18: GBPNZD | C18: =[1]!GBPNZD -> 1.89435 | D18: 1.895 | E18: =(D18-$C$3:$C$18)*10000 -> 6.5 | F18: 1.894 | G18: =($C$3:$C$18-F18)*10000 -> 3.5 | H18: 1.895 | I18: =(H18-$C$3:$C$18)*10000 -> 6.5 | J18: 1.894 | K18: =($C$3:$C$18-J18)*10000 -> 3.5 | L18: 1.895 | M18: =(L18-$C$3:$C$18)*10000 -> 6.5 | N18: 1.894 | O18: =($C$3:$C$18-N18)*10000 -> 3.5 | P18: 1.895 | Q18: =(P18-$C$3:$C$18)*10000 -> 6.5 | R18: 1.894 | S18: =($C$3:$C$18-R18)*10000 -> 3.5 | T18: 1.895 | U18: =(T18-$C$3:$C$18)*10000 -> 6.5 | V18: 1.894 | W18: =($C$3:$C$18-V18)*10000 -> 3.5 | X18: 1.895 | Y18: =(X18-$C$3:$C$18)*10000 -> 6.5 | Z18: 1.894 | AA18: =($C$3:$C$18-Z18)*10000 -> 3.5

Sheet QMR
A1: QMR | D1: M15 | H1: H1 | L1: H4 | P1: D1 | T1: W1 | X1: M1
A2: # | B2: Symbol | C2: Bid | D2: SD Level Sell | E2: Sel | F2: SD Level Buy | G2: Buy | H2: SD Level Sell | I2: Sel | J2: SD Level Buy | K2: Buy | L2: SD Level Sell | M2: Sel | N2: SD Level Buy | O2: Buy | P2: SD Level Sell | Q2: Sel | R2: SD Level Buy | S2: Buy | T2: SD Level Sell | U2: Sel | V2: SD Level Buy | W2: Buy | X2: SD Level Sell | Y2: Sel | Z2: SD Level Buy | AA2: Buy
A3: 1 | B3: AUDUSD | C3: =[1]!AUDUSD -> 0.78151 | E3: =(D3-$C$3:$C$18)*10000 -> -7815.1 | G3: =($C$3:$C$18-F3)*10000 -> 7815.1 | H3: 0.782 | I3: =(H3-$C$3:$C$18)*10000 -> 4.9 | J3: 0.781 | K3: =($C$3:$C$18-J3)*10000 -> 5.1 | L3: 0.782 | M3: =(L3-$C$3:$C$18)*10000 -> 4.9 | N3: 0.781 | O3: =($C$3:$C$18-N3)*10000 -> 5.1 | P3: 0.782 | Q3: =(P3-$C$3:$C$18)*10000 -> 4.9 | R3: 0.781 | S3: =($C$3:$C$18-R3)*10000 -> 5.1 | T3: 0.782 | U3: =(T3-$C$3:$C$18)*10000 -> 4.9 | V3: 0.781 | W3: =($C$3:$C$18-V3)*10000 -> 5.1 | X3: 0.782 | Y3: =(X3-$C$3:$C$18)*10000 -> 4.9 | Z3: 0.781 | AA3: =($C$3:$C$18-Z3)*10000 -> 5.1
A4: 2 | B4: EURUSD | C4: =[1]!EURUSD -> 1.1779 | D4: 1.1785 | E4: =(D4-$C$3:$C$18)*10000 -> 6 | F4: 1.1775 | G4: =($C$3:$C$18-F4)*10000 -> 4 | H4: 1.1785 | I4: =(H4-$C$3:$C$18)*10000 -> 6 | J4: 1.1775 | K4: =($C$3:$C$18-J4)*10000 -> 4 | L4: 1.1785 | M4: =(L4-$C$3:$C$18)*10000 -> 6 | N4: 1.1775 | O4: =($C$3:$C$18-N4)*10000 -> 4 | P4: 1.1785 | Q4: =(P4-$C$3:$C$18)*10000 -> 6 | R4: 1.1775 | S4: =($C$3:$C$18-R4)*10000 -> 4 | T4: 1.1785 | U4: =(T4-$C$3:$C$18)*10000 -> 6 | V4: 1.1775 | W4: =($C$3:$C$18-V4)*10000 -> 4 | X4: 1.1785 | Y4: =(X4-$C$3:$C$18)*10000 -> 6 | Z4: 1.1775 | AA4: =($C$3:$C$18-Z4)*10000 -> 4
A5: 3 | B5: GBPUSD | C5: =[1]!GBPUSD -> 1.31873 | D5: 1.3192 | E5: =(D5-$C$3:$C$18)*10000 -> 4.7 | F5: 1.3182 | G5: =($C$3:$C$18-F5)*10000 -> 5.3 | H5: 1.3192 | I5: =(H5-$C$3:$C$18)*10000 -> 4.7 | J5: 1.3182 | K5: =($C$3:$C$18-J5)*10000 -> 5.3 | L5: 1.3192 | M5: =(L5-$C$3:$C$18)*10000 -> 4.7 | N5: 1.3182 | O5: =($C$3:$C$18-N5)*10000 -> 5.3 | P5: 1.3192 | Q5: =(P5-$C$3:$C$18)*10000 -> 4.7 | R5: 1.3182 | S5: =($C$3:$C$18-R5)*10000 -> 5.3 | T5: 1.3192 | U5: =(T5-$C$3:$C$18)*10000 -> 4.7 | V5: 1.3182 | W5: =($C$3:$C$18-V5)*10000 -> 5.3 | X5: 1.3192 | Y5: =(X5-$C$3:$C$18)*10000 -> 4.7 | Z5: 1.3182 | AA5: =($C$3:$C$18-Z5)*10000 -> 5.3
A6: 4 | B6: NZDUSD | C6: =[1]!NZDUSD -> 0.69629 | D6: 0.697 | E6: =(D6-$C$3:$C$18)*10000 -> 7.1 | F6: 0.696 | G6: =($C$3:$C$18-F6)*10000 -> 2.9 | H6: 0.697 | I6: =(H6-$C$3:$C$18)*10000 -> 7.1 | J6: 0.696 | K6: =($C$3:$C$18-J6)*10000 -> 2.9 | L6: 0.697 | M6: =(L6-$C$3:$C$18)*10000 -> 7.1 | N6: 0.696 | O6: =($C$3:$C$18-N6)*10000 -> 2.9 | P6: 0.697 | Q6: =(P6-$C$3:$C$18)*10000 -> 7.1 | R6: 0.696 | S6: =($C$3:$C$18-R6)*10000 -> 2.9 | T6: 0.697 | U6: =(T6-$C$3:$C$18)*10000 -> 7.1 | V6: 0.696 | W6: =($C$3:$C$18-V6)*10000 -> 2.9 | X6: 0.697 | Y6: =(X6-$C$3:$C$18)*10000 -> 7.1 | Z6: 0.696 | AA6: =($C$3:$C$18-Z6)*10000 -> 2.9
A7: 5 | B7: USDCAD | C7: =[1]!USDCAD -> 1.26249 | D7: 1.263 | E7: =(D7-$C$3:$C$18)*10000 -> 5.1 | F7: 1.262 | G7: =($C$3:$C$18-F7)*10000 -> 4.9 | H7: 1.263 | I7: =(H7-$C$3:$C$18)*10000 -> 5.1 | J7: 1.262 | K7: =($C$3:$C$18-J7)*10000 -> 4.9 | L7: 1.263 | M7: =(L7-$C$3:$C$18)*10000 -> 5.1 | N7: 1.262 | O7: =($C$3:$C$18-N7)*10000 -> 4.9 | P7: 1.263 | Q7: =(P7-$C$3:$C$18)*10000 -> 5.1 | R7: 1.262 | S7: =($C$3:$C$18-R7)*10000 -> 4.9 | T7: 1.263 | U7: =(T7-$C$3:$C$18)*10000 -> 5.1 | V7: 1.262 | W7: =($C$3:$C$18-V7)*10000 -> 4.9 | X7: 1.263 | Y7: =(X7-$C$3:$C$18)*10000 -> 5.1 | Z7: 1.262 | AA7: =($C$3:$C$18-Z7)*10000 -> 4.9
A8: 6 | B8: USDJPY | C8: =[1]!USDJPY -> 113.493 | D8: 113.52 | E8: =(D8-$C$3:$C$18)*100 -> 2.7 | F8: 113.44 | G8: =($C$3:$C$18-F8)*100 -> 5.3 | H8: 113.52 | I8: =(H8-$C$3:$C$18)*100 -> 2.7 | J8: 113.44 | K8: =($C$3:$C$18-J8)*100 -> 5.3 | L8: 113.52 | M8: =(L8-$C$3:$C$18)*100 -> 2.7 | N8: 113.44 | O8: =($C$3:$C$18-N8)*100 -> 5.3 | P8: 113.52 | Q8: =(P8-$C$3:$C$18)*100 -> 2.7 | R8: 113.44 | S8: =($C$3:$C$18-R8)*100 -> 5.3 | T8: 113.52 | U8: =(T8-$C$3:$C$18)*100 -> 2.7 | V8: 113.44 | W8: =($C$3:$C$18-V8)*100 -> 5.3 | X8: 113.52 | Y8: =(X8-$C$3:$C$18)*100 -> 2.7 | Z8: 113.44 | AA8: =($C$3:$C$18-Z8)*100 -> 5.3
A9: 7 | B9: AUDJPY | C9: =[1]!AUDJPY -> 88.683 | D9: 88.72 | E9: =(D9-$C$3:$C$18)*100 -> 3.7 | F9: 88.62 | G9: =($C$3:$C$18-F9)*100 -> 6.3 | H9: 88.72 | I9: =(H9-$C$3:$C$18)*100 -> 3.7 | J9: 88.62 | K9: =($C$3:$C$18-J9)*100 -> 6.3 | L9: 88.72 | M9: =(L9-$C$3:$C$18)*100 -> 3.7 | N9: 88.62 | O9: =($C$3:$C$18-N9)*100 -> 6.3 | P9: 88.72 | Q9: =(P9-$C$3:$C$18)*100 -> 3.7 | R9: 88.62 | S9: =($C$3:$C$18-R9)*100 -> 6.3 | T9: 88.72 | U9: =(T9-$C$3:$C$18)*100 -> 3.7 | V9: 88.62 | W9: =($C$3:$C$18-V9)*100 -> 6.3 | X9: 88.72 | Y9: =(X9-$C$3:$C$18)*100 -> 3.7 | Z9: 88.62 | AA9: =($C$3:$C$18-Z9)*100 -> 6.3
A10: 8 | B10: EURJPY | C10: =[1]!EURJPY -> 133.65 | D10: 133.7 | E10: =(D10-$C$3:$C$18)*100 -> 5 | F10: 133.6 | G10: =($C$3:$C$18-F10)*100 -> 5 | H10: 133.7 | I10: =(H10-$C$3:$C$18)*100 -> 5 | J10: 133.6 | K10: =($C$3:$C$18-J10)*100 -> 5 | L10: 133.7 | M10: =(L10-$C$3:$C$18)*100 -> 5 | N10: 133.6 | O10: =($C$3:$C$18-N10)*100 -> 5 | P10: 133.7 | Q10: =(P10-$C$3:$C$18)*100 -> 5 | R10: 133.6 | S10: =($C$3:$C$18-R10)*100 -> 5 | T10: 133.7 | U10: =(T10-$C$3:$C$18)*100 -> 5 | V10: 133.6 | W10: =($C$3:$C$18-V10)*100 -> 5 | X10: 133.7 | Y10: =(X10-$C$3:$C$18)*100 -> 5 | Z10: 133.6 | AA10: =($C$3:$C$18-Z10)*100 -> 5
A11: 9 | B11: GBPJPY | C11: =[1]!GBPJPY -> 149.678 | D11: 149.72 | E11: =(D11-$C$3:$C$18)*100 -> 4.2 | F11: 149.62 | G11: =($C$3:$C$18-F11)*100 -> 5.8 | H11: 149.72 | I11: =(H11-$C$3:$C$18)*100 -> 4.2 | J11: 149.62 | K11: =($C$3:$C$18-J11)*100 -> 5.8 | L11: 149.72 | M11: =(L11-$C$3:$C$18)*100 -> 4.2 | N11: 149.62 | O11: =($C$3:$C$18-N11)*100 -> 5.8 | P11: 149.72 | Q11: =(P11-$C$3:$C$18)*100 -> 4.2 | R11: 149.62 | S11: =($C$3:$C$18-R11)*100 -> 5.8 | T11: 149.72 | U11: =(T11-$C$3:$C$18)*100 -> 4.2 | V11: 149.62 | W11: =($C$3:$C$18-V11)*100 -> 5.8 | X11: 149.72 | Y11: =(X11-$C$3:$C$18)*100 -> 4.2 | Z11: 149.62 | AA11: =($C$3:$C$18-Z11)*100 -> 5.8
A12: 10 | B12: EURAUD | C12: =[1]!EURAUD -> 1.50637 | D12: 1.5068 | E12: =(D12-$C$3:$C$18)*10000 -> 4.3 | F12: 1.506 | G12: =($C$3:$C$18-F12)*10000 -> 3.7 | H12: 1.5068 | I12: =(H12-$C$3:$C$18)*10000 -> 4.3 | J12: 1.506 | K12: =($C$3:$C$18-J12)*10000 -> 3.7 | L12: 1.5068 | M12: =(L12-$C$3:$C$18)*10000 -> 4.3 | N12: 1.506 | O12: =($C$3:$C$18-N12)*10000 -> 3.7 | P12: 1.5068 | Q12: =(P12-$C$3:$C$18)*10000 -> 4.3 | R12: 1.506 | S12: =($C$3:$C$18-R12)*10000 -> 3.7 | T12: 1.5068 | U12: =(T12-$C$3:$C$18)*10000 -> 4.3 | V12: 1.506 | W12: =($C$3:$C$18-V12)*10000 -> 3.7 | X12: 1.5068 | Y12: =(X12-$C$3:$C$18)*10000 -> 4.3 | Z12: 1.506 | AA12: =($C$3:$C$18-Z12)*10000 -> 3.7
A13: 11 | B13: EURCAD | C13: =[1]!EURCAD -> 1.48679 | D13: 1.4872 | E13: =(D13-$C$3:$C$18)*10000 -> 4.1 | F13: 1.4862 | G13: =($C$3:$C$18-F13)*10000 -> 5.9 | H13: 1.4872 | I13: =(H13-$C$3:$C$18)*10000 -> 4.1 | J13: 1.4862 | K13: =($C$3:$C$18-J13)*10000 -> 5.9 | L13: 1.4872 | M13: =(L13-$C$3:$C$18)*10000 -> 4.1 | N13: 1.4862 | O13: =($C$3:$C$18-N13)*10000 -> 5.9 | P13: 1.4872 | Q13: =(P13-$C$3:$C$18)*10000 -> 4.1 | R13: 1.4862 | S13: =($C$3:$C$18-R13)*10000 -> 5.9 | T13: 1.4872 | U13: =(T13-$C$3:$C$18)*10000 -> 4.1 | V13: 1.4862 | W13: =($C$3:$C$18-V13)*10000 -> 5.9 | X13: 1.4872 | Y13: =(X13-$C$3:$C$18)*10000 -> 4.1 | Z13: 1.4862 | AA13: =($C$3:$C$18-Z13)*10000 -> 5.9
A14: 12 | B14: EURGBP | C14: =[1]!EURGBP -> 0.89236 | D14: 0.893 | E14: =(D14-$C$3:$C$18)*10000 -> 6.4 | F14: 0.892 | G14: =($C$3:$C$18-F14)*10000 -> 3.6 | H14: 0.893 | I14: =(H14-$C$3:$C$18)*10000 -> 6.4 | J14: 0.892 | K14: =($C$3:$C$18-J14)*10000 -> 3.6 | L14: 0.893 | M14: =(L14-$C$3:$C$18)*10000 -> 6.4 | N14: 0.892 | O14: =($C$3:$C$18-N14)*10000 -> 3.6 | P14: 0.893 | Q14: =(P14-$C$3:$C$18)*10000 -> 6.4 | R14: 0.892 | S14: =($C$3:$C$18-R14)*10000 -> 3.6 | T14: 0.893 | U14: =(T14-$C$3:$C$18)*10000 -> 6.4 | V14: 0.892 | W14: =($C$3:$C$18-V14)*10000 -> 3.6 | X14: 0.893 | Y14: =(X14-$C$3:$C$18)*10000 -> 6.4 | Z14: 0.892 | AA14: =($C$3:$C$18-Z14)*10000 -> 3.6
A15: 13 | B15: EURNZD | C15: =[1]!EURNZD -> 1.6915 | D15: 1.692 | E15: =(D15-$C$3:$C$18)*10000 -> 5 | F15: 1.691 | G15: =($C$3:$C$18-F15)*10000 -> 5 | H15: 1.692 | I15: =(H15-$C$3:$C$18)*10000 -> 5 | J15: 1.691 | K15: =($C$3:$C$18-J15)*10000 -> 5 | L15: 1.692 | M15: =(L15-$C$3:$C$18)*10000 -> 5 | N15: 1.691 | O15: =($C$3:$C$18-N15)*10000 -> 5 | P15: 1.692 | Q15: =(P15-$C$3:$C$18)*10000 -> 5 | R15: 1.691 | S15: =($C$3:$C$18-R15)*10000 -> 5 | T15: 1.692 | U15: =(T15-$C$3:$C$18)*10000 -> 5 | V15: 1.691 | W15: =($C$3:$C$18-V15)*10000 -> 5 | X15: 1.692 | Y15: =(X15-$C$3:$C$18)*10000 -> 5 | Z15: 1.691 | AA15: =($C$3:$C$18-Z15)*10000 -> 5
A16: 14 | B16: GBPAUD | C16: =[1]!GBPAUD -> 1.68692 | D16: 1.6874 | E16: =(D16-$C$3:$C$18)*10000 -> 4.8 | F16: 1.6864 | G16: =($C$3:$C$18-F16)*10000 -> 5.2 | H16: 1.6874 | I16: =(H16-$C$3:$C$18)*10000 -> 4.8 | J16: 1.6864 | K16: =($C$3:$C$18-J16)*10000 -> 5.2 | L16: 1.6874 | M16: =(L16-$C$3:$C$18)*10000 -> 4.8 | N16: 1.6864 | O16: =($C$3:$C$18-N16)*10000 -> 5.2 | P16: 1.6874 | Q16: =(P16-$C$3:$C$18)*10000 -> 4.8 | R16: 1.6864 | S16: =($C$3:$C$18-R16)*10000 -> 5.2 | T16: 1.6874 | U16: =(T16-$C$3:$C$18)*10000 -> 4.8 | V16: 1.6864 | W16: =($C$3:$C$18-V16)*10000 -> 5.2 | X16: 1.6874 | Y16: =(X16-$C$3:$C$18)*10000 -> 4.8 | Z16: 1.6864 | AA16: =($C$3:$C$18-Z16)*10000 -> 5.2
A17: 15 | B17: GBPCAD | C17: =[1]!GBPCAD -> 1.66501 | D17: 1.6655 | E17: =(D17-$C$3:$C$18)*10000 -> 4.9 | F17: 1.6645 | G17: =($C$3:$C$18-F17)*10000 -> 5.1 | H17: 1.6655 | I17: =(H17-$C$3:$C$18)*10000 -> 4.9 | J17: 1.6645 | K17: =($C$3:$C$18-J17)*10000 -> 5.1 | L17: 1.6655 | M17: =(L17-$C$3:$C$18)*10000 -> 4.9 | N17: 1.6645 | O17: =($C$3:$C$18-N17)*10000 -> 5.1 | P17: 1.6655 | Q17: =(P17-$C$3:$C$18)*10000 -> 4.9 | R17: 1.6645 | S17: =($C$3:$C$18-R17)*10000 -> 5.1 | T17: 1.6655 | U17: =(T17-$C$3:$C$18)*10000 -> 4.9 | V17: 1.6645 | W17: =($C$3:$C$18-V17)*10000 -> 5.1 | X17: 1.6655 | Y17: =(X17-$C$3:$C$18)*10000 -> 4.9 | Z17: 1.6645 | AA17: =($C$3:$C$18-Z17)*10000 -> 5.1
A18: 16 | B18: GBPNZD | C18: =[1]!GBPNZD -> 1.89435 | D18: 1.895 | E18: =(D18-$C$3:$C$18)*10000 -> 6.5 | F18: 1.894 | G18: =($C$3:$C$18-F18)*10000 -> 3.5 | H18: 1.895 | I18: =(H18-$C$3:$C$18)*10000 -> 6.5 | J18: 1.894 | K18: =($C$3:$C$18-J18)*10000 -> 3.5 | L18: 1.895 | M18: =(L18-$C$3:$C$18)*10000 -> 6.5 | N18: 1.894 | O18: =($C$3:$C$18-N18)*10000 -> 3.5 | P18: 1.895 | Q18: =(P18-$C$3:$C$18)*10000 -> 6.5 | R18: 1.894 | S18: =($C$3:$C$18-R18)*10000 -> 3.5 | T18: 1.895 | U18: =(T18-$C$3:$C$18)*10000 -> 6.5 | V18: 1.894 | W18: =($C$3:$C$18-V18)*10000 -> 3.5 | X18: 1.895 | Y18: =(X18-$C$3:$C$18)*10000 -> 6.5 | Z18: 1.894 | AA18: =($C$3:$C$18-Z18)*10000 -> 3.5

Sheet 123-50%
A1: 123 | D1: M15 | H1: H1 | L1: H4 | P1: D1 | T1: W1 | X1: M1
A2: # | B2: Symbol | C2: Bid | D2: SD Level Sell | E2: Sel | F2: SD Level Buy | G2: Buy | H2: SD Level Sell | I2: Sel | J2: SD Level Buy | K2: Buy | L2: SD Level Sell | M2: Sel | N2: SD Level Buy | O2: Buy | P2: SD Level Sell | Q2: Sel | R2: SD Level Buy | S2: Buy | T2: SD Level Sell | U2: Sel | V2: SD Level Buy | W2: Buy | X2: SD Level Sell | Y2: Sel | Z2: SD Level Buy | AA2: Buy
A3: 1 | B3: AUDUSD | C3: =[1]!AUDUSD -> 0.78151 | D3: 0.7832 | E3: =(D3-$C$3:$C$18)*10000 -> 16.9 | F3: 0.7814 | G3: =($C$3:$C$18-F3)*10000 -> 1.1 | H3: 0.782 | I3: =(H3-$C$3:$C$18)*10000 -> 4.9 | J3: 0.781 | K3: =($C$3:$C$18-J3)*10000 -> 5.1 | L3: 0.782 | M3: =(L3-$C$3:$C$18)*10000 -> 4.9 | N3: 0.781 | O3: =($C$3:$C$18-N3)*10000 -> 5.1 | P3: 0.782 | Q3: =(P3-$C$3:$C$18)*10000 -> 4.9 | R3: 0.781 | S3: =($C$3:$C$18-R3)*10000 -> 5.1 | T3: 0.782 | U3: =(T3-$C$3:$C$18)*10000 -> 4.9 | V3: 0.781 | W3: =($C$3:$C$18-V3)*10000 -> 5.1 | X3: 0.782 | Y3: =(X3-$C$3:$C$18)*10000 -> 4.9 | Z3: 0.781 | AA3: =($C$3:$C$18-Z3)*10000 -> 5.1
A4: 2 | B4: EURUSD | C4: =[1]!EURUSD -> 1.1779 | D4: 1.1785 | E4: =(D4-$C$3:$C$18)*10000 -> 6 | F4: 1.1775 | G4: =($C$3:$C$18-F4)*10000 -> 4 | H4: 1.1785 | I4: =(H4-$C$3:$C$18)*10000 -> 6 | J4: 1.1775 | K4: =($C$3:$C$18-J4)*10000 -> 4 | L4: 1.1785 | M4: =(L4-$C$3:$C$18)*10000 -> 6 | N4: 1.1775 | O4: =($C$3:$C$18-N4)*10000 -> 4 | P4: 1.1785 | Q4: =(P4-$C$3:$C$18)*10000 -> 6 | R4: 1.1775 | S4: =($C$3:$C$18-R4)*10000 -> 4 | T4: 1.1785 | U4: =(T4-$C$3:$C$18)*10000 -> 6 | V4: 1.1775 | W4: =($C$3:$C$18-V4)*10000 -> 4 | X4: 1.1785 | Y4: =(X4-$C$3:$C$18)*10000 -> 6 | Z4: 1.1775 | AA4: =($C$3:$C$18-Z4)*10000 -> 4
A5: 3 | B5: GBPUSD | C5: =[1]!GBPUSD -> 1.31873 | D5: 1.3192 | E5: =(D5-$C$3:$C$18)*10000 -> 4.7 | F5: 1.3182 | G5: =($C$3:$C$18-F5)*10000 -> 5.3 | H5: 1.3192 | I5: =(H5-$C$3:$C$18)*10000 -> 4.7 | J5: 1.3182 | K5: =($C$3:$C$18-J5)*10000 -> 5.3 | L5: 1.3192 | M5: =(L5-$C$3:$C$18)*10000 -> 4.7 | N5: 1.3182 | O5: =($C$3:$C$18-N5)*10000 -> 5.3 | P5: 1.3192 | Q5: =(P5-$C$3:$C$18)*10000 -> 4.7 | R5: 1.3182 | S5: =($C$3:$C$18-R5)*10000 -> 5.3 | T5: 1.3192 | U5: =(T5-$C$3:$C$18)*10000 -> 4.7 | V5: 1.3182 | W5: =($C$3:$C$18-V5)*10000 -> 5.3 | X5: 1.3192 | Y5: =(X5-$C$3:$C$18)*10000 -> 4.7 | Z5: 1.3182 | AA5: =($C$3:$C$18-Z5)*10000 -> 5.3
A6: 4 | B6: NZDUSD | C6: =[1]!NZDUSD -> 0.69629 | D6: 0.697 | E6: =(D6-$C$3:$C$18)*10000 -> 7.1 | F6: 0.696 | G6: =($C$3:$C$18-F6)*10000 -> 2.9 | H6: 0.697 | I6: =(H6-$C$3:$C$18)*10000 -> 7.1 | J6: 0.696 | K6: =($C$3:$C$18-J6)*10000 -> 2.9 | L6: 0.697 | M6: =(L6-$C$3:$C$18)*10000 -> 7.1 | N6: 0.696 | O6: =($C$3:$C$18-N6)*10000 -> 2.9 | P6: 0.697 | Q6: =(P6-$C$3:$C$18)*10000 -> 7.1 | R6: 0.696 | S6: =($C$3:$C$18-R6)*10000 -> 2.9 | T6: 0.697 | U6: =(T6-$C$3:$C$18)*10000 -> 7.1 | V6: 0.696 | W6: =($C$3:$C$18-V6)*10000 -> 2.9 | X6: 0.697 | Y6: =(X6-$C$3:$C$18)*10000 -> 7.1 | Z6: 0.696 | AA6: =($C$3:$C$18-Z6)*10000 -> 2.9
A7: 5 | B7: USDCAD | C7: =[1]!USDCAD -> 1.26249 | D7: 1.263 | E7: =(D7-$C$3:$C$18)*10000 -> 5.1 | F7: 1.262 | G7: =($C$3:$C$18-F7)*10000 -> 4.9 | H7: 1.263 | I7: =(H7-$C$3:$C$18)*10000 -> 5.1 | J7: 1.262 | K7: =($C$3:$C$18-J7)*10000 -> 4.9 | L7: 1.263 | M7: =(L7-$C$3:$C$18)*10000 -> 5.1 | N7: 1.262 | O7: =($C$3:$C$18-N7)*10000 -> 4.9 | P7: 1.263 | Q7: =(P7-$C$3:$C$18)*10000 -> 5.1 | R7: 1.262 | S7: =($C$3:$C$18-R7)*10000 -> 4.9 | T7: 1.263 | U7: =(T7-$C$3:$C$18)*10000 -> 5.1 | V7: 1.262 | W7: =($C$3:$C$18-V7)*10000 -> 4.9 | X7: 1.263 | Y7: =(X7-$C$3:$C$18)*10000 -> 5.1 | Z7: 1.262 | AA7: =($C$3:$C$18-Z7)*10000 -> 4.9
A8: 6 | B8: USDJPY | C8: =[1]!USDJPY -> 113.493 | D8: 113.52 | E8: =(D8-$C$3:$C$18)*100 -> 2.7 | F8: 113.44 | G8: =($C$3:$C$18-F8)*100 -> 5.3 | H8: 113.52 | I8: =(H8-$C$3:$C$18)*100 -> 2.7 | J8: 113.44 | K8: =($C$3:$C$18-J8)*100 -> 5.3 | L8: 113.52 | M8: =(L8-$C$3:$C$18)*100 -> 2.7 | N8: 113.44 | O8: =($C$3:$C$18-N8)*100 -> 5.3 | P8: 113.52 | Q8: =(P8-$C$3:$C$18)*100 -> 2.7 | R8: 113.44 | S8: =($C$3:$C$18-R8)*100 -> 5.3 | T8: 113.52 | U8: =(T8-$C$3:$C$18)*100 -> 2.7 | V8: 113.44 | W8: =($C$3:$C$18-V8)*100 -> 5.3 | X8: 113.52 | Y8: =(X8-$C$3:$C$18)*100 -> 2.7 | Z8: 113.44 | AA8: =($C$3:$C$18-Z8)*100 -> 5.3
A9: 7 | B9: AUDJPY | C9: =[1]!AUDJPY -> 88.683 | D9: 88.72 | E9: =(D9-$C$3:$C$18)*100 -> 3.7 | F9: 88.62 | G9: =($C$3:$C$18-F9)*100 -> 6.3 | H9: 88.72 | I9: =(H9-$C$3:$C$18)*100 -> 3.7 | J9: 88.62 | K9: =($C$3:$C$18-J9)*100 -> 6.3 | L9: 88.72 | M9: =(L9-$C$3:$C$18)*100 -> 3.7 | N9: 88.62 | O9: =($C$3:$C$18-N9)*100 -> 6.3 | P9: 88.72 | Q9: =(P9-$C$3:$C$18)*100 -> 3.7 | R9: 88.62 | S9: =($C$3:$C$18-R9)*100 -> 6.3 | T9: 88.72 | U9: =(T9-$C$3:$C$18)*100 -> 3.7 | V9: 88.62 | W9: =($C$3:$C$18-V9)*100 -> 6.3 | X9: 88.72 | Y9: =(X9-$C$3:$C$18)*100 -> 3.7 | Z9: 88.62 | AA9: =($C$3:$C$18-Z9)*100 -> 6.3
A10: 8 | B10: EURJPY | C10: =[1]!EURJPY -> 133.65 | D10: 133.7 | E10: =(D10-$C$3:$C$18)*100 -> 5 | F10: 133.6 | G10: =($C$3:$C$18-F10)*100 -> 5 | H10: 133.7 | I10: =(H10-$C$3:$C$18)*100 -> 5 | J10: 133.6 | K10: =($C$3:$C$18-J10)*100 -> 5 | L10: 133.7 | M10: =(L10-$C$3:$C$18)*100 -> 5 | N10: 133.6 | O10: =($C$3:$C$18-N10)*100 -> 5 | P10: 133.7 | Q10: =(P10-$C$3:$C$18)*100 -> 5 | R10: 133.6 | S10: =($C$3:$C$18-R10)*100 -> 5 | T10: 133.7 | U10: =(T10-$C$3:$C$18)*100 -> 5 | V10: 133.6 | W10: =($C$3:$C$18-V10)*100 -> 5 | X10: 133.7 | Y10: =(X10-$C$3:$C$18)*100 -> 5 | Z10: 133.6 | AA10: =($C$3:$C$18-Z10)*100 -> 5
A11: 9 | B11: GBPJPY | C11: =[1]!GBPJPY -> 149.678 | D11: 149.72 | E11: =(D11-$C$3:$C$18)*100 -> 4.2 | F11: 149.62 | G11: =($C$3:$C$18-F11)*100 -> 5.8 | H11: 149.72 | I11: =(H11-$C$3:$C$18)*100 -> 4.2 | J11: 149.62 | K11: =($C$3:$C$18-J11)*100 -> 5.8 | L11: 149.72 | M11: =(L11-$C$3:$C$18)*100 -> 4.2 | N11: 149.62 | O11: =($C$3:$C$18-N11)*100 -> 5.8 | P11: 149.72 | Q11: =(P11-$C$3:$C$18)*100 -> 4.2 | R11: 149.62 | S11: =($C$3:$C$18-R11)*100 -> 5.8 | T11: 149.72 | U11: =(T11-$C$3:$C$18)*100 -> 4.2 | V11: 149.62 | W11: =($C$3:$C$18-V11)*100 -> 5.8 | X11: 149.72 | Y11: =(X11-$C$3:$C$18)*100 -> 4.2 | Z11: 149.62 | AA11: =($C$3:$C$18-Z11)*100 -> 5.8
A12: 10 | B12: EURAUD | C12: =[1]!EURAUD -> 1.50637 | D12: 1.5068 | E12: =(D12-$C$3:$C$18)*10000 -> 4.3 | F12: 1.506 | G12: =($C$3:$C$18-F12)*10000 -> 3.7 | H12: 1.5068 | I12: =(H12-$C$3:$C$18)*10000 -> 4.3 | J12: 1.506 | K12: =($C$3:$C$18-J12)*10000 -> 3.7 | L12: 1.5068 | M12: =(L12-$C$3:$C$18)*10000 -> 4.3 | N12: 1.506 | O12: =($C$3:$C$18-N12)*10000 -> 3.7 | P12: 1.5068 | Q12: =(P12-$C$3:$C$18)*10000 -> 4.3 | R12: 1.506 | S12: =($C$3:$C$18-R12)*10000 -> 3.7 | T12: 1.5068 | U12: =(T12-$C$3:$C$18)*10000 -> 4.3 | V12: 1.506 | W12: =($C$3:$C$18-V12)*10000 -> 3.7 | X12: 1.5068 | Y12: =(X12-$C$3:$C$18)*10000 -> 4.3 | Z12: 1.506 | AA12: =($C$3:$C$18-Z12)*10000 -> 3.7
A13: 11 | B13: EURCAD | C13: =[1]!EURCAD -> 1.48679 | D13: 1.4872 | E13: =(D13-$C$3:$C$18)*10000 -> 4.1 | F13: 1.4862 | G13: =($C$3:$C$18-F13)*10000 -> 5.9 | H13: 1.4872 | I13: =(H13-$C$3:$C$18)*10000 -> 4.1 | J13: 1.4862 | K13: =($C$3:$C$18-J13)*10000 -> 5.9 | L13: 1.4872 | M13: =(L13-$C$3:$C$18)*10000 -> 4.1 | N13: 1.4862 | O13: =($C$3:$C$18-N13)*10000 -> 5.9 | P13: 1.4872 | Q13: =(P13-$C$3:$C$18)*10000 -> 4.1 | R13: 1.4862 | S13: =($C$3:$C$18-R13)*10000 -> 5.9 | T13: 1.4872 | U13: =(T13-$C$3:$C$18)*10000 -> 4.1 | V13: 1.4862 | W13: =($C$3:$C$18-V13)*10000 -> 5.9 | X13: 1.4872 | Y13: =(X13-$C$3:$C$18)*10000 -> 4.1 | Z13: 1.4862 | AA13: =($C$3:$C$18-Z13)*10000 -> 5.9
A14: 12 | B14: EURGBP | C14: =[1]!EURGBP -> 0.89236 | D14: 0.893 | E14: =(D14-$C$3:$C$18)*10000 -> 6.4 | F14: 0.892 | G14: =($C$3:$C$18-F14)*10000 -> 3.6 | H14: 0.893 | I14: =(H14-$C$3:$C$18)*10000 -> 6.4 | J14: 0.892 | K14: =($C$3:$C$18-J14)*10000 -> 3.6 | L14: 0.893 | M14: =(L14-$C$3:$C$18)*10000 -> 6.4 | N14: 0.892 | O14: =($C$3:$C$18-N14)*10000 -> 3.6 | P14: 0.893 | Q14: =(P14-$C$3:$C$18)*10000 -> 6.4 | R14: 0.892 | S14: =($C$3:$C$18-R14)*10000 -> 3.6 | T14: 0.893 | U14: =(T14-$C$3:$C$18)*10000 -> 6.4 | V14: 0.892 | W14: =($C$3:$C$18-V14)*10000 -> 3.6 | X14: 0.893 | Y14: =(X14-$C$3:$C$18)*10000 -> 6.4 | Z14: 0.892 | AA14: =($C$3:$C$18-Z14)*10000 -> 3.6
A15: 13 | B15: EURNZD | C15: =[1]!EURNZD -> 1.6915 | D15: 1.692 | E15: =(D15-$C$3:$C$18)*10000 -> 5 | F15: 1.691 | G15: =($C$3:$C$18-F15)*10000 -> 5 | H15: 1.692 | I15: =(H15-$C$3:$C$18)*10000 -> 5 | J15: 1.691 | K15: =($C$3:$C$18-J15)*10000 -> 5 | L15: 1.692 | M15: =(L15-$C$3:$C$18)*10000 -> 5 | N15: 1.691 | O15: =($C$3:$C$18-N15)*10000 -> 5 | P15: 1.692 | Q15: =(P15-$C$3:$C$18)*10000 -> 5 | R15: 1.691 | S15: =($C$3:$C$18-R15)*10000 -> 5 | T15: 1.692 | U15: =(T15-$C$3:$C$18)*10000 -> 5 | V15: 1.691 | W15: =($C$3:$C$18-V15)*10000 -> 5 | X15: 1.692 | Y15: =(X15-$C$3:$C$18)*10000 -> 5 | Z15: 1.691 | AA15: =($C$3:$C$18-Z15)*10000 -> 5
A16: 14 | B16: GBPAUD | C16: =[1]!GBPAUD -> 1.68692 | D16: 1.6874 | E16: =(D16-$C$3:$C$18)*10000 -> 4.8 | F16: 1.6864 | G16: =($C$3:$C$18-F16)*10000 -> 5.2 | H16: 1.6874 | I16: =(H16-$C$3:$C$18)*10000 -> 4.8 | J16: 1.6864 | K16: =($C$3:$C$18-J16)*10000 -> 5.2 | L16: 1.6874 | M16: =(L16-$C$3:$C$18)*10000 -> 4.8 | N16: 1.6864 | O16: =($C$3:$C$18-N16)*10000 -> 5.2 | P16: 1.6874 | Q16: =(P16-$C$3:$C$18)*10000 -> 4.8 | R16: 1.6864 | S16: =($C$3:$C$18-R16)*10000 -> 5.2 | T16: 1.6874 | U16: =(T16-$C$3:$C$18)*10000 -> 4.8 | V16: 1.6864 | W16: =($C$3:$C$18-V16)*10000 -> 5.2 | X16: 1.6874 | Y16: =(X16-$C$3:$C$18)*10000 -> 4.8 | Z16: 1.6864 | AA16: =($C$3:$C$18-Z16)*10000 -> 5.2
A17: 15 | B17: GBPCAD | C17: =[1]!GBPCAD -> 1.66501 | D17: 1.6655 | E17: =(D17-$C$3:$C$18)*10000 -> 4.9 | F17: 1.6645 | G17: =($C$3:$C$18-F17)*10000 -> 5.1 | H17: 1.6655 | I17: =(H17-$C$3:$C$18)*10000 -> 4.9 | J17: 1.6645 | K17: =($C$3:$C$18-J17)*10000 -> 5.1 | L17: 1.6655 | M17: =(L17-$C$3:$C$18)*10000 -> 4.9 | N17: 1.6645 | O17: =($C$3:$C$18-N17)*10000 -> 5.1 | P17: 1.6655 | Q17: =(P17-$C$3:$C$18)*10000 -> 4.9 | R17: 1.6645 | S17: =($C$3:$C$18-R17)*10000 -> 5.1 | T17: 1.6655 | U17: =(T17-$C$3:$C$18)*10000 -> 4.9 | V17: 1.6645 | W17: =($C$3:$C$18-V17)*10000 -> 5.1 | X17: 1.6655 | Y17: =(X17-$C$3:$C$18)*10000 -> 4.9 | Z17: 1.6645 | AA17: =($C$3:$C$18-Z17)*10000 -> 5.1
A18: 16 | B18: GBPNZD | C18: =[1]!GBPNZD -> 1.89435 | D18: 1.895 | E18: =(D18-$C$3:$C$18)*10000 -> 6.5 | F18: 1.894 | G18: =($C$3:$C$18-F18)*10000 -> 3.5 | H18: 1.895 | I18: =(H18-$C$3:$C$18)*10000 -> 6.5 | J18: 1.894 | K18: =($C$3:$C$18-J18)*10000 -> 3.5 | L18: 1.895 | M18: =(L18-$C$3:$C$18)*10000 -> 6.5 | N18: 1.894 | O18: =($C$3:$C$18-N18)*10000 -> 3.5 | P18: 1.895 | Q18: =(P18-$C$3:$C$18)*10000 -> 6.5 | R18: 1.894 | S18: =($C$3:$C$18-R18)*10000 -> 3.5 | T18: 1.895 | U18: =(T18-$C$3:$C$18)*10000 -> 6.5 | V18: 1.894 | W18: =($C$3:$C$18-V18)*10000 -> 3.5 | X18: 1.895 | Y18: =(X18-$C$3:$C$18)*10000 -> 6.5 | Z18: 1.894 | AA18: =($C$3:$C$18-Z18)*10000 -> 3.5

Sheet 123-75%
A1: 123 | D1: M15 | H1: H1 | L1: H4 | P1: D1 | T1: W1 | X1: M1
A2: # | B2: Symbol | C2: Bid | D2: SD Level Sell | E2: Sel | F2: SD Level Buy | G2: Buy | H2: SD Level Sell | I2: Sel | J2: SD Level Buy | K2: Buy | L2: SD Level Sell | M2: Sel | N2: SD Level Buy | O2: Buy | P2: SD Level Sell | Q2: Sel | R2: SD Level Buy | S2: Buy | T2: SD Level Sell | U2: Sel | V2: SD Level Buy | W2: Buy | X2: SD Level Sell | Y2: Sel | Z2: SD Level Buy | AA2: Buy
A3: 1 | B3: AUDUSD | C3: =[1]!AUDUSD -> 0.78151 | D3: 0.7844 | E3: =(D3-$C$3:$C$18)*10000 -> 28.9 | F3: 0.7774 | G3: =($C$3:$C$18-F3)*10000 -> 41.1 | H3: 0.782 | I3: =(H3-$C$3:$C$18)*10000 -> 4.9 | J3: 0.781 | K3: =($C$3:$C$18-J3)*10000 -> 5.1 | L3: 0.782 | M3: =(L3-$C$3:$C$18)*10000 -> 4.9 | N3: 0.781 | O3: =($C$3:$C$18-N3)*10000 -> 5.1 | P3: 0.782 | Q3: =(P3-$C$3:$C$18)*10000 -> 4.9 | R3: 0.781 | S3: =($C$3:$C$18-R3)*10000 -> 5.1 | T3: 0.782 | U3: =(T3-$C$3:$C$18)*10000 -> 4.9 | V3: 0.781 | W3: =($C$3:$C$18-V3)*10000 -> 5.1 | X3: 0.782 | Y3: =(X3-$C$3:$C$18)*10000 -> 4.9 | Z3: 0.781 | AA3: =($C$3:$C$18-Z3)*10000 -> 5.1
A4: 2 | B4: EURUSD | C4: =[1]!EURUSD -> 1.1779 | D4: 1.1785 | E4: =(D4-$C$3:$C$18)*10000 -> 6 | F4: 1.1775 | G4: =($C$3:$C$18-F4)*10000 -> 4 | H4: 1.1785 | I4: =(H4-$C$3:$C$18)*10000 -> 6 | J4: 1.1775 | K4: =($C$3:$C$18-J4)*10000 -> 4 | L4: 1.1785 | M4: =(L4-$C$3:$C$18)*10000 -> 6 | N4: 1.1775 | O4: =($C$3:$C$18-N4)*10000 -> 4 | P4: 1.1785 | Q4: =(P4-$C$3:$C$18)*10000 -> 6 | R4: 1.1775 | S4: =($C$3:$C$18-R4)*10000 -> 4 | T4: 1.1785 | U4: =(T4-$C$3:$C$18)*10000 -> 6 | V4: 1.1775 | W4: =($C$3:$C$18-V4)*10000 -> 4 | X4: 1.1785 | Y4: =(X4-$C$3:$C$18)*10000 -> 6 | Z4: 1.1775 | AA4: =($C$3:$C$18-Z4)*10000 -> 4
A5: 3 | B5: GBPUSD | C5: =[1]!GBPUSD -> 1.31873 | D5: 1.3192 | E5: =(D5-$C$3:$C$18)*10000 -> 4.7 | F5: 1.3182 | G5: =($C$3:$C$18-F5)*10000 -> 5.3 | H5: 1.3192 | I5: =(H5-$C$3:$C$18)*10000 -> 4.7 | J5: 1.3182 | K5: =($C$3:$C$18-J5)*10000 -> 5.3 | L5: 1.3192 | M5: =(L5-$C$3:$C$18)*10000 -> 4.7 | N5: 1.3182 | O5: =($C$3:$C$18-N5)*10000 -> 5.3 | P5: 1.3192 | Q5: =(P5-$C$3:$C$18)*10000 -> 4.7 | R5: 1.3182 | S5: =($C$3:$C$18-R5)*10000 -> 5.3 | T5: 1.3192 | U5: =(T5-$C$3:$C$18)*10000 -> 4.7 | V5: 1.3182 | W5: =($C$3:$C$18-V5)*10000 -> 5.3 | X5: 1.3192 | Y5: =(X5-$C$3:$C$18)*10000 -> 4.7 | Z5: 1.3182 | AA5: =($C$3:$C$18-Z5)*10000 -> 5.3
A6: 4 | B6: NZDUSD | C6: =[1]!NZDUSD -> 0.69629 | D6: 0.697 | E6: =(D6-$C$3:$C$18)*10000 -> 7.1 | F6: 0.696 | G6: =($C$3:$C$18-F6)*10000 -> 2.9 | H6: 0.697 | I6: =(H6-$C$3:$C$18)*10000 -> 7.1 | J6: 0.696 | K6: =($C$3:$C$18-J6)*10000 -> 2.9 | L6: 0.697 | M6: =(L6-$C$3:$C$18)*10000 -> 7.1 | N6: 0.696 | O6: =($C$3:$C$18-N6)*10000 -> 2.9 | P6: 0.697 | Q6: =(P6-$C$3:$C$18)*10000 -> 7.1 | R6: 0.696 | S6: =($C$3:$C$18-R6)*10000 -> 2.9 | T6: 0.697 | U6: =(T6-$C$3:$C$18)*10000 -> 7.1 | V6: 0.696 | W6: =($C$3:$C$18-V6)*10000 -> 2.9 | X6: 0.697 | Y6: =(X6-$C$3:$C$18)*10000 -> 7.1 | Z6: 0.696 | AA6: =($C$3:$C$18-Z6)*10000 -> 2.9
A7: 5 | B7: USDCAD | C7: =[1]!USDCAD -> 1.26249 | D7: 1.263 | E7: =(D7-$C$3:$C$18)*10000 -> 5.1 | F7: 1.262 | G7: =($C$3:$C$18-F7)*10000 -> 4.9 | H7: 1.263 | I7: =(H7-$C$3:$C$18)*10000 -> 5.1 | J7: 1.262 | K7: =($C$3:$C$18-J7)*10000 -> 4.9 | L7: 1.263 | M7: =(L7-$C$3:$C$18)*10000 -> 5.1 | N7: 1.262 | O7: =($C$3:$C$18-N7)*10000 -> 4.9 | P7: 1.263 | Q7: =(P7-$C$3:$C$18)*10000 -> 5.1 | R7: 1.262 | S7: =($C$3:$C$18-R7)*10000 -> 4.9 | T7: 1.263 | U7: =(T7-$C$3:$C$18)*10000 -> 5.1 | V7: 1.262 | W7: =($C$3:$C$18-V7)*10000 -> 4.9 | X7: 1.263 | Y7: =(X7-$C$3:$C$18)*10000 -> 5.1 | Z7: 1.262 | AA7: =($C$3:$C$18-Z7)*10000 -> 4.9
A8: 6 | B8: USDJPY | C8: =[1]!USDJPY -> 113.493 | D8: 113.52 | E8: =(D8-$C$3:$C$18)*100 -> 2.7 | F8: 113.44 | G8: =($C$3:$C$18-F8)*100 -> 5.3 | H8: 113.52 | I8: =(H8-$C$3:$C$18)*100 -> 2.7 | J8: 113.44 | K8: =($C$3:$C$18-J8)*100 -> 5.3 | L8: 113.52 | M8: =(L8-$C$3:$C$18)*100 -> 2.7 | N8: 113.44 | O8: =($C$3:$C$18-N8)*100 -> 5.3 | P8: 113.52 | Q8: =(P8-$C$3:$C$18)*100 -> 2.7 | R8: 113.44 | S8: =($C$3:$C$18-R8)*100 -> 5.3 | T8: 113.52 | U8: =(T8-$C$3:$C$18)*100 -> 2.7 | V8: 113.44 | W8: =($C$3:$C$18-V8)*100 -> 5.3 | X8: 113.52 | Y8: =(X8-$C$3:$C$18)*100 -> 2.7 | Z8: 113.44 | AA8: =($C$3:$C$18-Z8)*100 -> 5.3
A9: 7 | B9: AUDJPY | C9: =[1]!AUDJPY -> 88.683 | D9: 88.72 | E9: =(D9-$C$3:$C$18)*100 -> 3.7 | F9: 88.62 | G9: =($C$3:$C$18-F9)*100 -> 6.3 | H9: 88.72 | I9: =(H9-$C$3:$C$18)*100 -> 3.7 | J9: 88.62 | K9: =($C$3:$C$18-J9)*100 -> 6.3 | L9: 88.72 | M9: =(L9-$C$3:$C$18)*100 -> 3.7 | N9: 88.62 | O9: =($C$3:$C$18-N9)*100 -> 6.3 | P9: 88.72 | Q9: =(P9-$C$3:$C$18)*100 -> 3.7 | R9: 88.62 | S9: =($C$3:$C$18-R9)*100 -> 6.3 | T9: 88.72 | U9: =(T9-$C$3:$C$18)*100 -> 3.7 | V9: 88.62 | W9: =($C$3:$C$18-V9)*100 -> 6.3 | X9: 88.72 | Y9: =(X9-$C$3:$C$18)*100 -> 3.7 | Z9: 88.62 | AA9: =($C$3:$C$18-Z9)*100 -> 6.3
