Workbook

Sheet Summary
A1: =MAX('Breakout Systems'!T3:T5000) -> 29 | B1: Trade Statistics - Closed Trades Only - DTT, EDTT, EDTT1 | AH1: Trades by Timeframe | AN1: Days Held by Timeframe | AT1: Avge Days Held by Timeframe | BB1: Overview | CA1: Equity | CB1: Drawdown
A2: Month# | B2: Year | C2: Month | D2: Trades | E2: Wins | F2: Pwin% | G2: Losses | H2: Ploss% | I2: Long | J2: Long % | K2: Short | L2: Short % | M2: In-Trend | N2: InTrend % | O2: C-Trend | P2: C-Trend % | Q2: Win$ | R2: Loss$ | S2: Profit$ | T2: Total Win$ | U2: Total Loss$ | V2: Profit $ | W2: Avg Win$ | X2: Avg Loss$ | Y2: Avg Profit $ | Z2: 200000 | AA2: Return% | AB2: Max Equity | AC2: Draw % | AD2: Max Win | AE2: Market | AF2: Max Loss | AG2: Market | AH2: M30 | AI2: H1 | AJ2: H4 | AK2: D1 | AL2: W1 | AM2: MN | AN2: M30 | AO2: H1 | AP2: H4 | AQ2: D1 | AR2: W1 | AS2: MN | AT2: M30 | AU2: H1 | AV2: H4 | AW2: D1 | AX2: W1 | AY2: MN | AZ2: Total | BL2: Date | BM2: Pwin | BN2: Cum Pwin | BO2: Avg Win$ | BP2: Cum Avg Win$ | BR2: Date | BS2: Total Trades | BT2: Avge Trades | BZ2: 41974 | CA2: =Z2 -> 200000 | CB2: 0
A3: 1 | B3: 2015 | C3: Jan | D3: =COUNTIF('Breakout Systems'!T$3:T$5000,A3) -> 35 | E3: =SUMIF('Breakout Systems'!T$3:T$5000,A3,'Breakout Systems'!Z$3:Z$5000) -> 18 | F3: =IF(D3=0,0,E3/D3) -> 0.51428571 | G3: =SUMIF('Breakout Systems'!T$3:T$5000,A3,'Breakout Systems'!AA$3:AA$5000) -> 17 | H3: =IF(D3=0,0,G3/D3) -> 0.48571429 | I3: =SUMIF('Breakout Systems'!T$3:T$5000,A3,'Breakout Systems'!V$3:V$5000) -> 17 | J3: =IF($D3=0,0,I3/$D3) -> 0.48571429 | K3: =SUMIF('Breakout Systems'!$T$3:$T$5000,$A3,'Breakout Systems'!W$3:W$5000) -> 18 | L3: =IF($D3=0,0,K3/$D3) -> 0.51428571 | M3: =SUMIF('Breakout Systems'!$T$3:$T$5000,$A3,'Breakout Systems'!X$3:X$5000) -> 25 | N3: =IF($D3=0,0,M3/$D3) -> 0.71428571 | O3: =SUMIF('Breakout Systems'!$T$3:$T$5000,$A3,'Breakout Systems'!Y$3:Y$5000) -> 10 | P3: =IF($D3=0,0,O3/$D3) -> 0.28571429 | Q3: =SUMIF('Breakout Systems'!$T$3:$T$5000,$A3,'Breakout Systems'!AB$3:AB$5000) -> 12315.37 | R3: =SUMIF('Breakout Systems'!$T$3:$T$5000,$A3,'Breakout Systems'!AD$3:AD$5000) -> -4101.03 | S3: =Q3+R3 -> 8214.34 | T3: =IF(D3=0,0,SUMIF('Breakout Systems'!T$3:T$5000,A3,'Breakout Systems'!AB$3:AB$5000)) -> 12315.37 | U3: =IF(D3=0,0,SUMIF('Breakout Systems'!T$3:T$5000,A3,'Breakout Systems'!AD$3:AD$5000)) -> -4101.03 | V3: =IF(D3=0,0,SUMIF('Breakout Systems'!T$3:T$5000,A3,'Breakout Systems'!O$3:O$5000)) -> 8214.34 | W3: =IF(D3=0,0,T3/E3) -> 684.18722 | X3: =IF(D3=0,0,U3/G3) -> -241.23706 | Y3: =IF(D3=0,0,V3/D3) -> 234.69543 | Z3: =S3+Z2 -> 208214.34 | AA3: =V3/$Z$2 -> 0.0410717 | AB3: =MAX(Z$2:Z3) -> 208214.34 | AC3: =(AB3-Z3)/Z3 -> 0 | AD3: {=MAX(IF('Breakout Systems'!T$3:T$5000=A3,'Breakout Systems'!AB$3:AB$5000))} -> 4381.92 | AE3: =IF(AD3=0,0,INDEX('Breakout Systems'!AC$3:AC$5000,(MATCH(AD3,'Breakout Systems'!AB$3:AB$5000,0)))) -> USDCAD | AF3: {=MIN(IF('Breakout Systems'!T$3:T$5000=A3,'Breakout Systems'!AD$3:AD$5000))} -> -1057.5 | AG3: =IF(AF3=0,0,INDEX('Breakout Systems'!AC$3:AC$5000,(MATCH(AF3,'Breakout Systems'!AD$3:AD$5000,0)))) -> USDCHF | AH3: =COUNTIFS('Breakout Systems'!$D$3:$D$5000,AH$2,'Breakout Systems'!$T$3:$T$5000,$A3) -> 20 | AI3: =COUNTIFS('Breakout Systems'!$D$3:$D$5000,AI$2,'Breakout Systems'!$T$3:$T$5000,$A3) -> 11 | AJ3: =COUNTIFS('Breakout Systems'!$D$3:$D$5000,AJ$2,'Breakout Systems'!$T$3:$T$5000,$A3) -> 0 | AK3: =COUNTIFS('Breakout Systems'!$D$3:$D$5000,AK$2,'Breakout Systems'!$T$3:$T$5000,$A3) -> 4 | AL3: =COUNTIFS('Breakout Systems'!$D$3:$D$5000,AL$2,'Breakout Systems'!$T$3:$T$5000,$A3) -> 0 | AM3: =COUNTIFS('Breakout Systems'!$D$3:$D$5000,AM$2,'Breakout Systems'!$T$3:$T$5000,$A3) -> 0 | AN3: =SUMIFS('Breakout Systems'!$R$3:$R$5000,'Breakout Systems'!$D$3:$D$5000,AN$2,'Breakout Systems'!$T$3:$T$5000,$A3) -> 83 | AO3: =SUMIFS('Breakout Systems'!$R$3:$R$5000,'Breakout Systems'!$D$3:$D$5000,AO$2,'Breakout Systems'!$T$3:$T$5000,$A3) -> 111 | AP3: =SUMIFS('Breakout Systems'!$R$3:$R$5000,'Breakout Systems'!$D$3:$D$5000,AP$2,'Breakout Systems'!$T$3:$T$5000,$A3) -> 0 | AQ3: =SUMIFS('Breakout Systems'!$R$3:$R$5000,'Breakout Systems'!$D$3:$D$5000,AQ$2,'Breakout Systems'!$T$3:$T$5000,$A3) -> 129 | AR3: =SUMIFS('Breakout Systems'!$R$3:$R$5000,'Breakout Systems'!$D$3:$D$5000,AR$2,'Breakout Systems'!$T$3:$T$5000,$A3) -> 0 | AS3: =SUMIFS('Breakout Systems'!$R$3:$R$5000,'Breakout Systems'!$D$3:$D$5000,AS$2,'Breakout Systems'!$T$3:$T$5000,$A3) -> 0 | AT3: =IF(AN3=0,0,AN3/AH3) -> 4.15 | AU3: =IF(AO3=0,0,AO3/AI3) -> 10.090909 | AV3: =IF(AP3=0,0,AP3/AJ3) -> 0 | AW3: =IF(AQ3=0,0,AQ3/AK3) -> 32.25 | AX3: =IF(AR3=0,0,AR3/AL3) -> 0 | AY3: =IF(AS3=0,0,AS3/AM3) -> 0 | AZ3: =IF(AH3=0,0,SUM(AN3:AS3)/SUM(AH3:AM3)) -> 9.2285714 | BL3: 42035 | BM3: =F3 -> 0.51428571 | BN3: =E3/D3 -> 0.51428571 | BO3: =W3 -> 684.18722 | BP3: =T3/E3 -> 684.18722 | BR3: 42035 | BS3: =D3 -> 35 | BT3: =BS3 -> 35 | BZ3: =C3&" "&B3 -> Jan 2015 | CA3: =IF(D3=0," ",Z3) -> 208214.34 | CB3: =IF(D3=0," ",AC3) -> 0
A4: =A3+1 -> 2 | B4: 2015 | C4: Feb | D4: =COUNTIF('Breakout Systems'!T$3:T$5000,A4) -> 71 | E4: =SUMIF('Breakout Systems'!T$3:T$5000,A4,'Breakout Systems'!Z$3:Z$5000) -> 19 | F4: =IF(D4=0,0,E4/D4) -> 0.26760563 | G4: =SUMIF('Breakout Systems'!T$3:T$5000,A4,'Breakout Systems'!AA$3:AA$5000) -> 52 | H4: =IF(D4=0,0,G4/D4) -> 0.73239437 | I4: =SUMIF('Breakout Systems'!T$3:T$5000,A4,'Breakout Systems'!V$3:V$5000) -> 42 | J4: =IF($D4=0,0,I4/$D4) -> 0.5915493 | K4: =SUMIF('Breakout Systems'!$T$3:$T$5000,$A4,'Breakout Systems'!W$3:W$5000) -> 29 | L4: =IF($D4=0,0,K4/$D4) -> 0.4084507 | M4: =SUMIF('Breakout Systems'!$T$3:$T$5000,$A4,'Breakout Systems'!X$3:X$5000) -> 46 | N4: =IF($D4=0,0,M4/$D4) -> 0.64788732 | O4: =SUMIF('Breakout Systems'!$T$3:$T$5000,$A4,'Breakout Systems'!Y$3:Y$5000) -> 25 | P4: =IF($D4=0,0,O4/$D4) -> 0.35211268 | Q4: =SUMIF('Breakout Systems'!$T$3:$T$5000,$A4,'Breakout Systems'!AB$3:AB$5000) -> 6501.13 | R4: =SUMIF('Breakout Systems'!$T$3:$T$5000,$A4,'Breakout Systems'!AD$3:AD$5000) -> -12035.12 | S4: =Q4+R4 -> -5533.99 | T4: =IF(D4=0,0,SUMIF('Breakout Systems'!T$3:T$5000,A4,'Breakout Systems'!AB$3:AB$5000)) -> 6501.13 | U4: =IF(D4=0,0,SUMIF('Breakout Systems'!T$3:T$5000,A4,'Breakout Systems'!AD$3:AD$5000)) -> -12035.12 | V4: =IF(D4=0,0,SUMIF('Breakout Systems'!T$3:T$5000,A4,'Breakout Systems'!O$3:O$5000)) -> -5533.99 | W4: =IF(D4=0,0,T4/E4) -> 342.16474 | X4: =IF(D4=0,0,U4/G4) -> -231.44462 | Y4: =IF(D4=0,0,V4/D4) -> -77.943521 | Z4: =S4+Z3 -> 202680.35 | AA4: =V4/$Z$2 -> -0.02766995 | AB4: =MAX(Z$2:Z4) -> 208214.34 | AC4: =(AB4-Z4)/Z4 -> 0.027304028 | AD4: {=MAX(IF('Breakout Systems'!T$3:T$5000=A4,'Breakout Systems'!AB$3:AB$5000))} -> 1877.8 | AE4: =IF(AD4=0,0,INDEX('Breakout Systems'!AC$3:AC$5000,(MATCH(AD4,'Breakout Systems'!AB$3:AB$5000,0)))) -> USDCAD | AF4: {=MIN(IF('Breakout Systems'!T$3:T$5000=A4,'Breakout Systems'!AD$3:AD$5000))} -> -719.21 | AG4: =IF(AF4=0,0,INDEX('Breakout Systems'!AC$3:AC$5000,(MATCH(AF4,'Breakout Systems'!AD$3:AD$5000,0)))) -> NZDJPY | AH4: =COUNTIFS('Breakout Systems'!$D$3:$D$5000,AH$2,'Breakout Systems'!$T$3:$T$5000,$A4) -> 41 | AI4: =COUNTIFS('Breakout Systems'!$D$3:$D$5000,AI$2,'Breakout Systems'!$T$3:$T$5000,$A4) -> 23 | AJ4: =COUNTIFS('Breakout Systems'!$D$3:$D$5000,AJ$2,'Breakout Systems'!$T$3:$T$5000,$A4) -> 4 | AK4: =COUNTIFS('Breakout Systems'!$D$3:$D$5000,AK$2,'Breakout Systems'!$T$3:$T$5000,$A4) -> 3 | AL4: =COUNTIFS('Breakout Systems'!$D$3:$D$5000,AL$2,'Breakout Systems'!$T$3:$T$5000,$A4) -> 0 | AM4: =COUNTIFS('Breakout Systems'!$D$3:$D$5000,AM$2,'Breakout Systems'!$T$3:$T$5000,$A4) -> 0 | AN4: =SUMIFS('Breakout Systems'!$R$3:$R$5000,'Breakout Systems'!$D$3:$D$5000,AN$2,'Breakout Systems'!$T$3:$T$5000,$A4) -> 151 | AO4: =SUMIFS('Breakout Systems'!$R$3:$R$5000,'Breakout Systems'!$D$3:$D$5000,AO$2,'Breakout Systems'!$T$3:$T$5000,$A4) -> 146 | AP4: =SUMIFS('Breakout Systems'!$R$3:$R$5000,'Breakout Systems'!$D$3:$D$5000,AP$2,'Breakout Systems'!$T$3:$T$5000,$A4) -> 16 | AQ4: =SUMIFS('Breakout Systems'!$R$3:$R$5000,'Breakout Systems'!$D$3:$D$5000,AQ$2,'Breakout Systems'!$T$3:$T$5000,$A4) -> 40 | AR4: =SUMIFS('Breakout Systems'!$R$3:$R$5000,'Breakout Systems'!$D$3:$D$5000,AR$2,'Breakout Systems'!$T$3:$T$5000,$A4) -> 0 | AS4: =SUMIFS('Breakout Systems'!$R$3:$R$5000,'Breakout Systems'!$D$3:$D$5000,AS$2,'Breakout Systems'!$T$3:$T$5000,$A4) -> 0 | AT4: =IF(AN4=0,0,AN4/AH4) -> 3.6829268 | AU4: =IF(AO4=0,0,AO4/AI4) -> 6.3478261 | AV4: =IF(AP4=0,0,AP4/AJ4) -> 4 | AW4: =IF(AQ4=0,0,AQ4/AK4) -> 13.333333 | AX4: =IF(AR4=0,0,AR4/AL4) -> 0 | AY4: =IF(AS4=0,0,AS4/AM4) -> 0 | AZ4: =IF(AH4=0,0,SUM(AN4:AS4)/SUM(AH4:AM4)) -> 4.971831 | BL4: =EOMONTH(BL3,1) -> 42063 | BM4: =F4 -> 0.26760563 | BN4: =SUM(E$3:E4)/SUM(D$3:D4) -> 0.3490566 | BO4: =W4 -> 342.16474 | BP4: =SUM(T$3:T4)/SUM(E$3:E4) -> 508.55405 | BR4: =EOMONTH(BR3,1) -> 42063 | BS4: =D4 -> 71 | BT4: =ROUND(AVERAGE(BS$3:BS4),0) -> 53 | BZ4: =C4&" "&B4 -> Feb 2015 | CA4: =IF(D4=0," ",Z4) -> 202680.35 | CB4: =IF(D4=0," ",AC4) -> 0.027304028
A5: =A4+1 -> 3 | B5: 2015 | C5: Mar | D5: =COUNTIF('Breakout Systems'!T$3:T$5000,A5) -> 108 | E5: =SUMIF('Breakout Systems'!T$3:T$5000,A5,'Breakout Systems'!Z$3:Z$5000) -> 42 | F5: =IF(D5=0,0,E5/D5) -> 0.38888889 | G5: =SUMIF('Breakout Systems'!T$3:T$5000,A5,'Breakout Systems'!AA$3:AA$5000) -> 66 | H5: =IF(D5=0,0,G5/D5) -> 0.61111111 | I5: =SUMIF('Breakout Systems'!T$3:T$5000,A5,'Breakout Systems'!V$3:V$5000) -> 63 | J5: =IF($D5=0,0,I5/$D5) -> 0.58333333 | K5: =SUMIF('Breakout Systems'!$T$3:$T$5000,$A5,'Breakout Systems'!W$3:W$5000) -> 45 | L5: =IF($D5=0,0,K5/$D5) -> 0.41666667 | M5: =SUMIF('Breakout Systems'!$T$3:$T$5000,$A5,'Breakout Systems'!X$3:X$5000) -> 88 | N5: =IF($D5=0,0,M5/$D5) -> 0.81481481 | O5: =SUMIF('Breakout Systems'!$T$3:$T$5000,$A5,'Breakout Systems'!Y$3:Y$5000) -> 20 | P5: =IF($D5=0,0,O5/$D5) -> 0.18518519 | Q5: =SUMIF('Breakout Systems'!$T$3:$T$5000,$A5,'Breakout Systems'!AB$3:AB$5000) -> 29108.67 | R5: =SUMIF('Breakout Systems'!$T$3:$T$5000,$A5,'Breakout Systems'!AD$3:AD$5000) -> -16358.7 | S5: =Q5+R5 -> 12749.97 | T5: =IF(D5=0,0,SUMIF('Breakout Systems'!T$3:T$5000,A5,'Breakout Systems'!AB$3:AB$5000)) -> 29108.67 | U5: =IF(D5=0,0,SUMIF('Breakout Systems'!T$3:T$5000,A5,'Breakout Systems'!AD$3:AD$5000)) -> -16358.7 | V5: =IF(D5=0,0,SUMIF('Breakout Systems'!T$3:T$5000,A5,'Breakout Systems'!O$3:O$5000)) -> 12749.97 | W5: =IF(D5=0,0,T5/E5) -> 693.06357 | X5: =IF(D5=0,0,U5/G5) -> -247.85909 | Y5: =IF(D5=0,0,V5/D5) -> 118.05528 | Z5: =S5+Z4 -> 215430.32 | AA5: =V5/$Z$2 -> 0.06374985 | AB5: =MAX(Z$2:Z5) -> 215430.32 | AC5: =(AB5-Z5)/Z5 -> 0 | AD5: {=MAX(IF('Breakout Systems'!T$3:T$5000=A5,'Breakout Systems'!AB$3:AB$5000))} -> 3004.8 | AE5: =IF(AD5=0,0,INDEX('Breakout Systems'!AC$3:AC$5000,(MATCH(AD5,'Breakout Systems'!AB$3:AB$5000,0)))) -> EURUSD | AF5: {=MIN(IF('Breakout Systems'!T$3:T$5000=A5,'Breakout Systems'!AD$3:AD$5000))} -> -834 | AG5: =IF(AF5=0,0,INDEX('Breakout Systems'!AC$3:AC$5000,(MATCH(AF5,'Breakout Systems'!AD$3:AD$5000,0)))) -> DJI | AH5: =COUNTIFS('Breakout Systems'!$D$3:$D$5000,AH$2,'Breakout Systems'!$T$3:$T$5000,$A5) -> 48 | AI5: =COUNTIFS('Breakout Systems'!$D$3:$D$5000,AI$2,'Breakout Systems'!$T$3:$T$5000,$A5) -> 34 | AJ5: =COUNTIFS('Breakout Systems'!$D$3:$D$5000,AJ$2,'Breakout Systems'!$T$3:$T$5000,$A5) -> 17 | AK5: =COUNTIFS('Breakout Systems'!$D$3:$D$5000,AK$2,'Breakout Systems'!$T$3:$T$5000,$A5) -> 9 | AL5: =COUNTIFS('Breakout Systems'!$D$3:$D$5000,AL$2,'Breakout Systems'!$T$3:$T$5000,$A5) -> 0 | AM5: =COUNTIFS('Breakout Systems'!$D$3:$D$5000,AM$2,'Breakout Systems'!$T$3:$T$5000,$A5) -> 0 | AN5: =SUMIFS('Breakout Systems'!$R$3:$R$5000,'Breakout Systems'!$D$3:$D$5000,AN$2,'Breakout Systems'!$T$3:$T$5000,$A5) -> 362 | AO5: =SUMIFS('Breakout Systems'!$R$3:$R$5000,'Breakout Systems'!$D$3:$D$5000,AO$2,'Breakout Systems'!$T$3:$T$5000,$A5) -> 360 | AP5: =SUMIFS('Breakout Systems'!$R$3:$R$5000,'Breakout Systems'!$D$3:$D$5000,AP$2,'Breakout Systems'!$T$3:$T$5000,$A5) -> 241 | AQ5: =SUMIFS('Breakout Systems'!$R$3:$R$5000,'Breakout Systems'!$D$3:$D$5000,AQ$2,'Breakout Systems'!$T$3:$T$5000,$A5) -> 184 | AR5: =SUMIFS('Breakout Systems'!$R$3:$R$5000,'Breakout Systems'!$D$3:$D$5000,AR$2,'Breakout Systems'!$T$3:$T$5000,$A5) -> 0 | AS5: =SUMIFS('Breakout Systems'!$R$3:$R$5000,'Breakout Systems'!$D$3:$D$5000,AS$2,'Breakout Systems'!$T$3:$T$5000,$A5) -> 0 | AT5: =IF(AN5=0,0,AN5/AH5) -> 7.5416667 | AU5: =IF(AO5=0,0,AO5/AI5) -> 10.588235 | AV5: =IF(AP5=0,0,AP5/AJ5) -> 14.176471 | AW5: =IF(AQ5=0,0,AQ5/AK5) -> 20.444444 | AX5: =IF(AR5=0,0,AR5/AL5) -> 0 | AY5: =IF(AS5=0,0,AS5/AM5) -> 0 | AZ5: =IF(AH5=0,0,SUM(AN5:AS5)/SUM(AH5:AM5)) -> 10.62037 | BL5: =EOMONTH(BL4,1) -> 42094 | BM5: =F5 -> 0.38888889 | BN5: =SUM(E$3:E5)/SUM(D$3:D5) -> 0.36915888 | BO5: =W5 -> 693.06357 | BP5: =SUM(T$3:T5)/SUM(E$3:E5) -> 606.64772 | BR5: =EOMONTH(BR4,1) -> 42094 | BS5: =D5 -> 108 | BT5: =ROUND(AVERAGE(BS$3:BS5),0) -> 71 | BZ5: =C5&" "&B5 -> Mar 2015 | CA5: =IF(D5=0," ",Z5) -> 215430.32 | CB5: =IF(D5=0," ",AC5) -> 0
A6: =A5+1 -> 4 | B6: 2015 | C6: Apr | D6: =COUNTIF('Breakout Systems'!T$3:T$5000,A6) -> 52 | E6: =SUMIF('Breakout Systems'!T$3:T$5000,A6,'Breakout Systems'!Z$3:Z$5000) -> 14 | F6: =IF(D6=0,0,E6/D6) -> 0.26923077 | G6: =SUMIF('Breakout Systems'!T$3:T$5000,A6,'Breakout Systems'!AA$3:AA$5000) -> 38 | H6: =IF(D6=0,0,G6/D6) -> 0.73076923 | I6: =SUMIF('Breakout Systems'!T$3:T$5000,A6,'Breakout Systems'!V$3:V$5000) -> 21 | J6: =IF($D6=0,0,I6/$D6) -> 0.40384615 | K6: =SUMIF('Breakout Systems'!$T$3:$T$5000,$A6,'Breakout Systems'!W$3:W$5000) -> 31 | L6: =IF($D6=0,0,K6/$D6) -> 0.59615385 | M6: =SUMIF('Breakout Systems'!$T$3:$T$5000,$A6,'Breakout Systems'!X$3:X$5000) -> 44 | N6: =IF($D6=0,0,M6/$D6) -> 0.84615385 | O6: =SUMIF('Breakout Systems'!$T$3:$T$5000,$A6,'Breakout Systems'!Y$3:Y$5000) -> 8 | P6: =IF($D6=0,0,O6/$D6) -> 0.15384615 | Q6: =SUMIF('Breakout Systems'!$T$3:$T$5000,$A6,'Breakout Systems'!AB$3:AB$5000) -> 4898.68 | R6: =SUMIF('Breakout Systems'!$T$3:$T$5000,$A6,'Breakout Systems'!AD$3:AD$5000) -> -11872.82 | S6: =Q6+R6 -> -6974.14 | T6: =IF(D6=0,0,SUMIF('Breakout Systems'!T$3:T$5000,A6,'Breakout Systems'!AB$3:AB$5000)) -> 4898.68 | U6: =IF(D6=0,0,SUMIF('Breakout Systems'!T$3:T$5000,A6,'Breakout Systems'!AD$3:AD$5000)) -> -11872.82 | V6: =IF(D6=0,0,SUMIF('Breakout Systems'!T$3:T$5000,A6,'Breakout Systems'!O$3:O$5000)) -> -6974.14 | W6: =IF(D6=0,0,T6/E6) -> 349.90571 | X6: =IF(D6=0,0,U6/G6) -> -312.44263 | Y6: =IF(D6=0,0,V6/D6) -> -134.11808 | Z6: =S6+Z5 -> 208456.18 | AA6: =V6/$Z$2 -> -0.0348707 | AB6: =MAX(Z$2:Z6) -> 215430.32 | AC6: =(AB6-Z6)/Z6 -> 0.033456144 | AD6: {=MAX(IF('Breakout Systems'!T$3:T$5000=A6,'Breakout Systems'!AB$3:AB$5000))} -> 1112.1 | AE6: =IF(AD6=0,0,INDEX('Breakout Systems'!AC$3:AC$5000,(MATCH(AD6,'Breakout Systems'!AB$3:AB$5000,0)))) -> DAX | AF6: {=MIN(IF('Breakout Systems'!T$3:T$5000=A6,'Breakout Systems'!AD$3:AD$5000))} -> -841.1 | AG6: =IF(AF6=0,0,INDEX('Breakout Systems'!AC$3:AC$5000,(MATCH(AF6,'Breakout Systems'!AD$3:AD$5000,0)))) -> GBPUSD | AH6: =COUNTIFS('Breakout Systems'!$D$3:$D$5000,AH$2,'Breakout Systems'!$T$3:$T$5000,$A6) -> 17 | AI6: =COUNTIFS('Breakout Systems'!$D$3:$D$5000,AI$2,'Breakout Systems'!$T$3:$T$5000,$A6) -> 11 | AJ6: =COUNTIFS('Breakout Systems'!$D$3:$D$5000,AJ$2,'Breakout Systems'!$T$3:$T$5000,$A6) -> 10 | AK6: =COUNTIFS('Breakout Systems'!$D$3:$D$5000,AK$2,'Breakout Systems'!$T$3:$T$5000,$A6) -> 11 | AL6: =COUNTIFS('Breakout Systems'!$D$3:$D$5000,AL$2,'Breakout Systems'!$T$3:$T$5000,$A6) -> 2 | AM6: =COUNTIFS('Breakout Systems'!$D$3:$D$5000,AM$2,'Breakout Systems'!$T$3:$T$5000,$A6) -> 1 | AN6: =SUMIFS('Breakout Systems'!$R$3:$R$5000,'Breakout Systems'!$D$3:$D$5000,AN$2,'Breakout Systems'!$T$3:$T$5000,$A6) -> 113 | AO6: =SUMIFS('Breakout Systems'!$R$3:$R$5000,'Breakout Systems'!$D$3:$D$5000,AO$2,'Breakout Systems'!$T$3:$T$5000,$A6) -> 116 | AP6: =SUMIFS('Breakout Systems'!$R$3:$R$5000,'Breakout Systems'!$D$3:$D$5000,AP$2,'Breakout Systems'!$T$3:$T$5000,$A6) -> 289 | AQ6: =SUMIFS('Breakout Systems'!$R$3:$R$5000,'Breakout Systems'!$D$3:$D$5000,AQ$2,'Breakout Systems'!$T$3:$T$5000,$A6) -> 476 | AR6: =SUMIFS('Breakout Systems'!$R$3:$R$5000,'Breakout Systems'!$D$3:$D$5000,AR$2,'Breakout Systems'!$T$3:$T$5000,$A6) -> 110 | AS6: =SUMIFS('Breakout Systems'!$R$3:$R$5000,'Breakout Systems'!$D$3:$D$5000,AS$2,'Breakout Systems'!$T$3:$T$5000,$A6) -> 29 | AT6: =IF(AN6=0,0,AN6/AH6) -> 6.6470588 | AU6: =IF(AO6=0,0,AO6/AI6) -> 10.545455 | AV6: =IF(AP6=0,0,AP6/AJ6) -> 28.9 | AW6: =IF(AQ6=0,0,AQ6/AK6) -> 43.272727 | AX6: =IF(AR6=0,0,AR6/AL6) -> 55 | AY6: =IF(AS6=0,0,AS6/AM6) -> 29 | AZ6: =IF(AH6=0,0,SUM(AN6:AS6)/SUM(AH6:AM6)) -> 21.788462 | BL6: =EOMONTH(BL5,1) -> 42124 | BM6: =F6 -> 0.26923077 | BN6: =SUM(E$3:E6)/SUM(D$3:D6) -> 0.34962406 | BO6: =W6 -> 349.90571 | BP6: =SUM(T$3:T6)/SUM(E$3:E6) -> 567.99839 | BR6: =EOMONTH(BR5,1) -> 42124 | BS6: =D6 -> 52 | BT6: =ROUND(AVERAGE(BS$3:BS6),0) -> 67 | BZ6: =C6&" "&B6 -> Apr 2015 | CA6: =IF(D6=0," ",Z6) -> 208456.18 | CB6: =IF(D6=0," ",AC6) -> 0.033456144
A7: =A6+1 -> 5 | B7: 2015 | C7: May | D7: =COUNTIF('Breakout Systems'!T$3:T$5000,A7) -> 35 | E7: =SUMIF('Breakout Systems'!T$3:T$5000,A7,'Breakout Systems'!Z$3:Z$5000) -> 8 | F7: =IF(D7=0,0,E7/D7) -> 0.22857143 | G7: =SUMIF('Breakout Systems'!T$3:T$5000,A7,'Breakout Systems'!AA$3:AA$5000) -> 27 | H7: =IF(D7=0,0,G7/D7) -> 0.77142857 | I7: =SUMIF('Breakout Systems'!T$3:T$5000,A7,'Breakout Systems'!V$3:V$5000) -> 16 | J7: =IF($D7=0,0,I7/$D7) -> 0.45714286 | K7: =SUMIF('Breakout Systems'!$T$3:$T$5000,$A7,'Breakout Systems'!W$3:W$5000) -> 19 | L7: =IF($D7=0,0,K7/$D7) -> 0.54285714 | M7: =SUMIF('Breakout Systems'!$T$3:$T$5000,$A7,'Breakout Systems'!X$3:X$5000) -> 13 | N7: =IF($D7=0,0,M7/$D7) -> 0.37142857 | O7: =SUMIF('Breakout Systems'!$T$3:$T$5000,$A7,'Breakout Systems'!Y$3:Y$5000) -> 22 | P7: =IF($D7=0,0,O7/$D7) -> 0.62857143 | Q7: =SUMIF('Breakout Systems'!$T$3:$T$5000,$A7,'Breakout Systems'!AB$3:AB$5000) -> 1892.7 | R7: =SUMIF('Breakout Systems'!$T$3:$T$5000,$A7,'Breakout Systems'!AD$3:AD$5000) -> -6632.02 | S7: =Q7+R7 -> -4739.32 | T7: =IF(D7=0,0,SUMIF('Breakout Systems'!T$3:T$5000,A7,'Breakout Systems'!AB$3:AB$5000)) -> 1892.7 | U7: =IF(D7=0,0,SUMIF('Breakout Systems'!T$3:T$5000,A7,'Breakout Systems'!AD$3:AD$5000)) -> -6632.02 | V7: =IF(D7=0,0,SUMIF('Breakout Systems'!T$3:T$5000,A7,'Breakout Systems'!O$3:O$5000)) -> -4739.32 | W7: =IF(D7=0,0,T7/E7) -> 236.5875 | X7: =IF(D7=0,0,U7/G7) -> -245.63037 | Y7: =IF(D7=0,0,V7/D7) -> -135.40914 | Z7: =S7+Z6 -> 203716.86 | AA7: =V7/$Z$2 -> -0.0236966 | AB7: =MAX(Z$2:Z7) -> 215430.32 | AC7: =(AB7-Z7)/Z7 -> 0.057498726 | AD7: {=MAX(IF('Breakout Systems'!T$3:T$5000=A7,'Breakout Systems'!AB$3:AB$5000))} -> 581.49 | AE7: =IF(AD7=0,0,INDEX('Breakout Systems'!AC$3:AC$5000,(MATCH(AD7,'Breakout Systems'!AB$3:AB$5000,0)))) -> ASX | AF7: {=MIN(IF('Breakout Systems'!T$3:T$5000=A7,'Breakout Systems'!AD$3:AD$5000))} -> -848.4 | AG7: =IF(AF7=0,0,INDEX('Breakout Systems'!AC$3:AC$5000,(MATCH(AF7,'Breakout Systems'!AD$3:AD$5000,0)))) -> GBPSGD | AH7: =COUNTIFS('Breakout Systems'!$D$3:$D$5000,AH$2,'Breakout Systems'!$T$3:$T$5000,$A7) -> 15 | AI7: =COUNTIFS('Breakout Systems'!$D$3:$D$5000,AI$2,'Breakout Systems'!$T$3:$T$5000,$A7) -> 11 | AJ7: =COUNTIFS('Breakout Systems'!$D$3:$D$5000,AJ$2,'Breakout Systems'!$T$3:$T$5000,$A7) -> 6 | AK7: =COUNTIFS('Breakout Systems'!$D$3:$D$5000,AK$2,'Breakout Systems'!$T$3:$T$5000,$A7) -> 2 | AL7: =COUNTIFS('Breakout Systems'!$D$3:$D$5000,AL$2,'Breakout Systems'!$T$3:$T$5000,$A7) -> 1 | AM7: =COUNTIFS('Breakout Systems'!$D$3:$D$5000,AM$2,'Breakout Systems'!$T$3:$T$5000,$A7) -> 0 | AN7: =SUMIFS('Breakout Systems'!$R$3:$R$5000,'Breakout Systems'!$D$3:$D$5000,AN$2,'Breakout Systems'!$T$3:$T$5000,$A7) -> 100 | AO7: =SUMIFS('Breakout Systems'!$R$3:$R$5000,'Breakout Systems'!$D$3:$D$5000,AO$2,'Breakout Systems'!$T$3:$T$5000,$A7) -> 120 | AP7: =SUMIFS('Breakout Systems'!$R$3:$R$5000,'Breakout Systems'!$D$3:$D$5000,AP$2,'Breakout Systems'!$T$3:$T$5000,$A7) -> 60 | AQ7: =SUMIFS('Breakout Systems'!$R$3:$R$5000,'Breakout Systems'!$D$3:$D$5000,AQ$2,'Breakout Systems'!$T$3:$T$5000,$A7) -> 33 | AR7: =SUMIFS('Breakout Systems'!$R$3:$R$5000,'Breakout Systems'!$D$3:$D$5000,AR$2,'Breakout Systems'!$T$3:$T$5000,$A7) -> 28 | AS7: =SUMIFS('Breakout Systems'!$R$3:$R$5000,'Breakout Systems'!$D$3:$D$5000,AS$2,'Breakout Systems'!$T$3:$T$5000,$A7) -> 0 | AT7: =IF(AN7=0,0,AN7/AH7) -> 6.6666667 | AU7: =IF(AO7=0,0,AO7/AI7) -> 10.909091 | AV7: =IF(AP7=0,0,AP7/AJ7) -> 10 | AW7: =IF(AQ7=0,0,AQ7/AK7) -> 16.5 | AX7: =IF(AR7=0,0,AR7/AL7) -> 28 | AY7: =IF(AS7=0,0,AS7/AM7) -> 0 | AZ7: =IF(AH7=0,0,SUM(AN7:AS7)/SUM(AH7:AM7)) -> 9.7428571 | BL7: =EOMONTH(BL6,1) -> 42155 | BM7: =F7 -> 0.22857143 | BN7: =SUM(E$3:E7)/SUM(D$3:D7) -> 0.33554817 | BO7: =W7 -> 236.5875 | BP7: =SUM(T$3:T7)/SUM(E$3:E7) -> 541.74802 | BR7: =EOMONTH(BR6,1) -> 42155 | BS7: =D7 -> 35 | BT7: =ROUND(AVERAGE(BS$3:BS7),0) -> 60 | BZ7: =C7&" "&B7 -> May 2015 | CA7: =IF(D7=0," ",Z7) -> 203716.86 | CB7: =IF(D7=0," ",AC7) -> 0.057498726
A8: =A7+1 -> 6 | B8: 2015 | C8: Jun | D8: =COUNTIF('Breakout Systems'!T$3:T$5000,A8) -> 46 | E8: =SUMIF('Breakout Systems'!T$3:T$5000,A8,'Breakout Systems'!Z$3:Z$5000) -> 19 | F8: =IF(D8=0,0,E8/D8) -> 0.41304348 | G8: =SUMIF('Breakout Systems'!T$3:T$5000,A8,'Breakout Systems'!AA$3:AA$5000) -> 27 | H8: =IF(D8=0,0,G8/D8) -> 0.58695652 | I8: =SUMIF('Breakout Systems'!T$3:T$5000,A8,'Breakout Systems'!V$3:V$5000) -> 23 | J8: =IF($D8=0,0,I8/$D8) -> 0.5 | K8: =SUMIF('Breakout Systems'!$T$3:$T$5000,$A8,'Breakout Systems'!W$3:W$5000) -> 23 | L8: =IF($D8=0,0,K8/$D8) -> 0.5 | M8: =SUMIF('Breakout Systems'!$T$3:$T$5000,$A8,'Breakout Systems'!X$3:X$5000) -> 26 | N8: =IF($D8=0,0,M8/$D8) -> 0.56521739 | O8: =SUMIF('Breakout Systems'!$T$3:$T$5000,$A8,'Breakout Systems'!Y$3:Y$5000) -> 20 | P8: =IF($D8=0,0,O8/$D8) -> 0.43478261 | Q8: =SUMIF('Breakout Systems'!$T$3:$T$5000,$A8,'Breakout Systems'!AB$3:AB$5000) -> 6026.58 | R8: =SUMIF('Breakout Systems'!$T$3:$T$5000,$A8,'Breakout Systems'!AD$3:AD$5000) -> -7748.05 | S8: =Q8+R8 -> -1721.47 | T8: =IF(D8=0,0,SUMIF('Breakout Systems'!T$3:T$5000,A8,'Breakout Systems'!AB$3:AB$5000)) -> 6026.58 | U8: =IF(D8=0,0,SUMIF('Breakout Systems'!T$3:T$5000,A8,'Breakout Systems'!AD$3:AD$5000)) -> -7748.05 | V8: =IF(D8=0,0,SUMIF('Breakout Systems'!T$3:T$5000,A8,'Breakout Systems'!O$3:O$5000)) -> -1721.47 | W8: =IF(D8=0,0,T8/E8) -> 317.18842 | X8: =IF(D8=0,0,U8/G8) -> -286.96481 | Y8: =IF(D8=0,0,V8/D8) -> -37.423261 | Z8: =S8+Z7 -> 201995.39 | AA8: =V8/$Z$2 -> -0.00860735 | AB8: =MAX(Z$2:Z8) -> 215430.32 | AC8: =(AB8-Z8)/Z8 -> 0.066511072 | AD8: {=MAX(IF('Breakout Systems'!T$3:T$5000=A8,'Breakout Systems'!AB$3:AB$5000))} -> 1213.7 | AE8: =IF(AD8=0,0,INDEX('Breakout Systems'!AC$3:AC$5000,(MATCH(AD8,'Breakout Systems'!AB$3:AB$5000,0)))) -> USDJPY | AF8: {=MIN(IF('Breakout Systems'!T$3:T$5000=A8,'Breakout Systems'!AD$3:AD$5000))} -> -829.6 | AG8: =IF(AF8=0,0,INDEX('Breakout Systems'!AC$3:AC$5000,(MATCH(AF8,'Breakout Systems'!AD$3:AD$5000,0)))) -> DJI | AH8: =COUNTIFS('Breakout Systems'!$D$3:$D$5000,AH$2,'Breakout Systems'!$T$3:$T$5000,$A8) -> 20 | AI8: =COUNTIFS('Breakout Systems'!$D$3:$D$5000,AI$2,'Breakout Systems'!$T$3:$T$5000,$A8) -> 11 | AJ8: =COUNTIFS('Breakout Systems'!$D$3:$D$5000,AJ$2,'Breakout Systems'!$T$3:$T$5000,$A8) -> 8 | AK8: =COUNTIFS('Breakout Systems'!$D$3:$D$5000,AK$2,'Breakout Systems'!$T$3:$T$5000,$A8) -> 5 | AL8: =COUNTIFS('Breakout Systems'!$D$3:$D$5000,AL$2,'Breakout Systems'!$T$3:$T$5000,$A8) -> 2 | AM8: =COUNTIFS('Breakout Systems'!$D$3:$D$5000,AM$2,'Breakout Systems'!$T$3:$T$5000,$A8) -> 0 | AN8: =SUMIFS('Breakout Systems'!$R$3:$R$5000,'Breakout Systems'!$D$3:$D$5000,AN$2,'Breakout Systems'!$T$3:$T$5000,$A8) -> 138 | AO8: =SUMIFS('Breakout Systems'!$R$3:$R$5000,'Breakout Systems'!$D$3:$D$5000,AO$2,'Breakout Systems'!$T$3:$T$5000,$A8) -> 127 | AP8: =SUMIFS('Breakout Systems'!$R$3:$R$5000,'Breakout Systems'!$D$3:$D$5000,AP$2,'Breakout Systems'!$T$3:$T$5000,$A8) -> 219 | AQ8: =SUMIFS('Breakout Systems'!$R$3:$R$5000,'Breakout Systems'!$D$3:$D$5000,AQ$2,'Breakout Systems'!$T$3:$T$5000,$A8) -> 207 | AR8: =SUMIFS('Breakout Systems'!$R$3:$R$5000,'Breakout Systems'!$D$3:$D$5000,AR$2,'Breakout Systems'!$T$3:$T$5000,$A8) -> 233 | AS8: =SUMIFS('Breakout Systems'!$R$3:$R$5000,'Breakout Systems'!$D$3:$D$5000,AS$2,'Breakout Systems'!$T$3:$T$5000,$A8) -> 0 | AT8: =IF(AN8=0,0,AN8/AH8) -> 6.9 | AU8: =IF(AO8=0,0,AO8/AI8) -> 11.545455 | AV8: =IF(AP8=0,0,AP8/AJ8) -> 27.375 | AW8: =IF(AQ8=0,0,AQ8/AK8) -> 41.4 | AX8: =IF(AR8=0,0,AR8/AL8) -> 116.5 | AY8: =IF(AS8=0,0,AS8/AM8) -> 0 | AZ8: =IF(AH8=0,0,SUM(AN8:AS8)/SUM(AH8:AM8)) -> 20.086957 | BL8: =EOMONTH(BL7,1) -> 42185 | BM8: =F8 -> 0.41304348 | BN8: =SUM(E$3:E8)/SUM(D$3:D8) -> 0.34582133 | BO8: =W8 -> 317.18842 | BP8: =SUM(T$3:T8)/SUM(E$3:E8) -> 506.19275 | BR8: =EOMONTH(BR7,1) -> 42185 | BS8: =D8 -> 46 | BT8: =ROUND(AVERAGE(BS$3:BS8),0) -> 58 | BZ8: =C8&" "&B8 -> Jun 2015 | CA8: =IF(D8=0," ",Z8) -> 201995.39 | CB8: =IF(D8=0," ",AC8) -> 0.066511072
A9: =A8+1 -> 7 | B9: 2015 | C9: Jul | D9: =COUNTIF('Breakout Systems'!T$3:T$5000,A9) -> 34 | E9: =SUMIF('Breakout Systems'!T$3:T$5000,A9,'Breakout Systems'!Z$3:Z$5000) -> 16 | F9: =IF(D9=0,0,E9/D9) -> 0.47058824 | G9: =SUMIF('Breakout Systems'!T$3:T$5000,A9,'Breakout Systems'!AA$3:AA$5000) -> 18 | H9: =IF(D9=0,0,G9/D9) -> 0.52941176 | I9: =SUMIF('Breakout Systems'!T$3:T$5000,A9,'Breakout Systems'!V$3:V$5000) -> 12 | J9: =IF($D9=0,0,I9/$D9) -> 0.35294118 | K9: =SUMIF('Breakout Systems'!$T$3:$T$5000,$A9,'Breakout Systems'!W$3:W$5000) -> 22 | L9: =IF($D9=0,0,K9/$D9) -> 0.64705882 | M9: =SUMIF('Breakout Systems'!$T$3:$T$5000,$A9,'Breakout Systems'!X$3:X$5000) -> 23 | N9: =IF($D9=0,0,M9/$D9) -> 0.67647059 | O9: =SUMIF('Breakout Systems'!$T$3:$T$5000,$A9,'Breakout Systems'!Y$3:Y$5000) -> 11 | P9: =IF($D9=0,0,O9/$D9) -> 0.32352941 | Q9: =SUMIF('Breakout Systems'!$T$3:$T$5000,$A9,'Breakout Systems'!AB$3:AB$5000) -> 6201.42 | R9: =SUMIF('Breakout Systems'!$T$3:$T$5000,$A9,'Breakout Systems'!AD$3:AD$5000) -> -4191.45 | S9: =Q9+R9 -> 2009.97 | T9: =IF(D9=0,0,SUMIF('Breakout Systems'!T$3:T$5000,A9,'Breakout Systems'!AB$3:AB$5000)) -> 6201.42 | U9: =IF(D9=0,0,SUMIF('Breakout Systems'!T$3:T$5000,A9,'Breakout Systems'!AD$3:AD$5000)) -> -4191.45 | V9: =IF(D9=0,0,SUMIF('Breakout Systems'!T$3:T$5000,A9,'Breakout Systems'!O$3:O$5000)) -> 2009.97 | W9: =IF(D9=0,0,T9/E9) -> 387.58875 | X9: =IF(D9=0,0,U9/G9) -> -232.85833 | Y9: =IF(D9=0,0,V9/D9) -> 59.116765 | Z9: =S9+Z8 -> 204005.36 | AA9: =V9/$Z$2 -> 0.01004985 | AB9: =MAX(Z$2:Z9) -> 215430.32 | AC9: =(AB9-Z9)/Z9 -> 0.056003234 | AD9: {=MAX(IF('Breakout Systems'!T$3:T$5000=A9,'Breakout Systems'!AB$3:AB$5000))} -> 858 | AE9: =IF(AD9=0,0,INDEX('Breakout Systems'!AC$3:AC$5000,(MATCH(AD9,'Breakout Systems'!AB$3:AB$5000,0)))) -> USDCAD | AF9: {=MIN(IF('Breakout Systems'!T$3:T$5000=A9,'Breakout Systems'!AD$3:AD$5000))} -> -635.04 | AG9: =IF(AF9=0,0,INDEX('Breakout Systems'!AC$3:AC$5000,(MATCH(AF9,'Breakout Systems'!AD$3:AD$5000,0)))) -> AUDJPY | AH9: =COUNTIFS('Breakout Systems'!$D$3:$D$5000,AH$2,'Breakout Systems'!$T$3:$T$5000,$A9) -> 17 | AI9: =COUNTIFS('Breakout Systems'!$D$3:$D$5000,AI$2,'Breakout Systems'!$T$3:$T$5000,$A9) -> 10 | AJ9: =COUNTIFS('Breakout Systems'!$D$3:$D$5000,AJ$2,'Breakout Systems'!$T$3:$T$5000,$A9) -> 4 | AK9: =COUNTIFS('Breakout Systems'!$D$3:$D$5000,AK$2,'Breakout Systems'!$T$3:$T$5000,$A9) -> 3 | AL9: =COUNTIFS('Breakout Systems'!$D$3:$D$5000,AL$2,'Breakout Systems'!$T$3:$T$5000,$A9) -> 0 | AM9: =COUNTIFS('Breakout Systems'!$D$3:$D$5000,AM$2,'Breakout Systems'!$T$3:$T$5000,$A9) -> 0 | AN9: =SUMIFS('Breakout Systems'!$R$3:$R$5000,'Breakout Systems'!$D$3:$D$5000,AN$2,'Breakout Systems'!$T$3:$T$5000,$A9) -> 150 | AO9: =SUMIFS('Breakout Systems'!$R$3:$R$5000,'Breakout Systems'!$D$3:$D$5000,AO$2,'Breakout Systems'!$T$3:$T$5000,$A9) -> 186 | AP9: =SUMIFS('Breakout Systems'!$R$3:$R$5000,'Breakout Systems'!$D$3:$D$5000,AP$2,'Breakout Systems'!$T$3:$T$5000,$A9) -> 104 | AQ9: =SUMIFS('Breakout Systems'!$R$3:$R$5000,'Breakout Systems'!$D$3:$D$5000,AQ$2,'Breakout Systems'!$T$3:$T$5000,$A9) -> 79 | AR9: =SUMIFS('Breakout Systems'!$R$3:$R$5000,'Breakout Systems'!$D$3:$D$5000,AR$2,'Breakout Systems'!$T$3:$T$5000,$A9) -> 0 | AS9: =SUMIFS('Breakout Systems'!$R$3:$R$5000,'Breakout Systems'!$D$3:$D$5000,AS$2,'Breakout Systems'!$T$3:$T$5000,$A9) -> 0 | AT9: =IF(AN9=0,0,AN9/AH9) -> 8.8235294 | AU9: =IF(AO9=0,0,AO9/AI9) -> 18.6 | AV9: =IF(AP9=0,0,AP9/AJ9) -> 26 | AW9: =IF(AQ9=0,0,AQ9/AK9) -> 26.333333 | AX9: =IF(AR9=0,0,AR9/AL9) -> 0 | AY9: =IF(AS9=0,0,AS9/AM9) -> 0 | AZ9: =IF(AH9=0,0,SUM(AN9:AS9)/SUM(AH9:AM9)) -> 15.264706 | BL9: =EOMONTH(BL8,1) -> 42216 | BM9: =F9 -> 0.47058824 | BN9: =SUM(E$3:E9)/SUM(D$3:D9) -> 0.35695538 | BO9: =W9 -> 387.58875 | BP9: =SUM(T$3:T9)/SUM(E$3:E9) -> 492.23934 | BR9: =EOMONTH(BR8,1) -> 42216 | BS9: =D9 -> 34 | BT9: =ROUND(AVERAGE(BS$3:BS9),0) -> 54 | BZ9: =C9&" "&B9 -> Jul 2015 | CA9: =IF(D9=0," ",Z9) -> 204005.36 | CB9: =IF(D9=0," ",AC9) -> 0.056003234
A10: =A9+1 -> 8 | B10: 2015 | C10: Aug | D10: =COUNTIF('Breakout Systems'!T$3:T$5000,A10) -> 54 | E10: =SUMIF('Breakout Systems'!T$3:T$5000,A10,'Breakout Systems'!Z$3:Z$5000) -> 31 | F10: =IF(D10=0,0,E10/D10) -> 0.57407407 | G10: =SUMIF('Breakout Systems'!T$3:T$5000,A10,'Breakout Systems'!AA$3:AA$5000) -> 23 | H10: =IF(D10=0,0,G10/D10) -> 0.42592593 | I10: =SUMIF('Breakout Systems'!T$3:T$5000,A10,'Breakout Systems'!V$3:V$5000) -> 17 | J10: =IF($D10=0,0,I10/$D10) -> 0.31481481 | K10: =SUMIF('Breakout Systems'!$T$3:$T$5000,$A10,'Breakout Systems'!W$3:W$5000) -> 37 | L10: =IF($D10=0,0,K10/$D10) -> 0.68518519 | M10: =SUMIF('Breakout Systems'!$T$3:$T$5000,$A10,'Breakout Systems'!X$3:X$5000) -> 29 | N10: =IF($D10=0,0,M10/$D10) -> 0.53703704 | O10: =SUMIF('Breakout Systems'!$T$3:$T$5000,$A10,'Breakout Systems'!Y$3:Y$5000) -> 25 | P10: =IF($D10=0,0,O10/$D10) -> 0.46296296 | Q10: =SUMIF('Breakout Systems'!$T$3:$T$5000,$A10,'Breakout Systems'!AB$3:AB$5000) -> 22602.77 | R10: =SUMIF('Breakout Systems'!$T$3:$T$5000,$A10,'Breakout Systems'!AD$3:AD$5000) -> -6061.47 | S10: =Q10+R10 -> 16541.3 | T10: =IF(D10=0,0,SUMIF('Breakout Systems'!T$3:T$5000,A10,'Breakout Systems'!AB$3:AB$5000)) -> 22602.77 | U10: =IF(D10=0,0,SUMIF('Breakout Systems'!T$3:T$5000,A10,'Breakout Systems'!AD$3:AD$5000)) -> -6061.47 | V10: =IF(D10=0,0,SUMIF('Breakout Systems'!T$3:T$5000,A10,'Breakout Systems'!O$3:O$5000)) -> 16541.3 | W10: =IF(D10=0,0,T10/E10) -> 729.12161 | X10: =IF(D10=0,0,U10/G10) -> -263.54217 | Y10: =IF(D10=0,0,V10/D10) -> 306.32037 | Z10: =S10+Z9 -> 220546.66 | AA10: =V10/$Z$2 -> 0.0827065 | AB10: =MAX(Z$2:Z10) -> 220546.66 | AC10: =(AB10-Z10)/Z10 -> 0 | AD10: {=MAX(IF('Breakout Systems'!T$3:T$5000=A10,'Breakout Systems'!AB$3:AB$5000))} -> 3140.48 | AE10: =IF(AD10=0,0,INDEX('Breakout Systems'!AC$3:AC$5000,(MATCH(AD10,'Breakout Systems'!AB$3:AB$5000,0)))) -> ASX | AF10: {=MIN(IF('Breakout Systems'!T$3:T$5000=A10,'Breakout Systems'!AD$3:AD$5000))} -> -831.1 | AG10: =IF(AF10=0,0,INDEX('Breakout Systems'!AC$3:AC$5000,(MATCH(AF10,'Breakout Systems'!AD$3:AD$5000,0)))) -> ASX | AH10: =COUNTIFS('Breakout Systems'!$D$3:$D$5000,AH$2,'Breakout Systems'!$T$3:$T$5000,$A10) -> 25 | AI10: =COUNTIFS('Breakout Systems'!$D$3:$D$5000,AI$2,'Breakout Systems'!$T$3:$T$5000,$A10) -> 15 | AJ10: =COUNTIFS('Breakout Systems'!$D$3:$D$5000,AJ$2,'Breakout Systems'!$T$3:$T$5000,$A10) -> 9 | AK10: =COUNTIFS('Breakout Systems'!$D$3:$D$5000,AK$2,'Breakout Systems'!$T$3:$T$5000,$A10) -> 3 | AL10: =COUNTIFS('Breakout Systems'!$D$3:$D$5000,AL$2,'Breakout Systems'!$T$3:$T$5000,$A10) -> 1 | AM10: =COUNTIFS('Breakout Systems'!$D$3:$D$5000,AM$2,'Breakout Systems'!$T$3:$T$5000,$A10) -> 1 | AN10: =SUMIFS('Breakout Systems'!$R$3:$R$5000,'Breakout Systems'!$D$3:$D$5000,AN$2,'Breakout Systems'!$T$3:$T$5000,$A10) -> 155 | AO10: =SUMIFS('Breakout Systems'!$R$3:$R$5000,'Breakout Systems'!$D$3:$D$5000,AO$2,'Breakout Systems'!$T$3:$T$5000,$A10) -> 138 | AP10: =SUMIFS('Breakout Systems'!$R$3:$R$5000,'Breakout Systems'!$D$3:$D$5000,AP$2,'Breakout Systems'!$T$3:$T$5000,$A10) -> 219 | AQ10: =SUMIFS('Breakout Systems'!$R$3:$R$5000,'Breakout Systems'!$D$3:$D$5000,AQ$2,'Breakout Systems'!$T$3:$T$5000,$A10) -> 115 | AR10: =SUMIFS('Breakout Systems'!$R$3:$R$5000,'Breakout Systems'!$D$3:$D$5000,AR$2,'Breakout Systems'!$T$3:$T$5000,$A10) -> 186 | AS10: =SUMIFS('Breakout Systems'!$R$3:$R$5000,'Breakout Systems'!$D$3:$D$5000,AS$2,'Breakout Systems'!$T$3:$T$5000,$A10) -> 200 | AT10: =IF(AN10=0,0,AN10/AH10) -> 6.2 | AU10: =IF(AO10=0,0,AO10/AI10) -> 9.2 | AV10: =IF(AP10=0,0,AP10/AJ10) -> 24.333333 | AW10: =IF(AQ10=0,0,AQ10/AK10) -> 38.333333 | AX10: =IF(AR10=0,0,AR10/AL10) -> 186 | AY10: =IF(AS10=0,0,AS10/AM10) -> 200 | AZ10: =IF(AH10=0,0,SUM(AN10:AS10)/SUM(AH10:AM10)) -> 18.759259 | BL10: =EOMONTH(BL9,1) -> 42247 | BM10: =F10 -> 0.57407407 | BN10: =SUM(E$3:E10)/SUM(D$3:D10) -> 0.38390805 | BO10: =W10 -> 729.12161 | BP10: =SUM(T$3:T10)/SUM(E$3:E10) -> 536.2115 | BR10: =EOMONTH(BR9,1) -> 42247 | BS10: =D10 -> 54 | BT10: =ROUND(AVERAGE(BS$3:BS10),0) -> 54 | BZ10: =C10&" "&B10 -> Aug 2015 | CA10: =IF(D10=0," ",Z10) -> 220546.66 | CB10: =IF(D10=0," ",AC10) -> 0
A11: =A10+1 -> 9 | B11: 2015 | C11: Sep | D11: =COUNTIF('Breakout Systems'!T$3:T$5000,A11) -> 44 | E11: =SUMIF('Breakout Systems'!T$3:T$5000,A11,'Breakout Systems'!Z$3:Z$5000) -> 15 | F11: =IF(D11=0,0,E11/D11) -> 0.34090909 | G11: =SUMIF('Breakout Systems'!T$3:T$5000,A11,'Breakout Systems'!AA$3:AA$5000) -> 29 | H11: =IF(D11=0,0,G11/D11) -> 0.65909091 | I11: =SUMIF('Breakout Systems'!T$3:T$5000,A11,'Breakout Systems'!V$3:V$5000) -> 20 | J11: =IF($D11=0,0,I11/$D11) -> 0.45454545 | K11: =SUMIF('Breakout Systems'!$T$3:$T$5000,$A11,'Breakout Systems'!W$3:W$5000) -> 24 | L11: =IF($D11=0,0,K11/$D11) -> 0.54545455 | M11: =SUMIF('Breakout Systems'!$T$3:$T$5000,$A11,'Breakout Systems'!X$3:X$5000) -> 25 | N11: =IF($D11=0,0,M11/$D11) -> 0.56818182 | O11: =SUMIF('Breakout Systems'!$T$3:$T$5000,$A11,'Breakout Systems'!Y$3:Y$5000) -> 19 | P11: =IF($D11=0,0,O11/$D11) -> 0.43181818 | Q11: =SUMIF('Breakout Systems'!$T$3:$T$5000,$A11,'Breakout Systems'!AB$3:AB$5000) -> 5823.88 | R11: =SUMIF('Breakout Systems'!$T$3:$T$5000,$A11,'Breakout Systems'!AD$3:AD$5000) -> -6790.71 | S11: =Q11+R11 -> -966.83 | T11: =IF(D11=0,0,SUMIF('Breakout Systems'!T$3:T$5000,A11,'Breakout Systems'!AB$3:AB$5000)) -> 5823.88 | U11: =IF(D11=0,0,SUMIF('Breakout Systems'!T$3:T$5000,A11,'Breakout Systems'!AD$3:AD$5000)) -> -6790.71 | V11: =IF(D11=0,0,SUMIF('Breakout Systems'!T$3:T$5000,A11,'Breakout Systems'!O$3:O$5000)) -> -966.83 | W11: =IF(D11=0,0,T11/E11) -> 388.25867 | X11: =IF(D11=0,0,U11/G11) -> -234.16241 | Y11: =IF(D11=0,0,V11/D11) -> -21.973409 | Z11: =S11+Z10 -> 219579.83 | AA11: =V11/$Z$2 -> -0.00483415 | AB11: =MAX(Z$2:Z11) -> 220546.66 | AC11: =(AB11-Z11)/Z11 -> 0.0044030911 | AD11: {=MAX(IF('Breakout Systems'!T$3:T$5000=A11,'Breakout Systems'!AB$3:AB$5000))} -> 883.31 | AE11: =IF(AD11=0,0,INDEX('Breakout Systems'!AC$3:AC$5000,(MATCH(AD11,'Breakout Systems'!AB$3:AB$5000,0)))) -> AUDJPY | AF11: {=MIN(IF('Breakout Systems'!T$3:T$5000=A11,'Breakout Systems'!AD$3:AD$5000))} -> -429.47 | AG11: =IF(AF11=0,0,INDEX('Breakout Systems'!AC$3:AC$5000,(MATCH(AF11,'Breakout Systems'!AD$3:AD$5000,0)))) -> USDSGD | AH11: =COUNTIFS('Breakout Systems'!$D$3:$D$5000,AH$2,'Breakout Systems'!$T$3:$T$5000,$A11) -> 19 | AI11: =COUNTIFS('Breakout Systems'!$D$3:$D$5000,AI$2,'Breakout Systems'!$T$3:$T$5000,$A11) -> 15 | AJ11: =COUNTIFS('Breakout Systems'!$D$3:$D$5000,AJ$2,'Breakout Systems'!$T$3:$T$5000,$A11) -> 7 | AK11: =COUNTIFS('Breakout Systems'!$D$3:$D$5000,AK$2,'Breakout Systems'!$T$3:$T$5000,$A11) -> 2 | AL11: =COUNTIFS('Breakout Systems'!$D$3:$D$5000,AL$2,'Breakout Systems'!$T$3:$T$5000,$A11) -> 1 | AM11: =COUNTIFS('Breakout Systems'!$D$3:$D$5000,AM$2,'Breakout Systems'!$T$3:$T$5000,$A11) -> 0 | AN11: =SUMIFS('Breakout Systems'!$R$3:$R$5000,'Breakout Systems'!$D$3:$D$5000,AN$2,'Breakout Systems'!$T$3:$T$5000,$A11) -> 154 | AO11: =SUMIFS('Breakout Systems'!$R$3:$R$5000,'Breakout Systems'!$D$3:$D$5000,AO$2,'Breakout Systems'!$T$3:$T$5000,$A11) -> 155 | AP11: =SUMIFS('Breakout Systems'!$R$3:$R$5000,'Breakout Systems'!$D$3:$D$5000,AP$2,'Breakout Systems'!$T$3:$T$5000,$A11) -> 96 | AQ11: =SUMIFS('Breakout Systems'!$R$3:$R$5000,'Breakout Systems'!$D$3:$D$5000,AQ$2,'Breakout Systems'!$T$3:$T$5000,$A11) -> 63 | AR11: =SUMIFS('Breakout Systems'!$R$3:$R$5000,'Breakout Systems'!$D$3:$D$5000,AR$2,'Breakout Systems'!$T$3:$T$5000,$A11) -> 36 | AS11: =SUMIFS('Breakout Systems'!$R$3:$R$5000,'Breakout Systems'!$D$3:$D$5000,AS$2,'Breakout Systems'!$T$3:$T$5000,$A11) -> 0 | AT11: =IF(AN11=0,0,AN11/AH11) -> 8.1052632 | AU11: =IF(AO11=0,0,AO11/AI11) -> 10.333333 | AV11: =IF(AP11=0,0,AP11/AJ11) -> 13.714286 | AW11: =IF(AQ11=0,0,AQ11/AK11) -> 31.5 | AX11: =IF(AR11=0,0,AR11/AL11) -> 36 | AY11: =IF(AS11=0,0,AS11/AM11) -> 0 | AZ11: =IF(AH11=0,0,SUM(AN11:AS11)/SUM(AH11:AM11)) -> 11.454545 | BL11: =EOMONTH(BL10,1) -> 42277 | BM11: =F11 -> 0.34090909 | BN11: =SUM(E$3:E11)/SUM(D$3:D11) -> 0.37995825 | BO11: =W11 -> 388.25867 | BP11: =SUM(T$3:T11)/SUM(E$3:E11) -> 524.01758 | BR11: =EOMONTH(BR10,1) -> 42277 | BS11: =D11 -> 44 | BT11: =ROUND(AVERAGE(BS$3:BS11),0) -> 53 | BZ11: =C11&" "&B11 -> Sep 2015 | CA11: =IF(D11=0," ",Z11) -> 219579.83 | CB11: =IF(D11=0," ",AC11) -> 0.0044030911
A12: =A11+1 -> 10 | B12: 2015 | C12: Oct | D12: =COUNTIF('Breakout Systems'!T$3:T$5000,A12) -> 75 | E12: =SUMIF('Breakout Systems'!T$3:T$5000,A12,'Breakout Systems'!Z$3:Z$5000) -> 38 | F12: =IF(D12=0,0,E12/D12) -> 0.50666667 | G12: =SUMIF('Breakout Systems'!T$3:T$5000,A12,'Breakout Systems'!AA$3:AA$5000) -> 37 | H12: =IF(D12=0,0,G12/D12) -> 0.49333333 | I12: =SUMIF('Breakout Systems'!T$3:T$5000,A12,'Breakout Systems'!V$3:V$5000) -> 45 | J12: =IF($D12=0,0,I12/$D12) -> 0.6 | K12: =SUMIF('Breakout Systems'!$T$3:$T$5000,$A12,'Breakout Systems'!W$3:W$5000) -> 30 | L12: =IF($D12=0,0,K12/$D12) -> 0.4 | M12: =SUMIF('Breakout Systems'!$T$3:$T$5000,$A12,'Breakout Systems'!X$3:X$5000) -> 32 | N12: =IF($D12=0,0,M12/$D12) -> 0.42666667 | O12: =SUMIF('Breakout Systems'!$T$3:$T$5000,$A12,'Breakout Systems'!Y$3:Y$5000) -> 43 | P12: =IF($D12=0,0,O12/$D12) -> 0.57333333 | Q12: =SUMIF('Breakout Systems'!$T$3:$T$5000,$A12,'Breakout Systems'!AB$3:AB$5000) -> 13344.31 | R12: =SUMIF('Breakout Systems'!$T$3:$T$5000,$A12,'Breakout Systems'!AD$3:AD$5000) -> -7105.19 | S12: =Q12+R12 -> 6239.12 | T12: =IF(D12=0,0,SUMIF('Breakout Systems'!T$3:T$5000,A12,'Breakout Systems'!AB$3:AB$5000)) -> 13344.31 | U12: =IF(D12=0,0,SUMIF('Breakout Systems'!T$3:T$5000,A12,'Breakout Systems'!AD$3:AD$5000)) -> -7105.19 | V12: =IF(D12=0,0,SUMIF('Breakout Systems'!T$3:T$5000,A12,'Breakout Systems'!O$3:O$5000)) -> 6239.12 | W12: =IF(D12=0,0,T12/E12) -> 351.16605 | X12: =IF(D12=0,0,U12/G12) -> -192.03216 | Y12: =IF(D12=0,0,V12/D12) -> 83.188267 | Z12: =S12+Z11 -> 225818.95 | AA12: =V12/$Z$2 -> 0.0311956 | AB12: =MAX(Z$2:Z12) -> 225818.95 | AC12: =(AB12-Z12)/Z12 -> 0 | AD12: {=MAX(IF('Breakout Systems'!T$3:T$5000=A12,'Breakout Systems'!AB$3:AB$5000))} -> 1215.2 | AE12: =IF(AD12=0,0,INDEX('Breakout Systems'!AC$3:AC$5000,(MATCH(AD12,'Breakout Systems'!AB$3:AB$5000,0)))) -> DJI | AF12: {=MIN(IF('Breakout Systems'!T$3:T$5000=A12,'Breakout Systems'!AD$3:AD$5000))} -> -736.2 | AG12: =IF(AF12=0,0,INDEX('Breakout Systems'!AC$3:AC$5000,(MATCH(AF12,'Breakout Systems'!AD$3:AD$5000,0)))) -> NIK | AH12: =COUNTIFS('Breakout Systems'!$D$3:$D$5000,AH$2,'Breakout Systems'!$T$3:$T$5000,$A12) -> 32 | AI12: =COUNTIFS('Breakout Systems'!$D$3:$D$5000,AI$2,'Breakout Systems'!$T$3:$T$5000,$A12) -> 20 | AJ12: =COUNTIFS('Breakout Systems'!$D$3:$D$5000,AJ$2,'Breakout Systems'!$T$3:$T$5000,$A12) -> 12 | AK12: =COUNTIFS('Breakout Systems'!$D$3:$D$5000,AK$2,'Breakout Systems'!$T$3:$T$5000,$A12) -> 10 | AL12: =COUNTIFS('Breakout Systems'!$D$3:$D$5000,AL$2,'Breakout Systems'!$T$3:$T$5000,$A12) -> 1 | AM12: =COUNTIFS('Breakout Systems'!$D$3:$D$5000,AM$2,'Breakout Systems'!$T$3:$T$5000,$A12) -> 0 | AN12: =SUMIFS('Breakout Systems'!$R$3:$R$5000,'Breakout Systems'!$D$3:$D$5000,AN$2,'Breakout Systems'!$T$3:$T$5000,$A12) -> 192 | AO12: =SUMIFS('Breakout Systems'!$R$3:$R$5000,'Breakout Systems'!$D$3:$D$5000,AO$2,'Breakout Systems'!$T$3:$T$5000,$A12) -> 288 | AP12: =SUMIFS('Breakout Systems'!$R$3:$R$5000,'Breakout Systems'!$D$3:$D$5000,AP$2,'Breakout Systems'!$T$3:$T$5000,$A12) -> 506 | AQ12: =SUMIFS('Breakout Systems'!$R$3:$R$5000,'Breakout Systems'!$D$3:$D$5000,AQ$2,'Breakout Systems'!$T$3:$T$5000,$A12) -> 489 | AR12: =SUMIFS('Breakout Systems'!$R$3:$R$5000,'Breakout Systems'!$D$3:$D$5000,AR$2,'Breakout Systems'!$T$3:$T$5000,$A12) -> 52 | AS12: =SUMIFS('Breakout Systems'!$R$3:$R$5000,'Breakout Systems'!$D$3:$D$5000,AS$2,'Breakout Systems'!$T$3:$T$5000,$A12) -> 0 | AT12: =IF(AN12=0,0,AN12/AH12) -> 6 | AU12: =IF(AO12=0,0,AO12/AI12) -> 14.4 | AV12: =IF(AP12=0,0,AP12/AJ12) -> 42.166667 | AW12: =IF(AQ12=0,0,AQ12/AK12) -> 48.9 | AX12: =IF(AR12=0,0,AR12/AL12) -> 52 | AY12: =IF(AS12=0,0,AS12/AM12) -> 0 | AZ12: =IF(AH12=0,0,SUM(AN12:AS12)/SUM(AH12:AM12)) -> 20.36 | BL12: =EOMONTH(BL11,1) -> 42308 | BM12: =F12 -> 0.50666667 | BN12: =SUM(E$3:E12)/SUM(D$3:D12) -> 0.39711191 | BO12: =W12 -> 351.16605 | BP12: =SUM(T$3:T12)/SUM(E$3:E12) -> 494.16141 | BR12: =EOMONTH(BR11,1) -> 42308 | BS12: =D12 -> 75 | BT12: =ROUND(AVERAGE(BS$3:BS12),0) -> 55 | BZ12: =C12&" "&B12 -> Oct 2015 | CA12: =IF(D12=0," ",Z12) -> 225818.95 | CB12: =IF(D12=0," ",AC12) -> 0
A13: =A12+1 -> 11 | B13: 2015 | C13: Nov | D13: =COUNTIF('Breakout Systems'!T$3:T$5000,A13) -> 83 | E13: =SUMIF('Breakout Systems'!T$3:T$5000,A13,'Breakout Systems'!Z$3:Z$5000) -> 33 | F13: =IF(D13=0,0,E13/D13) -> 0.39759036 | G13: =SUMIF('Breakout Systems'!T$3:T$5000,A13,'Breakout Systems'!AA$3:AA$5000) -> 50 | H13: =IF(D13=0,0,G13/D13) -> 0.60240964 | I13: =SUMIF('Breakout Systems'!T$3:T$5000,A13,'Breakout Systems'!V$3:V$5000) -> 42 | J13: =IF($D13=0,0,I13/$D13) -> 0.5060241 | K13: =SUMIF('Breakout Systems'!$T$3:$T$5000,$A13,'Breakout Systems'!W$3:W$5000) -> 41 | L13: =IF($D13=0,0,K13/$D13) -> 0.4939759 | M13: =SUMIF('Breakout Systems'!$T$3:$T$5000,$A13,'Breakout Systems'!X$3:X$5000) -> 54 | N13: =IF($D13=0,0,M13/$D13) -> 0.65060241 | O13: =SUMIF('Breakout Systems'!$T$3:$T$5000,$A13,'Breakout Systems'!Y$3:Y$5000) -> 29 | P13: =IF($D13=0,0,O13/$D13) -> 0.34939759 | Q13: =SUMIF('Breakout Systems'!$T$3:$T$5000,$A13,'Breakout Systems'!AB$3:AB$5000) -> 13594.11 | R13: =SUMIF('Breakout Systems'!$T$3:$T$5000,$A13,'Breakout Systems'!AD$3:AD$5000) -> -11021.74 | S13: =Q13+R13 -> 2572.37 | T13: =IF(D13=0,0,SUMIF('Breakout Systems'!T$3:T$5000,A13,'Breakout Systems'!AB$3:AB$5000)) -> 13594.11 | U13: =IF(D13=0,0,SUMIF('Breakout Systems'!T$3:T$5000,A13,'Breakout Systems'!AD$3:AD$5000)) -> -11021.74 | V13: =IF(D13=0,0,SUMIF('Breakout Systems'!T$3:T$5000,A13,'Breakout Systems'!O$3:O$5000)) -> 2572.37 | W13: =IF(D13=0,0,T13/E13) -> 411.94273 | X13: =IF(D13=0,0,U13/G13) -> -220.4348 | Y13: =IF(D13=0,0,V13/D13) -> 30.99241 | Z13: =S13+Z12 -> 228391.32 | AA13: =V13/$Z$2 -> 0.01286185 | AB13: =MAX(Z$2:Z13) -> 228391.32 | AC13: =(AB13-Z13)/Z13 -> 0 | AD13: {=MAX(IF('Breakout Systems'!T$3:T$5000=A13,'Breakout Systems'!AB$3:AB$5000))} -> 1247.54 | AE13: =IF(AD13=0,0,INDEX('Breakout Systems'!AC$3:AC$5000,(MATCH(AD13,'Breakout Systems'!AB$3:AB$5000,0)))) -> AUDCAD | AF13: {=MIN(IF('Breakout Systems'!T$3:T$5000=A13,'Breakout Systems'!AD$3:AD$5000))} -> -548.4 | AG13: =IF(AF13=0,0,INDEX('Breakout Systems'!AC$3:AC$5000,(MATCH(AF13,'Breakout Systems'!AD$3:AD$5000,0)))) -> AUDJPY | AH13: =COUNTIFS('Breakout Systems'!$D$3:$D$5000,AH$2,'Breakout Systems'!$T$3:$T$5000,$A13) -> 44 | AI13: =COUNTIFS('Breakout Systems'!$D$3:$D$5000,AI$2,'Breakout Systems'!$T$3:$T$5000,$A13) -> 27 | AJ13: =COUNTIFS('Breakout Systems'!$D$3:$D$5000,AJ$2,'Breakout Systems'!$T$3:$T$5000,$A13) -> 6 | AK13: =COUNTIFS('Breakout Systems'!$D$3:$D$5000,AK$2,'Breakout Systems'!$T$3:$T$5000,$A13) -> 5 | AL13: =COUNTIFS('Breakout Systems'!$D$3:$D$5000,AL$2,'Breakout Systems'!$T$3:$T$5000,$A13) -> 1 | AM13: =COUNTIFS('Breakout Systems'!$D$3:$D$5000,AM$2,'Breakout Systems'!$T$3:$T$5000,$A13) -> 0 | AN13: =SUMIFS('Breakout Systems'!$R$3:$R$5000,'Breakout Systems'!$D$3:$D$5000,AN$2,'Breakout Systems'!$T$3:$T$5000,$A13) -> 208 | AO13: =SUMIFS('Breakout Systems'!$R$3:$R$5000,'Breakout Systems'!$D$3:$D$5000,AO$2,'Breakout Systems'!$T$3:$T$5000,$A13) -> 224 | AP13: =SUMIFS('Breakout Systems'!$R$3:$R$5000,'Breakout Systems'!$D$3:$D$5000,AP$2,'Breakout Systems'!$T$3:$T$5000,$A13) -> 78 | AQ13: =SUMIFS('Breakout Systems'!$R$3:$R$5000,'Breakout Systems'!$D$3:$D$5000,AQ$2,'Breakout Systems'!$T$3:$T$5000,$A13) -> 242 | AR13: =SUMIFS('Breakout Systems'!$R$3:$R$5000,'Breakout Systems'!$D$3:$D$5000,AR$2,'Breakout Systems'!$T$3:$T$5000,$A13) -> 98 | AS13: =SUMIFS('Breakout Systems'!$R$3:$R$5000,'Breakout Systems'!$D$3:$D$5000,AS$2,'Breakout Systems'!$T$3:$T$5000,$A13) -> 0 | AT13: =IF(AN13=0,0,AN13/AH13) -> 4.7272727 | AU13: =IF(AO13=0,0,AO13/AI13) -> 8.2962963 | AV13: =IF(AP13=0,0,AP13/AJ13) -> 13 | AW13: =IF(AQ13=0,0,AQ13/AK13) -> 48.4 | AX13: =IF(AR13=0,0,AR13/AL13) -> 98 | AY13: =IF(AS13=0,0,AS13/AM13) -> 0 | AZ13: =IF(AH13=0,0,SUM(AN13:AS13)/SUM(AH13:AM13)) -> 10.240964 | BL13: =EOMONTH(BL12,1) -> 42338 | BM13: =F13 -> 0.39759036 | BN13: =SUM(E$3:E13)/SUM(D$3:D13) -> 0.39717425 | BO13: =W13 -> 411.94273 | BP13: =SUM(T$3:T13)/SUM(E$3:E13) -> 483.43723 | BR13: =EOMONTH(BR12,1) -> 42338 | BS13: =D13 -> 83 | BT13: =ROUND(AVERAGE(BS$3:BS13),0) -> 58 | BZ13: =C13&" "&B13 -> Nov 2015 | CA13: =IF(D13=0," ",Z13) -> 228391.32 | CB13: =IF(D13=0," ",AC13) -> 0
A14: =A13+1 -> 12 | B14: 2015 | C14: Dec | D14: =COUNTIF('Breakout Systems'!T$3:T$5000,A14) -> 147 | E14: =SUMIF('Breakout Systems'!T$3:T$5000,A14,'Breakout Systems'!Z$3:Z$5000) -> 61 | F14: =IF(D14=0,0,E14/D14) -> 0.41496599 | G14: =SUMIF('Breakout Systems'!T$3:T$5000,A14,'Breakout Systems'!AA$3:AA$5000) -> 86 | H14: =IF(D14=0,0,G14/D14) -> 0.58503401 | I14: =SUMIF('Breakout Systems'!T$3:T$5000,A14,'Breakout Systems'!V$3:V$5000) -> 70 | J14: =IF($D14=0,0,I14/$D14) -> 0.47619048 | K14: =SUMIF('Breakout Systems'!$T$3:$T$5000,$A14,'Breakout Systems'!W$3:W$5000) -> 77 | L14: =IF($D14=0,0,K14/$D14) -> 0.52380952 | M14: =SUMIF('Breakout Systems'!$T$3:$T$5000,$A14,'Breakout Systems'!X$3:X$5000) -> 86 | N14: =IF($D14=0,0,M14/$D14) -> 0.58503401 | O14: =SUMIF('Breakout Systems'!$T$3:$T$5000,$A14,'Breakout Systems'!Y$3:Y$5000) -> 61 | P14: =IF($D14=0,0,O14/$D14) -> 0.41496599 | Q14: =SUMIF('Breakout Systems'!$T$3:$T$5000,$A14,'Breakout Systems'!AB$3:AB$5000) -> 33239.57 | R14: =SUMIF('Breakout Systems'!$T$3:$T$5000,$A14,'Breakout Systems'!AD$3:AD$5000) -> -21758.28 | S14: =Q14+R14 -> 11481.29 | T14: =IF(D14=0,0,SUMIF('Breakout Systems'!T$3:T$5000,A14,'Breakout Systems'!AB$3:AB$5000)) -> 33239.57 | U14: =IF(D14=0,0,SUMIF('Breakout Systems'!T$3:T$5000,A14,'Breakout Systems'!AD$3:AD$5000)) -> -21758.28 | V14: =IF(D14=0,0,SUMIF('Breakout Systems'!T$3:T$5000,A14,'Breakout Systems'!O$3:O$5000)) -> 11481.29 | W14: =IF(D14=0,0,T14/E14) -> 544.91098 | X14: =IF(D14=0,0,U14/G14) -> -253.00326 | Y14: =IF(D14=0,0,V14/D14) -> 78.104014 | Z14: =S14+Z13 -> 239872.61 | AA14: =V14/$Z$2 -> 0.05740645 | AB14: =MAX(Z$2:Z14) -> 239872.61 | AC14: =(AB14-Z14)/Z14 -> 0 | AD14: {=MAX(IF('Breakout Systems'!T$3:T$5000=A14,'Breakout Systems'!AB$3:AB$5000))} -> 1708.05 | AE14: =IF(AD14=0,0,INDEX('Breakout Systems'!AC$3:AC$5000,(MATCH(AD14,'Breakout Systems'!AB$3:AB$5000,0)))) -> CADJPY | AF14: {=MIN(IF('Breakout Systems'!T$3:T$5000=A14,'Breakout Systems'!AD$3:AD$5000))} -> -916.8 | AG14: =IF(AF14=0,0,INDEX('Breakout Systems'!AC$3:AC$5000,(MATCH(AF14,'Breakout Systems'!AD$3:AD$5000,0)))) -> EURAUD | AH14: =COUNTIFS('Breakout Systems'!$D$3:$D$5000,AH$2,'Breakout Systems'!$T$3:$T$5000,$A14) -> 78 | AI14: =COUNTIFS('Breakout Systems'!$D$3:$D$5000,AI$2,'Breakout Systems'!$T$3:$T$5000,$A14) -> 42 | AJ14: =COUNTIFS('Breakout Systems'!$D$3:$D$5000,AJ$2,'Breakout Systems'!$T$3:$T$5000,$A14) -> 17 | AK14: =COUNTIFS('Breakout Systems'!$D$3:$D$5000,AK$2,'Breakout Systems'!$T$3:$T$5000,$A14) -> 6 | AL14: =COUNTIFS('Breakout Systems'!$D$3:$D$5000,AL$2,'Breakout Systems'!$T$3:$T$5000,$A14) -> 1 | AM14: =COUNTIFS('Breakout Systems'!$D$3:$D$5000,AM$2,'Breakout Systems'!$T$3:$T$5000,$A14) -> 3 | AN14: =SUMIFS('Breakout Systems'!$R$3:$R$5000,'Breakout Systems'!$D$3:$D$5000,AN$2,'Breakout Systems'!$T$3:$T$5000,$A14) -> 373 | AO14: =SUMIFS('Breakout Systems'!$R$3:$R$5000,'Breakout Systems'!$D$3:$D$5000,AO$2,'Breakout Systems'!$T$3:$T$5000,$A14) -> 391 | AP14: =SUMIFS('Breakout Systems'!$R$3:$R$5000,'Breakout Systems'!$D$3:$D$5000,AP$2,'Breakout Systems'!$T$3:$T$5000,$A14) -> 226 | AQ14: =SUMIFS('Breakout Systems'!$R$3:$R$5000,'Breakout Systems'!$D$3:$D$5000,AQ$2,'Breakout Systems'!$T$3:$T$5000,$A14) -> 444 | AR14: =SUMIFS('Breakout Systems'!$R$3:$R$5000,'Breakout Systems'!$D$3:$D$5000,AR$2,'Breakout Systems'!$T$3:$T$5000,$A14) -> 156 | AS14: =SUMIFS('Breakout Systems'!$R$3:$R$5000,'Breakout Systems'!$D$3:$D$5000,AS$2,'Breakout Systems'!$T$3:$T$5000,$A14) -> 336 | AT14: =IF(AN14=0,0,AN14/AH14) -> 4.7820513 | AU14: =IF(AO14=0,0,AO14/AI14) -> 9.3095238 | AV14: =IF(AP14=0,0,AP14/AJ14) -> 13.294118 | AW14: =IF(AQ14=0,0,AQ14/AK14) -> 74 | AX14: =IF(AR14=0,0,AR14/AL14) -> 156 | AY14: =IF(AS14=0,0,AS14/AM14) -> 112 | AZ14: =IF(AH14=0,0,SUM(AN14:AS14)/SUM(AH14:AM14)) -> 13.102041 | BL14: =EOMONTH(BL13,1) -> 42369 | BM14: =F14 -> 0.41496599 | BN14: =SUM(E$3:E14)/SUM(D$3:D14) -> 0.4005102 | BO14: =W14 -> 544.91098 | BP14: =SUM(T$3:T14)/SUM(E$3:E14) -> 495.37959 | BR14: =EOMONTH(BR13,1) -> 42369 | BS14: =D14 -> 147 | BT14: =ROUND(AVERAGE(BS$3:BS14),0) -> 65 | BZ14: =C14&" "&B14 -> Dec 2015 | CA14: =IF(D14=0," ",Z14) -> 239872.61 | CB14: =IF(D14=0," ",AC14) -> 0
A15: =A14+1 -> 13 | B15: =B14+1 -> 2016 | C15: Jan | D15: =COUNTIF('Breakout Systems'!T$3:T$5000,A15) -> 155 | E15: =SUMIF('Breakout Systems'!T$3:T$5000,A15,'Breakout Systems'!Z$3:Z$5000) -> 62 | F15: =IF(D15=0,0,E15/D15) -> 0.4 | G15: =SUMIF('Breakout Systems'!T$3:T$5000,A15,'Breakout Systems'!AA$3:AA$5000) -> 93 | H15: =IF(D15=0,0,G15/D15) -> 0.6 | I15: =SUMIF('Breakout Systems'!T$3:T$5000,A15,'Breakout Systems'!V$3:V$5000) -> 53 | J15: =IF($D15=0,0,I15/$D15) -> 0.34193548 | K15: =SUMIF('Breakout Systems'!$T$3:$T$5000,$A15,'Breakout Systems'!W$3:W$5000) -> 102 | L15: =IF($D15=0,0,K15/$D15) -> 0.65806452 | M15: =SUMIF('Breakout Systems'!$T$3:$T$5000,$A15,'Breakout Systems'!X$3:X$5000) -> 94 | N15: =IF($D15=0,0,M15/$D15) -> 0.60645161 | O15: =SUMIF('Breakout Systems'!$T$3:$T$5000,$A15,'Breakout Systems'!Y$3:Y$5000) -> 61 | P15: =IF($D15=0,0,O15/$D15) -> 0.39354839 | Q15: =SUMIF('Breakout Systems'!$T$3:$T$5000,$A15,'Breakout Systems'!AB$3:AB$5000) -> 41526.44 | R15: =SUMIF('Breakout Systems'!$T$3:$T$5000,$A15,'Breakout Systems'!AD$3:AD$5000) -> -22772.93 | S15: =Q15+R15 -> 18753.51 | T15: =IF(D15=0,0,SUMIF('Breakout Systems'!T$3:T$5000,A15,'Breakout Systems'!AB$3:AB$5000)) -> 41526.44 | U15: =IF(D15=0,0,SUMIF('Breakout Systems'!T$3:T$5000,A15,'Breakout Systems'!AD$3:AD$5000)) -> -22772.93 | V15: =IF(D15=0,0,SUMIF('Breakout Systems'!T$3:T$5000,A15,'Breakout Systems'!O$3:O$5000)) -> 18753.51 | W15: =IF(D15=0,0,T15/E15) -> 669.78129 | X15: =IF(D15=0,0,U15/G15) -> -244.87022 | Y15: =IF(D15=0,0,V15/D15) -> 120.99039 | Z15: =S15+Z14 -> 258626.12 | AA15: =V15/$Z$2 -> 0.09376755 | AB15: =MAX(Z$2:Z15) -> 258626.12 | AC15: =(AB15-Z15)/Z15 -> 0 | AD15: {=MAX(IF('Breakout Systems'!T$3:T$5000=A15,'Breakout Systems'!AB$3:AB$5000))} -> 3442.36 | AE15: =IF(AD15=0,0,INDEX('Breakout Systems'!AC$3:AC$5000,(MATCH(AD15,'Breakout Systems'!AB$3:AB$5000,0)))) -> CADJPY | AF15: {=MIN(IF('Breakout Systems'!T$3:T$5000=A15,'Breakout Systems'!AD$3:AD$5000))} -> -625.6 | AG15: =IF(AF15=0,0,INDEX('Breakout Systems'!AC$3:AC$5000,(MATCH(AF15,'Breakout Systems'!AD$3:AD$5000,0)))) -> NIK | AH15: =COUNTIFS('Breakout Systems'!$D$3:$D$5000,AH$2,'Breakout Systems'!$T$3:$T$5000,$A15) -> 86 | AI15: =COUNTIFS('Breakout Systems'!$D$3:$D$5000,AI$2,'Breakout Systems'!$T$3:$T$5000,$A15) -> 39 | AJ15: =COUNTIFS('Breakout Systems'!$D$3:$D$5000,AJ$2,'Breakout Systems'!$T$3:$T$5000,$A15) -> 21 | AK15: =COUNTIFS('Breakout Systems'!$D$3:$D$5000,AK$2,'Breakout Systems'!$T$3:$T$5000,$A15) -> 6 | AL15: =COUNTIFS('Breakout Systems'!$D$3:$D$5000,AL$2,'Breakout Systems'!$T$3:$T$5000,$A15) -> 2 | AM15: =COUNTIFS('Breakout Systems'!$D$3:$D$5000,AM$2,'Breakout Systems'!$T$3:$T$5000,$A15) -> 1 | AN15: =SUMIFS('Breakout Systems'!$R$3:$R$5000,'Breakout Systems'!$D$3:$D$5000,AN$2,'Breakout Systems'!$T$3:$T$5000,$A15) -> 289 | AO15: =SUMIFS('Breakout Systems'!$R$3:$R$5000,'Breakout Systems'!$D$3:$D$5000,AO$2,'Breakout Systems'!$T$3:$T$5000,$A15) -> 264 | AP15: =SUMIFS('Breakout Systems'!$R$3:$R$5000,'Breakout Systems'!$D$3:$D$5000,AP$2,'Breakout Systems'!$T$3:$T$5000,$A15) -> 376 | AQ15: =SUMIFS('Breakout Systems'!$R$3:$R$5000,'Breakout Systems'!$D$3:$D$5000,AQ$2,'Breakout Systems'!$T$3:$T$5000,$A15) -> 126 | AR15: =SUMIFS('Breakout Systems'!$R$3:$R$5000,'Breakout Systems'!$D$3:$D$5000,AR$2,'Breakout Systems'!$T$3:$T$5000,$A15) -> 534 | AS15: =SUMIFS('Breakout Systems'!$R$3:$R$5000,'Breakout Systems'!$D$3:$D$5000,AS$2,'Breakout Systems'!$T$3:$T$5000,$A15) -> 307 | AT15: =IF(AN15=0,0,AN15/AH15) -> 3.3604651 | AU15: =IF(AO15=0,0,AO15/AI15) -> 6.7692308 | AV15: =IF(AP15=0,0,AP15/AJ15) -> 17.904762 | AW15: =IF(AQ15=0,0,AQ15/AK15) -> 21 | AX15: =IF(AR15=0,0,AR15/AL15) -> 267 | AY15: =IF(AS15=0,0,AS15/AM15) -> 307 | AZ15: =IF(AH15=0,0,SUM(AN15:AS15)/SUM(AH15:AM15)) -> 12.232258 | BL15: =EOMONTH(BL14,1) -> 42400 | BM15: =F15 -> 0.4 | BN15: =SUM(E$3:E15)/SUM(D$3:D15) -> 0.40042599 | BO15: =W15 -> 669.78129 | BP15: =SUM(T$3:T15)/SUM(E$3:E15) -> 524.13731 | BR15: =EOMONTH(BR14,1) -> 42400 | BS15: =D15 -> 155 | BT15: =ROUND(AVERAGE(BS$3:BS15),0) -> 72 | BZ15: =C15&" "&B15 -> Jan 2016 | CA15: =IF(D15=0," ",Z15) -> 258626.12 | CB15: =IF(D15=0," ",AC15) -> 0
A16: =A15+1 -> 14 | B16: =B15 -> 2016 | C16: Feb | D16: =COUNTIF('Breakout Systems'!T$3:T$5000,A16) -> 89 | E16: =SUMIF('Breakout Systems'!T$3:T$5000,A16,'Breakout Systems'!Z$3:Z$5000) -> 30 | F16: =IF(D16=0,0,E16/D16) -> 0.33707865 | G16: =SUMIF('Breakout Systems'!T$3:T$5000,A16,'Breakout Systems'!AA$3:AA$5000) -> 59 | H16: =IF(D16=0,0,G16/D16) -> 0.66292135 | I16: =SUMIF('Breakout Systems'!T$3:T$5000,A16,'Breakout Systems'!V$3:V$5000) -> 40 | J16: =IF($D16=0,0,I16/$D16) -> 0.4494382 | K16: =SUMIF('Breakout Systems'!$T$3:$T$5000,$A16,'Breakout Systems'!W$3:W$5000) -> 49 | L16: =IF($D16=0,0,K16/$D16) -> 0.5505618 | M16: =SUMIF('Breakout Systems'!$T$3:$T$5000,$A16,'Breakout Systems'!X$3:X$5000) -> 49 | N16: =IF($D16=0,0,M16/$D16) -> 0.5505618 | O16: =SUMIF('Breakout Systems'!$T$3:$T$5000,$A16,'Breakout Systems'!Y$3:Y$5000) -> 40 | P16: =IF($D16=0,0,O16/$D16) -> 0.4494382 | Q16: =SUMIF('Breakout Systems'!$T$3:$T$5000,$A16,'Breakout Systems'!AB$3:AB$5000) -> 17413.66 | R16: =SUMIF('Breakout Systems'!$T$3:$T$5000,$A16,'Breakout Systems'!AD$3:AD$5000) -> -17012.56 | S16: =Q16+R16 -> 401.1 | T16: =IF(D16=0,0,SUMIF('Breakout Systems'!T$3:T$5000,A16,'Breakout Systems'!AB$3:AB$5000)) -> 17413.66 | U16: =IF(D16=0,0,SUMIF('Breakout Systems'!T$3:T$5000,A16,'Breakout Systems'!AD$3:AD$5000)) -> -17012.56 | V16: =IF(D16=0,0,SUMIF('Breakout Systems'!T$3:T$5000,A16,'Breakout Systems'!O$3:O$5000)) -> 401.1 | W16: =IF(D16=0,0,T16/E16) -> 580.45533 | X16: =IF(D16=0,0,U16/G16) -> -288.34847 | Y16: =IF(D16=0,0,V16/D16) -> 4.5067416 | Z16: =S16+Z15 -> 259027.22 | AA16: =V16/$Z$2 -> 0.0020055 | AB16: =MAX(Z$2:Z16) -> 259027.22 | AC16: =(AB16-Z16)/Z16 -> 0 | AD16: {=MAX(IF('Breakout Systems'!T$3:T$5000=A16,'Breakout Systems'!AB$3:AB$5000))} -> 2745.81 | AE16: =IF(AD16=0,0,INDEX('Breakout Systems'!AC$3:AC$5000,(MATCH(AD16,'Breakout Systems'!AB$3:AB$5000,0)))) -> XAUUSD | AF16: {=MIN(IF('Breakout Systems'!T$3:T$5000=A16,'Breakout Systems'!AD$3:AD$5000))} -> -851.89 | AG16: =IF(AF16=0,0,INDEX('Breakout Systems'!AC$3:AC$5000,(MATCH(AF16,'Breakout Systems'!AD$3:AD$5000,0)))) -> EURAUD | AH16: =COUNTIFS('Breakout Systems'!$D$3:$D$5000,AH$2,'Breakout Systems'!$T$3:$T$5000,$A16) -> 42 | AI16: =COUNTIFS('Breakout Systems'!$D$3:$D$5000,AI$2,'Breakout Systems'!$T$3:$T$5000,$A16) -> 26 | AJ16: =COUNTIFS('Breakout Systems'!$D$3:$D$5000,AJ$2,'Breakout Systems'!$T$3:$T$5000,$A16) -> 11 | AK16: =COUNTIFS('Breakout Systems'!$D$3:$D$5000,AK$2,'Breakout Systems'!$T$3:$T$5000,$A16) -> 5 | AL16: =COUNTIFS('Breakout Systems'!$D$3:$D$5000,AL$2,'Breakout Systems'!$T$3:$T$5000,$A16) -> 3 | AM16: =COUNTIFS('Breakout Systems'!$D$3:$D$5000,AM$2,'Breakout Systems'!$T$3:$T$5000,$A16) -> 2 | AN16: =SUMIFS('Breakout Systems'!$R$3:$R$5000,'Breakout Systems'!$D$3:$D$5000,AN$2,'Breakout Systems'!$T$3:$T$5000,$A16) -> 174 | AO16: =SUMIFS('Breakout Systems'!$R$3:$R$5000,'Breakout Systems'!$D$3:$D$5000,AO$2,'Breakout Systems'!$T$3:$T$5000,$A16) -> 160 | AP16: =SUMIFS('Breakout Systems'!$R$3:$R$5000,'Breakout Systems'!$D$3:$D$5000,AP$2,'Breakout Systems'!$T$3:$T$5000,$A16) -> 129 | AQ16: =SUMIFS('Breakout Systems'!$R$3:$R$5000,'Breakout Systems'!$D$3:$D$5000,AQ$2,'Breakout Systems'!$T$3:$T$5000,$A16) -> 142 | AR16: =SUMIFS('Breakout Systems'!$R$3:$R$5000,'Breakout Systems'!$D$3:$D$5000,AR$2,'Breakout Systems'!$T$3:$T$5000,$A16) -> 431 | AS16: =SUMIFS('Breakout Systems'!$R$3:$R$5000,'Breakout Systems'!$D$3:$D$5000,AS$2,'Breakout Systems'!$T$3:$T$5000,$A16) -> 448 | AT16: =IF(AN16=0,0,AN16/AH16) -> 4.1428571 | AU16: =IF(AO16=0,0,AO16/AI16) -> 6.1538462 | AV16: =IF(AP16=0,0,AP16/AJ16) -> 11.727273 | AW16: =IF(AQ16=0,0,AQ16/AK16) -> 28.4 | AX16: =IF(AR16=0,0,AR16/AL16) -> 143.66667 | AY16: =IF(AS16=0,0,AS16/AM16) -> 224 | AZ16: =IF(AH16=0,0,SUM(AN16:AS16)/SUM(AH16:AM16)) -> 16.674157 | BL16: =EOMONTH(BL15,1) -> 42429 | BM16: =F16 -> 0.33707865 | BN16: =SUM(E$3:E16)/SUM(D$3:D16) -> 0.39494163 | BO16: =W16 -> 580.45533 | BP16: =SUM(T$3:T16)/SUM(E$3:E16) -> 528.29874 | BR16: =EOMONTH(BR15,1) -> 42429 | BS16: =D16 -> 89 | BT16: =ROUND(AVERAGE(BS$3:BS16),0) -> 73 | BZ16: =C16&" "&B16 -> Feb 2016 | CA16: =IF(D16=0," ",Z16) -> 259027.22 | CB16: =IF(D16=0," ",AC16) -> 0
A17: =A16+1 -> 15 | B17: =B16 -> 2016 | C17: Mar | D17: =COUNTIF('Breakout Systems'!T$3:T$5000,A17) -> 53 | E17: =SUMIF('Breakout Systems'!T$3:T$5000,A17,'Breakout Systems'!Z$3:Z$5000) -> 19 | F17: =IF(D17=0,0,E17/D17) -> 0.35849057 | G17: =SUMIF('Breakout Systems'!T$3:T$5000,A17,'Breakout Systems'!AA$3:AA$5000) -> 34 | H17: =IF(D17=0,0,G17/D17) -> 0.64150943 | I17: =SUMIF('Breakout Systems'!T$3:T$5000,A17,'Breakout Systems'!V$3:V$5000) -> 27 | J17: =IF($D17=0,0,I17/$D17) -> 0.50943396 | K17: =SUMIF('Breakout Systems'!$T$3:$T$5000,$A17,'Breakout Systems'!W$3:W$5000) -> 26 | L17: =IF($D17=0,0,K17/$D17) -> 0.49056604 | M17: =SUMIF('Breakout Systems'!$T$3:$T$5000,$A17,'Breakout Systems'!X$3:X$5000) -> 19 | N17: =IF($D17=0,0,M17/$D17) -> 0.35849057 | O17: =SUMIF('Breakout Systems'!$T$3:$T$5000,$A17,'Breakout Systems'!Y$3:Y$5000) -> 34 | P17: =IF($D17=0,0,O17/$D17) -> 0.64150943 | Q17: =SUMIF('Breakout Systems'!$T$3:$T$5000,$A17,'Breakout Systems'!AB$3:AB$5000) -> 7428.68 | R17: =SUMIF('Breakout Systems'!$T$3:$T$5000,$A17,'Breakout Systems'!AD$3:AD$5000) -> -7491.64 | S17: =Q17+R17 -> -62.96 | T17: =IF(D17=0,0,SUMIF('Breakout Systems'!T$3:T$5000,A17,'Breakout Systems'!AB$3:AB$5000)) -> 7428.68 | U17: =IF(D17=0,0,SUMIF('Breakout Systems'!T$3:T$5000,A17,'Breakout Systems'!AD$3:AD$5000)) -> -7491.64 | V17: =IF(D17=0,0,SUMIF('Breakout Systems'!T$3:T$5000,A17,'Breakout Systems'!O$3:O$5000)) -> -62.96 | W17: =IF(D17=0,0,T17/E17) -> 390.98316 | X17: =IF(D17=0,0,U17/G17) -> -220.34235 | Y17: =IF(D17=0,0,V17/D17) -> -1.1879245 | Z17: =S17+Z16 -> 258964.26 | AA17: =V17/$Z$2 -> -0.0003148 | AB17: =MAX(Z$2:Z17) -> 259027.22 | AC17: =(AB17-Z17)/Z17 -> 0.00024312235 | AD17: {=MAX(IF('Breakout Systems'!T$3:T$5000=A17,'Breakout Systems'!AB$3:AB$5000))} -> 2342.89 | AE17: =IF(AD17=0,0,INDEX('Breakout Systems'!AC$3:AC$5000,(MATCH(AD17,'Breakout Systems'!AB$3:AB$5000,0)))) -> XAUUSD | AF17: {=MIN(IF('Breakout Systems'!T$3:T$5000=A17,'Breakout Systems'!AD$3:AD$5000))} -> -432.9 | AG17: =IF(AF17=0,0,INDEX('Breakout Systems'!AC$3:AC$5000,(MATCH(AF17,'Breakout Systems'!AD$3:AD$5000,0)))) -> XAGUSD | AH17: =COUNTIFS('Breakout Systems'!$D$3:$D$5000,AH$2,'Breakout Systems'!$T$3:$T$5000,$A17) -> 33 | AI17: =COUNTIFS('Breakout Systems'!$D$3:$D$5000,AI$2,'Breakout Systems'!$T$3:$T$5000,$A17) -> 12 | AJ17: =COUNTIFS('Breakout Systems'!$D$3:$D$5000,AJ$2,'Breakout Systems'!$T$3:$T$5000,$A17) -> 4 | AK17: =COUNTIFS('Breakout Systems'!$D$3:$D$5000,AK$2,'Breakout Systems'!$T$3:$T$5000,$A17) -> 4 | AL17: =COUNTIFS('Breakout Systems'!$D$3:$D$5000,AL$2,'Breakout Systems'!$T$3:$T$5000,$A17) -> 0 | AM17: =COUNTIFS('Breakout Systems'!$D$3:$D$5000,AM$2,'Breakout Systems'!$T$3:$T$5000,$A17) -> 0 | AN17: =SUMIFS('Breakout Systems'!$R$3:$R$5000,'Breakout Systems'!$D$3:$D$5000,AN$2,'Breakout Systems'!$T$3:$T$5000,$A17) -> 150 | AO17: =SUMIFS('Breakout Systems'!$R$3:$R$5000,'Breakout Systems'!$D$3:$D$5000,AO$2,'Breakout Systems'!$T$3:$T$5000,$A17) -> 79 | AP17: =SUMIFS('Breakout Systems'!$R$3:$R$5000,'Breakout Systems'!$D$3:$D$5000,AP$2,'Breakout Systems'!$T$3:$T$5000,$A17) -> 93 | AQ17: =SUMIFS('Breakout Systems'!$R$3:$R$5000,'Breakout Systems'!$D$3:$D$5000,AQ$2,'Breakout Systems'!$T$3:$T$5000,$A17) -> 442 | AR17: =SUMIFS('Breakout Systems'!$R$3:$R$5000,'Breakout Systems'!$D$3:$D$5000,AR$2,'Breakout Systems'!$T$3:$T$5000,$A17) -> 0 | AS17: =SUMIFS('Breakout Systems'!$R$3:$R$5000,'Breakout Systems'!$D$3:$D$5000,AS$2,'Breakout Systems'!$T$3:$T$5000,$A17) -> 0 | AT17: =IF(AN17=0,0,AN17/AH17) -> 4.5454545 | AU17: =IF(AO17=0,0,AO17/AI17) -> 6.5833333 | AV17: =IF(AP17=0,0,AP17/AJ17) -> 23.25 | AW17: =IF(AQ17=0,0,AQ17/AK17) -> 110.5 | AX17: =IF(AR17=0,0,AR17/AL17) -> 0 | AY17: =IF(AS17=0,0,AS17/AM17) -> 0 | AZ17: =IF(AH17=0,0,SUM(AN17:AS17)/SUM(AH17:AM17)) -> 14.415094 | BL17: =EOMONTH(BL16,1) -> 42460 | BM17: =F17 -> 0.35849057 | BN17: =SUM(E$3:E17)/SUM(D$3:D17) -> 0.39315449 | BO17: =W17 -> 390.98316 | BP17: =SUM(T$3:T17)/SUM(E$3:E17) -> 522.15993 | BR17: =EOMONTH(BR16,1) -> 42460 | BS17: =D17 -> 53 | BT17: =ROUND(AVERAGE(BS$3:BS17),0) -> 72 | BZ17: =C17&" "&B17 -> Mar 2016 | CA17: =IF(D17=0," ",Z17) -> 258964.26 | CB17: =IF(D17=0," ",AC17) -> 0.00024312235
A18: =A17+1 -> 16 | B18: =B17 -> 2016 | C18: Apr | D18: =COUNTIF('Breakout Systems'!T$3:T$5000,A18) -> 94 | E18: =SUMIF('Breakout Systems'!T$3:T$5000,A18,'Breakout Systems'!Z$3:Z$5000) -> 45 | F18: =IF(D18=0,0,E18/D18) -> 0.4787234 | G18: =SUMIF('Breakout Systems'!T$3:T$5000,A18,'Breakout Systems'!AA$3:AA$5000) -> 49 | H18: =IF(D18=0,0,G18/D18) -> 0.5212766 | I18: =SUMIF('Breakout Systems'!T$3:T$5000,A18,'Breakout Systems'!V$3:V$5000) -> 43 | J18: =IF($D18=0,0,I18/$D18) -> 0.45744681 | K18: =SUMIF('Breakout Systems'!$T$3:$T$5000,$A18,'Breakout Systems'!W$3:W$5000) -> 51 | L18: =IF($D18=0,0,K18/$D18) -> 0.54255319 | M18: =SUMIF('Breakout Systems'!$T$3:$T$5000,$A18,'Breakout Systems'!X$3:X$5000) -> 56 | N18: =IF($D18=0,0,M18/$D18) -> 0.59574468 | O18: =SUMIF('Breakout Systems'!$T$3:$T$5000,$A18,'Breakout Systems'!Y$3:Y$5000) -> 38 | P18: =IF($D18=0,0,O18/$D18) -> 0.40425532 | Q18: =SUMIF('Breakout Systems'!$T$3:$T$5000,$A18,'Breakout Systems'!AB$3:AB$5000) -> 21659.24 | R18: =SUMIF('Breakout Systems'!$T$3:$T$5000,$A18,'Breakout Systems'!AD$3:AD$5000) -> -11415.13 | S18: =Q18+R18 -> 10244.11 | T18: =IF(D18=0,0,SUMIF('Breakout Systems'!T$3:T$5000,A18,'Breakout Systems'!AB$3:AB$5000)) -> 21659.24 | U18: =IF(D18=0,0,SUMIF('Breakout Systems'!T$3:T$5000,A18,'Breakout Systems'!AD$3:AD$5000)) -> -11415.13 | V18: =IF(D18=0,0,SUMIF('Breakout Systems'!T$3:T$5000,A18,'Breakout Systems'!O$3:O$5000)) -> 10244.11 | W18: =IF(D18=0,0,T18/E18) -> 481.31644 | X18: =IF(D18=0,0,U18/G18) -> -232.96184 | Y18: =IF(D18=0,0,V18/D18) -> 108.97989 | Z18: =S18+Z17 -> 269208.37 | AA18: =V18/$Z$2 -> 0.05122055 | AB18: =MAX(Z$2:Z18) -> 269208.37 | AC18: =(AB18-Z18)/Z18 -> 0 | AD18: {=MAX(IF('Breakout Systems'!T$3:T$5000=A18,'Breakout Systems'!AB$3:AB$5000))} -> 2458.02 | AE18: =IF(AD18=0,0,INDEX('Breakout Systems'!AC$3:AC$5000,(MATCH(AD18,'Breakout Systems'!AB$3:AB$5000,0)))) -> USDJPY | AF18: {=MIN(IF('Breakout Systems'!T$3:T$5000=A18,'Breakout Systems'!AD$3:AD$5000))} -> -444.77 | AG18: =IF(AF18=0,0,INDEX('Breakout Systems'!AC$3:AC$5000,(MATCH(AF18,'Breakout Systems'!AD$3:AD$5000,0)))) -> XAUUSD | AH18: =COUNTIFS('Breakout Systems'!$D$3:$D$5000,AH$2,'Breakout Systems'!$T$3:$T$5000,$A18) -> 60 | AI18: =COUNTIFS('Breakout Systems'!$D$3:$D$5000,AI$2,'Breakout Systems'!$T$3:$T$5000,$A18) -> 21 | AJ18: =COUNTIFS('Breakout Systems'!$D$3:$D$5000,AJ$2,'Breakout Systems'!$T$3:$T$5000,$A18) -> 11 | AK18: =COUNTIFS('Breakout Systems'!$D$3:$D$5000,AK$2,'Breakout Systems'!$T$3:$T$5000,$A18) -> 2 | AL18: =COUNTIFS('Breakout Systems'!$D$3:$D$5000,AL$2,'Breakout Systems'!$T$3:$T$5000,$A18) -> 0 | AM18: =COUNTIFS('Breakout Systems'!$D$3:$D$5000,AM$2,'Breakout Systems'!$T$3:$T$5000,$A18) -> 0 | AN18: =SUMIFS('Breakout Systems'!$R$3:$R$5000,'Breakout Systems'!$D$3:$D$5000,AN$2,'Breakout Systems'!$T$3:$T$5000,$A18) -> 233 | AO18: =SUMIFS('Breakout Systems'!$R$3:$R$5000,'Breakout Systems'!$D$3:$D$5000,AO$2,'Breakout Systems'!$T$3:$T$5000,$A18) -> 255 | AP18: =SUMIFS('Breakout Systems'!$R$3:$R$5000,'Breakout Systems'!$D$3:$D$5000,AP$2,'Breakout Systems'!$T$3:$T$5000,$A18) -> 158 | AQ18: =SUMIFS('Breakout Systems'!$R$3:$R$5000,'Breakout Systems'!$D$3:$D$5000,AQ$2,'Breakout Systems'!$T$3:$T$5000,$A18) -> 219 | AR18: =SUMIFS('Breakout Systems'!$R$3:$R$5000,'Breakout Systems'!$D$3:$D$5000,AR$2,'Breakout Systems'!$T$3:$T$5000,$A18) -> 0 | AS18: =SUMIFS('Breakout Systems'!$R$3:$R$5000,'Breakout Systems'!$D$3:$D$5000,AS$2,'Breakout Systems'!$T$3:$T$5000,$A18) -> 0 | AT18: =IF(AN18=0,0,AN18/AH18) -> 3.8833333 | AU18: =IF(AO18=0,0,AO18/AI18) -> 12.142857 | AV18: =IF(AP18=0,0,AP18/AJ18) -> 14.363636 | AW18: =IF(AQ18=0,0,AQ18/AK18) -> 109.5 | AX18: =IF(AR18=0,0,AR18/AL18) -> 0 | AY18: =IF(AS18=0,0,AS18/AM18) -> 0 | AZ18: =IF(AH18=0,0,SUM(AN18:AS18)/SUM(AH18:AM18)) -> 9.2021277 | BL18: =EOMONTH(BL17,1) -> 42490 | BM18: =F18 -> 0.4787234 | BN18: =SUM(E$3:E18)/SUM(D$3:D18) -> 0.4 | BO18: =W18 -> 481.31644 | BP18: =SUM(T$3:T18)/SUM(E$3:E18) -> 518.24938 | BR18: =EOMONTH(BR17,1) -> 42490 | BS18: =D18 -> 94 | BT18: =ROUND(AVERAGE(BS$3:BS18),0) -> 73 | BZ18: =C18&" "&B18 -> Apr 2016 | CA18: =IF(D18=0," ",Z18) -> 269208.37 | CB18: =IF(D18=0," ",AC18) -> 0
A19: =A18+1 -> 17 | B19: =B18 -> 2016 | C19: May | D19: =COUNTIF('Breakout Systems'!T$3:T$5000,A19) -> 101 | E19: =SUMIF('Breakout Systems'!T$3:T$5000,A19,'Breakout Systems'!Z$3:Z$5000) -> 35 | F19: =IF(D19=0,0,E19/D19) -> 0.34653465 | G19: =SUMIF('Breakout Systems'!T$3:T$5000,A19,'Breakout Systems'!AA$3:AA$5000) -> 66 | H19: =IF(D19=0,0,G19/D19) -> 0.65346535 | I19: =SUMIF('Breakout Systems'!T$3:T$5000,A19,'Breakout Systems'!V$3:V$5000) -> 41 | J19: =IF($D19=0,0,I19/$D19) -> 0.40594059 | K19: =SUMIF('Breakout Systems'!$T$3:$T$5000,$A19,'Breakout Systems'!W$3:W$5000) -> 60 | L19: =IF($D19=0,0,K19/$D19) -> 0.59405941 | M19: =SUMIF('Breakout Systems'!$T$3:$T$5000,$A19,'Breakout Systems'!X$3:X$5000) -> 63 | N19: =IF($D19=0,0,M19/$D19) -> 0.62376238 | O19: =SUMIF('Breakout Systems'!$T$3:$T$5000,$A19,'Breakout Systems'!Y$3:Y$5000) -> 38 | P19: =IF($D19=0,0,O19/$D19) -> 0.37623762 | Q19: =SUMIF('Breakout Systems'!$T$3:$T$5000,$A19,'Breakout Systems'!AB$3:AB$5000) -> 14063.5 | R19: =SUMIF('Breakout Systems'!$T$3:$T$5000,$A19,'Breakout Systems'!AD$3:AD$5000) -> -15304.47 | S19: =Q19+R19 -> -1240.97 | T19: =IF(D19=0,0,SUMIF('Breakout Systems'!T$3:T$5000,A19,'Breakout Systems'!AB$3:AB$5000)) -> 14063.5 | U19: =IF(D19=0,0,SUMIF('Breakout Systems'!T$3:T$5000,A19,'Breakout Systems'!AD$3:AD$5000)) -> -15304.47 | V19: =IF(D19=0,0,SUMIF('Breakout Systems'!T$3:T$5000,A19,'Breakout Systems'!O$3:O$5000)) -> -1240.97 | W19: =IF(D19=0,0,T19/E19) -> 401.81429 | X19: =IF(D19=0,0,U19/G19) -> -231.88591 | Y19: =IF(D19=0,0,V19/D19) -> -12.286832 | Z19: =S19+Z18 -> 267967.4 | AA19: =V19/$Z$2 -> -0.00620485 | AB19: =MAX(Z$2:Z19) -> 269208.37 | AC19: =(AB19-Z19)/Z19 -> 0.0046310484 | AD19: {=MAX(IF('Breakout Systems'!T$3:T$5000=A19,'Breakout Systems'!AB$3:AB$5000))} -> 1046.85 | AE19: =IF(AD19=0,0,INDEX('Breakout Systems'!AC$3:AC$5000,(MATCH(AD19,'Breakout Systems'!AB$3:AB$5000,0)))) -> AUDUSD | AF19: {=MIN(IF('Breakout Systems'!T$3:T$5000=A19,'Breakout Systems'!AD$3:AD$5000))} -> -670.7 | AG19: =IF(AF19=0,0,INDEX('Breakout Systems'!AC$3:AC$5000,(MATCH(AF19,'Breakout Systems'!AD$3:AD$5000,0)))) -> USDCAD | AH19: =COUNTIFS('Breakout Systems'!$D$3:$D$5000,AH$2,'Breakout Systems'!$T$3:$T$5000,$A19) -> 63 | AI19: =COUNTIFS('Breakout Systems'!$D$3:$D$5000,AI$2,'Breakout Systems'!$T$3:$T$5000,$A19) -> 20 | AJ19: =COUNTIFS('Breakout Systems'!$D$3:$D$5000,AJ$2,'Breakout Systems'!$T$3:$T$5000,$A19) -> 11 | AK19: =COUNTIFS('Breakout Systems'!$D$3:$D$5000,AK$2,'Breakout Systems'!$T$3:$T$5000,$A19) -> 6 | AL19: =COUNTIFS('Breakout Systems'!$D$3:$D$5000,AL$2,'Breakout Systems'!$T$3:$T$5000,$A19) -> 1 | AM19: =COUNTIFS('Breakout Systems'!$D$3:$D$5000,AM$2,'Breakout Systems'!$T$3:$T$5000,$A19) -> 0 | AN19: =SUMIFS('Breakout Systems'!$R$3:$R$5000,'Breakout Systems'!$D$3:$D$5000,AN$2,'Breakout Systems'!$T$3:$T$5000,$A19) -> 259 | AO19: =SUMIFS('Breakout Systems'!$R$3:$R$5000,'Breakout Systems'!$D$3:$D$5000,AO$2,'Breakout Systems'!$T$3:$T$5000,$A19) -> 147 | AP19: =SUMIFS('Breakout Systems'!$R$3:$R$5000,'Breakout Systems'!$D$3:$D$5000,AP$2,'Breakout Systems'!$T$3:$T$5000,$A19) -> 201 | AQ19: =SUMIFS('Breakout Systems'!$R$3:$R$5000,'Breakout Systems'!$D$3:$D$5000,AQ$2,'Breakout Systems'!$T$3:$T$5000,$A19) -> 236 | AR19: =SUMIFS('Breakout Systems'!$R$3:$R$5000,'Breakout Systems'!$D$3:$D$5000,AR$2,'Breakout Systems'!$T$3:$T$5000,$A19) -> 78 | AS19: =SUMIFS('Breakout Systems'!$R$3:$R$5000,'Breakout Systems'!$D$3:$D$5000,AS$2,'Breakout Systems'!$T$3:$T$5000,$A19) -> 0 | AT19: =IF(AN19=0,0,AN19/AH19) -> 4.1111111 | AU19: =IF(AO19=0,0,AO19/AI19) -> 7.35 | AV19: =IF(AP19=0,0,AP19/AJ19) -> 18.272727 | AW19: =IF(AQ19=0,0,AQ19/AK19) -> 39.333333 | AX19: =IF(AR19=0,0,AR19/AL19) -> 78 | AY19: =IF(AS19=0,0,AS19/AM19) -> 0 | AZ19: =IF(AH19=0,0,SUM(AN19:AS19)/SUM(AH19:AM19)) -> 9.1188119 | BL19: =EOMONTH(BL18,1) -> 42521 | BM19: =F19 -> 0.34653465 | BN19: =SUM(E$3:E19)/SUM(D$3:D19) -> 0.39576803 | BO19: =W19 -> 401.81429 | BP19: =SUM(T$3:T19)/SUM(E$3:E19) -> 510.17962 | BR19: =EOMONTH(BR18,1) -> 42521 | BS19: =D19 -> 101 | BT19: =ROUND(AVERAGE(BS$3:BS19),0) -> 75 | BZ19: =C19&" "&B19 -> May 2016 | CA19: =IF(D19=0," ",Z19) -> 267967.4 | CB19: =IF(D19=0," ",AC19) -> 0.0046310484
A20: =A19+1 -> 18 | B20: =B19 -> 2016 | C20: Jun | D20: =COUNTIF('Breakout Systems'!T$3:T$5000,A20) -> 89 | E20: =SUMIF('Breakout Systems'!T$3:T$5000,A20,'Breakout Systems'!Z$3:Z$5000) -> 42 | F20: =IF(D20=0,0,E20/D20) -> 0.47191011 | G20: =SUMIF('Breakout Systems'!T$3:T$5000,A20,'Breakout Systems'!AA$3:AA$5000) -> 47 | H20: =IF(D20=0,0,G20/D20) -> 0.52808989 | I20: =SUMIF('Breakout Systems'!T$3:T$5000,A20,'Breakout Systems'!V$3:V$5000) -> 30 | J20: =IF($D20=0,0,I20/$D20) -> 0.33707865 | K20: =SUMIF('Breakout Systems'!$T$3:$T$5000,$A20,'Breakout Systems'!W$3:W$5000) -> 59 | L20: =IF($D20=0,0,K20/$D20) -> 0.66292135 | M20: =SUMIF('Breakout Systems'!$T$3:$T$5000,$A20,'Breakout Systems'!X$3:X$5000) -> 54 | N20: =IF($D20=0,0,M20/$D20) -> 0.60674157 | O20: =SUMIF('Breakout Systems'!$T$3:$T$5000,$A20,'Breakout Systems'!Y$3:Y$5000) -> 35 | P20: =IF($D20=0,0,O20/$D20) -> 0.39325843 | Q20: =SUMIF('Breakout Systems'!$T$3:$T$5000,$A20,'Breakout Systems'!AB$3:AB$5000) -> 26307.62 | R20: =SUMIF('Breakout Systems'!$T$3:$T$5000,$A20,'Breakout Systems'!AD$3:AD$5000) -> -12569.76 | S20: =Q20+R20 -> 13737.86 | T20: =IF(D20=0,0,SUMIF('Breakout Systems'!T$3:T$5000,A20,'Breakout Systems'!AB$3:AB$5000)) -> 26307.62 | U20: =IF(D20=0,0,SUMIF('Breakout Systems'!T$3:T$5000,A20,'Breakout Systems'!AD$3:AD$5000)) -> -12569.76 | V20: =IF(D20=0,0,SUMIF('Breakout Systems'!T$3:T$5000,A20,'Breakout Systems'!O$3:O$5000)) -> 13737.86 | W20: =IF(D20=0,0,T20/E20) -> 626.3719 | X20: =IF(D20=0,0,U20/G20) -> -267.4417 | Y20: =IF(D20=0,0,V20/D20) -> 154.35798 | Z20: =S20+Z19 -> 281705.26 | AA20: =V20/$Z$2 -> 0.0686893 | AB20: =MAX(Z$2:Z20) -> 281705.26 | AC20: =(AB20-Z20)/Z20 -> 0 | AD20: {=MAX(IF('Breakout Systems'!T$3:T$5000=A20,'Breakout Systems'!AB$3:AB$5000))} -> 3794.49 | AE20: =IF(AD20=0,0,INDEX('Breakout Systems'!AC$3:AC$5000,(MATCH(AD20,'Breakout Systems'!AB$3:AB$5000,0)))) -> FTSE | AF20: {=MIN(IF('Breakout Systems'!T$3:T$5000=A20,'Breakout Systems'!AD$3:AD$5000))} -> -650.26 | AG20: =IF(AF20=0,0,INDEX('Breakout Systems'!AC$3:AC$5000,(MATCH(AF20,'Breakout Systems'!AD$3:AD$5000,0)))) -> ASX | AH20: =COUNTIFS('Breakout Systems'!$D$3:$D$5000,AH$2,'Breakout Systems'!$T$3:$T$5000,$A20) -> 54 | AI20: =COUNTIFS('Breakout Systems'!$D$3:$D$5000,AI$2,'Breakout Systems'!$T$3:$T$5000,$A20) -> 23 | AJ20: =COUNTIFS('Breakout Systems'!$D$3:$D$5000,AJ$2,'Breakout Systems'!$T$3:$T$5000,$A20) -> 9 | AK20: =COUNTIFS('Breakout Systems'!$D$3:$D$5000,AK$2,'Breakout Systems'!$T$3:$T$5000,$A20) -> 2 | AL20: =COUNTIFS('Breakout Systems'!$D$3:$D$5000,AL$2,'Breakout Systems'!$T$3:$T$5000,$A20) -> 1 | AM20: =COUNTIFS('Breakout Systems'!$D$3:$D$5000,AM$2,'Breakout Systems'!$T$3:$T$5000,$A20) -> 0 | AN20: =SUMIFS('Breakout Systems'!$R$3:$R$5000,'Breakout Systems'!$D$3:$D$5000,AN$2,'Breakout Systems'!$T$3:$T$5000,$A20) -> 207 | AO20: =SUMIFS('Breakout Systems'!$R$3:$R$5000,'Breakout Systems'!$D$3:$D$5000,AO$2,'Breakout Systems'!$T$3:$T$5000,$A20) -> 133 | AP20: =SUMIFS('Breakout Systems'!$R$3:$R$5000,'Breakout Systems'!$D$3:$D$5000,AP$2,'Breakout Systems'!$T$3:$T$5000,$A20) -> 52 | AQ20: =SUMIFS('Breakout Systems'!$R$3:$R$5000,'Breakout Systems'!$D$3:$D$5000,AQ$2,'Breakout Systems'!$T$3:$T$5000,$A20) -> 16 | AR20: =SUMIFS('Breakout Systems'!$R$3:$R$5000,'Breakout Systems'!$D$3:$D$5000,AR$2,'Breakout Systems'!$T$3:$T$5000,$A20) -> 155 | AS20: =SUMIFS('Breakout Systems'!$R$3:$R$5000,'Breakout Systems'!$D$3:$D$5000,AS$2,'Breakout Systems'!$T$3:$T$5000,$A20) -> 0 | AT20: =IF(AN20=0,0,AN20/AH20) -> 3.8333333 | AU20: =IF(AO20=0,0,AO20/AI20) -> 5.7826087 | AV20: =IF(AP20=0,0,AP20/AJ20) -> 5.7777778 | AW20: =IF(AQ20=0,0,AQ20/AK20) -> 8 | AX20: =IF(AR20=0,0,AR20/AL20) -> 155 | AY20: =IF(AS20=0,0,AS20/AM20) -> 0 | AZ20: =IF(AH20=0,0,SUM(AN20:AS20)/SUM(AH20:AM20)) -> 6.3258427 | BL20: =EOMONTH(BL19,1) -> 42551 | BM20: =F20 -> 0.47191011 | BN20: =SUM(E$3:E20)/SUM(D$3:D20) -> 0.4007326 | BO20: =W20 -> 626.3719 | BP20: =SUM(T$3:T20)/SUM(E$3:E20) -> 519.10115 | BR20: =EOMONTH(BR19,1) -> 42551 | BS20: =D20 -> 89 | BT20: =ROUND(AVERAGE(BS$3:BS20),0) -> 76 | BZ20: =IF(D20=0," ",C20&" "&B20) -> Jun 2016 | CA20: =IF(D20=0," ",Z20) -> 281705.26 | CB20: =IF(D20=0," ",AC20) -> 0
A21: =A20+1 -> 19 | B21: =B20 -> 2016 | C21: Jul | D21: =COUNTIF('Breakout Systems'!T$3:T$5000,A21) -> 82 | E21: =SUMIF('Breakout Systems'!T$3:T$5000,A21,'Breakout Systems'!Z$3:Z$5000) -> 29 | F21: =IF(D21=0,0,E21/D21) -> 0.35365854 | G21: =SUMIF('Breakout Systems'!T$3:T$5000,A21,'Breakout Systems'!AA$3:AA$5000) -> 53 | H21: =IF(D21=0,0,G21/D21) -> 0.64634146 | I21: =SUMIF('Breakout Systems'!T$3:T$5000,A21,'Breakout Systems'!V$3:V$5000) -> 60 | J21: =IF($D21=0,0,I21/$D21) -> 0.73170732 | K21: =SUMIF('Breakout Systems'!$T$3:$T$5000,$A21,'Breakout Systems'!W$3:W$5000) -> 22 | L21: =IF($D21=0,0,K21/$D21) -> 0.26829268 | M21: =SUMIF('Breakout Systems'!$T$3:$T$5000,$A21,'Breakout Systems'!X$3:X$5000) -> 57 | N21: =IF($D21=0,0,M21/$D21) -> 0.69512195 | O21: =SUMIF('Breakout Systems'!$T$3:$T$5000,$A21,'Breakout Systems'!Y$3:Y$5000) -> 25 | P21: =IF($D21=0,0,O21/$D21) -> 0.30487805 | Q21: =SUMIF('Breakout Systems'!$T$3:$T$5000,$A21,'Breakout Systems'!AB$3:AB$5000) -> 12383.65 | R21: =SUMIF('Breakout Systems'!$T$3:$T$5000,$A21,'Breakout Systems'!AD$3:AD$5000) -> -12379.83 | S21: =Q21+R21 -> 3.82 | T21: =IF(D21=0,0,SUMIF('Breakout Systems'!T$3:T$5000,A21,'Breakout Systems'!AB$3:AB$5000)) -> 12383.65 | U21: =IF(D21=0,0,SUMIF('Breakout Systems'!T$3:T$5000,A21,'Breakout Systems'!AD$3:AD$5000)) -> -12379.83 | V21: =IF(D21=0,0,SUMIF('Breakout Systems'!T$3:T$5000,A21,'Breakout Systems'!O$3:O$5000)) -> 3.82 | W21: =IF(D21=0,0,T21/E21) -> 427.02241 | X21: =IF(D21=0,0,U21/G21) -> -233.5817 | Y21: =IF(D21=0,0,V21/D21) -> 0.046585366 | Z21: =S21+Z20 -> 281709.08 | AA21: =V21/$Z$2 -> 1.91e-05 | AB21: =MAX(Z$2:Z21) -> 281709.08 | AC21: =(AB21-Z21)/Z21 -> 0 | AD21: {=MAX(IF('Breakout Systems'!T$3:T$5000=A21,'Breakout Systems'!AB$3:AB$5000))} -> 1226.24 | AE21: =IF(AD21=0,0,INDEX('Breakout Systems'!AC$3:AC$5000,(MATCH(AD21,'Breakout Systems'!AB$3:AB$5000,0)))) -> DJI | AF21: {=MIN(IF('Breakout Systems'!T$3:T$5000=A21,'Breakout Systems'!AD$3:AD$5000))} -> -616.08 | AG21: =IF(AF21=0,0,INDEX('Breakout Systems'!AC$3:AC$5000,(MATCH(AF21,'Breakout Systems'!AD$3:AD$5000,0)))) -> NZDCAD | AH21: =COUNTIFS('Breakout Systems'!$D$3:$D$5000,AH$2,'Breakout Systems'!$T$3:$T$5000,$A21) -> 52 | AI21: =COUNTIFS('Breakout Systems'!$D$3:$D$5000,AI$2,'Breakout Systems'!$T$3:$T$5000,$A21) -> 16 | AJ21: =COUNTIFS('Breakout Systems'!$D$3:$D$5000,AJ$2,'Breakout Systems'!$T$3:$T$5000,$A21) -> 8 | AK21: =COUNTIFS('Breakout Systems'!$D$3:$D$5000,AK$2,'Breakout Systems'!$T$3:$T$5000,$A21) -> 6 | AL21: =COUNTIFS('Breakout Systems'!$D$3:$D$5000,AL$2,'Breakout Systems'!$T$3:$T$5000,$A21) -> 0 | AM21: =COUNTIFS('Breakout Systems'!$D$3:$D$5000,AM$2,'Breakout Systems'!$T$3:$T$5000,$A21) -> 0 | AN21: =SUMIFS('Breakout Systems'!$R$3:$R$5000,'Breakout Systems'!$D$3:$D$5000,AN$2,'Breakout Systems'!$T$3:$T$5000,$A21) -> 144 | AO21: =SUMIFS('Breakout Systems'!$R$3:$R$5000,'Breakout Systems'!$D$3:$D$5000,AO$2,'Breakout Systems'!$T$3:$T$5000,$A21) -> 70 | AP21: =SUMIFS('Breakout Systems'!$R$3:$R$5000,'Breakout Systems'!$D$3:$D$5000,AP$2,'Breakout Systems'!$T$3:$T$5000,$A21) -> 84 | AQ21: =SUMIFS('Breakout Systems'!$R$3:$R$5000,'Breakout Systems'!$D$3:$D$5000,AQ$2,'Breakout Systems'!$T$3:$T$5000,$A21) -> 74 | AR21: =SUMIFS('Breakout Systems'!$R$3:$R$5000,'Breakout Systems'!$D$3:$D$5000,AR$2,'Breakout Systems'!$T$3:$T$5000,$A21) -> 0 | AS21: =SUMIFS('Breakout Systems'!$R$3:$R$5000,'Breakout Systems'!$D$3:$D$5000,AS$2,'Breakout Systems'!$T$3:$T$5000,$A21) -> 0 | AT21: =IF(AN21=0,0,AN21/AH21) -> 2.7692308 | AU21: =IF(AO21=0,0,AO21/AI21) -> 4.375 | AV21: =IF(AP21=0,0,AP21/AJ21) -> 10.5 | AW21: =IF(AQ21=0,0,AQ21/AK21) -> 12.333333 | AX21: =IF(AR21=0,0,AR21/AL21) -> 0 | AY21: =IF(AS21=0,0,AS21/AM21) -> 0 | AZ21: =IF(AH21=0,0,SUM(AN21:AS21)/SUM(AH21:AM21)) -> 4.5365854 | BL21: =EOMONTH(BL20,1) -> 42582 | BM21: =F21 -> 0.35365854 | BN21: =SUM(E$3:E21)/SUM(D$3:D21) -> 0.39806496 | BO21: =W21 -> 427.02241 | BP21: =SUM(T$3:T21)/SUM(E$3:E21) -> 514.46524 | BR21: =EOMONTH(BR20,1) -> 42582 | BS21: =D21 -> 82 | BT21: =ROUND(AVERAGE(BS$3:BS21),0) -> 76 | BZ21: =IF(D21=0," ",C21&" "&B21) -> Jul 2016 | CA21: =IF(D21=0," ",Z21) -> 281709.08 | CB21: =IF(D21=0," ",AC21) -> 0
A22: =A21+1 -> 20 | B22: =B21 -> 2016 | C22: Aug | D22: =COUNTIF('Breakout Systems'!T$3:T$5000,A22) -> 61 | E22: =SUMIF('Breakout Systems'!T$3:T$5000,A22,'Breakout Systems'!Z$3:Z$5000) -> 18 | F22: =IF(D22=0,0,E22/D22) -> 0.29508197 | G22: =SUMIF('Breakout Systems'!T$3:T$5000,A22,'Breakout Systems'!AA$3:AA$5000) -> 43 | H22: =IF(D22=0,0,G22/D22) -> 0.70491803 | I22: =SUMIF('Breakout Systems'!T$3:T$5000,A22,'Breakout Systems'!V$3:V$5000) -> 36 | J22: =IF($D22=0,0,I22/$D22) -> 0.59016393 | K22: =SUMIF('Breakout Systems'!$T$3:$T$5000,$A22,'Breakout Systems'!W$3:W$5000) -> 25 | L22: =IF($D22=0,0,K22/$D22) -> 0.40983607 | M22: =SUMIF('Breakout Systems'!$T$3:$T$5000,$A22,'Breakout Systems'!X$3:X$5000) -> 36 | N22: =IF($D22=0,0,M22/$D22) -> 0.59016393 | O22: =SUMIF('Breakout Systems'!$T$3:$T$5000,$A22,'Breakout Systems'!Y$3:Y$5000) -> 25 | P22: =IF($D22=0,0,O22/$D22) -> 0.40983607 | Q22: =SUMIF('Breakout Systems'!$T$3:$T$5000,$A22,'Breakout Systems'!AB$3:AB$5000) -> 5509.68 | R22: =SUMIF('Breakout Systems'!$T$3:$T$5000,$A22,'Breakout Systems'!AD$3:AD$5000) -> -10227.75 | S22: =Q22+R22 -> -4718.07 | T22: =IF(D22=0,0,SUMIF('Breakout Systems'!T$3:T$5000,A22,'Breakout Systems'!AB$3:AB$5000)) -> 5509.68 | U22: =IF(D22=0,0,SUMIF('Breakout Systems'!T$3:T$5000,A22,'Breakout Systems'!AD$3:AD$5000)) -> -10227.75 | V22: =IF(D22=0,0,SUMIF('Breakout Systems'!T$3:T$5000,A22,'Breakout Systems'!O$3:O$5000)) -> -4718.07 | W22: =IF(D22=0,0,T22/E22) -> 306.09333 | X22: =IF(D22=0,0,U22/G22) -> -237.85465 | Y22: =IF(D22=0,0,V22/D22) -> -77.34541 | Z22: =S22+Z21 -> 276991.01 | AA22: =V22/$Z$2 -> -0.02359035 | AB22: =MAX(Z$2:Z22) -> 281709.08 | AC22: =(AB22-Z22)/Z22 -> 0.017033296 | AD22: {=MAX(IF('Breakout Systems'!T$3:T$5000=A22,'Breakout Systems'!AB$3:AB$5000))} -> 995.86 | AE22: =IF(AD22=0,0,INDEX('Breakout Systems'!AC$3:AC$5000,(MATCH(AD22,'Breakout Systems'!AB$3:AB$5000,0)))) -> USDCHF | AF22: {=MIN(IF('Breakout Systems'!T$3:T$5000=A22,'Breakout Systems'!AD$3:AD$5000))} -> -603.11 | AG22: =IF(AF22=0,0,INDEX('Breakout Systems'!AC$3:AC$5000,(MATCH(AF22,'Breakout Systems'!AD$3:AD$5000,0)))) -> AUDCAD | AH22: =COUNTIFS('Breakout Systems'!$D$3:$D$5000,AH$2,'Breakout Systems'!$T$3:$T$5000,$A22) -> 43 | AI22: =COUNTIFS('Breakout Systems'!$D$3:$D$5000,AI$2,'Breakout Systems'!$T$3:$T$5000,$A22) -> 11 | AJ22: =COUNTIFS('Breakout Systems'!$D$3:$D$5000,AJ$2,'Breakout Systems'!$T$3:$T$5000,$A22) -> 2 | AK22: =COUNTIFS('Breakout Systems'!$D$3:$D$5000,AK$2,'Breakout Systems'!$T$3:$T$5000,$A22) -> 5 | AL22: =COUNTIFS('Breakout Systems'!$D$3:$D$5000,AL$2,'Breakout Systems'!$T$3:$T$5000,$A22) -> 0 | AM22: =COUNTIFS('Breakout Systems'!$D$3:$D$5000,AM$2,'Breakout Systems'!$T$3:$T$5000,$A22) -> 0 | AN22: =SUMIFS('Breakout Systems'!$R$3:$R$5000,'Breakout Systems'!$D$3:$D$5000,AN$2,'Breakout Systems'!$T$3:$T$5000,$A22) -> 209 | AO22: =SUMIFS('Breakout Systems'!$R$3:$R$5000,'Breakout Systems'!$D$3:$D$5000,AO$2,'Breakout Systems'!$T$3:$T$5000,$A22) -> 56 | AP22: =SUMIFS('Breakout Systems'!$R$3:$R$5000,'Breakout Systems'!$D$3:$D$5000,AP$2,'Breakout Systems'!$T$3:$T$5000,$A22) -> 13 | AQ22: =SUMIFS('Breakout Systems'!$R$3:$R$5000,'Breakout Systems'!$D$3:$D$5000,AQ$2,'Breakout Systems'!$T$3:$T$5000,$A22) -> 83 | AR22: =SUMIFS('Breakout Systems'!$R$3:$R$5000,'Breakout Systems'!$D$3:$D$5000,AR$2,'Breakout Systems'!$T$3:$T$5000,$A22) -> 0 | AS22: =SUMIFS('Breakout Systems'!$R$3:$R$5000,'Breakout Systems'!$D$3:$D$5000,AS$2,'Breakout Systems'!$T$3:$T$5000,$A22) -> 0 | AT22: =IF(AN22=0,0,AN22/AH22) -> 4.8604651 | AU22: =IF(AO22=0,0,AO22/AI22) -> 5.0909091 | AV22: =IF(AP22=0,0,AP22/AJ22) -> 6.5 | AW22: =IF(AQ22=0,0,AQ22/AK22) -> 16.6 | AX22: =IF(AR22=0,0,AR22/AL22) -> 0 | AY22: =IF(AS22=0,0,AS22/AM22) -> 0 | AZ22: =IF(AH22=0,0,SUM(AN22:AS22)/SUM(AH22:AM22)) -> 5.9180328 | BL22: =EOMONTH(BL21,1) -> 42613 | BM22: =F22 -> 0.29508197 | BN22: =SUM(E$3:E22)/SUM(D$3:D22) -> 0.3938992 | BO22: =W22 -> 306.09333 | BP22: =SUM(T$3:T22)/SUM(E$3:E22) -> 508.15094 | BR22: =EOMONTH(BR21,1) -> 42613 | BS22: =D22 -> 61 | BT22: =ROUND(AVERAGE(BS$3:BS22),0) -> 75 | BZ22: =IF(D22=0," ",C22&" "&B22) -> Aug 2016 | CA22: =IF(D22=0," ",Z22) -> 276991.01 | CB22: =IF(D22=0," ",AC22) -> 0.017033296
A23: =A22+1 -> 21 | B23: =B22 -> 2016 | C23: Sep | D23: =COUNTIF('Breakout Systems'!T$3:T$5000,A23) -> 41 | E23: =SUMIF('Breakout Systems'!T$3:T$5000,A23,'Breakout Systems'!Z$3:Z$5000) -> 8 | F23: =IF(D23=0,0,E23/D23) -> 0.19512195 | G23: =SUMIF('Breakout Systems'!T$3:T$5000,A23,'Breakout Systems'!AA$3:AA$5000) -> 33 | H23: =IF(D23=0,0,G23/D23) -> 0.80487805 | I23: =SUMIF('Breakout Systems'!T$3:T$5000,A23,'Breakout Systems'!V$3:V$5000) -> 22 | J23: =IF($D23=0,0,I23/$D23) -> 0.53658537 | K23: =SUMIF('Breakout Systems'!$T$3:$T$5000,$A23,'Breakout Systems'!W$3:W$5000) -> 19 | L23: =IF($D23=0,0,K23/$D23) -> 0.46341463 | M23: =SUMIF('Breakout Systems'!$T$3:$T$5000,$A23,'Breakout Systems'!X$3:X$5000) -> 23 | N23: =IF($D23=0,0,M23/$D23) -> 0.56097561 | O23: =SUMIF('Breakout Systems'!$T$3:$T$5000,$A23,'Breakout Systems'!Y$3:Y$5000) -> 18 | P23: =IF($D23=0,0,O23/$D23) -> 0.43902439 | Q23: =SUMIF('Breakout Systems'!$T$3:$T$5000,$A23,'Breakout Systems'!AB$3:AB$5000) -> 1325.92 | R23: =SUMIF('Breakout Systems'!$T$3:$T$5000,$A23,'Breakout Systems'!AD$3:AD$5000) -> -5891.46 | S23: =Q23+R23 -> -4565.54 | T23: =IF(D23=0,0,SUMIF('Breakout Systems'!T$3:T$5000,A23,'Breakout Systems'!AB$3:AB$5000)) -> 1325.92 | U23: =IF(D23=0,0,SUMIF('Breakout Systems'!T$3:T$5000,A23,'Breakout Systems'!AD$3:AD$5000)) -> -5891.46 | V23: =IF(D23=0,0,SUMIF('Breakout Systems'!T$3:T$5000,A23,'Breakout Systems'!O$3:O$5000)) -> -4565.54 | W23: =IF(D23=0,0,T23/E23) -> 165.74 | X23: =IF(D23=0,0,U23/G23) -> -178.52909 | Y23: =IF(D23=0,0,V23/D23) -> -111.35463 | Z23: =S23+Z22 -> 272425.47 | AA23: =V23/$Z$2 -> -0.0228277 | AB23: =MAX(Z$2:Z23) -> 281709.08 | AC23: =(AB23-Z23)/Z23 -> 0.034077614 | AD23: {=MAX(IF('Breakout Systems'!T$3:T$5000=A23,'Breakout Systems'!AB$3:AB$5000))} -> 282.1 | AE23: =IF(AD23=0,0,INDEX('Breakout Systems'!AC$3:AC$5000,(MATCH(AD23,'Breakout Systems'!AB$3:AB$5000,0)))) -> ASX | AF23: {=MIN(IF('Breakout Systems'!T$3:T$5000=A23,'Breakout Systems'!AD$3:AD$5000))} -> -390.34 | AG23: =IF(AF23=0,0,INDEX('Breakout Systems'!AC$3:AC$5000,(MATCH(AF23,'Breakout Systems'!AD$3:AD$5000,0)))) -> CADJPY | AH23: =COUNTIFS('Breakout Systems'!$D$3:$D$5000,AH$2,'Breakout Systems'!$T$3:$T$5000,$A23) -> 39 | AI23: =COUNTIFS('Breakout Systems'!$D$3:$D$5000,AI$2,'Breakout Systems'!$T$3:$T$5000,$A23) -> 2 | AJ23: =COUNTIFS('Breakout Systems'!$D$3:$D$5000,AJ$2,'Breakout Systems'!$T$3:$T$5000,$A23) -> 0 | AK23: =COUNTIFS('Breakout Systems'!$D$3:$D$5000,AK$2,'Breakout Systems'!$T$3:$T$5000,$A23) -> 0 | AL23: =COUNTIFS('Breakout Systems'!$D$3:$D$5000,AL$2,'Breakout Systems'!$T$3:$T$5000,$A23) -> 0 | AM23: =COUNTIFS('Breakout Systems'!$D$3:$D$5000,AM$2,'Breakout Systems'!$T$3:$T$5000,$A23) -> 0 | AN23: =SUMIFS('Breakout Systems'!$R$3:$R$5000,'Breakout Systems'!$D$3:$D$5000,AN$2,'Breakout Systems'!$T$3:$T$5000,$A23) -> 162 | AO23: =SUMIFS('Breakout Systems'!$R$3:$R$5000,'Breakout Systems'!$D$3:$D$5000,AO$2,'Breakout Systems'!$T$3:$T$5000,$A23) -> 7 | AP23: =SUMIFS('Breakout Systems'!$R$3:$R$5000,'Breakout Systems'!$D$3:$D$5000,AP$2,'Breakout Systems'!$T$3:$T$5000,$A23) -> 0 | AQ23: =SUMIFS('Breakout Systems'!$R$3:$R$5000,'Breakout Systems'!$D$3:$D$5000,AQ$2,'Breakout Systems'!$T$3:$T$5000,$A23) -> 0 | AR23: =SUMIFS('Breakout Systems'!$R$3:$R$5000,'Breakout Systems'!$D$3:$D$5000,AR$2,'Breakout Systems'!$T$3:$T$5000,$A23) -> 0 | AS23: =SUMIFS('Breakout Systems'!$R$3:$R$5000,'Breakout Systems'!$D$3:$D$5000,AS$2,'Breakout Systems'!$T$3:$T$5000,$A23) -> 0 | AT23: =IF(AN23=0,0,AN23/AH23) -> 4.1538462 | AU23: =IF(AO23=0,0,AO23/AI23) -> 3.5 | AV23: =IF(AP23=0,0,AP23/AJ23) -> 0 | AW23: =IF(AQ23=0,0,AQ23/AK23) -> 0 | AX23: =IF(AR23=0,0,AR23/AL23) -> 0 | AY23: =IF(AS23=0,0,AS23/AM23) -> 0 | AZ23: =IF(AH23=0,0,SUM(AN23:AS23)/SUM(AH23:AM23)) -> 4.1219512 | BL23: =EOMONTH(BL22,1) -> 42643 | BM23: =F23 -> 0.19512195 | BN23: =SUM(E$3:E23)/SUM(D$3:D23) -> 0.38863783 | BO23: =W23 -> 165.74 | BP23: =SUM(T$3:T23)/SUM(E$3:E23) -> 503.60063 | BR23: =EOMONTH(BR22,1) -> 42643 | BS23: =D23 -> 41 | BT23: =ROUND(AVERAGE(BS$3:BS23),0) -> 74 | BZ23: =IF(D23=0," ",C23&" "&B23) -> Sep 2016 | CA23: =IF(D23=0," ",Z23) -> 272425.47 | CB23: =IF(D23=0," ",AC23) -> 0.034077614
A24: =A23+1 -> 22 | B24: =B23 -> 2016 | C24: Oct | D24: =COUNTIF('Breakout Systems'!T$3:T$5000,A24) -> 31 | E24: =SUMIF('Breakout Systems'!T$3:T$5000,A24,'Breakout Systems'!Z$3:Z$5000) -> 10 | F24: =IF(D24=0,0,E24/D24) -> 0.32258065 | G24: =SUMIF('Breakout Systems'!T$3:T$5000,A24,'Breakout Systems'!AA$3:AA$5000) -> 21 | H24: =IF(D24=0,0,G24/D24) -> 0.67741935 | I24: =SUMIF('Breakout Systems'!T$3:T$5000,A24,'Breakout Systems'!V$3:V$5000) -> 16 | J24: =IF($D24=0,0,I24/$D24) -> 0.51612903 | K24: =SUMIF('Breakout Systems'!$T$3:$T$5000,$A24,'Breakout Systems'!W$3:W$5000) -> 15 | L24: =IF($D24=0,0,K24/$D24) -> 0.48387097 | M24: =SUMIF('Breakout Systems'!$T$3:$T$5000,$A24,'Breakout Systems'!X$3:X$5000) -> 23 | N24: =IF($D24=0,0,M24/$D24) -> 0.74193548 | O24: =SUMIF('Breakout Systems'!$T$3:$T$5000,$A24,'Breakout Systems'!Y$3:Y$5000) -> 8 | P24: =IF($D24=0,0,O24/$D24) -> 0.25806452 | Q24: =SUMIF('Breakout Systems'!$T$3:$T$5000,$A24,'Breakout Systems'!AB$3:AB$5000) -> 4979.87 | R24: =SUMIF('Breakout Systems'!$T$3:$T$5000,$A24,'Breakout Systems'!AD$3:AD$5000) -> -4869.52 | S24: =Q24+R24 -> 110.35 | T24: =IF(D24=0,0,SUMIF('Breakout Systems'!T$3:T$5000,A24,'Breakout Systems'!AB$3:AB$5000)) -> 4979.87 | U24: =IF(D24=0,0,SUMIF('Breakout Systems'!T$3:T$5000,A24,'Breakout Systems'!AD$3:AD$5000)) -> -4869.52 | V24: =IF(D24=0,0,SUMIF('Breakout Systems'!T$3:T$5000,A24,'Breakout Systems'!O$3:O$5000)) -> 110.35 | W24: =IF(D24=0,0,T24/E24) -> 497.987 | X24: =IF(D24=0,0,U24/G24) -> -231.8819 | Y24: =IF(D24=0,0,V24/D24) -> 3.5596774 | Z24: =S24+Z23 -> 272535.82 | AA24: =V24/$Z$2 -> 0.00055175 | AB24: =MAX(Z$2:Z24) -> 281709.08 | AC24: =(AB24-Z24)/Z24 -> 0.033658915 | AD24: {=MAX(IF('Breakout Systems'!T$3:T$5000=A24,'Breakout Systems'!AB$3:AB$5000))} -> 924.78 | AE24: =IF(AD24=0,0,INDEX('Breakout Systems'!AC$3:AC$5000,(MATCH(AD24,'Breakout Systems'!AB$3:AB$5000,0)))) -> XAUUSD | AF24: {=MIN(IF('Breakout Systems'!T$3:T$5000=A24,'Breakout Systems'!AD$3:AD$5000))} -> -550.2 | AG24: =IF(AF24=0,0,INDEX('Breakout Systems'!AC$3:AC$5000,(MATCH(AF24,'Breakout Systems'!AD$3:AD$5000,0)))) -> NZDCAD | AH24: =COUNTIFS('Breakout Systems'!$D$3:$D$5000,AH$2,'Breakout Systems'!$T$3:$T$5000,$A24) -> 24 | AI24: =COUNTIFS('Breakout Systems'!$D$3:$D$5000,AI$2,'Breakout Systems'!$T$3:$T$5000,$A24) -> 4 | AJ24: =COUNTIFS('Breakout Systems'!$D$3:$D$5000,AJ$2,'Breakout Systems'!$T$3:$T$5000,$A24) -> 0 | AK24: =COUNTIFS('Breakout Systems'!$D$3:$D$5000,AK$2,'Breakout Systems'!$T$3:$T$5000,$A24) -> 3 | AL24: =COUNTIFS('Breakout Systems'!$D$3:$D$5000,AL$2,'Breakout Systems'!$T$3:$T$5000,$A24) -> 0 | AM24: =COUNTIFS('Breakout Systems'!$D$3:$D$5000,AM$2,'Breakout Systems'!$T$3:$T$5000,$A24) -> 0 | AN24: =SUMIFS('Breakout Systems'!$R$3:$R$5000,'Breakout Systems'!$D$3:$D$5000,AN$2,'Breakout Systems'!$T$3:$T$5000,$A24) -> 166 | AO24: =SUMIFS('Breakout Systems'!$R$3:$R$5000,'Breakout Systems'!$D$3:$D$5000,AO$2,'Breakout Systems'!$T$3:$T$5000,$A24) -> 30 | AP24: =SUMIFS('Breakout Systems'!$R$3:$R$5000,'Breakout Systems'!$D$3:$D$5000,AP$2,'Breakout Systems'!$T$3:$T$5000,$A24) -> 0 | AQ24: =SUMIFS('Breakout Systems'!$R$3:$R$5000,'Breakout Systems'!$D$3:$D$5000,AQ$2,'Breakout Systems'!$T$3:$T$5000,$A24) -> 248 | AR24: =SUMIFS('Breakout Systems'!$R$3:$R$5000,'Breakout Systems'!$D$3:$D$5000,AR$2,'Breakout Systems'!$T$3:$T$5000,$A24) -> 0 | AS24: =SUMIFS('Breakout Systems'!$R$3:$R$5000,'Breakout Systems'!$D$3:$D$5000,AS$2,'Breakout Systems'!$T$3:$T$5000,$A24) -> 0 | AT24: =IF(AN24=0,0,AN24/AH24) -> 6.9166667 | AU24: =IF(AO24=0,0,AO24/AI24) -> 7.5 | AV24: =IF(AP24=0,0,AP24/AJ24) -> 0 | AW24: =IF(AQ24=0,0,AQ24/AK24) -> 82.666667 | AX24: =IF(AR24=0,0,AR24/AL24) -> 0 | AY24: =IF(AS24=0,0,AS24/AM24) -> 0 | AZ24: =IF(AH24=0,0,SUM(AN24:AS24)/SUM(AH24:AM24)) -> 14.322581 | BL24: =EOMONTH(BL23,1) -> 42674 | BM24: =F24 -> 0.32258065 | BN24: =SUM(E$3:E24)/SUM(D$3:D24) -> 0.38734177 | BO24: =W24 -> 497.987 | BP24: =SUM(T$3:T24)/SUM(E$3:E24) -> 503.50891 | BR24: =EOMONTH(BR23,1) -> 42674 | BS24: =D24 -> 31 | BT24: =ROUND(AVERAGE(BS$3:BS24),0) -> 72 | BZ24: =IF(D24=0," ",C24&" "&B24) -> Oct 2016 | CA24: =IF(D24=0," ",Z24) -> 272535.82 | CB24: =IF(D24=0," ",AC24) -> 0.033658915
A25: =A24+1 -> 23 | B25: =B24 -> 2016 | C25: Nov | D25: =COUNTIF('Breakout Systems'!T$3:T$5000,A25) -> 61 | E25: =SUMIF('Breakout Systems'!T$3:T$5000,A25,'Breakout Systems'!Z$3:Z$5000) -> 24 | F25: =IF(D25=0,0,E25/D25) -> 0.39344262 | G25: =SUMIF('Breakout Systems'!T$3:T$5000,A25,'Breakout Systems'!AA$3:AA$5000) -> 37 | H25: =IF(D25=0,0,G25/D25) -> 0.60655738 | I25: =SUMIF('Breakout Systems'!T$3:T$5000,A25,'Breakout Systems'!V$3:V$5000) -> 30 | J25: =IF($D25=0,0,I25/$D25) -> 0.49180328 | K25: =SUMIF('Breakout Systems'!$T$3:$T$5000,$A25,'Breakout Systems'!W$3:W$5000) -> 31 | L25: =IF($D25=0,0,K25/$D25) -> 0.50819672 | M25: =SUMIF('Breakout Systems'!$T$3:$T$5000,$A25,'Breakout Systems'!X$3:X$5000) -> 44 | N25: =IF($D25=0,0,M25/$D25) -> 0.72131148 | O25: =SUMIF('Breakout Systems'!$T$3:$T$5000,$A25,'Breakout Systems'!Y$3:Y$5000) -> 17 | P25: =IF($D25=0,0,O25/$D25) -> 0.27868852 | Q25: =SUMIF('Breakout Systems'!$T$3:$T$5000,$A25,'Breakout Systems'!AB$3:AB$5000) -> 13145.39 | R25: =SUMIF('Breakout Systems'!$T$3:$T$5000,$A25,'Breakout Systems'!AD$3:AD$5000) -> -10628.29 | S25: =Q25+R25 -> 2517.1 | T25: =IF(D25=0,0,SUMIF('Breakout Systems'!T$3:T$5000,A25,'Breakout Systems'!AB$3:AB$5000)) -> 13145.39 | U25: =IF(D25=0,0,SUMIF('Breakout Systems'!T$3:T$5000,A25,'Breakout Systems'!AD$3:AD$5000)) -> -10628.29 | V25: =IF(D25=0,0,SUMIF('Breakout Systems'!T$3:T$5000,A25,'Breakout Systems'!O$3:O$5000)) -> 2517.1 | W25: =IF(D25=0,0,T25/E25) -> 547.72458 | X25: =IF(D25=0,0,U25/G25) -> -287.25108 | Y25: =IF(D25=0,0,V25/D25) -> 41.263934 | Z25: =S25+Z24 -> 275052.92 | AA25: =V25/$Z$2 -> 0.0125855 | AB25: =MAX(Z$2:Z25) -> 281709.08 | AC25: =(AB25-Z25)/Z25 -> 0.024199561 | AD25: {=MAX(IF('Breakout Systems'!T$3:T$5000=A25,'Breakout Systems'!AB$3:AB$5000))} -> 2215.19 | AE25: =IF(AD25=0,0,INDEX('Breakout Systems'!AC$3:AC$5000,(MATCH(AD25,'Breakout Systems'!AB$3:AB$5000,0)))) -> GBPUSD | AF25: {=MIN(IF('Breakout Systems'!T$3:T$5000=A25,'Breakout Systems'!AD$3:AD$5000))} -> -848.9 | AG25: =IF(AF25=0,0,INDEX('Breakout Systems'!AC$3:AC$5000,(MATCH(AF25,'Breakout Systems'!AD$3:AD$5000,0)))) -> NZDCAD | AH25: =COUNTIFS('Breakout Systems'!$D$3:$D$5000,AH$2,'Breakout Systems'!$T$3:$T$5000,$A25) -> 37 | AI25: =COUNTIFS('Breakout Systems'!$D$3:$D$5000,AI$2,'Breakout Systems'!$T$3:$T$5000,$A25) -> 14 | AJ25: =COUNTIFS('Breakout Systems'!$D$3:$D$5000,AJ$2,'Breakout Systems'!$T$3:$T$5000,$A25) -> 1 | AK25: =COUNTIFS('Breakout Systems'!$D$3:$D$5000,AK$2,'Breakout Systems'!$T$3:$T$5000,$A25) -> 7 | AL25: =COUNTIFS('Breakout Systems'!$D$3:$D$5000,AL$2,'Breakout Systems'!$T$3:$T$5000,$A25) -> 2 | AM25: =COUNTIFS('Breakout Systems'!$D$3:$D$5000,AM$2,'Breakout Systems'!$T$3:$T$5000,$A25) -> 0 | AN25: =SUMIFS('Breakout Systems'!$R$3:$R$5000,'Breakout Systems'!$D$3:$D$5000,AN$2,'Breakout Systems'!$T$3:$T$5000,$A25) -> 258 | AO25: =SUMIFS('Breakout Systems'!$R$3:$R$5000,'Breakout Systems'!$D$3:$D$5000,AO$2,'Breakout Systems'!$T$3:$T$5000,$A25) -> 133 | AP25: =SUMIFS('Breakout Systems'!$R$3:$R$5000,'Breakout Systems'!$D$3:$D$5000,AP$2,'Breakout Systems'!$T$3:$T$5000,$A25) -> 161 | AQ25: =SUMIFS('Breakout Systems'!$R$3:$R$5000,'Breakout Systems'!$D$3:$D$5000,AQ$2,'Breakout Systems'!$T$3:$T$5000,$A25) -> 676 | AR25: =SUMIFS('Breakout Systems'!$R$3:$R$5000,'Breakout Systems'!$D$3:$D$5000,AR$2,'Breakout Systems'!$T$3:$T$5000,$A25) -> 524 | AS25: =SUMIFS('Breakout Systems'!$R$3:$R$5000,'Breakout Systems'!$D$3:$D$5000,AS$2,'Breakout Systems'!$T$3:$T$5000,$A25) -> 0 | AT25: =IF(AN25=0,0,AN25/AH25) -> 6.972973 | AU25: =IF(AO25=0,0,AO25/AI25) -> 9.5 | AV25: =IF(AP25=0,0,AP25/AJ25) -> 161 | AW25: =IF(AQ25=0,0,AQ25/AK25) -> 96.571429 | AX25: =IF(AR25=0,0,AR25/AL25) -> 262 | AY25: =IF(AS25=0,0,AS25/AM25) -> 0 | AZ25: =IF(AH25=0,0,SUM(AN25:AS25)/SUM(AH25:AM25)) -> 28.721311 | BL25: =EOMONTH(BL24,1) -> 42704 | BM25: =F25 -> 0.39344262 | BN25: =SUM(E$3:E25)/SUM(D$3:D25) -> 0.38756856 | BO25: =W25 -> 547.72458 | BP25: =SUM(T$3:T25)/SUM(E$3:E25) -> 505.17742 | BR25: =EOMONTH(BR24,1) -> 42704 | BS25: =D25 -> 61 | BT25: =ROUND(AVERAGE(BS$3:BS25),0) -> 71 | BZ25: =IF(D25=0," ",C25&" "&B25) -> Nov 2016 | CA25: =IF(D25=0," ",Z25) -> 275052.92 | CB25: =IF(D25=0," ",AC25) -> 0.024199561
A26: =A25+1 -> 24 | B26: =B25 -> 2016 | C26: Dec | D26: =COUNTIF('Breakout Systems'!T$3:T$5000,A26) -> 44 | E26: =SUMIF('Breakout Systems'!T$3:T$5000,A26,'Breakout Systems'!Z$3:Z$5000) -> 22 | F26: =IF(D26=0,0,E26/D26) -> 0.5 | G26: =SUMIF('Breakout Systems'!T$3:T$5000,A26,'Breakout Systems'!AA$3:AA$5000) -> 22 | H26: =IF(D26=0,0,G26/D26) -> 0.5 | I26: =SUMIF('Breakout Systems'!T$3:T$5000,A26,'Breakout Systems'!V$3:V$5000) -> 29 | J26: =IF($D26=0,0,I26/$D26) -> 0.65909091 | K26: =SUMIF('Breakout Systems'!$T$3:$T$5000,$A26,'Breakout Systems'!W$3:W$5000) -> 15 | L26: =IF($D26=0,0,K26/$D26) -> 0.34090909 | M26: =SUMIF('Breakout Systems'!$T$3:$T$5000,$A26,'Breakout Systems'!X$3:X$5000) -> 30 | N26: =IF($D26=0,0,M26/$D26) -> 0.68181818 | O26: =SUMIF('Breakout Systems'!$T$3:$T$5000,$A26,'Breakout Systems'!Y$3:Y$5000) -> 14 | P26: =IF($D26=0,0,O26/$D26) -> 0.31818182 | Q26: =SUMIF('Breakout Systems'!$T$3:$T$5000,$A26,'Breakout Systems'!AB$3:AB$5000) -> 12256.23 | R26: =SUMIF('Breakout Systems'!$T$3:$T$5000,$A26,'Breakout Systems'!AD$3:AD$5000) -> -5826.21 | S26: =Q26+R26 -> 6430.02 | T26: =IF(D26=0,0,SUMIF('Breakout Systems'!T$3:T$5000,A26,'Breakout Systems'!AB$3:AB$5000)) -> 12256.23 | U26: =IF(D26=0,0,SUMIF('Breakout Systems'!T$3:T$5000,A26,'Breakout Systems'!AD$3:AD$5000)) -> -5826.21 | V26: =IF(D26=0,0,SUMIF('Breakout Systems'!T$3:T$5000,A26,'Breakout Systems'!O$3:O$5000)) -> 6430.02 | W26: =IF(D26=0,0,T26/E26) -> 557.10136 | X26: =IF(D26=0,0,U26/G26) -> -264.82773 | Y26: =IF(D26=0,0,V26/D26) -> 146.13682 | Z26: =S26+Z25 -> 281482.94 | AA26: =V26/$Z$2 -> 0.0321501 | AB26: =MAX(Z$2:Z26) -> 281709.08 | AC26: =(AB26-Z26)/Z26 -> 0.00080338794 | AD26: {=MAX(IF('Breakout Systems'!T$3:T$5000=A26,'Breakout Systems'!AB$3:AB$5000))} -> 1634.22 | AE26: =IF(AD26=0,0,INDEX('Breakout Systems'!AC$3:AC$5000,(MATCH(AD26,'Breakout Systems'!AB$3:AB$5000,0)))) -> DJI | AF26: {=MIN(IF('Breakout Systems'!T$3:T$5000=A26,'Breakout Systems'!AD$3:AD$5000))} -> -710.36 | AG26: =IF(AF26=0,0,INDEX('Breakout Systems'!AC$3:AC$5000,(MATCH(AF26,'Breakout Systems'!AD$3:AD$5000,0)))) -> NZDCAD | AH26: =COUNTIFS('Breakout Systems'!$D$3:$D$5000,AH$2,'Breakout Systems'!$T$3:$T$5000,$A26) -> 26 | AI26: =COUNTIFS('Breakout Systems'!$D$3:$D$5000,AI$2,'Breakout Systems'!$T$3:$T$5000,$A26) -> 9 | AJ26: =COUNTIFS('Breakout Systems'!$D$3:$D$5000,AJ$2,'Breakout Systems'!$T$3:$T$5000,$A26) -> 5 | AK26: =COUNTIFS('Breakout Systems'!$D$3:$D$5000,AK$2,'Breakout Systems'!$T$3:$T$5000,$A26) -> 2 | AL26: =COUNTIFS('Breakout Systems'!$D$3:$D$5000,AL$2,'Breakout Systems'!$T$3:$T$5000,$A26) -> 2 | AM26: =COUNTIFS('Breakout Systems'!$D$3:$D$5000,AM$2,'Breakout Systems'!$T$3:$T$5000,$A26) -> 0 | AN26: =SUMIFS('Breakout Systems'!$R$3:$R$5000,'Breakout Systems'!$D$3:$D$5000,AN$2,'Breakout Systems'!$T$3:$T$5000,$A26) -> 323 | AO26: =SUMIFS('Breakout Systems'!$R$3:$R$5000,'Breakout Systems'!$D$3:$D$5000,AO$2,'Breakout Systems'!$T$3:$T$5000,$A26) -> 161 | AP26: =SUMIFS('Breakout Systems'!$R$3:$R$5000,'Breakout Systems'!$D$3:$D$5000,AP$2,'Breakout Systems'!$T$3:$T$5000,$A26) -> 76 | AQ26: =SUMIFS('Breakout Systems'!$R$3:$R$5000,'Breakout Systems'!$D$3:$D$5000,AQ$2,'Breakout Systems'!$T$3:$T$5000,$A26) -> 70 | AR26: =SUMIFS('Breakout Systems'!$R$3:$R$5000,'Breakout Systems'!$D$3:$D$5000,AR$2,'Breakout Systems'!$T$3:$T$5000,$A26) -> 851 | AS26: =SUMIFS('Breakout Systems'!$R$3:$R$5000,'Breakout Systems'!$D$3:$D$5000,AS$2,'Breakout Systems'!$T$3:$T$5000,$A26) -> 0 | AT26: =IF(AN26=0,0,AN26/AH26) -> 12.423077 | AU26: =IF(AO26=0,0,AO26/AI26) -> 17.888889 | AV26: =IF(AP26=0,0,AP26/AJ26) -> 15.2 | AW26: =IF(AQ26=0,0,AQ26/AK26) -> 35 | AX26: =IF(AR26=0,0,AR26/AL26) -> 425.5 | AY26: =IF(AS26=0,0,AS26/AM26) -> 0 | AZ26: =IF(AH26=0,0,SUM(AN26:AS26)/SUM(AH26:AM26)) -> 33.659091 | BL26: =EOMONTH(BL25,1) -> 42735 | BM26: =F26 -> 0.5 | BN26: =SUM(E$3:E26)/SUM(D$3:D26) -> 0.39050445 | BO26: =W26 -> 557.10136 | BP26: =SUM(T$3:T26)/SUM(E$3:E26) -> 506.91348 | BR26: =EOMONTH(BR25,1) -> 42735 | BS26: =D26 -> 44 | BT26: =ROUND(AVERAGE(BS$3:BS26),0) -> 70 | BZ26: =IF(D26=0," ",C26&" "&B26) -> Dec 2016 | CA26: =IF(D26=0," ",Z26) -> 281482.94 | CB26: =IF(D26=0," ",AC26) -> 0.00080338794
A27: =A26+1 -> 25 | B27: =B26+1 -> 2017 | C27: Jan | D27: =COUNTIF('Breakout Systems'!T$3:T$5000,A27) -> 40 | E27: =SUMIF('Breakout Systems'!T$3:T$5000,A27,'Breakout Systems'!Z$3:Z$5000) -> 13 | F27: =IF(D27=0,0,E27/D27) -> 0.325 | G27: =SUMIF('Breakout Systems'!T$3:T$5000,A27,'Breakout Systems'!AA$3:AA$5000) -> 27 | H27: =IF(D27=0,0,G27/D27) -> 0.675 | I27: =SUMIF('Breakout Systems'!T$3:T$5000,A27,'Breakout Systems'!V$3:V$5000) -> 23 | J27: =IF($D27=0,0,I27/$D27) -> 0.575 | K27: =SUMIF('Breakout Systems'!$T$3:$T$5000,$A27,'Breakout Systems'!W$3:W$5000) -> 17 | L27: =IF($D27=0,0,K27/$D27) -> 0.425 | M27: =SUMIF('Breakout Systems'!$T$3:$T$5000,$A27,'Breakout Systems'!X$3:X$5000) -> 29 | N27: =IF($D27=0,0,M27/$D27) -> 0.725 | O27: =SUMIF('Breakout Systems'!$T$3:$T$5000,$A27,'Breakout Systems'!Y$3:Y$5000) -> 11 | P27: =IF($D27=0,0,O27/$D27) -> 0.275 | Q27: =SUMIF('Breakout Systems'!$T$3:$T$5000,$A27,'Breakout Systems'!AB$3:AB$5000) -> 8662.86 | R27: =SUMIF('Breakout Systems'!$T$3:$T$5000,$A27,'Breakout Systems'!AD$3:AD$5000) -> -7566.68 | S27: =Q27+R27 -> 1096.18 | T27: =IF(D27=0,0,SUMIF('Breakout Systems'!T$3:T$5000,A27,'Breakout Systems'!AB$3:AB$5000)) -> 8662.86 | U27: =IF(D27=0,0,SUMIF('Breakout Systems'!T$3:T$5000,A27,'Breakout Systems'!AD$3:AD$5000)) -> -7566.68 | V27: =IF(D27=0,0,SUMIF('Breakout Systems'!T$3:T$5000,A27,'Breakout Systems'!O$3:O$5000)) -> 1096.18 | W27: =IF(D27=0,0,T27/E27) -> 666.37385 | X27: =IF(D27=0,0,U27/G27) -> -280.24741 | Y27: =IF(D27=0,0,V27/D27) -> 27.4045 | Z27: =S27+Z26 -> 282579.12 | AA27: =V27/$Z$2 -> 0.0054809 | AB27: =MAX(Z$2:Z27) -> 282579.12 | AC27: =(AB27-Z27)/Z27 -> 0 | AD27: {=MAX(IF('Breakout Systems'!T$3:T$5000=A27,'Breakout Systems'!AB$3:AB$5000))} -> 2353.44 | AE27: =IF(AD27=0,0,INDEX('Breakout Systems'!AC$3:AC$5000,(MATCH(AD27,'Breakout Systems'!AB$3:AB$5000,0)))) -> USDSGD | AF27: {=MIN(IF('Breakout Systems'!T$3:T$5000=A27,'Breakout Systems'!AD$3:AD$5000))} -> -877.5 | AG27: =IF(AF27=0,0,INDEX('Breakout Systems'!AC$3:AC$5000,(MATCH(AF27,'Breakout Systems'!AD$3:AD$5000,0)))) -> AUDUSD | AH27: =COUNTIFS('Breakout Systems'!$D$3:$D$5000,AH$2,'Breakout Systems'!$T$3:$T$5000,$A27) -> 26 | AI27: =COUNTIFS('Breakout Systems'!$D$3:$D$5000,AI$2,'Breakout Systems'!$T$3:$T$5000,$A27) -> 3 | AJ27: =COUNTIFS('Breakout Systems'!$D$3:$D$5000,AJ$2,'Breakout Systems'!$T$3:$T$5000,$A27) -> 1 | AK27: =COUNTIFS('Breakout Systems'!$D$3:$D$5000,AK$2,'Breakout Systems'!$T$3:$T$5000,$A27) -> 9 | AL27: =COUNTIFS('Breakout Systems'!$D$3:$D$5000,AL$2,'Breakout Systems'!$T$3:$T$5000,$A27) -> 1 | AM27: =COUNTIFS('Breakout Systems'!$D$3:$D$5000,AM$2,'Breakout Systems'!$T$3:$T$5000,$A27) -> 0 | AN27: =SUMIFS('Breakout Systems'!$R$3:$R$5000,'Breakout Systems'!$D$3:$D$5000,AN$2,'Breakout Systems'!$T$3:$T$5000,$A27) -> 240 | AO27: =SUMIFS('Breakout Systems'!$R$3:$R$5000,'Breakout Systems'!$D$3:$D$5000,AO$2,'Breakout Systems'!$T$3:$T$5000,$A27) -> 64 | AP27: =SUMIFS('Breakout Systems'!$R$3:$R$5000,'Breakout Systems'!$D$3:$D$5000,AP$2,'Breakout Systems'!$T$3:$T$5000,$A27) -> 88 | AQ27: =SUMIFS('Breakout Systems'!$R$3:$R$5000,'Breakout Systems'!$D$3:$D$5000,AQ$2,'Breakout Systems'!$T$3:$T$5000,$A27) -> 438 | AR27: =SUMIFS('Breakout Systems'!$R$3:$R$5000,'Breakout Systems'!$D$3:$D$5000,AR$2,'Breakout Systems'!$T$3:$T$5000,$A27) -> 691 | AS27: =SUMIFS('Breakout Systems'!$R$3:$R$5000,'Breakout Systems'!$D$3:$D$5000,AS$2,'Breakout Systems'!$T$3:$T$5000,$A27) -> 0 | AT27: =IF(AN27=0,0,AN27/AH27) -> 9.2307692 | AU27: =IF(AO27=0,0,AO27/AI27) -> 21.333333 | AV27: =IF(AP27=0,0,AP27/AJ27) -> 88 | AW27: =IF(AQ27=0,0,AQ27/AK27) -> 48.666667 | AX27: =IF(AR27=0,0,AR27/AL27) -> 691 | AY27: =IF(AS27=0,0,AS27/AM27) -> 0 | AZ27: =IF(AH27=0,0,SUM(AN27:AS27)/SUM(AH27:AM27)) -> 38.025 | BL27: =EOMONTH(BL26,1) -> 42766 | BM27: =F27 -> 0.325 | BN27: =SUM(E$3:E27)/SUM(D$3:D27) -> 0.38898551 | BO27: =W27 -> 666.37385 | BP27: =SUM(T$3:T27)/SUM(E$3:E27) -> 510.00288 | BR27: =EOMONTH(BR26,1) -> 42766 | BS27: =D27 -> 40 | BT27: =ROUND(AVERAGE(BS$3:BS27),0) -> 69 | BZ27: =IF(D27=0," ",C27&" "&B27) -> Jan 2017 | CA27: =IF(D27=0," ",Z27) -> 282579.12 | CB27: =IF(D27=0," ",AC27) -> 0
A28: =A27+1 -> 26 | B28: =B27 -> 2017 | C28: Feb | D28: =COUNTIF('Breakout Systems'!T$3:T$5000,A28) -> 17 | E28: =SUMIF('Breakout Systems'!T$3:T$5000,A28,'Breakout Systems'!Z$3:Z$5000) -> 7 | F28: =IF(D28=0,0,E28/D28) -> 0.41176471 | G28: =SUMIF('Breakout Systems'!T$3:T$5000,A28,'Breakout Systems'!AA$3:AA$5000) -> 10 | H28: =IF(D28=0,0,G28/D28) -> 0.58823529 | I28: =SUMIF('Breakout Systems'!T$3:T$5000,A28,'Breakout Systems'!V$3:V$5000) -> 10 | J28: =IF($D28=0,0,I28/$D28) -> 0.58823529 | K28: =SUMIF('Breakout Systems'!$T$3:$T$5000,$A28,'Breakout Systems'!W$3:W$5000) -> 7 | L28: =IF($D28=0,0,K28/$D28) -> 0.41176471 | M28: =SUMIF('Breakout Systems'!$T$3:$T$5000,$A28,'Breakout Systems'!X$3:X$5000) -> 14 | N28: =IF($D28=0,0,M28/$D28) -> 0.82352941 | O28: =SUMIF('Breakout Systems'!$T$3:$T$5000,$A28,'Breakout Systems'!Y$3:Y$5000) -> 3 | P28: =IF($D28=0,0,O28/$D28) -> 0.17647059 | Q28: =SUMIF('Breakout Systems'!$T$3:$T$5000,$A28,'Breakout Systems'!AB$3:AB$5000) -> 4260.33 | R28: =SUMIF('Breakout Systems'!$T$3:$T$5000,$A28,'Breakout Systems'!AD$3:AD$5000) -> -2555.16 | S28: =Q28+R28 -> 1705.17 | T28: =IF(D28=0,0,SUMIF('Breakout Systems'!T$3:T$5000,A28,'Breakout Systems'!AB$3:AB$5000)) -> 4260.33 | U28: =IF(D28=0,0,SUMIF('Breakout Systems'!T$3:T$5000,A28,'Breakout Systems'!AD$3:AD$5000)) -> -2555.16 | V28: =IF(D28=0,0,SUMIF('Breakout Systems'!T$3:T$5000,A28,'Breakout Systems'!O$3:O$5000)) -> 1705.17 | W28: =IF(D28=0,0,T28/E28) -> 608.61857 | X28: =IF(D28=0,0,U28/G28) -> -255.516 | Y28: =IF(D28=0,0,V28/D28) -> 100.30412 | Z28: =S28+Z27 -> 284284.29 | AA28: =V28/$Z$2 -> 0.00852585 | AB28: =MAX(Z$2:Z28) -> 284284.29 | AC28: =(AB28-Z28)/Z28 -> 0 | AD28: {=MAX(IF('Breakout Systems'!T$3:T$5000=A28,'Breakout Systems'!AB$3:AB$5000))} -> 1879.04 | AE28: =IF(AD28=0,0,INDEX('Breakout Systems'!AC$3:AC$5000,(MATCH(AD28,'Breakout Systems'!AB$3:AB$5000,0)))) -> DJI | AF28: {=MIN(IF('Breakout Systems'!T$3:T$5000=A28,'Breakout Systems'!AD$3:AD$5000))} -> -429.3 | AG28: =IF(AF28=0,0,INDEX('Breakout Systems'!AC$3:AC$5000,(MATCH(AF28,'Breakout Systems'!AD$3:AD$5000,0)))) -> USDSGD | AH28: =COUNTIFS('Breakout Systems'!$D$3:$D$5000,AH$2,'Breakout Systems'!$T$3:$T$5000,$A28) -> 15 | AI28: =COUNTIFS('Breakout Systems'!$D$3:$D$5000,AI$2,'Breakout Systems'!$T$3:$T$5000,$A28) -> 1 | AJ28: =COUNTIFS('Breakout Systems'!$D$3:$D$5000,AJ$2,'Breakout Systems'!$T$3:$T$5000,$A28) -> 0 | AK28: =COUNTIFS('Breakout Systems'!$D$3:$D$5000,AK$2,'Breakout Systems'!$T$3:$T$5000,$A28) -> 0 | AL28: =COUNTIFS('Breakout Systems'!$D$3:$D$5000,AL$2,'Breakout Systems'!$T$3:$T$5000,$A28) -> 0 | AM28: =COUNTIFS('Breakout Systems'!$D$3:$D$5000,AM$2,'Breakout Systems'!$T$3:$T$5000,$A28) -> 1 | AN28: =SUMIFS('Breakout Systems'!$R$3:$R$5000,'Breakout Systems'!$D$3:$D$5000,AN$2,'Breakout Systems'!$T$3:$T$5000,$A28) -> 123 | AO28: =SUMIFS('Breakout Systems'!$R$3:$R$5000,'Breakout Systems'!$D$3:$D$5000,AO$2,'Breakout Systems'!$T$3:$T$5000,$A28) -> 23 | AP28: =SUMIFS('Breakout Systems'!$R$3:$R$5000,'Breakout Systems'!$D$3:$D$5000,AP$2,'Breakout Systems'!$T$3:$T$5000,$A28) -> 0 | AQ28: =SUMIFS('Breakout Systems'!$R$3:$R$5000,'Breakout Systems'!$D$3:$D$5000,AQ$2,'Breakout Systems'!$T$3:$T$5000,$A28) -> 0 | AR28: =SUMIFS('Breakout Systems'!$R$3:$R$5000,'Breakout Systems'!$D$3:$D$5000,AR$2,'Breakout Systems'!$T$3:$T$5000,$A28) -> 0 | AS28: =SUMIFS('Breakout Systems'!$R$3:$R$5000,'Breakout Systems'!$D$3:$D$5000,AS$2,'Breakout Systems'!$T$3:$T$5000,$A28) -> 575 | AT28: =IF(AN28=0,0,AN28/AH28) -> 8.2 | AU28: =IF(AO28=0,0,AO28/AI28) -> 23 | AV28: =IF(AP28=0,0,AP28/AJ28) -> 0 | AW28: =IF(AQ28=0,0,AQ28/AK28) -> 0 | AX28: =IF(AR28=0,0,AR28/AL28) -> 0 | AY28: =IF(AS28=0,0,AS28/AM28) -> 575 | AZ28: =IF(AH28=0,0,SUM(AN28:AS28)/SUM(AH28:AM28)) -> 42.411765 | BL28: =EOMONTH(BL27,1) -> 42794 | BM28: =F28 -> 0.41176471 | BN28: =SUM(E$3:E28)/SUM(D$3:D28) -> 0.38920781 | BO28: =W28 -> 608.61857 | BP28: =SUM(T$3:T28)/SUM(E$3:E28) -> 511.02103 | BR28: =EOMONTH(BR27,1) -> 42794 | BS28: =D28 -> 17 | BT28: =ROUND(AVERAGE(BS$3:BS28),0) -> 67 | BZ28: =IF(D28=0," ",C28&" "&B28) -> Feb 2017 | CA28: =IF(D28=0," ",Z28) -> 284284.29 | CB28: =IF(D28=0," ",AC28) -> 0
A29: =A28+1 -> 27 | B29: =B28 -> 2017 | C29: Mar | D29: =COUNTIF('Breakout Systems'!T$3:T$5000,A29) -> 42 | E29: =SUMIF('Breakout Systems'!T$3:T$5000,A29,'Breakout Systems'!Z$3:Z$5000) -> 16 | F29: =IF(D29=0,0,E29/D29) -> 0.38095238 | G29: =SUMIF('Breakout Systems'!T$3:T$5000,A29,'Breakout Systems'!AA$3:AA$5000) -> 26 | H29: =IF(D29=0,0,G29/D29) -> 0.61904762 | I29: =SUMIF('Breakout Systems'!T$3:T$5000,A29,'Breakout Systems'!V$3:V$5000) -> 21 | J29: =IF($D29=0,0,I29/$D29) -> 0.5 | K29: =SUMIF('Breakout Systems'!$T$3:$T$5000,$A29,'Breakout Systems'!W$3:W$5000) -> 21 | L29: =IF($D29=0,0,K29/$D29) -> 0.5 | M29: =SUMIF('Breakout Systems'!$T$3:$T$5000,$A29,'Breakout Systems'!X$3:X$5000) -> 29 | N29: =IF($D29=0,0,M29/$D29) -> 0.69047619 | O29: =SUMIF('Breakout Systems'!$T$3:$T$5000,$A29,'Breakout Systems'!Y$3:Y$5000) -> 13 | P29: =IF($D29=0,0,O29/$D29) -> 0.30952381 | Q29: =SUMIF('Breakout Systems'!$T$3:$T$5000,$A29,'Breakout Systems'!AB$3:AB$5000) -> 3972.19 | R29: =SUMIF('Breakout Systems'!$T$3:$T$5000,$A29,'Breakout Systems'!AD$3:AD$5000) -> -6028.99 | S29: =Q29+R29 -> -2056.8 | T29: =IF(D29=0,0,SUMIF('Breakout Systems'!T$3:T$5000,A29,'Breakout Systems'!AB$3:AB$5000)) -> 3972.19 | U29: =IF(D29=0,0,SUMIF('Breakout Systems'!T$3:T$5000,A29,'Breakout Systems'!AD$3:AD$5000)) -> -6028.99 | V29: =IF(D29=0,0,SUMIF('Breakout Systems'!T$3:T$5000,A29,'Breakout Systems'!O$3:O$5000)) -> -2056.8 | W29: =IF(D29=0,0,T29/E29) -> 248.26188 | X29: =IF(D29=0,0,U29/G29) -> -231.88423 | Y29: =IF(D29=0,0,V29/D29) -> -48.971429 | Z29: =S29+Z28 -> 282227.49 | AA29: =V29/$Z$2 -> -0.010284 | AB29: =MAX(Z$2:Z29) -> 284284.29 | AC29: =(AB29-Z29)/Z29 -> 0.007287738 | AD29: {=MAX(IF('Breakout Systems'!T$3:T$5000=A29,'Breakout Systems'!AB$3:AB$5000))} -> 978.3 | AE29: =IF(AD29=0,0,INDEX('Breakout Systems'!AC$3:AC$5000,(MATCH(AD29,'Breakout Systems'!AB$3:AB$5000,0)))) -> NIK | AF29: {=MIN(IF('Breakout Systems'!T$3:T$5000=A29,'Breakout Systems'!AD$3:AD$5000))} -> -684.24 | AG29: =IF(AF29=0,0,INDEX('Breakout Systems'!AC$3:AC$5000,(MATCH(AF29,'Breakout Systems'!AD$3:AD$5000,0)))) -> EURCAD | AH29: =COUNTIFS('Breakout Systems'!$D$3:$D$5000,AH$2,'Breakout Systems'!$T$3:$T$5000,$A29) -> 29 | AI29: =COUNTIFS('Breakout Systems'!$D$3:$D$5000,AI$2,'Breakout Systems'!$T$3:$T$5000,$A29) -> 5 | AJ29: =COUNTIFS('Breakout Systems'!$D$3:$D$5000,AJ$2,'Breakout Systems'!$T$3:$T$5000,$A29) -> 2 | AK29: =COUNTIFS('Breakout Systems'!$D$3:$D$5000,AK$2,'Breakout Systems'!$T$3:$T$5000,$A29) -> 6 | AL29: =COUNTIFS('Breakout Systems'!$D$3:$D$5000,AL$2,'Breakout Systems'!$T$3:$T$5000,$A29) -> 0 | AM29: =COUNTIFS('Breakout Systems'!$D$3:$D$5000,AM$2,'Breakout Systems'!$T$3:$T$5000,$A29) -> 0 | AN29: =SUMIFS('Breakout Systems'!$R$3:$R$5000,'Breakout Systems'!$D$3:$D$5000,AN$2,'Breakout Systems'!$T$3:$T$5000,$A29) -> 268 | AO29: =SUMIFS('Breakout Systems'!$R$3:$R$5000,'Breakout Systems'!$D$3:$D$5000,AO$2,'Breakout Systems'!$T$3:$T$5000,$A29) -> 64 | AP29: =SUMIFS('Breakout Systems'!$R$3:$R$5000,'Breakout Systems'!$D$3:$D$5000,AP$2,'Breakout Systems'!$T$3:$T$5000,$A29) -> 115 | AQ29: =SUMIFS('Breakout Systems'!$R$3:$R$5000,'Breakout Systems'!$D$3:$D$5000,AQ$2,'Breakout Systems'!$T$3:$T$5000,$A29) -> 426 | AR29: =SUMIFS('Breakout Systems'!$R$3:$R$5000,'Breakout Systems'!$D$3:$D$5000,AR$2,'Breakout Systems'!$T$3:$T$5000,$A29) -> 0 | AS29: =SUMIFS('Breakout Systems'!$R$3:$R$5000,'Breakout Systems'!$D$3:$D$5000,AS$2,'Breakout Systems'!$T$3:$T$5000,$A29) -> 0 | AT29: =IF(AN29=0,0,AN29/AH29) -> 9.2413793 | AU29: =IF(AO29=0,0,AO29/AI29) -> 12.8 | AV29: =IF(AP29=0,0,AP29/AJ29) -> 57.5 | AW29: =IF(AQ29=0,0,AQ29/AK29) -> 71 | AX29: =IF(AR29=0,0,AR29/AL29) -> 0 | AY29: =IF(AS29=0,0,AS29/AM29) -> 0 | AZ29: =IF(AH29=0,0,SUM(AN29:AS29)/SUM(AH29:AM29)) -> 20.785714 | BL29: =EOMONTH(BL28,1) -> 42825 | BM29: =F29 -> 0.38095238 | BN29: =SUM(E$3:E29)/SUM(D$3:D29) -> 0.38901345 | BO29: =W29 -> 248.26188 | BP29: =SUM(T$3:T29)/SUM(E$3:E29) -> 504.96318 | BR29: =EOMONTH(BR28,1) -> 42825 | BS29: =D29 -> 42 | BT29: =ROUND(AVERAGE(BS$3:BS29),0) -> 66 | BZ29: =IF(D29=0," ",C29&" "&B29) -> Mar 2017 | CA29: =IF(D29=0," ",Z29) -> 282227.49 | CB29: =IF(D29=0," ",AC29) -> 0.007287738
A30: =A29+1 -> 28 | B30: =B29 -> 2017 | C30: Apr | D30: =COUNTIF('Breakout Systems'!T$3:T$5000,A30) -> 27 | E30: =SUMIF('Breakout Systems'!T$3:T$5000,A30,'Breakout Systems'!Z$3:Z$5000) -> 6 | F30: =IF(D30=0,0,E30/D30) -> 0.22222222 | G30: =SUMIF('Breakout Systems'!T$3:T$5000,A30,'Breakout Systems'!AA$3:AA$5000) -> 21 | H30: =IF(D30=0,0,G30/D30) -> 0.77777778 | I30: =SUMIF('Breakout Systems'!T$3:T$5000,A30,'Breakout Systems'!V$3:V$5000) -> 14 | J30: =IF($D30=0,0,I30/$D30) -> 0.51851852 | K30: =SUMIF('Breakout Systems'!$T$3:$T$5000,$A30,'Breakout Systems'!W$3:W$5000) -> 13 | L30: =IF($D30=0,0,K30/$D30) -> 0.48148148 | M30: =SUMIF('Breakout Systems'!$T$3:$T$5000,$A30,'Breakout Systems'!X$3:X$5000) -> 20 | N30: =IF($D30=0,0,M30/$D30) -> 0.74074074 | O30: =SUMIF('Breakout Systems'!$T$3:$T$5000,$A30,'Breakout Systems'!Y$3:Y$5000) -> 7 | P30: =IF($D30=0,0,O30/$D30) -> 0.25925926 | Q30: =SUMIF('Breakout Systems'!$T$3:$T$5000,$A30,'Breakout Systems'!AB$3:AB$5000) -> 2307.67 | R30: =SUMIF('Breakout Systems'!$T$3:$T$5000,$A30,'Breakout Systems'!AD$3:AD$5000) -> -4990.24 | S30: =Q30+R30 -> -2682.57 | T30: =IF(D30=0,0,SUMIF('Breakout Systems'!T$3:T$5000,A30,'Breakout Systems'!AB$3:AB$5000)) -> 2307.67 | U30: =IF(D30=0,0,SUMIF('Breakout Systems'!T$3:T$5000,A30,'Breakout Systems'!AD$3:AD$5000)) -> -4990.24 | V30: =IF(D30=0,0,SUMIF('Breakout Systems'!T$3:T$5000,A30,'Breakout Systems'!O$3:O$5000)) -> -2682.57 | W30: =IF(D30=0,0,T30/E30) -> 384.61167 | X30: =IF(D30=0,0,U30/G30) -> -237.63048 | Y30: =IF(D30=0,0,V30/D30) -> -99.354444 | Z30: =S30+Z29 -> 279544.92 | AA30: =V30/$Z$2 -> -0.01341285 | AB30: =MAX(Z$2:Z30) -> 284284.29 | AC30: =(AB30-Z30)/Z30 -> 0.016953876 | AD30: {=MAX(IF('Breakout Systems'!T$3:T$5000=A30,'Breakout Systems'!AB$3:AB$5000))} -> 901.29 | AE30: =IF(AD30=0,0,INDEX('Breakout Systems'!AC$3:AC$5000,(MATCH(AD30,'Breakout Systems'!AB$3:AB$5000,0)))) -> NZDJPY | AF30: {=MIN(IF('Breakout Systems'!T$3:T$5000=A30,'Breakout Systems'!AD$3:AD$5000))} -> -755.79 | AG30: =IF(AF30=0,0,INDEX('Breakout Systems'!AC$3:AC$5000,(MATCH(AF30,'Breakout Systems'!AD$3:AD$5000,0)))) -> AUDCAD | AH30: =COUNTIFS('Breakout Systems'!$D$3:$D$5000,AH$2,'Breakout Systems'!$T$3:$T$5000,$A30) -> 23 | AI30: =COUNTIFS('Breakout Systems'!$D$3:$D$5000,AI$2,'Breakout Systems'!$T$3:$T$5000,$A30) -> 1 | AJ30: =COUNTIFS('Breakout Systems'!$D$3:$D$5000,AJ$2,'Breakout Systems'!$T$3:$T$5000,$A30) -> 0 | AK30: =COUNTIFS('Breakout Systems'!$D$3:$D$5000,AK$2,'Breakout Systems'!$T$3:$T$5000,$A30) -> 3 | AL30: =COUNTIFS('Breakout Systems'!$D$3:$D$5000,AL$2,'Breakout Systems'!$T$3:$T$5000,$A30) -> 0 | AM30: =COUNTIFS('Breakout Systems'!$D$3:$D$5000,AM$2,'Breakout Systems'!$T$3:$T$5000,$A30) -> 0 | AN30: =SUMIFS('Breakout Systems'!$R$3:$R$5000,'Breakout Systems'!$D$3:$D$5000,AN$2,'Breakout Systems'!$T$3:$T$5000,$A30) -> 264 | AO30: =SUMIFS('Breakout Systems'!$R$3:$R$5000,'Breakout Systems'!$D$3:$D$5000,AO$2,'Breakout Systems'!$T$3:$T$5000,$A30) -> 10 | AP30: =SUMIFS('Breakout Systems'!$R$3:$R$5000,'Breakout Systems'!$D$3:$D$5000,AP$2,'Breakout Systems'!$T$3:$T$5000,$A30) -> 0 | AQ30: =SUMIFS('Breakout Systems'!$R$3:$R$5000,'Breakout Systems'!$D$3:$D$5000,AQ$2,'Breakout Systems'!$T$3:$T$5000,$A30) -> 305 | AR30: =SUMIFS('Breakout Systems'!$R$3:$R$5000,'Breakout Systems'!$D$3:$D$5000,AR$2,'Breakout Systems'!$T$3:$T$5000,$A30) -> 0 | AS30: =SUMIFS('Breakout Systems'!$R$3:$R$5000,'Breakout Systems'!$D$3:$D$5000,AS$2,'Breakout Systems'!$T$3:$T$5000,$A30) -> 0 | AT30: =IF(AN30=0,0,AN30/AH30) -> 11.478261 | AU30: =IF(AO30=0,0,AO30/AI30) -> 10 | AV30: =IF(AP30=0,0,AP30/AJ30) -> 0 | AW30: =IF(AQ30=0,0,AQ30/AK30) -> 101.66667 | AX30: =IF(AR30=0,0,AR30/AL30) -> 0 | AY30: =IF(AS30=0,0,AS30/AM30) -> 0 | AZ30: =IF(AH30=0,0,SUM(AN30:AS30)/SUM(AH30:AM30)) -> 21.444444 | BL30: =EOMONTH(BL29,1) -> 42855 | BM30: =F30 -> 0.22222222 | BN30: =SUM(E$3:E30)/SUM(D$3:D30) -> 0.38652678 | BO30: =W30 -> 384.61167 | BP30: =SUM(T$3:T30)/SUM(E$3:E30) -> 503.9316 | BR30: =EOMONTH(BR29,1) -> 42855 | BS30: =D30 -> 27 | BT30: =ROUND(AVERAGE(BS$3:BS30),0) -> 65 | BZ30: =IF(D30=0," ",C30&" "&B30) -> Apr 2017 | CA30: =IF(D30=0," ",Z30) -> 279544.92 | CB30: =IF(D30=0," ",AC30) -> 0.016953876
A31: =A30+1 -> 29 | B31: =B30 -> 2017 | C31: May | D31: =COUNTIF('Breakout Systems'!T$3:T$5000,A31) -> 44 | E31: =SUMIF('Breakout Systems'!T$3:T$5000,A31,'Breakout Systems'!Z$3:Z$5000) -> 21 | F31: =IF(D31=0,0,E31/D31) -> 0.47727273 | G31: =SUMIF('Breakout Systems'!T$3:T$5000,A31,'Breakout Systems'!AA$3:AA$5000) -> 23 | H31: =IF(D31=0,0,G31/D31) -> 0.52272727 | I31: =SUMIF('Breakout Systems'!T$3:T$5000,A31,'Breakout Systems'!V$3:V$5000) -> 27 | J31: =IF($D31=0,0,I31/$D31) -> 0.61363636 | K31: =SUMIF('Breakout Systems'!$T$3:$T$5000,$A31,'Breakout Systems'!W$3:W$5000) -> 17 | L31: =IF($D31=0,0,K31/$D31) -> 0.38636364 | M31: =SUMIF('Breakout Systems'!$T$3:$T$5000,$A31,'Breakout Systems'!X$3:X$5000) -> 25 | N31: =IF($D31=0,0,M31/$D31) -> 0.56818182 | O31: =SUMIF('Breakout Systems'!$T$3:$T$5000,$A31,'Breakout Systems'!Y$3:Y$5000) -> 19 | P31: =IF($D31=0,0,O31/$D31) -> 0.43181818 | Q31: =SUMIF('Breakout Systems'!$T$3:$T$5000,$A31,'Breakout Systems'!AB$3:AB$5000) -> 8302.42 | R31: =SUMIF('Breakout Systems'!$T$3:$T$5000,$A31,'Breakout Systems'!AD$3:AD$5000) -> -6265.36 | S31: =Q31+R31 -> 2037.06 | T31: =IF(D31=0,0,SUMIF('Breakout Systems'!T$3:T$5000,A31,'Breakout Systems'!AB$3:AB$5000)) -> 8302.42 | U31: =IF(D31=0,0,SUMIF('Breakout Systems'!T$3:T$5000,A31,'Breakout Systems'!AD$3:AD$5000)) -> -6265.36 | V31: =IF(D31=0,0,SUMIF('Breakout Systems'!T$3:T$5000,A31,'Breakout Systems'!O$3:O$5000)) -> 2037.06 | W31: =IF(D31=0,0,T31/E31) -> 395.35333 | X31: =IF(D31=0,0,U31/G31) -> -272.40696 | Y31: =IF(D31=0,0,V31/D31) -> 46.296818 | Z31: =S31+Z30 -> 281581.98 | AA31: =V31/$Z$2 -> 0.0101853 | AB31: =MAX(Z$2:Z31) -> 284284.29 | AC31: =(AB31-Z31)/Z31 -> 0.0095968854 | AD31: {=MAX(IF('Breakout Systems'!T$3:T$5000=A31,'Breakout Systems'!AB$3:AB$5000))} -> 1377 | AE31: =IF(AD31=0,0,INDEX('Breakout Systems'!AC$3:AC$5000,(MATCH(AD31,'Breakout Systems'!AB$3:AB$5000,0)))) -> GBPSGD | AF31: {=MIN(IF('Breakout Systems'!T$3:T$5000=A31,'Breakout Systems'!AD$3:AD$5000))} -> -660.66 | AG31: =IF(AF31=0,0,INDEX('Breakout Systems'!AC$3:AC$5000,(MATCH(AF31,'Breakout Systems'!AD$3:AD$5000,0)))) -> EURJPY | AH31: =COUNTIFS('Breakout Systems'!$D$3:$D$5000,AH$2,'Breakout Systems'!$T$3:$T$5000,$A31) -> 35 | AI31: =COUNTIFS('Breakout Systems'!$D$3:$D$5000,AI$2,'Breakout Systems'!$T$3:$T$5000,$A31) -> 6 | AJ31: =COUNTIFS('Breakout Systems'!$D$3:$D$5000,AJ$2,'Breakout Systems'!$T$3:$T$5000,$A31) -> 0 | AK31: =COUNTIFS('Breakout Systems'!$D$3:$D$5000,AK$2,'Breakout Systems'!$T$3:$T$5000,$A31) -> 3 | AL31: =COUNTIFS('Breakout Systems'!$D$3:$D$5000,AL$2,'Breakout Systems'!$T$3:$T$5000,$A31) -> 0 | AM31: =COUNTIFS('Breakout Systems'!$D$3:$D$5000,AM$2,'Breakout Systems'!$T$3:$T$5000,$A31) -> 0 | AN31: =SUMIFS('Breakout Systems'!$R$3:$R$5000,'Breakout Systems'!$D$3:$D$5000,AN$2,'Breakout Systems'!$T$3:$T$5000,$A31) -> 325 | AO31: =SUMIFS('Breakout Systems'!$R$3:$R$5000,'Breakout Systems'!$D$3:$D$5000,AO$2,'Breakout Systems'!$T$3:$T$5000,$A31) -> 89 | AP31: =SUMIFS('Breakout Systems'!$R$3:$R$5000,'Breakout Systems'!$D$3:$D$5000,AP$2,'Breakout Systems'!$T$3:$T$5000,$A31) -> 0 | AQ31: =SUMIFS('Breakout Systems'!$R$3:$R$5000,'Breakout Systems'!$D$3:$D$5000,AQ$2,'Breakout Systems'!$T$3:$T$5000,$A31) -> 52 | AR31: =SUMIFS('Breakout Systems'!$R$3:$R$5000,'Breakout Systems'!$D$3:$D$5000,AR$2,'Breakout Systems'!$T$3:$T$5000,$A31) -> 0 | AS31: =SUMIFS('Breakout Systems'!$R$3:$R$5000,'Breakout Systems'!$D$3:$D$5000,AS$2,'Breakout Systems'!$T$3:$T$5000,$A31) -> 0 | AT31: =IF(AN31=0,0,AN31/AH31) -> 9.2857143 | AU31: =IF(AO31=0,0,AO31/AI31) -> 14.833333 | AV31: =IF(AP31=0,0,AP31/AJ31) -> 0 | AW31: =IF(AQ31=0,0,AQ31/AK31) -> 17.333333 | AX31: =IF(AR31=0,0,AR31/AL31) -> 0 | AY31: =IF(AS31=0,0,AS31/AM31) -> 0 | AZ31: =IF(AH31=0,0,SUM(AN31:AS31)/SUM(AH31:AM31)) -> 10.590909 | BL31: =EOMONTH(BL30,1) -> 42886 | BM31: =F31 -> 0.47727273 | BN31: =SUM(E$3:E31)/SUM(D$3:D31) -> 0.38867925 | BO31: =W31 -> 395.35333 | BP31: =SUM(T$3:T31)/SUM(E$3:E31) -> 500.76913 | BR31: =EOMONTH(BR30,1) -> 42886 | BS31: =D31 -> 44 | BT31: =ROUND(AVERAGE(BS$3:BS31),0) -> 64 | BZ31: =IF(D31=0," ",C31&" "&B31) -> May 2017 | CA31: =IF(D31=0," ",Z31) -> 281581.98 | CB31: =IF(D31=0," ",AC31) -> 0.0095968854
A32: =A31+1 -> 30 | B32: =B31 -> 2017 | C32: Jun | D32: =COUNTIF('Breakout Systems'!T$3:T$5000,A32) -> 0 | E32: =SUMIF('Breakout Systems'!T$3:T$5000,A32,'Breakout Systems'!Z$3:Z$5000) -> 0 | F32: =IF(D32=0,0,E32/D32) -> 0 | G32: =SUMIF('Breakout Systems'!T$3:T$5000,A32,'Breakout Systems'!AA$3:AA$5000) -> 0 | H32: =IF(D32=0,0,G32/D32) -> 0 | I32: =SUMIF('Breakout Systems'!T$3:T$5000,A32,'Breakout Systems'!V$3:V$5000) -> 0 | J32: =IF($D32=0,0,I32/$D32) -> 0 | K32: =SUMIF('Breakout Systems'!$T$3:$T$5000,$A32,'Breakout Systems'!W$3:W$5000) -> 0 | L32: =IF($D32=0,0,K32/$D32) -> 0 | M32: =SUMIF('Breakout Systems'!$T$3:$T$5000,$A32,'Breakout Systems'!X$3:X$5000) -> 0 | N32: =IF($D32=0,0,M32/$D32) -> 0 | O32: =SUMIF('Breakout Systems'!$T$3:$T$5000,$A32,'Breakout Systems'!Y$3:Y$5000) -> 0 | P32: =IF($D32=0,0,O32/$D32) -> 0 | Q32: =SUMIF('Breakout Systems'!$T$3:$T$5000,$A32,'Breakout Systems'!AB$3:AB$5000) -> 0 | R32: =SUMIF('Breakout Systems'!$T$3:$T$5000,$A32,'Breakout Systems'!AD$3:AD$5000) -> 0 | S32: =Q32+R32 -> 0 | T32: =IF(D32=0,0,SUMIF('Breakout Systems'!T$3:T$5000,A32,'Breakout Systems'!AB$3:AB$5000)) -> 0 | U32: =IF(D32=0,0,SUMIF('Breakout Systems'!T$3:T$5000,A32,'Breakout Systems'!AD$3:AD$5000)) -> 0 | V32: =IF(D32=0,0,SUMIF('Breakout Systems'!T$3:T$5000,A32,'Breakout Systems'!O$3:O$5000)) -> 0 | W32: =IF(D32=0,0,T32/E32) -> 0 | X32: =IF(D32=0,0,U32/G32) -> 0 | Y32: =IF(D32=0,0,V32/D32) -> 0 | Z32: =S32+Z31 -> 281581.98 | AA32: =V32/$Z$2 -> 0 | AB32: =MAX(Z$2:Z32) -> 284284.29 | AC32: =(AB32-Z32)/Z32 -> 0.0095968854 | AD32: {=MAX(IF('Breakout Systems'!T$3:T$5000=A32,'Breakout Systems'!AB$3:AB$5000))} -> 0 | AE32: =IF(AD32=0,0,INDEX('Breakout Systems'!AC$3:AC$5000,(MATCH(AD32,'Breakout Systems'!AB$3:AB$5000,0)))) -> 0 | AF32: {=MIN(IF('Breakout Systems'!T$3:T$5000=A32,'Breakout Systems'!AD$3:AD$5000))} -> 0 | AG32: =IF(AF32=0,0,INDEX('Breakout Systems'!AC$3:AC$5000,(MATCH(AF32,'Breakout Systems'!AD$3:AD$5000,0)))) -> 0 | AH32: =COUNTIFS('Breakout Systems'!$D$3:$D$5000,AH$2,'Breakout Systems'!$T$3:$T$5000,$A32) -> 0 | AI32: =COUNTIFS('Breakout Systems'!$D$3:$D$5000,AI$2,'Breakout Systems'!$T$3:$T$5000,$A32) -> 0 | AJ32: =COUNTIFS('Breakout Systems'!$D$3:$D$5000,AJ$2,'Breakout Systems'!$T$3:$T$5000,$A32) -> 0 | AK32: =COUNTIFS('Breakout Systems'!$D$3:$D$5000,AK$2,'Breakout Systems'!$T$3:$T$5000,$A32) -> 0 | AL32: =COUNTIFS('Breakout Systems'!$D$3:$D$5000,AL$2,'Breakout Systems'!$T$3:$T$5000,$A32) -> 0 | AM32: =COUNTIFS('Breakout Systems'!$D$3:$D$5000,AM$2,'Breakout Systems'!$T$3:$T$5000,$A32) -> 0 | AN32: =SUMIFS('Breakout Systems'!$R$3:$R$5000,'Breakout Systems'!$D$3:$D$5000,AN$2,'Breakout Systems'!$T$3:$T$5000,$A32) -> 0 | AO32: =SUMIFS('Breakout Systems'!$R$3:$R$5000,'Breakout Systems'!$D$3:$D$5000,AO$2,'Breakout Systems'!$T$3:$T$5000,$A32) -> 0 | AP32: =SUMIFS('Breakout Systems'!$R$3:$R$5000,'Breakout Systems'!$D$3:$D$5000,AP$2,'Breakout Systems'!$T$3:$T$5000,$A32) -> 0 | AQ32: =SUMIFS('Breakout Systems'!$R$3:$R$5000,'Breakout Systems'!$D$3:$D$5000,AQ$2,'Breakout Systems'!$T$3:$T$5000,$A32) -> 0 | AR32: =SUMIFS('Breakout Systems'!$R$3:$R$5000,'Breakout Systems'!$D$3:$D$5000,AR$2,'Breakout Systems'!$T$3:$T$5000,$A32) -> 0 | AS32: =SUMIFS('Breakout Systems'!$R$3:$R$5000,'Breakout Systems'!$D$3:$D$5000,AS$2,'Breakout Systems'!$T$3:$T$5000,$A32) -> 0 | AT32: =IF(AN32=0,0,AN32/AH32) -> 0 | AU32: =IF(AO32=0,0,AO32/AI32) -> 0 | AV32: =IF(AP32=0,0,AP32/AJ32) -> 0 | AW32: =IF(AQ32=0,0,AQ32/AK32) -> 0 | AX32: =IF(AR32=0,0,AR32/AL32) -> 0 | AY32: =IF(AS32=0,0,AS32/AM32) -> 0 | AZ32: =IF(AH32=0,0,SUM(AN32:AS32)/SUM(AH32:AM32)) -> 0 | BL32: =EOMONTH(BL31,1) -> 42916 | BR32: =EOMONTH(BR31,1) -> 42916 | BS32: =D32 -> 0 | BZ32: =IF(D32=0," ",C32&" "&B32) | CA32: =IF(D32=0," ",Z32) | CB32: =IF(D32=0," ",AC32)
A33: =A32+1 -> 31 | B33: =B32 -> 2017 | C33: Jul | D33: =COUNTIF('Breakout Systems'!T$3:T$5000,A33) -> 0 | E33: =SUMIF('Breakout Systems'!T$3:T$5000,A33,'Breakout Systems'!Z$3:Z$5000) -> 0 | F33: =IF(D33=0,0,E33/D33) -> 0 | G33: =SUMIF('Breakout Systems'!T$3:T$5000,A33,'Breakout Systems'!AA$3:AA$5000) -> 0 | H33: =IF(D33=0,0,G33/D33) -> 0 | I33: =SUMIF('Breakout Systems'!T$3:T$5000,A33,'Breakout Systems'!V$3:V$5000) -> 0 | J33: =IF($D33=0,0,I33/$D33) -> 0 | K33: =SUMIF('Breakout Systems'!$T$3:$T$5000,$A33,'Breakout Systems'!W$3:W$5000) -> 0 | L33: =IF($D33=0,0,K33/$D33) -> 0 | M33: =SUMIF('Breakout Systems'!$T$3:$T$5000,$A33,'Breakout Systems'!X$3:X$5000) -> 0 | N33: =IF($D33=0,0,M33/$D33) -> 0 | O33: =SUMIF('Breakout Systems'!$T$3:$T$5000,$A33,'Breakout Systems'!Y$3:Y$5000) -> 0 | P33: =IF($D33=0,0,O33/$D33) -> 0 | Q33: =SUMIF('Breakout Systems'!$T$3:$T$5000,$A33,'Breakout Systems'!AB$3:AB$5000) -> 0 | R33: =SUMIF('Breakout Systems'!$T$3:$T$5000,$A33,'Breakout Systems'!AD$3:AD$5000) -> 0 | S33: =Q33+R33 -> 0 | T33: =IF(D33=0,0,SUMIF('Breakout Systems'!T$3:T$5000,A33,'Breakout Systems'!AB$3:AB$5000)) -> 0 | U33: =IF(D33=0,0,SUMIF('Breakout Systems'!T$3:T$5000,A33,'Breakout Systems'!AD$3:AD$5000)) -> 0 | V33: =IF(D33=0,0,SUMIF('Breakout Systems'!T$3:T$5000,A33,'Breakout Systems'!O$3:O$5000)) -> 0 | W33: =IF(D33=0,0,T33/E33) -> 0 | X33: =IF(D33=0,0,U33/G33) -> 0 | Y33: =IF(D33=0,0,V33/D33) -> 0 | Z33: =S33+Z32 -> 281581.98 | AA33: =V33/$Z$2 -> 0 | AB33: =MAX(Z$2:Z33) -> 284284.29 | AC33: =(AB33-Z33)/Z33 -> 0.0095968854 | AD33: {=MAX(IF('Breakout Systems'!T$3:T$5000=A33,'Breakout Systems'!AB$3:AB$5000))} -> 0 | AE33: =IF(AD33=0,0,INDEX('Breakout Systems'!AC$3:AC$5000,(MATCH(AD33,'Breakout Systems'!AB$3:AB$5000,0)))) -> 0 | AF33: {=MIN(IF('Breakout Systems'!T$3:T$5000=A33,'Breakout Systems'!AD$3:AD$5000))} -> 0 | AG33: =IF(AF33=0,0,INDEX('Breakout Systems'!AC$3:AC$5000,(MATCH(AF33,'Breakout Systems'!AD$3:AD$5000,0)))) -> 0 | AH33: =COUNTIFS('Breakout Systems'!$D$3:$D$5000,AH$2,'Breakout Systems'!$T$3:$T$5000,$A33) -> 0 | AI33: =COUNTIFS('Breakout Systems'!$D$3:$D$5000,AI$2,'Breakout Systems'!$T$3:$T$5000,$A33) -> 0 | AJ33: =COUNTIFS('Breakout Systems'!$D$3:$D$5000,AJ$2,'Breakout Systems'!$T$3:$T$5000,$A33) -> 0 | AK33: =COUNTIFS('Breakout Systems'!$D$3:$D$5000,AK$2,'Breakout Systems'!$T$3:$T$5000,$A33) -> 0 | AL33: =COUNTIFS('Breakout Systems'!$D$3:$D$5000,AL$2,'Breakout Systems'!$T$3:$T$5000,$A33) -> 0 | AM33: =COUNTIFS('Breakout Systems'!$D$3:$D$5000,AM$2,'Breakout Systems'!$T$3:$T$5000,$A33) -> 0 | AN33: =SUMIFS('Breakout Systems'!$R$3:$R$5000,'Breakout Systems'!$D$3:$D$5000,AN$2,'Breakout Systems'!$T$3:$T$5000,$A33) -> 0 | AO33: =SUMIFS('Breakout Systems'!$R$3:$R$5000,'Breakout Systems'!$D$3:$D$5000,AO$2,'Breakout Systems'!$T$3:$T$5000,$A33) -> 0 | AP33: =SUMIFS('Breakout Systems'!$R$3:$R$5000,'Breakout Systems'!$D$3:$D$5000,AP$2,'Breakout Systems'!$T$3:$T$5000,$A33) -> 0 | AQ33: =SUMIFS('Breakout Systems'!$R$3:$R$5000,'Breakout Systems'!$D$3:$D$5000,AQ$2,'Breakout Systems'!$T$3:$T$5000,$A33) -> 0 | AR33: =SUMIFS('Breakout Systems'!$R$3:$R$5000,'Breakout Systems'!$D$3:$D$5000,AR$2,'Breakout Systems'!$T$3:$T$5000,$A33) -> 0 | AS33: =SUMIFS('Breakout Systems'!$R$3:$R$5000,'Breakout Systems'!$D$3:$D$5000,AS$2,'Breakout Systems'!$T$3:$T$5000,$A33) -> 0 | AT33: =IF(AN33=0,0,AN33/AH33) -> 0 | AU33: =IF(AO33=0,0,AO33/AI33) -> 0 | AV33: =IF(AP33=0,0,AP33/AJ33) -> 0 | AW33: =IF(AQ33=0,0,AQ33/AK33) -> 0 | AX33: =IF(AR33=0,0,AR33/AL33) -> 0 | AY33: =IF(AS33=0,0,AS33/AM33) -> 0 | AZ33: =IF(AH33=0,0,SUM(AN33:AS33)/SUM(AH33:AM33)) -> 0 | BL33: =EOMONTH(BL32,1) -> 42947 | BR33: =EOMONTH(BR32,1) -> 42947 | BS33: =D33 -> 0 | BZ33: =IF(D33=0," ",C33&" "&B33) | CA33: =IF(D33=0," ",Z33) | CB33: =IF(D33=0," ",AC33)
A34: =A33+1 -> 32 | B34: =B33 -> 2017 | C34: Aug | D34: =COUNTIF('Breakout Systems'!T$3:T$5000,A34) -> 0 | E34: =SUMIF('Breakout Systems'!T$3:T$5000,A34,'Breakout Systems'!Z$3:Z$5000) -> 0 | F34: =IF(D34=0,0,E34/D34) -> 0 | G34: =SUMIF('Breakout Systems'!T$3:T$5000,A34,'Breakout Systems'!AA$3:AA$5000) -> 0 | H34: =IF(D34=0,0,G34/D34) -> 0 | I34: =SUMIF('Breakout Systems'!T$3:T$5000,A34,'Breakout Systems'!V$3:V$5000) -> 0 | J34: =IF($D34=0,0,I34/$D34) -> 0 | K34: =SUMIF('Breakout Systems'!$T$3:$T$5000,$A34,'Breakout Systems'!W$3:W$5000) -> 0 | L34: =IF($D34=0,0,K34/$D34) -> 0 | M34: =SUMIF('Breakout Systems'!$T$3:$T$5000,$A34,'Breakout Systems'!X$3:X$5000) -> 0 | N34: =IF($D34=0,0,M34/$D34) -> 0 | O34: =SUMIF('Breakout Systems'!$T$3:$T$5000,$A34,'Breakout Systems'!Y$3:Y$5000) -> 0 | P34: =IF($D34=0,0,O34/$D34) -> 0 | Q34: =SUMIF('Breakout Systems'!$T$3:$T$5000,$A34,'Breakout Systems'!AB$3:AB$5000) -> 0 | R34: =SUMIF('Breakout Systems'!$T$3:$T$5000,$A34,'Breakout Systems'!AD$3:AD$5000) -> 0 | S34: =Q34+R34 -> 0 | T34: =IF(D34=0,0,SUMIF('Breakout Systems'!T$3:T$5000,A34,'Breakout Systems'!AB$3:AB$5000)) -> 0 | U34: =IF(D34=0,0,SUMIF('Breakout Systems'!T$3:T$5000,A34,'Breakout Systems'!AD$3:AD$5000)) -> 0 | V34: =IF(D34=0,0,SUMIF('Breakout Systems'!T$3:T$5000,A34,'Breakout Systems'!O$3:O$5000)) -> 0 | W34: =IF(D34=0,0,T34/E34) -> 0 | X34: =IF(D34=0,0,U34/G34) -> 0 | Y34: =IF(D34=0,0,V34/D34) -> 0 | Z34: =S34+Z33 -> 281581.98 | AA34: =V34/$Z$2 -> 0 | AB34: =MAX(Z$2:Z34) -> 284284.29 | AC34: =(AB34-Z34)/Z34 -> 0.0095968854 | AD34: {=MAX(IF('Breakout Systems'!T$3:T$5000=A34,'Breakout Systems'!AB$3:AB$5000))} -> 0 | AE34: =IF(AD34=0,0,INDEX('Breakout Systems'!AC$3:AC$5000,(MATCH(AD34,'Breakout Systems'!AB$3:AB$5000,0)))) -> 0 | AF34: {=MIN(IF('Breakout Systems'!T$3:T$5000=A34,'Breakout Systems'!AD$3:AD$5000))} -> 0 | AG34: =IF(AF34=0,0,INDEX('Breakout Systems'!AC$3:AC$5000,(MATCH(AF34,'Breakout Systems'!AD$3:AD$5000,0)))) -> 0 | AH34: =COUNTIFS('Breakout Systems'!$D$3:$D$5000,AH$2,'Breakout Systems'!$T$3:$T$5000,$A34) -> 0 | AI34: =COUNTIFS('Breakout Systems'!$D$3:$D$5000,AI$2,'Breakout Systems'!$T$3:$T$5000,$A34) -> 0 | AJ34: =COUNTIFS('Breakout Systems'!$D$3:$D$5000,AJ$2,'Breakout Systems'!$T$3:$T$5000,$A34) -> 0 | AK34: =COUNTIFS('Breakout Systems'!$D$3:$D$5000,AK$2,'Breakout Systems'!$T$3:$T$5000,$A34) -> 0 | AL34: =COUNTIFS('Breakout Systems'!$D$3:$D$5000,AL$2,'Breakout Systems'!$T$3:$T$5000,$A34) -> 0 | AM34: =COUNTIFS('Breakout Systems'!$D$3:$D$5000,AM$2,'Breakout Systems'!$T$3:$T$5000,$A34) -> 0 | AN34: =SUMIFS('Breakout Systems'!$R$3:$R$5000,'Breakout Systems'!$D$3:$D$5000,AN$2,'Breakout Systems'!$T$3:$T$5000,$A34) -> 0 | AO34: =SUMIFS('Breakout Systems'!$R$3:$R$5000,'Breakout Systems'!$D$3:$D$5000,AO$2,'Breakout Systems'!$T$3:$T$5000,$A34) -> 0 | AP34: =SUMIFS('Breakout Systems'!$R$3:$R$5000,'Breakout Systems'!$D$3:$D$5000,AP$2,'Breakout Systems'!$T$3:$T$5000,$A34) -> 0 | AQ34: =SUMIFS('Breakout Systems'!$R$3:$R$5000,'Breakout Systems'!$D$3:$D$5000,AQ$2,'Breakout Systems'!$T$3:$T$5000,$A34) -> 0 | AR34: =SUMIFS('Breakout Systems'!$R$3:$R$5000,'Breakout Systems'!$D$3:$D$5000,AR$2,'Breakout Systems'!$T$3:$T$5000,$A34) -> 0 | AS34: =SUMIFS('Breakout Systems'!$R$3:$R$5000,'Breakout Systems'!$D$3:$D$5000,AS$2,'Breakout Systems'!$T$3:$T$5000,$A34) -> 0 | AT34: =IF(AN34=0,0,AN34/AH34) -> 0 | AU34: =IF(AO34=0,0,AO34/AI34) -> 0 | AV34: =IF(AP34=0,0,AP34/AJ34) -> 0 | AW34: =IF(AQ34=0,0,AQ34/AK34) -> 0 | AX34: =IF(AR34=0,0,AR34/AL34) -> 0 | AY34: =IF(AS34=0,0,AS34/AM34) -> 0 | AZ34: =IF(AH34=0,0,SUM(AN34:AS34)/SUM(AH34:AM34)) -> 0 | BL34: =EOMONTH(BL33,1) -> 42978 | BR34: =EOMONTH(BR33,1) -> 42978 | BS34: =D34 -> 0 | BZ34: =IF(D34=0," ",C34&" "&B34) | CA34: =IF(D34=0," ",Z34) | CB34: =IF(D34=0," ",AC34)
A35: =A34+1 -> 33 | B35: =B34 -> 2017 | C35: Sep | D35: =COUNTIF('Breakout Systems'!T$3:T$5000,A35) -> 0 | E35: =SUMIF('Breakout Systems'!T$3:T$5000,A35,'Breakout Systems'!Z$3:Z$5000) -> 0 | F35: =IF(D35=0,0,E35/D35) -> 0 | G35: =SUMIF('Breakout Systems'!T$3:T$5000,A35,'Breakout Systems'!AA$3:AA$5000) -> 0 | H35: =IF(D35=0,0,G35/D35) -> 0 | I35: =SUMIF('Breakout Systems'!T$3:T$5000,A35,'Breakout Systems'!V$3:V$5000) -> 0 | J35: =IF($D35=0,0,I35/$D35) -> 0 | K35: =SUMIF('Breakout Systems'!$T$3:$T$5000,$A35,'Breakout Systems'!W$3:W$5000) -> 0 | L35: =IF($D35=0,0,K35/$D35) -> 0 | M35: =SUMIF('Breakout Systems'!$T$3:$T$5000,$A35,'Breakout Systems'!X$3:X$5000) -> 0 | N35: =IF($D35=0,0,M35/$D35) -> 0 | O35: =SUMIF('Breakout Systems'!$T$3:$T$5000,$A35,'Breakout Systems'!Y$3:Y$5000) -> 0 | P35: =IF($D35=0,0,O35/$D35) -> 0 | Q35: =SUMIF('Breakout Systems'!$T$3:$T$5000,$A35,'Breakout Systems'!AB$3:AB$5000) -> 0 | R35: =SUMIF('Breakout Systems'!$T$3:$T$5000,$A35,'Breakout Systems'!AD$3:AD$5000) -> 0 | S35: =Q35+R35 -> 0 | T35: =IF(D35=0,0,SUMIF('Breakout Systems'!T$3:T$5000,A35,'Breakout Systems'!AB$3:AB$5000)) -> 0 | U35: =IF(D35=0,0,SUMIF('Breakout Systems'!T$3:T$5000,A35,'Breakout Systems'!AD$3:AD$5000)) -> 0 | V35: =IF(D35=0,0,SUMIF('Breakout Systems'!T$3:T$5000,A35,'Breakout Systems'!O$3:O$5000)) -> 0 | W35: =IF(D35=0,0,T35/E35) -> 0 | X35: =IF(D35=0,0,U35/G35) -> 0 | Y35: =IF(D35=0,0,V35/D35) -> 0 | Z35: =S35+Z34 -> 281581.98 | AA35: =V35/$Z$2 -> 0 | AB35: =MAX(Z$2:Z35) -> 284284.29 | AC35: =(AB35-Z35)/Z35 -> 0.0095968854 | AD35: {=MAX(IF('Breakout Systems'!T$3:T$5000=A35,'Breakout Systems'!AB$3:AB$5000))} -> 0 | AE35: =IF(AD35=0,0,INDEX('Breakout Systems'!AC$3:AC$5000,(MATCH(AD35,'Breakout Systems'!AB$3:AB$5000,0)))) -> 0 | AF35: {=MIN(IF('Breakout Systems'!T$3:T$5000=A35,'Breakout Systems'!AD$3:AD$5000))} -> 0 | AG35: =IF(AF35=0,0,INDEX('Breakout Systems'!AC$3:AC$5000,(MATCH(AF35,'Breakout Systems'!AD$3:AD$5000,0)))) -> 0 | AH35: =COUNTIFS('Breakout Systems'!$D$3:$D$5000,AH$2,'Breakout Systems'!$T$3:$T$5000,$A35) -> 0 | AI35: =COUNTIFS('Breakout Systems'!$D$3:$D$5000,AI$2,'Breakout Systems'!$T$3:$T$5000,$A35) -> 0 | AJ35: =COUNTIFS('Breakout Systems'!$D$3:$D$5000,AJ$2,'Breakout Systems'!$T$3:$T$5000,$A35) -> 0 | AK35: =COUNTIFS('Breakout Systems'!$D$3:$D$5000,AK$2,'Breakout Systems'!$T$3:$T$5000,$A35) -> 0 | AL35: =COUNTIFS('Breakout Systems'!$D$3:$D$5000,AL$2,'Breakout Systems'!$T$3:$T$5000,$A35) -> 0 | AM35: =COUNTIFS('Breakout Systems'!$D$3:$D$5000,AM$2,'Breakout Systems'!$T$3:$T$5000,$A35) -> 0 | AN35: =SUMIFS('Breakout Systems'!$R$3:$R$5000,'Breakout Systems'!$D$3:$D$5000,AN$2,'Breakout Systems'!$T$3:$T$5000,$A35) -> 0 | AO35: =SUMIFS('Breakout Systems'!$R$3:$R$5000,'Breakout Systems'!$D$3:$D$5000,AO$2,'Breakout Systems'!$T$3:$T$5000,$A35) -> 0 | AP35: =SUMIFS('Breakout Systems'!$R$3:$R$5000,'Breakout Systems'!$D$3:$D$5000,AP$2,'Breakout Systems'!$T$3:$T$5000,$A35) -> 0 | AQ35: =SUMIFS('Breakout Systems'!$R$3:$R$5000,'Breakout Systems'!$D$3:$D$5000,AQ$2,'Breakout Systems'!$T$3:$T$5000,$A35) -> 0 | AR35: =SUMIFS('Breakout Systems'!$R$3:$R$5000,'Breakout Systems'!$D$3:$D$5000,AR$2,'Breakout Systems'!$T$3:$T$5000,$A35) -> 0 | AS35: =SUMIFS('Breakout Systems'!$R$3:$R$5000,'Breakout Systems'!$D$3:$D$5000,AS$2,'Breakout Systems'!$T$3:$T$5000,$A35) -> 0 | AT35: =IF(AN35=0,0,AN35/AH35) -> 0 | AU35: =IF(AO35=0,0,AO35/AI35) -> 0 | AV35: =IF(AP35=0,0,AP35/AJ35) -> 0 | AW35: =IF(AQ35=0,0,AQ35/AK35) -> 0 | AX35: =IF(AR35=0,0,AR35/AL35) -> 0 | AY35: =IF(AS35=0,0,AS35/AM35) -> 0 | AZ35: =IF(AH35=0,0,SUM(AN35:AS35)/SUM(AH35:AM35)) -> 0 | BL35: =EOMONTH(BL34,1) -> 43008 | BR35: =EOMONTH(BR34,1) -> 43008 | BS35: =D35 -> 0 | BZ35: =IF(D35=0," ",C35&" "&B35) | CA35: =IF(D35=0," ",Z35) | CB35: =IF(D35=0," ",AC35)
A36: =A35+1 -> 34 | B36: =B35 -> 2017 | C36: Oct | D36: =COUNTIF('Breakout Systems'!T$3:T$5000,A36) -> 0 | E36: =SUMIF('Breakout Systems'!T$3:T$5000,A36,'Breakout Systems'!Z$3:Z$5000) -> 0 | F36: =IF(D36=0,0,E36/D36) -> 0 | G36: =SUMIF('Breakout Systems'!T$3:T$5000,A36,'Breakout Systems'!AA$3:AA$5000) -> 0 | H36: =IF(D36=0,0,G36/D36) -> 0 | I36: =SUMIF('Breakout Systems'!T$3:T$5000,A36,'Breakout Systems'!V$3:V$5000) -> 0 | J36: =IF($D36=0,0,I36/$D36) -> 0 | K36: =SUMIF('Breakout Systems'!$T$3:$T$5000,$A36,'Breakout Systems'!W$3:W$5000) -> 0 | L36: =IF($D36=0,0,K36/$D36) -> 0 | M36: =SUMIF('Breakout Systems'!$T$3:$T$5000,$A36,'Breakout Systems'!X$3:X$5000) -> 0 | N36: =IF($D36=0,0,M36/$D36) -> 0 | O36: =SUMIF('Breakout Systems'!$T$3:$T$5000,$A36,'Breakout Systems'!Y$3:Y$5000) -> 0 | P36: =IF($D36=0,0,O36/$D36) -> 0 | Q36: =SUMIF('Breakout Systems'!$T$3:$T$5000,$A36,'Breakout Systems'!AB$3:AB$5000) -> 0 | R36: =SUMIF('Breakout Systems'!$T$3:$T$5000,$A36,'Breakout Systems'!AD$3:AD$5000) -> 0 | S36: =Q36+R36 -> 0 | T36: =IF(D36=0,0,SUMIF('Breakout Systems'!T$3:T$5000,A36,'Breakout Systems'!AB$3:AB$5000)) -> 0 | U36: =IF(D36=0,0,SUMIF('Breakout Systems'!T$3:T$5000,A36,'Breakout Systems'!AD$3:AD$5000)) -> 0 | V36: =IF(D36=0,0,SUMIF('Breakout Systems'!T$3:T$5000,A36,'Breakout Systems'!O$3:O$5000)) -> 0 | W36: =IF(D36=0,0,T36/E36) -> 0 | X36: =IF(D36=0,0,U36/G36) -> 0 | Y36: =IF(D36=0,0,V36/D36) -> 0 | Z36: =S36+Z35 -> 281581.98 | AA36: =V36/$Z$2 -> 0 | AB36: =MAX(Z$2:Z36) -> 284284.29 | AC36: =(AB36-Z36)/Z36 -> 0.0095968854 | AD36: {=MAX(IF('Breakout Systems'!T$3:T$5000=A36,'Breakout Systems'!AB$3:AB$5000))} -> 0 | AE36: =IF(AD36=0,0,INDEX('Breakout Systems'!AC$3:AC$5000,(MATCH(AD36,'Breakout Systems'!AB$3:AB$5000,0)))) -> 0 | AF36: {=MIN(IF('Breakout Systems'!T$3:T$5000=A36,'Breakout Systems'!AD$3:AD$5000))} -> 0 | AG36: =IF(AF36=0,0,INDEX('Breakout Systems'!AC$3:AC$5000,(MATCH(AF36,'Breakout Systems'!AD$3:AD$5000,0)))) -> 0 | AH36: =COUNTIFS('Breakout Systems'!$D$3:$D$5000,AH$2,'Breakout Systems'!$T$3:$T$5000,$A36) -> 0 | AI36: =COUNTIFS('Breakout Systems'!$D$3:$D$5000,AI$2,'Breakout Systems'!$T$3:$T$5000,$A36) -> 0 | AJ36: =COUNTIFS('Breakout Systems'!$D$3:$D$5000,AJ$2,'Breakout Systems'!$T$3:$T$5000,$A36) -> 0 | AK36: =COUNTIFS('Breakout Systems'!$D$3:$D$5000,AK$2,'Breakout Systems'!$T$3:$T$5000,$A36) -> 0 | AL36: =COUNTIFS('Breakout Systems'!$D$3:$D$5000,AL$2,'Breakout Systems'!$T$3:$T$5000,$A36) -> 0 | AM36: =COUNTIFS('Breakout Systems'!$D$3:$D$5000,AM$2,'Breakout Systems'!$T$3:$T$5000,$A36) -> 0 | AN36: =SUMIFS('Breakout Systems'!$R$3:$R$5000,'Breakout Systems'!$D$3:$D$5000,AN$2,'Breakout Systems'!$T$3:$T$5000,$A36) -> 0 | AO36: =SUMIFS('Breakout Systems'!$R$3:$R$5000,'Breakout Systems'!$D$3:$D$5000,AO$2,'Breakout Systems'!$T$3:$T$5000,$A36) -> 0 | AP36: =SUMIFS('Breakout Systems'!$R$3:$R$5000,'Breakout Systems'!$D$3:$D$5000,AP$2,'Breakout Systems'!$T$3:$T$5000,$A36) -> 0 | AQ36: =SUMIFS('Breakout Systems'!$R$3:$R$5000,'Breakout Systems'!$D$3:$D$5000,AQ$2,'Breakout Systems'!$T$3:$T$5000,$A36) -> 0 | AR36: =SUMIFS('Breakout Systems'!$R$3:$R$5000,'Breakout Systems'!$D$3:$D$5000,AR$2,'Breakout Systems'!$T$3:$T$5000,$A36) -> 0 | AS36: =SUMIFS('Breakout Systems'!$R$3:$R$5000,'Breakout Systems'!$D$3:$D$5000,AS$2,'Breakout Systems'!$T$3:$T$5000,$A36) -> 0 | AT36: =IF(AN36=0,0,AN36/AH36) -> 0 | AU36: =IF(AO36=0,0,AO36/AI36) -> 0 | AV36: =IF(AP36=0,0,AP36/AJ36) -> 0 | AW36: =IF(AQ36=0,0,AQ36/AK36) -> 0 | AX36: =IF(AR36=0,0,AR36/AL36) -> 0 | AY36: =IF(AS36=0,0,AS36/AM36) -> 0 | AZ36: =IF(AH36=0,0,SUM(AN36:AS36)/SUM(AH36:AM36)) -> 0 | BL36: =EOMONTH(BL35,1) -> 43039 | BR36: =EOMONTH(BR35,1) -> 43039 | BS36: =D36 -> 0 | BZ36: =IF(D36=0," ",C36&" "&B36) | CA36: =IF(D36=0," ",Z36) | CB36: =IF(D36=0," ",AC36)
A37: =A36+1 -> 35 | B37: =B36 -> 2017 | C37: Nov | D37: =COUNTIF('Breakout Systems'!T$3:T$5000,A37) -> 0 | E37: =SUMIF('Breakout Systems'!T$3:T$5000,A37,'Breakout Systems'!Z$3:Z$5000) -> 0 | F37: =IF(D37=0,0,E37/D37) -> 0 | G37: =SUMIF('Breakout Systems'!T$3:T$5000,A37,'Breakout Systems'!AA$3:AA$5000) -> 0 | H37: =IF(D37=0,0,G37/D37) -> 0 | I37: =SUMIF('Breakout Systems'!T$3:T$5000,A37,'Breakout Systems'!V$3:V$5000) -> 0 | J37: =IF($D37=0,0,I37/$D37) -> 0 | K37: =SUMIF('Breakout Systems'!$T$3:$T$5000,$A37,'Breakout Systems'!W$3:W$5000) -> 0 | L37: =IF($D37=0,0,K37/$D37) -> 0 | M37: =SUMIF('Breakout Systems'!$T$3:$T$5000,$A37,'Breakout Systems'!X$3:X$5000) -> 0 | N37: =IF($D37=0,0,M37/$D37) -> 0 | O37: =SUMIF('Breakout Systems'!$T$3:$T$5000,$A37,'Breakout Systems'!Y$3:Y$5000) -> 0 | P37: =IF($D37=0,0,O37/$D37) -> 0 | Q37: =SUMIF('Breakout Systems'!$T$3:$T$5000,$A37,'Breakout Systems'!AB$3:AB$5000) -> 0 | R37: =SUMIF('Breakout Systems'!$T$3:$T$5000,$A37,'Breakout Systems'!AD$3:AD$5000) -> 0 | S37: =Q37+R37 -> 0 | T37: =IF(D37=0,0,SUMIF('Breakout Systems'!T$3:T$5000,A37,'Breakout Systems'!AB$3:AB$5000)) -> 0 | U37: =IF(D37=0,0,SUMIF('Breakout Systems'!T$3:T$5000,A37,'Breakout Systems'!AD$3:AD$5000)) -> 0 | V37: =IF(D37=0,0,SUMIF('Breakout Systems'!T$3:T$5000,A37,'Breakout Systems'!O$3:O$5000)) -> 0 | W37: =IF(D37=0,0,T37/E37) -> 0 | X37: =IF(D37=0,0,U37/G37) -> 0 | Y37: =IF(D37=0,0,V37/D37) -> 0 | Z37: =S37+Z36 -> 281581.98 | AA37: =V37/$Z$2 -> 0 | AB37: =MAX(Z$2:Z37) -> 284284.29 | AC37: =(AB37-Z37)/Z37 -> 0.0095968854 | AD37: {=MAX(IF('Breakout Systems'!T$3:T$5000=A37,'Breakout Systems'!AB$3:AB$5000))} -> 0 | AE37: =IF(AD37=0,0,INDEX('Breakout Systems'!AC$3:AC$5000,(MATCH(AD37,'Breakout Systems'!AB$3:AB$5000,0)))) -> 0 | AF37: {=MIN(IF('Breakout Systems'!T$3:T$5000=A37,'Breakout Systems'!AD$3:AD$5000))} -> 0 | AG37: =IF(AF37=0,0,INDEX('Breakout Systems'!AC$3:AC$5000,(MATCH(AF37,'Breakout Systems'!AD$3:AD$5000,0)))) -> 0 | AH37: =COUNTIFS('Breakout Systems'!$D$3:$D$5000,AH$2,'Breakout Systems'!$T$3:$T$5000,$A37) -> 0 | AI37: =COUNTIFS('Breakout Systems'!$D$3:$D$5000,AI$2,'Breakout Systems'!$T$3:$T$5000,$A37) -> 0 | AJ37: =COUNTIFS('Breakout Systems'!$D$3:$D$5000,AJ$2,'Breakout Systems'!$T$3:$T$5000,$A37) -> 0 | AK37: =COUNTIFS('Breakout Systems'!$D$3:$D$5000,AK$2,'Breakout Systems'!$T$3:$T$5000,$A37) -> 0 | AL37: =COUNTIFS('Breakout Systems'!$D$3:$D$5000,AL$2,'Breakout Systems'!$T$3:$T$5000,$A37) -> 0 | AM37: =COUNTIFS('Breakout Systems'!$D$3:$D$5000,AM$2,'Breakout Systems'!$T$3:$T$5000,$A37) -> 0 | AN37: =SUMIFS('Breakout Systems'!$R$3:$R$5000,'Breakout Systems'!$D$3:$D$5000,AN$2,'Breakout Systems'!$T$3:$T$5000,$A37) -> 0 | AO37: =SUMIFS('Breakout Systems'!$R$3:$R$5000,'Breakout Systems'!$D$3:$D$5000,AO$2,'Breakout Systems'!$T$3:$T$5000,$A37) -> 0 | AP37: =SUMIFS('Breakout Systems'!$R$3:$R$5000,'Breakout Systems'!$D$3:$D$5000,AP$2,'Breakout Systems'!$T$3:$T$5000,$A37) -> 0 | AQ37: =SUMIFS('Breakout Systems'!$R$3:$R$5000,'Breakout Systems'!$D$3:$D$5000,AQ$2,'Breakout Systems'!$T$3:$T$5000,$A37) -> 0 | AR37: =SUMIFS('Breakout Systems'!$R$3:$R$5000,'Breakout Systems'!$D$3:$D$5000,AR$2,'Breakout Systems'!$T$3:$T$5000,$A37) -> 0 | AS37: =SUMIFS('Breakout Systems'!$R$3:$R$5000,'Breakout Systems'!$D$3:$D$5000,AS$2,'Breakout Systems'!$T$3:$T$5000,$A37) -> 0 | AT37: =IF(AN37=0,0,AN37/AH37) -> 0 | AU37: =IF(AO37=0,0,AO37/AI37) -> 0 | AV37: =IF(AP37=0,0,AP37/AJ37) -> 0 | AW37: =IF(AQ37=0,0,AQ37/AK37) -> 0 | AX37: =IF(AR37=0,0,AR37/AL37) -> 0 | AY37: =IF(AS37=0,0,AS37/AM37) -> 0 | AZ37: =IF(AH37=0,0,SUM(AN37:AS37)/SUM(AH37:AM37)) -> 0 | BL37: =EOMONTH(BL36,1) -> 43069 | BR37: =EOMONTH(BR36,1) -> 43069 | BS37: =D37 -> 0 | BZ37: =IF(D37=0," ",C37&" "&B37) | CA37: =IF(D37=0," ",Z37) | CB37: =IF(D37=0," ",AC37)
A38: =A37+1 -> 36 | B38: =B37 -> 2017 | C38: Dec | D38: =COUNTIF('Breakout Systems'!T$3:T$5000,A38) -> 0 | E38: =SUMIF('Breakout Systems'!T$3:T$5000,A38,'Breakout Systems'!Z$3:Z$5000) -> 0 | F38: =IF(D38=0,0,E38/D38) -> 0 | G38: =SUMIF('Breakout Systems'!T$3:T$5000,A38,'Breakout Systems'!AA$3:AA$5000) -> 0 | H38: =IF(D38=0,0,G38/D38) -> 0 | I38: =SUMIF('Breakout Systems'!T$3:T$5000,A38,'Breakout Systems'!V$3:V$5000) -> 0 | J38: =IF($D38=0,0,I38/$D38) -> 0 | K38: =SUMIF('Breakout Systems'!$T$3:$T$5000,$A38,'Breakout Systems'!W$3:W$5000) -> 0 | L38: =IF($D38=0,0,K38/$D38) -> 0 | M38: =SUMIF('Breakout Systems'!$T$3:$T$5000,$A38,'Breakout Systems'!X$3:X$5000) -> 0 | N38: =IF($D38=0,0,M38/$D38) -> 0 | O38: =SUMIF('Breakout Systems'!$T$3:$T$5000,$A38,'Breakout Systems'!Y$3:Y$5000) -> 0 | P38: =IF($D38=0,0,O38/$D38) -> 0 | Q38: =SUMIF('Breakout Systems'!$T$3:$T$5000,$A38,'Breakout Systems'!AB$3:AB$5000) -> 0 | R38: =SUMIF('Breakout Systems'!$T$3:$T$5000,$A38,'Breakout Systems'!AD$3:AD$5000) -> 0 | S38: =Q38+R38 -> 0 | T38: =IF(D38=0,0,SUMIF('Breakout Systems'!T$3:T$5000,A38,'Breakout Systems'!AB$3:AB$5000)) -> 0 | U38: =IF(D38=0,0,SUMIF('Breakout Systems'!T$3:T$5000,A38,'Breakout Systems'!AD$3:AD$5000)) -> 0 | V38: =IF(D38=0,0,SUMIF('Breakout Systems'!T$3:T$5000,A38,'Breakout Systems'!O$3:O$5000)) -> 0 | W38: =IF(D38=0,0,T38/E38) -> 0 | X38: =IF(D38=0,0,U38/G38) -> 0 | Y38: =IF(D38=0,0,V38/D38) -> 0 | Z38: =S38+Z37 -> 281581.98 | AA38: =V38/$Z$2 -> 0 | AB38: =MAX(Z$2:Z38) -> 284284.29 | AC38: =(AB38-Z38)/Z38 -> 0.0095968854 | AD38: {=MAX(IF('Breakout Systems'!T$3:T$5000=A38,'Breakout Systems'!AB$3:AB$5000))} -> 0 | AE38: =IF(AD38=0,0,INDEX('Breakout Systems'!AC$3:AC$5000,(MATCH(AD38,'Breakout Systems'!AB$3:AB$5000,0)))) -> 0 | AF38: {=MIN(IF('Breakout Systems'!T$3:T$5000=A38,'Breakout Systems'!AD$3:AD$5000))} -> 0 | AG38: =IF(AF38=0,0,INDEX('Breakout Systems'!AC$3:AC$5000,(MATCH(AF38,'Breakout Systems'!AD$3:AD$5000,0)))) -> 0 | AH38: =COUNTIFS('Breakout Systems'!$D$3:$D$5000,AH$2,'Breakout Systems'!$T$3:$T$5000,$A38) -> 0 | AI38: =COUNTIFS('Breakout Systems'!$D$3:$D$5000,AI$2,'Breakout Systems'!$T$3:$T$5000,$A38) -> 0 | AJ38: =COUNTIFS('Breakout Systems'!$D$3:$D$5000,AJ$2,'Breakout Systems'!$T$3:$T$5000,$A38) -> 0 | AK38: =COUNTIFS('Breakout Systems'!$D$3:$D$5000,AK$2,'Breakout Systems'!$T$3:$T$5000,$A38) -> 0 | AL38: =COUNTIFS('Breakout Systems'!$D$3:$D$5000,AL$2,'Breakout Systems'!$T$3:$T$5000,$A38) -> 0 | AM38: =COUNTIFS('Breakout Systems'!$D$3:$D$5000,AM$2,'Breakout Systems'!$T$3:$T$5000,$A38) -> 0 | AN38: =SUMIFS('Breakout Systems'!$R$3:$R$5000,'Breakout Systems'!$D$3:$D$5000,AN$2,'Breakout Systems'!$T$3:$T$5000,$A38) -> 0 | AO38: =SUMIFS('Breakout Systems'!$R$3:$R$5000,'Breakout Systems'!$D$3:$D$5000,AO$2,'Breakout Systems'!$T$3:$T$5000,$A38) -> 0 | AP38: =SUMIFS('Breakout Systems'!$R$3:$R$5000,'Breakout Systems'!$D$3:$D$5000,AP$2,'Breakout Systems'!$T$3:$T$5000,$A38) -> 0 | AQ38: =SUMIFS('Breakout Systems'!$R$3:$R$5000,'Breakout Systems'!$D$3:$D$5000,AQ$2,'Breakout Systems'!$T$3:$T$5000,$A38) -> 0 | AR38: =SUMIFS('Breakout Systems'!$R$3:$R$5000,'Breakout Systems'!$D$3:$D$5000,AR$2,'Breakout Systems'!$T$3:$T$5000,$A38) -> 0 | AS38: =SUMIFS('Breakout Systems'!$R$3:$R$5000,'Breakout Systems'!$D$3:$D$5000,AS$2,'Breakout Systems'!$T$3:$T$5000,$A38) -> 0 | AT38: =IF(AN38=0,0,AN38/AH38) -> 0 | AU38: =IF(AO38=0,0,AO38/AI38) -> 0 | AV38: =IF(AP38=0,0,AP38/AJ38) -> 0 | AW38: =IF(AQ38=0,0,AQ38/AK38) -> 0 | AX38: =IF(AR38=0,0,AR38/AL38) -> 0 | AY38: =IF(AS38=0,0,AS38/AM38) -> 0 | AZ38: =IF(AH38=0,0,SUM(AN38:AS38)/SUM(AH38:AM38)) -> 0 | BL38: =EOMONTH(BL37,1) -> 43100 | BR38: =EOMONTH(BR37,1) -> 43100 | BS38: =D38 -> 0 | BZ38: =IF(D38=0," ",C38&" "&B38) | CA38: =IF(D38=0," ",Z38) | CB38: =IF(D38=0," ",AC38)
A39: =A38+1 -> 37 | B39: =B38+1 -> 2018 | C39: Jan | D39: =COUNTIF('Breakout Systems'!T$3:T$5000,A39) -> 0 | E39: =SUMIF('Breakout Systems'!T$3:T$5000,A39,'Breakout Systems'!Z$3:Z$5000) -> 0 | F39: =IF(D39=0,0,E39/D39) -> 0 | G39: =SUMIF('Breakout Systems'!T$3:T$5000,A39,'Breakout Systems'!AA$3:AA$5000) -> 0 | H39: =IF(D39=0,0,G39/D39) -> 0 | I39: =SUMIF('Breakout Systems'!T$3:T$5000,A39,'Breakout Systems'!V$3:V$5000) -> 0 | J39: =IF($D39=0,0,I39/$D39) -> 0 | K39: =SUMIF('Breakout Systems'!$T$3:$T$5000,$A39,'Breakout Systems'!W$3:W$5000) -> 0 | L39: =IF($D39=0,0,K39/$D39) -> 0 | M39: =SUMIF('Breakout Systems'!$T$3:$T$5000,$A39,'Breakout Systems'!X$3:X$5000) -> 0 | N39: =IF($D39=0,0,M39/$D39) -> 0 | O39: =SUMIF('Breakout Systems'!$T$3:$T$5000,$A39,'Breakout Systems'!Y$3:Y$5000) -> 0 | P39: =IF($D39=0,0,O39/$D39) -> 0 | Q39: =SUMIF('Breakout Systems'!$T$3:$T$5000,$A39,'Breakout Systems'!AB$3:AB$5000) -> 0 | R39: =SUMIF('Breakout Systems'!$T$3:$T$5000,$A39,'Breakout Systems'!AD$3:AD$5000) -> 0 | S39: =Q39+R39 -> 0 | T39: =IF(D39=0,0,SUMIF('Breakout Systems'!T$3:T$5000,A39,'Breakout Systems'!AB$3:AB$5000)) -> 0 | U39: =IF(D39=0,0,SUMIF('Breakout Systems'!T$3:T$5000,A39,'Breakout Systems'!AD$3:AD$5000)) -> 0 | V39: =IF(D39=0,0,SUMIF('Breakout Systems'!T$3:T$5000,A39,'Breakout Systems'!O$3:O$5000)) -> 0 | W39: =IF(D39=0,0,T39/E39) -> 0 | X39: =IF(D39=0,0,U39/G39) -> 0 | Y39: =IF(D39=0,0,V39/D39) -> 0 | Z39: =S39+Z38 -> 281581.98 | AA39: =V39/$Z$2 -> 0 | AB39: =MAX(Z$2:Z39) -> 284284.29 | AC39: =(AB39-Z39)/Z39 -> 0.0095968854 | AD39: {=MAX(IF('Breakout Systems'!T$3:T$5000=A39,'Breakout Systems'!AB$3:AB$5000))} -> 0 | AE39: =IF(AD39=0,0,INDEX('Breakout Systems'!AC$3:AC$5000,(MATCH(AD39,'Breakout Systems'!AB$3:AB$5000,0)))) -> 0 | AF39: {=MIN(IF('Breakout Systems'!T$3:T$5000=A39,'Breakout Systems'!AD$3:AD$5000))} -> 0 | AG39: =IF(AF39=0,0,INDEX('Breakout Systems'!AC$3:AC$5000,(MATCH(AF39,'Breakout Systems'!AD$3:AD$5000,0)))) -> 0 | AH39: =COUNTIFS('Breakout Systems'!$D$3:$D$5000,AH$2,'Breakout Systems'!$T$3:$T$5000,$A39) -> 0 | AI39: =COUNTIFS('Breakout Systems'!$D$3:$D$5000,AI$2,'Breakout Systems'!$T$3:$T$5000,$A39) -> 0 | AJ39: =COUNTIFS('Breakout Systems'!$D$3:$D$5000,AJ$2,'Breakout Systems'!$T$3:$T$5000,$A39) -> 0 | AK39: =COUNTIFS('Breakout Systems'!$D$3:$D$5000,AK$2,'Breakout Systems'!$T$3:$T$5000,$A39) -> 0 | AL39: =COUNTIFS('Breakout Systems'!$D$3:$D$5000,AL$2,'Breakout Systems'!$T$3:$T$5000,$A39) -> 0 | AM39: =COUNTIFS('Breakout Systems'!$D$3:$D$5000,AM$2,'Breakout Systems'!$T$3:$T$5000,$A39) -> 0 | AN39: =SUMIFS('Breakout Systems'!$R$3:$R$5000,'Breakout Systems'!$D$3:$D$5000,AN$2,'Breakout Systems'!$T$3:$T$5000,$A39) -> 0 | AO39: =SUMIFS('Breakout Systems'!$R$3:$R$5000,'Breakout Systems'!$D$3:$D$5000,AO$2,'Breakout Systems'!$T$3:$T$5000,$A39) -> 0 | AP39: =SUMIFS('Breakout Systems'!$R$3:$R$5000,'Breakout Systems'!$D$3:$D$5000,AP$2,'Breakout Systems'!$T$3:$T$5000,$A39) -> 0 | AQ39: =SUMIFS('Breakout Systems'!$R$3:$R$5000,'Breakout Systems'!$D$3:$D$5000,AQ$2,'Breakout Systems'!$T$3:$T$5000,$A39) -> 0 | AR39: =SUMIFS('Breakout Systems'!$R$3:$R$5000,'Breakout Systems'!$D$3:$D$5000,AR$2,'Breakout Systems'!$T$3:$T$5000,$A39) -> 0 | AS39: =SUMIFS('Breakout Systems'!$R$3:$R$5000,'Breakout Systems'!$D$3:$D$5000,AS$2,'Breakout Systems'!$T$3:$T$5000,$A39) -> 0 | AT39: =IF(AN39=0,0,AN39/AH39) -> 0 | AU39: =IF(AO39=0,0,AO39/AI39) -> 0 | AV39: =IF(AP39=0,0,AP39/AJ39) -> 0 | AW39: =IF(AQ39=0,0,AQ39/AK39) -> 0 | AX39: =IF(AR39=0,0,AR39/AL39) -> 0 | AY39: =IF(AS39=0,0,AS39/AM39) -> 0 | AZ39: =IF(AH39=0,0,SUM(AN39:AS39)/SUM(AH39:AM39)) -> 0 | BL39: =EOMONTH(BL38,1) -> 43131 | BR39: =EOMONTH(BR38,1) -> 43131 | BS39: =D39 -> 0 | BZ39: =IF(D39=0," ",C39&" "&B39) | CA39: =IF(D39=0," ",Z39) | CB39: =IF(D39=0," ",AC39)
A40: =A39+1 -> 38 | B40: =B39 -> 2018 | C40: Feb | D40: =COUNTIF('Breakout Systems'!T$3:T$5000,A40) -> 0 | E40: =SUMIF('Breakout Systems'!T$3:T$5000,A40,'Breakout Systems'!Z$3:Z$5000) -> 0 | F40: =IF(D40=0,0,E40/D40) -> 0 | G40: =SUMIF('Breakout Systems'!T$3:T$5000,A40,'Breakout Systems'!AA$3:AA$5000) -> 0 | H40: =IF(D40=0,0,G40/D40) -> 0 | I40: =SUMIF('Breakout Systems'!T$3:T$5000,A40,'Breakout Systems'!V$3:V$5000) -> 0 | J40: =IF($D40=0,0,I40/$D40) -> 0 | K40: =SUMIF('Breakout Systems'!$T$3:$T$5000,$A40,'Breakout Systems'!W$3:W$5000) -> 0 | L40: =IF($D40=0,0,K40/$D40) -> 0 | M40: =SUMIF('Breakout Systems'!$T$3:$T$5000,$A40,'Breakout Systems'!X$3:X$5000) -> 0 | N40: =IF($D40=0,0,M40/$D40) -> 0 | O40: =SUMIF('Breakout Systems'!$T$3:$T$5000,$A40,'Breakout Systems'!Y$3:Y$5000) -> 0 | P40: =IF($D40=0,0,O40/$D40) -> 0 | Q40: =SUMIF('Breakout Systems'!$T$3:$T$5000,$A40,'Breakout Systems'!AB$3:AB$5000) -> 0 | R40: =SUMIF('Breakout Systems'!$T$3:$T$5000,$A40,'Breakout Systems'!AD$3:AD$5000) -> 0 | S40: =Q40+R40 -> 0 | T40: =IF(D40=0,0,SUMIF('Breakout Systems'!T$3:T$5000,A40,'Breakout Systems'!AB$3:AB$5000)) -> 0 | U40: =IF(D40=0,0,SUMIF('Breakout Systems'!T$3:T$5000,A40,'Breakout Systems'!AD$3:AD$5000)) -> 0 | V40: =IF(D40=0,0,SUMIF('Breakout Systems'!T$3:T$5000,A40,'Breakout Systems'!O$3:O$5000)) -> 0 | W40: =IF(D40=0,0,T40/E40) -> 0 | X40: =IF(D40=0,0,U40/G40) -> 0 | Y40: =IF(D40=0,0,V40/D40) -> 0 | Z40: =S40+Z39 -> 281581.98 | AA40: =V40/$Z$2 -> 0 | AB40: =MAX(Z$2:Z40) -> 284284.29 | AC40: =(AB40-Z40)/Z40 -> 0.0095968854 | AD40: {=MAX(IF('Breakout Systems'!T$3:T$5000=A40,'Breakout Systems'!AB$3:AB$5000))} -> 0 | AE40: =IF(AD40=0,0,INDEX('Breakout Systems'!AC$3:AC$5000,(MATCH(AD40,'Breakout Systems'!AB$3:AB$5000,0)))) -> 0 | AF40: {=MIN(IF('Breakout Systems'!T$3:T$5000=A40,'Breakout Systems'!AD$3:AD$5000))} -> 0 | AG40: =IF(AF40=0,0,INDEX('Breakout Systems'!AC$3:AC$5000,(MATCH(AF40,'Breakout Systems'!AD$3:AD$5000,0)))) -> 0 | AH40: =COUNTIFS('Breakout Systems'!$D$3:$D$5000,AH$2,'Breakout Systems'!$T$3:$T$5000,$A40) -> 0 | AI40: =COUNTIFS('Breakout Systems'!$D$3:$D$5000,AI$2,'Breakout Systems'!$T$3:$T$5000,$A40) -> 0 | AJ40: =COUNTIFS('Breakout Systems'!$D$3:$D$5000,AJ$2,'Breakout Systems'!$T$3:$T$5000,$A40) -> 0 | AK40: =COUNTIFS('Breakout Systems'!$D$3:$D$5000,AK$2,'Breakout Systems'!$T$3:$T$5000,$A40) -> 0 | AL40: =COUNTIFS('Breakout Systems'!$D$3:$D$5000,AL$2,'Breakout Systems'!$T$3:$T$5000,$A40) -> 0 | AM40: =COUNTIFS('Breakout Systems'!$D$3:$D$5000,AM$2,'Breakout Systems'!$T$3:$T$5000,$A40) -> 0 | AN40: =SUMIFS('Breakout Systems'!$R$3:$R$5000,'Breakout Systems'!$D$3:$D$5000,AN$2,'Breakout Systems'!$T$3:$T$5000,$A40) -> 0 | AO40: =SUMIFS('Breakout Systems'!$R$3:$R$5000,'Breakout Systems'!$D$3:$D$5000,AO$2,'Breakout Systems'!$T$3:$T$5000,$A40) -> 0 | AP40: =SUMIFS('Breakout Systems'!$R$3:$R$5000,'Breakout Systems'!$D$3:$D$5000,AP$2,'Breakout Systems'!$T$3:$T$5000,$A40) -> 0 | AQ40: =SUMIFS('Breakout Systems'!$R$3:$R$5000,'Breakout Systems'!$D$3:$D$5000,AQ$2,'Breakout Systems'!$T$3:$T$5000,$A40) -> 0 | AR40: =SUMIFS('Breakout Systems'!$R$3:$R$5000,'Breakout Systems'!$D$3:$D$5000,AR$2,'Breakout Systems'!$T$3:$T$5000,$A40) -> 0 | AS40: =SUMIFS('Breakout Systems'!$R$3:$R$5000,'Breakout Systems'!$D$3:$D$5000,AS$2,'Breakout Systems'!$T$3:$T$5000,$A40) -> 0 | AT40: =IF(AN40=0,0,AN40/AH40) -> 0 | AU40: =IF(AO40=0,0,AO40/AI40) -> 0 | AV40: =IF(AP40=0,0,AP40/AJ40) -> 0 | AW40: =IF(AQ40=0,0,AQ40/AK40) -> 0 | AX40: =IF(AR40=0,0,AR40/AL40) -> 0 | AY40: =IF(AS40=0,0,AS40/AM40) -> 0 | AZ40: =IF(AH40=0,0,SUM(AN40:AS40)/SUM(AH40:AM40)) -> 0 | BL40: =EOMONTH(BL39,1) -> 43159 | BR40: =EOMONTH(BR39,1) -> 43159 | BS40: =D40 -> 0 | BZ40: =IF(D40=0," ",C40&" "&B40) | CA40: =IF(D40=0," ",Z40) | CB40: =IF(D40=0," ",AC40)
A41: =A40+1 -> 39 | B41: =B40 -> 2018 | C41: Mar | D41: =COUNTIF('Breakout Systems'!T$3:T$5000,A41) -> 0 | E41: =SUMIF('Breakout Systems'!T$3:T$5000,A41,'Breakout Systems'!Z$3:Z$5000) -> 0 | F41: =IF(D41=0,0,E41/D41) -> 0 | G41: =SUMIF('Breakout Systems'!T$3:T$5000,A41,'Breakout Systems'!AA$3:AA$5000) -> 0 | H41: =IF(D41=0,0,G41/D41) -> 0 | I41: =SUMIF('Breakout Systems'!T$3:T$5000,A41,'Breakout Systems'!V$3:V$5000) -> 0 | J41: =IF($D41=0,0,I41/$D41) -> 0 | K41: =SUMIF('Breakout Systems'!$T$3:$T$5000,$A41,'Breakout Systems'!W$3:W$5000) -> 0 | L41: =IF($D41=0,0,K41/$D41) -> 0 | M41: =SUMIF('Breakout Systems'!$T$3:$T$5000,$A41,'Breakout Systems'!X$3:X$5000) -> 0 | N41: =IF($D41=0,0,M41/$D41) -> 0 | O41: =SUMIF('Breakout Systems'!$T$3:$T$5000,$A41,'Breakout Systems'!Y$3:Y$5000) -> 0 | P41: =IF($D41=0,0,O41/$D41) -> 0 | Q41: =SUMIF('Breakout Systems'!$T$3:$T$5000,$A41,'Breakout Systems'!AB$3:AB$5000) -> 0 | R41: =SUMIF('Breakout Systems'!$T$3:$T$5000,$A41,'Breakout Systems'!AD$3:AD$5000) -> 0 | S41: =Q41+R41 -> 0 | T41: =IF(D41=0,0,SUMIF('Breakout Systems'!T$3:T$5000,A41,'Breakout Systems'!AB$3:AB$5000)) -> 0 | U41: =IF(D41=0,0,SUMIF('Breakout Systems'!T$3:T$5000,A41,'Breakout Systems'!AD$3:AD$5000)) -> 0 | V41: =IF(D41=0,0,SUMIF('Breakout Systems'!T$3:T$5000,A41,'Breakout Systems'!O$3:O$5000)) -> 0 | W41: =IF(D41=0,0,T41/E41) -> 0 | X41: =IF(D41=0,0,U41/G41) -> 0 | Y41: =IF(D41=0,0,V41/D41) -> 0 | Z41: =S41+Z40 -> 281581.98 | AA41: =V41/$Z$2 -> 0 | AB41: =MAX(Z$2:Z41) -> 284284.29 | AC41: =(AB41-Z41)/Z41 -> 0.0095968854 | AD41: {=MAX(IF('Breakout Systems'!T$3:T$5000=A41,'Breakout Systems'!AB$3:AB$5000))} -> 0 | AE41: =IF(AD41=0,0,INDEX('Breakout Systems'!AC$3:AC$5000,(MATCH(AD41,'Breakout Systems'!AB$3:AB$5000,0)))) -> 0 | AF41: {=MIN(IF('Breakout Systems'!T$3:T$5000=A41,'Breakout Systems'!AD$3:AD$5000))} -> 0 | AG41: =IF(AF41=0,0,INDEX('Breakout Systems'!AC$3:AC$5000,(MATCH(AF41,'Breakout Systems'!AD$3:AD$5000,0)))) -> 0 | AH41: =COUNTIFS('Breakout Systems'!$D$3:$D$5000,AH$2,'Breakout Systems'!$T$3:$T$5000,$A41) -> 0 | AI41: =COUNTIFS('Breakout Systems'!$D$3:$D$5000,AI$2,'Breakout Systems'!$T$3:$T$5000,$A41) -> 0 | AJ41: =COUNTIFS('Breakout Systems'!$D$3:$D$5000,AJ$2,'Breakout Systems'!$T$3:$T$5000,$A41) -> 0 | AK41: =COUNTIFS('Breakout Systems'!$D$3:$D$5000,AK$2,'Breakout Systems'!$T$3:$T$5000,$A41) -> 0 | AL41: =COUNTIFS('Breakout Systems'!$D$3:$D$5000,AL$2,'Breakout Systems'!$T$3:$T$5000,$A41) -> 0 | AM41: =COUNTIFS('Breakout Systems'!$D$3:$D$5000,AM$2,'Breakout Systems'!$T$3:$T$5000,$A41) -> 0 | AN41: =SUMIFS('Breakout Systems'!$R$3:$R$5000,'Breakout Systems'!$D$3:$D$5000,AN$2,'Breakout Systems'!$T$3:$T$5000,$A41) -> 0 | AO41: =SUMIFS('Breakout Systems'!$R$3:$R$5000,'Breakout Systems'!$D$3:$D$5000,AO$2,'Breakout Systems'!$T$3:$T$5000,$A41) -> 0 | AP41: =SUMIFS('Breakout Systems'!$R$3:$R$5000,'Breakout Systems'!$D$3:$D$5000,AP$2,'Breakout Systems'!$T$3:$T$5000,$A41) -> 0 | AQ41: =SUMIFS('Breakout Systems'!$R$3:$R$5000,'Breakout Systems'!$D$3:$D$5000,AQ$2,'Breakout Systems'!$T$3:$T$5000,$A41) -> 0 | AR41: =SUMIFS('Breakout Systems'!$R$3:$R$5000,'Breakout Systems'!$D$3:$D$5000,AR$2,'Breakout Systems'!$T$3:$T$5000,$A41) -> 0 | AS41: =SUMIFS('Breakout Systems'!$R$3:$R$5000,'Breakout Systems'!$D$3:$D$5000,AS$2,'Breakout Systems'!$T$3:$T$5000,$A41) -> 0 | AT41: =IF(AN41=0,0,AN41/AH41) -> 0 | AU41: =IF(AO41=0,0,AO41/AI41) -> 0 | AV41: =IF(AP41=0,0,AP41/AJ41) -> 0 | AW41: =IF(AQ41=0,0,AQ41/AK41) -> 0 | AX41: =IF(AR41=0,0,AR41/AL41) -> 0 | AY41: =IF(AS41=0,0,AS41/AM41) -> 0 | AZ41: =IF(AH41=0,0,SUM(AN41:AS41)/SUM(AH41:AM41)) -> 0 | BL41: =EOMONTH(BL40,1) -> 43190 | BR41: =EOMONTH(BR40,1) -> 43190 | BS41: =D41 -> 0 | BZ41: =IF(D41=0," ",C41&" "&B41) | CA41: =IF(D41=0," ",Z41) | CB41: =IF(D41=0," ",AC41)
A42: =A41+1 -> 40 | B42: =B41 -> 2018 | C42: Apr | D42: =COUNTIF('Breakout Systems'!T$3:T$5000,A42) -> 0 | E42: =SUMIF('Breakout Systems'!T$3:T$5000,A42,'Breakout Systems'!Z$3:Z$5000) -> 0 | F42: =IF(D42=0,0,E42/D42) -> 0 | G42: =SUMIF('Breakout Systems'!T$3:T$5000,A42,'Breakout Systems'!AA$3:AA$5000) -> 0 | H42: =IF(D42=0,0,G42/D42) -> 0 | I42: =SUMIF('Breakout Systems'!T$3:T$5000,A42,'Breakout Systems'!V$3:V$5000) -> 0 | J42: =IF($D42=0,0,I42/$D42) -> 0 | K42: =SUMIF('Breakout Systems'!$T$3:$T$5000,$A42,'Breakout Systems'!W$3:W$5000) -> 0 | L42: =IF($D42=0,0,K42/$D42) -> 0 | M42: =SUMIF('Breakout Systems'!$T$3:$T$5000,$A42,'Breakout Systems'!X$3:X$5000) -> 0 | N42: =IF($D42=0,0,M42/$D42) -> 0 | O42: =SUMIF('Breakout Systems'!$T$3:$T$5000,$A42,'Breakout Systems'!Y$3:Y$5000) -> 0 | P42: =IF($D42=0,0,O42/$D42) -> 0 | Q42: =SUMIF('Breakout Systems'!$T$3:$T$5000,$A42,'Breakout Systems'!AB$3:AB$5000) -> 0 | R42: =SUMIF('Breakout Systems'!$T$3:$T$5000,$A42,'Breakout Systems'!AD$3:AD$5000) -> 0 | S42: =Q42+R42 -> 0 | T42: =IF(D42=0,0,SUMIF('Breakout Systems'!T$3:T$5000,A42,'Breakout Systems'!AB$3:AB$5000)) -> 0 | U42: =IF(D42=0,0,SUMIF('Breakout Systems'!T$3:T$5000,A42,'Breakout Systems'!AD$3:AD$5000)) -> 0 | V42: =IF(D42=0,0,SUMIF('Breakout Systems'!T$3:T$5000,A42,'Breakout Systems'!O$3:O$5000)) -> 0 | W42: =IF(D42=0,0,T42/E42) -> 0 | X42: =IF(D42=0,0,U42/G42) -> 0 | Y42: =IF(D42=0,0,V42/D42) -> 0 | Z42: =S42+Z41 -> 281581.98 | AA42: =V42/$Z$2 -> 0 | AB42: =MAX(Z$2:Z42) -> 284284.29 | AC42: =(AB42-Z42)/Z42 -> 0.0095968854 | AD42: {=MAX(IF('Breakout Systems'!T$3:T$5000=A42,'Breakout Systems'!AB$3:AB$5000))} -> 0 | AE42: =IF(AD42=0,0,INDEX('Breakout Systems'!AC$3:AC$5000,(MATCH(AD42,'Breakout Systems'!AB$3:AB$5000,0)))) -> 0 | AF42: {=MIN(IF('Breakout Systems'!T$3:T$5000=A42,'Breakout Systems'!AD$3:AD$5000))} -> 0 | AG42: =IF(AF42=0,0,INDEX('Breakout Systems'!AC$3:AC$5000,(MATCH(AF42,'Breakout Systems'!AD$3:AD$5000,0)))) -> 0 | AH42: =COUNTIFS('Breakout Systems'!$D$3:$D$5000,AH$2,'Breakout Systems'!$T$3:$T$5000,$A42) -> 0 | AI42: =COUNTIFS('Breakout Systems'!$D$3:$D$5000,AI$2,'Breakout Systems'!$T$3:$T$5000,$A42) -> 0 | AJ42: =COUNTIFS('Breakout Systems'!$D$3:$D$5000,AJ$2,'Breakout Systems'!$T$3:$T$5000,$A42) -> 0 | AK42: =COUNTIFS('Breakout Systems'!$D$3:$D$5000,AK$2,'Breakout Systems'!$T$3:$T$5000,$A42) -> 0 | AL42: =COUNTIFS('Breakout Systems'!$D$3:$D$5000,AL$2,'Breakout Systems'!$T$3:$T$5000,$A42) -> 0 | AM42: =COUNTIFS('Breakout Systems'!$D$3:$D$5000,AM$2,'Breakout Systems'!$T$3:$T$5000,$A42) -> 0 | AN42: =SUMIFS('Breakout Systems'!$R$3:$R$5000,'Breakout Systems'!$D$3:$D$5000,AN$2,'Breakout Systems'!$T$3:$T$5000,$A42) -> 0 | AO42: =SUMIFS('Breakout Systems'!$R$3:$R$5000,'Breakout Systems'!$D$3:$D$5000,AO$2,'Breakout Systems'!$T$3:$T$5000,$A42) -> 0 | AP42: =SUMIFS('Breakout Systems'!$R$3:$R$5000,'Breakout Systems'!$D$3:$D$5000,AP$2,'Breakout Systems'!$T$3:$T$5000,$A42) -> 0 | AQ42: =SUMIFS('Breakout Systems'!$R$3:$R$5000,'Breakout Systems'!$D$3:$D$5000,AQ$2,'Breakout Systems'!$T$3:$T$5000,$A42) -> 0 | AR42: =SUMIFS('Breakout Systems'!$R$3:$R$5000,'Breakout Systems'!$D$3:$D$5000,AR$2,'Breakout Systems'!$T$3:$T$5000,$A42) -> 0 | AS42: =SUMIFS('Breakout Systems'!$R$3:$R$5000,'Breakout Systems'!$D$3:$D$5000,AS$2,'Breakout Systems'!$T$3:$T$5000,$A42) -> 0 | AT42: =IF(AN42=0,0,AN42/AH42) -> 0 | AU42: =IF(AO42=0,0,AO42/AI42) -> 0 | AV42: =IF(AP42=0,0,AP42/AJ42) -> 0 | AW42: =IF(AQ42=0,0,AQ42/AK42) -> 0 | AX42: =IF(AR42=0,0,AR42/AL42) -> 0 | AY42: =IF(AS42=0,0,AS42/AM42) -> 0 | AZ42: =IF(AH42=0,0,SUM(AN42:AS42)/SUM(AH42:AM42)) -> 0 | BL42: =EOMONTH(BL41,1) -> 43220 | BR42: =EOMONTH(BR41,1) -> 43220 | BS42: =D42 -> 0 | BZ42: =IF(D42=0," ",C42&" "&B42) | CA42: =IF(D42=0," ",Z42) | CB42: =IF(D42=0," ",AC42)
A43: =A42+1 -> 41 | B43: =B42 -> 2018 | C43: May | D43: =COUNTIF('Breakout Systems'!T$3:T$5000,A43) -> 0 | E43: =SUMIF('Breakout Systems'!T$3:T$5000,A43,'Breakout Systems'!Z$3:Z$5000) -> 0 | F43: =IF(D43=0,0,E43/D43) -> 0 | G43: =SUMIF('Breakout Systems'!T$3:T$5000,A43,'Breakout Systems'!AA$3:AA$5000) -> 0 | H43: =IF(D43=0,0,G43/D43) -> 0 | I43: =SUMIF('Breakout Systems'!T$3:T$5000,A43,'Breakout Systems'!V$3:V$5000) -> 0 | J43: =IF($D43=0,0,I43/$D43) -> 0 | K43: =SUMIF('Breakout Systems'!$T$3:$T$5000,$A43,'Breakout Systems'!W$3:W$5000) -> 0 | L43: =IF($D43=0,0,K43/$D43) -> 0 | M43: =SUMIF('Breakout Systems'!$T$3:$T$5000,$A43,'Breakout Systems'!X$3:X$5000) -> 0 | N43: =IF($D43=0,0,M43/$D43) -> 0 | O43: =SUMIF('Breakout Systems'!$T$3:$T$5000,$A43,'Breakout Systems'!Y$3:Y$5000) -> 0 | P43: =IF($D43=0,0,O43/$D43) -> 0 | Q43: =SUMIF('Breakout Systems'!$T$3:$T$5000,$A43,'Breakout Systems'!AB$3:AB$5000) -> 0 | R43: =SUMIF('Breakout Systems'!$T$3:$T$5000,$A43,'Breakout Systems'!AD$3:AD$5000) -> 0 | S43: =Q43+R43 -> 0 | T43: =IF(D43=0,0,SUMIF('Breakout Systems'!T$3:T$5000,A43,'Breakout Systems'!AB$3:AB$5000)) -> 0 | U43: =IF(D43=0,0,SUMIF('Breakout Systems'!T$3:T$5000,A43,'Breakout Systems'!AD$3:AD$5000)) -> 0 | V43: =IF(D43=0,0,SUMIF('Breakout Systems'!T$3:T$5000,A43,'Breakout Systems'!O$3:O$5000)) -> 0 | W43: =IF(D43=0,0,T43/E43) -> 0 | X43: =IF(D43=0,0,U43/G43) -> 0 | Y43: =IF(D43=0,0,V43/D43) -> 0 | Z43: =S43+Z42 -> 281581.98 | AA43: =V43/$Z$2 -> 0 | AB43: =MAX(Z$2:Z43) -> 284284.29 | AC43: =(AB43-Z43)/Z43 -> 0.0095968854 | AD43: {=MAX(IF('Breakout Systems'!T$3:T$5000=A43,'Breakout Systems'!AB$3:AB$5000))} -> 0 | AE43: =IF(AD43=0,0,INDEX('Breakout Systems'!AC$3:AC$5000,(MATCH(AD43,'Breakout Systems'!AB$3:AB$5000,0)))) -> 0 | AF43: {=MIN(IF('Breakout Systems'!T$3:T$5000=A43,'Breakout Systems'!AD$3:AD$5000))} -> 0 | AG43: =IF(AF43=0,0,INDEX('Breakout Systems'!AC$3:AC$5000,(MATCH(AF43,'Breakout Systems'!AD$3:AD$5000,0)))) -> 0 | AH43: =COUNTIFS('Breakout Systems'!$D$3:$D$5000,AH$2,'Breakout Systems'!$T$3:$T$5000,$A43) -> 0 | AI43: =COUNTIFS('Breakout Systems'!$D$3:$D$5000,AI$2,'Breakout Systems'!$T$3:$T$5000,$A43) -> 0 | AJ43: =COUNTIFS('Breakout Systems'!$D$3:$D$5000,AJ$2,'Breakout Systems'!$T$3:$T$5000,$A43) -> 0 | AK43: =COUNTIFS('Breakout Systems'!$D$3:$D$5000,AK$2,'Breakout Systems'!$T$3:$T$5000,$A43) -> 0 | AL43: =COUNTIFS('Breakout Systems'!$D$3:$D$5000,AL$2,'Breakout Systems'!$T$3:$T$5000,$A43) -> 0 | AM43: =COUNTIFS('Breakout Systems'!$D$3:$D$5000,AM$2,'Breakout Systems'!$T$3:$T$5000,$A43) -> 0 | AN43: =SUMIFS('Breakout Systems'!$R$3:$R$5000,'Breakout Systems'!$D$3:$D$5000,AN$2,'Breakout Systems'!$T$3:$T$5000,$A43) -> 0 | AO43: =SUMIFS('Breakout Systems'!$R$3:$R$5000,'Breakout Systems'!$D$3:$D$5000,AO$2,'Breakout Systems'!$T$3:$T$5000,$A43) -> 0 | AP43: =SUMIFS('Breakout Systems'!$R$3:$R$5000,'Breakout Systems'!$D$3:$D$5000,AP$2,'Breakout Systems'!$T$3:$T$5000,$A43) -> 0 | AQ43: =SUMIFS('Breakout Systems'!$R$3:$R$5000,'Breakout Systems'!$D$3:$D$5000,AQ$2,'Breakout Systems'!$T$3:$T$5000,$A43) -> 0 | AR43: =SUMIFS('Breakout Systems'!$R$3:$R$5000,'Breakout Systems'!$D$3:$D$5000,AR$2,'Breakout Systems'!$T$3:$T$5000,$A43) -> 0 | AS43: =SUMIFS('Breakout Systems'!$R$3:$R$5000,'Breakout Systems'!$D$3:$D$5000,AS$2,'Breakout Systems'!$T$3:$T$5000,$A43) -> 0 | AT43: =IF(AN43=0,0,AN43/AH43) -> 0 | AU43: =IF(AO43=0,0,AO43/AI43) -> 0 | AV43: =IF(AP43=0,0,AP43/AJ43) -> 0 | AW43: =IF(AQ43=0,0,AQ43/AK43) -> 0 | AX43: =IF(AR43=0,0,AR43/AL43) -> 0 | AY43: =IF(AS43=0,0,AS43/AM43) -> 0 | AZ43: =IF(AH43=0,0,SUM(AN43:AS43)/SUM(AH43:AM43)) -> 0 | BL43: =EOMONTH(BL42,1) -> 43251 | BR43: =EOMONTH(BR42,1) -> 43251 | BS43: =D43 -> 0 | BZ43: =IF(D43=0," ",C43&" "&B43) | CA43: =IF(D43=0," ",Z43) | CB43: =IF(D43=0," ",AC43)
A44: =A43+1 -> 42 | B44: =B43 -> 2018 | C44: Jun | D44: =COUNTIF('Breakout Systems'!T$3:T$5000,A44) -> 0 | E44: =SUMIF('Breakout Systems'!T$3:T$5000,A44,'Breakout Systems'!Z$3:Z$5000) -> 0 | F44: =IF(D44=0,0,E44/D44) -> 0 | G44: =SUMIF('Breakout Systems'!T$3:T$5000,A44,'Breakout Systems'!AA$3:AA$5000) -> 0 | H44: =IF(D44=0,0,G44/D44) -> 0 | I44: =SUMIF('Breakout Systems'!T$3:T$5000,A44,'Breakout Systems'!V$3:V$5000) -> 0 | J44: =IF($D44=0,0,I44/$D44) -> 0 | K44: =SUMIF('Breakout Systems'!$T$3:$T$5000,$A44,'Breakout Systems'!W$3:W$5000) -> 0 | L44: =IF($D44=0,0,K44/$D44) -> 0 | M44: =SUMIF('Breakout Systems'!$T$3:$T$5000,$A44,'Breakout Systems'!X$3:X$5000) -> 0 | N44: =IF($D44=0,0,M44/$D44) -> 0 | O44: =SUMIF('Breakout Systems'!$T$3:$T$5000,$A44,'Breakout Systems'!Y$3:Y$5000) -> 0 | P44: =IF($D44=0,0,O44/$D44) -> 0 | Q44: =SUMIF('Breakout Systems'!$T$3:$T$5000,$A44,'Breakout Systems'!AB$3:AB$5000) -> 0 | R44: =SUMIF('Breakout Systems'!$T$3:$T$5000,$A44,'Breakout Systems'!AD$3:AD$5000) -> 0 | S44: =Q44+R44 -> 0 | T44: =IF(D44=0,0,SUMIF('Breakout Systems'!T$3:T$5000,A44,'Breakout Systems'!AB$3:AB$5000)) -> 0 | U44: =IF(D44=0,0,SUMIF('Breakout Systems'!T$3:T$5000,A44,'Breakout Systems'!AD$3:AD$5000)) -> 0 | V44: =IF(D44=0,0,SUMIF('Breakout Systems'!T$3:T$5000,A44,'Breakout Systems'!O$3:O$5000)) -> 0 | W44: =IF(D44=0,0,T44/E44) -> 0 | X44: =IF(D44=0,0,U44/G44) -> 0 | Y44: =IF(D44=0,0,V44/D44) -> 0 | Z44: =S44+Z43 -> 281581.98 | AA44: =V44/$Z$2 -> 0 | AB44: =MAX(Z$2:Z44) -> 284284.29 | AC44: =(AB44-Z44)/Z44 -> 0.0095968854 | AD44: {=MAX(IF('Breakout Systems'!T$3:T$5000=A44,'Breakout Systems'!AB$3:AB$5000))} -> 0 | AE44: =IF(AD44=0,0,INDEX('Breakout Systems'!AC$3:AC$5000,(MATCH(AD44,'Breakout Systems'!AB$3:AB$5000,0)))) -> 0 | AF44: {=MIN(IF('Breakout Systems'!T$3:T$5000=A44,'Breakout Systems'!AD$3:AD$5000))} -> 0 | AG44: =IF(AF44=0,0,INDEX('Breakout Systems'!AC$3:AC$5000,(MATCH(AF44,'Breakout Systems'!AD$3:AD$5000,0)))) -> 0 | AH44: =COUNTIFS('Breakout Systems'!$D$3:$D$5000,AH$2,'Breakout Systems'!$T$3:$T$5000,$A44) -> 0 | AI44: =COUNTIFS('Breakout Systems'!$D$3:$D$5000,AI$2,'Breakout Systems'!$T$3:$T$5000,$A44) -> 0 | AJ44: =COUNTIFS('Breakout Systems'!$D$3:$D$5000,AJ$2,'Breakout Systems'!$T$3:$T$5000,$A44) -> 0 | AK44: =COUNTIFS('Breakout Systems'!$D$3:$D$5000,AK$2,'Breakout Systems'!$T$3:$T$5000,$A44) -> 0 | AL44: =COUNTIFS('Breakout Systems'!$D$3:$D$5000,AL$2,'Breakout Systems'!$T$3:$T$5000,$A44) -> 0 | AM44: =COUNTIFS('Breakout Systems'!$D$3:$D$5000,AM$2,'Breakout Systems'!$T$3:$T$5000,$A44) -> 0 | AN44: =SUMIFS('Breakout Systems'!$R$3:$R$5000,'Breakout Systems'!$D$3:$D$5000,AN$2,'Breakout Systems'!$T$3:$T$5000,$A44) -> 0 | AO44: =SUMIFS('Breakout Systems'!$R$3:$R$5000,'Breakout Systems'!$D$3:$D$5000,AO$2,'Breakout Systems'!$T$3:$T$5000,$A44) -> 0 | AP44: =SUMIFS('Breakout Systems'!$R$3:$R$5000,'Breakout Systems'!$D$3:$D$5000,AP$2,'Breakout Systems'!$T$3:$T$5000,$A44) -> 0 | AQ44: =SUMIFS('Breakout Systems'!$R$3:$R$5000,'Breakout Systems'!$D$3:$D$5000,AQ$2,'Breakout Systems'!$T$3:$T$5000,$A44) -> 0 | AR44: =SUMIFS('Breakout Systems'!$R$3:$R$5000,'Breakout Systems'!$D$3:$D$5000,AR$2,'Breakout Systems'!$T$3:$T$5000,$A44) -> 0 | AS44: =SUMIFS('Breakout Systems'!$R$3:$R$5000,'Breakout Systems'!$D$3:$D$5000,AS$2,'Breakout Systems'!$T$3:$T$5000,$A44) -> 0 | AT44: =IF(AN44=0,0,AN44/AH44) -> 0 | AU44: =IF(AO44=0,0,AO44/AI44) -> 0 | AV44: =IF(AP44=0,0,AP44/AJ44) -> 0 | AW44: =IF(AQ44=0,0,AQ44/AK44) -> 0 | AX44: =IF(AR44=0,0,AR44/AL44) -> 0 | AY44: =IF(AS44=0,0,AS44/AM44) -> 0 | AZ44: =IF(AH44=0,0,SUM(AN44:AS44)/SUM(AH44:AM44)) -> 0 | BL44: =EOMONTH(BL43,1) -> 43281 | BR44: =EOMONTH(BR43,1) -> 43281 | BS44: =D44 -> 0 | BZ44: =IF(D44=0," ",C44&" "&B44) | CA44: =IF(D44=0," ",Z44) | CB44: =IF(D44=0," ",AC44)
A45: =A44+1 -> 43 | B45: =B44 -> 2018 | C45: Jul | D45: =COUNTIF('Breakout Systems'!T$3:T$5000,A45) -> 0 | E45: =SUMIF('Breakout Systems'!T$3:T$5000,A45,'Breakout Systems'!Z$3:Z$5000) -> 0 | F45: =IF(D45=0,0,E45/D45) -> 0 | G45: =SUMIF('Breakout Systems'!T$3:T$5000,A45,'Breakout Systems'!AA$3:AA$5000) -> 0 | H45: =IF(D45=0,0,G45/D45) -> 0 | I45: =SUMIF('Breakout Systems'!T$3:T$5000,A45,'Breakout Systems'!V$3:V$5000) -> 0 | J45: =IF($D45=0,0,I45/$D45) -> 0 | K45: =SUMIF('Breakout Systems'!$T$3:$T$5000,$A45,'Breakout Systems'!W$3:W$5000) -> 0 | L45: =IF($D45=0,0,K45/$D45) -> 0 | M45: =SUMIF('Breakout Systems'!$T$3:$T$5000,$A45,'Breakout Systems'!X$3:X$5000) -> 0 | N45: =IF($D45=0,0,M45/$D45) -> 0 | O45: =SUMIF('Breakout Systems'!$T$3:$T$5000,$A45,'Breakout Systems'!Y$3:Y$5000) -> 0 | P45: =IF($D45=0,0,O45/$D45) -> 0 | Q45: =SUMIF('Breakout Systems'!$T$3:$T$5000,$A45,'Breakout Systems'!AB$3:AB$5000) -> 0 | R45: =SUMIF('Breakout Systems'!$T$3:$T$5000,$A45,'Breakout Systems'!AD$3:AD$5000) -> 0 | S45: =Q45+R45 -> 0 | T45: =IF(D45=0,0,SUMIF('Breakout Systems'!T$3:T$5000,A45,'Breakout Systems'!AB$3:AB$5000)) -> 0 | U45: =IF(D45=0,0,SUMIF('Breakout Systems'!T$3:T$5000,A45,'Breakout Systems'!AD$3:AD$5000)) -> 0 | V45: =IF(D45=0,0,SUMIF('Breakout Systems'!T$3:T$5000,A45,'Breakout Systems'!O$3:O$5000)) -> 0 | W45: =IF(D45=0,0,T45/E45) -> 0 | X45: =IF(D45=0,0,U45/G45) -> 0 | Y45: =IF(D45=0,0,V45/D45) -> 0 | Z45: =S45+Z44 -> 281581.98 | AA45: =V45/$Z$2 -> 0 | AB45: =MAX(Z$2:Z45) -> 284284.29 | AC45: =(AB45-Z45)/Z45 -> 0.0095968854 | AD45: {=MAX(IF('Breakout Systems'!T$3:T$5000=A45,'Breakout Systems'!AB$3:AB$5000))} -> 0 | AE45: =IF(AD45=0,0,INDEX('Breakout Systems'!AC$3:AC$5000,(MATCH(AD45,'Breakout Systems'!AB$3:AB$5000,0)))) -> 0 | AF45: {=MIN(IF('Breakout Systems'!T$3:T$5000=A45,'Breakout Systems'!AD$3:AD$5000))} -> 0 | AG45: =IF(AF45=0,0,INDEX('Breakout Systems'!AC$3:AC$5000,(MATCH(AF45,'Breakout Systems'!AD$3:AD$5000,0)))) -> 0 | AH45: =COUNTIFS('Breakout Systems'!$D$3:$D$5000,AH$2,'Breakout Systems'!$T$3:$T$5000,$A45) -> 0 | AI45: =COUNTIFS('Breakout Systems'!$D$3:$D$5000,AI$2,'Breakout Systems'!$T$3:$T$5000,$A45) -> 0 | AJ45: =COUNTIFS('Breakout Systems'!$D$3:$D$5000,AJ$2,'Breakout Systems'!$T$3:$T$5000,$A45) -> 0 | AK45: =COUNTIFS('Breakout Systems'!$D$3:$D$5000,AK$2,'Breakout Systems'!$T$3:$T$5000,$A45) -> 0 | AL45: =COUNTIFS('Breakout Systems'!$D$3:$D$5000,AL$2,'Breakout Systems'!$T$3:$T$5000,$A45) -> 0 | AM45: =COUNTIFS('Breakout Systems'!$D$3:$D$5000,AM$2,'Breakout Systems'!$T$3:$T$5000,$A45) -> 0 | AN45: =SUMIFS('Breakout Systems'!$R$3:$R$5000,'Breakout Systems'!$D$3:$D$5000,AN$2,'Breakout Systems'!$T$3:$T$5000,$A45) -> 0 | AO45: =SUMIFS('Breakout Systems'!$R$3:$R$5000,'Breakout Systems'!$D$3:$D$5000,AO$2,'Breakout Systems'!$T$3:$T$5000,$A45) -> 0 | AP45: =SUMIFS('Breakout Systems'!$R$3:$R$5000,'Breakout Systems'!$D$3:$D$5000,AP$2,'Breakout Systems'!$T$3:$T$5000,$A45) -> 0 | AQ45: =SUMIFS('Breakout Systems'!$R$3:$R$5000,'Breakout Systems'!$D$3:$D$5000,AQ$2,'Breakout Systems'!$T$3:$T$5000,$A45) -> 0 | AR45: =SUMIFS('Breakout Systems'!$R$3:$R$5000,'Breakout Systems'!$D$3:$D$5000,AR$2,'Breakout Systems'!$T$3:$T$5000,$A45) -> 0 | AS45: =SUMIFS('Breakout Systems'!$R$3:$R$5000,'Breakout Systems'!$D$3:$D$5000,AS$2,'Breakout Systems'!$T$3:$T$5000,$A45) -> 0 | AT45: =IF(AN45=0,0,AN45/AH45) -> 0 | AU45: =IF(AO45=0,0,AO45/AI45) -> 0 | AV45: =IF(AP45=0,0,AP45/AJ45) -> 0 | AW45: =IF(AQ45=0,0,AQ45/AK45) -> 0 | AX45: =IF(AR45=0,0,AR45/AL45) -> 0 | AY45: =IF(AS45=0,0,AS45/AM45) -> 0 | AZ45: =IF(AH45=0,0,SUM(AN45:AS45)/SUM(AH45:AM45)) -> 0 | BL45: =EOMONTH(BL44,1) -> 43312 | BR45: =EOMONTH(BR44,1) -> 43312 | BS45: =D45 -> 0 | BZ45: =IF(D45=0," ",C45&" "&B45) | CA45: =IF(D45=0," ",Z45) | CB45: =IF(D45=0," ",AC45)
A46: =A45+1 -> 44 | B46: =B45 -> 2018 | C46: Aug | D46: =COUNTIF('Breakout Systems'!T$3:T$5000,A46) -> 0 | E46: =SUMIF('Breakout Systems'!T$3:T$5000,A46,'Breakout Systems'!Z$3:Z$5000) -> 0 | F46: =IF(D46=0,0,E46/D46) -> 0 | G46: =SUMIF('Breakout Systems'!T$3:T$5000,A46,'Breakout Systems'!AA$3:AA$5000) -> 0 | H46: =IF(D46=0,0,G46/D46) -> 0 | I46: =SUMIF('Breakout Systems'!T$3:T$5000,A46,'Breakout Systems'!V$3:V$5000) -> 0 | J46: =IF($D46=0,0,I46/$D46) -> 0 | K46: =SUMIF('Breakout Systems'!$T$3:$T$5000,$A46,'Breakout Systems'!W$3:W$5000) -> 0 | L46: =IF($D46=0,0,K46/$D46) -> 0 | M46: =SUMIF('Breakout Systems'!$T$3:$T$5000,$A46,'Breakout Systems'!X$3:X$5000) -> 0 | N46: =IF($D46=0,0,M46/$D46) -> 0 | O46: =SUMIF('Breakout Systems'!$T$3:$T$5000,$A46,'Breakout Systems'!Y$3:Y$5000) -> 0 | P46: =IF($D46=0,0,O46/$D46) -> 0 | Q46: =SUMIF('Breakout Systems'!$T$3:$T$5000,$A46,'Breakout Systems'!AB$3:AB$5000) -> 0 | R46: =SUMIF('Breakout Systems'!$T$3:$T$5000,$A46,'Breakout Systems'!AD$3:AD$5000) -> 0 | S46: =Q46+R46 -> 0 | T46: =IF(D46=0,0,SUMIF('Breakout Systems'!T$3:T$5000,A46,'Breakout Systems'!AB$3:AB$5000)) -> 0 | U46: =IF(D46=0,0,SUMIF('Breakout Systems'!T$3:T$5000,A46,'Breakout Systems'!AD$3:AD$5000)) -> 0 | V46: =IF(D46=0,0,SUMIF('Breakout Systems'!T$3:T$5000,A46,'Breakout Systems'!O$3:O$5000)) -> 0 | W46: =IF(D46=0,0,T46/E46) -> 0 | X46: =IF(D46=0,0,U46/G46) -> 0 | Y46: =IF(D46=0,0,V46/D46) -> 0 | Z46: =S46+Z45 -> 281581.98 | AA46: =V46/$Z$2 -> 0 | AB46: =MAX(Z$2:Z46) -> 284284.29 | AC46: =(AB46-Z46)/Z46 -> 0.0095968854 | AD46: {=MAX(IF('Breakout Systems'!T$3:T$5000=A46,'Breakout Systems'!AB$3:AB$5000))} -> 0 | AE46: =IF(AD46=0,0,INDEX('Breakout Systems'!AC$3:AC$5000,(MATCH(AD46,'Breakout Systems'!AB$3:AB$5000,0)))) -> 0 | AF46: {=MIN(IF('Breakout Systems'!T$3:T$5000=A46,'Breakout Systems'!AD$3:AD$5000))} -> 0 | AG46: =IF(AF46=0,0,INDEX('Breakout Systems'!AC$3:AC$5000,(MATCH(AF46,'Breakout Systems'!AD$3:AD$5000,0)))) -> 0 | AH46: =COUNTIFS('Breakout Systems'!$D$3:$D$5000,AH$2,'Breakout Systems'!$T$3:$T$5000,$A46) -> 0 | AI46: =COUNTIFS('Breakout Systems'!$D$3:$D$5000,AI$2,'Breakout Systems'!$T$3:$T$5000,$A46) -> 0 | AJ46: =COUNTIFS('Breakout Systems'!$D$3:$D$5000,AJ$2,'Breakout Systems'!$T$3:$T$5000,$A46) -> 0 | AK46: =COUNTIFS('Breakout Systems'!$D$3:$D$5000,AK$2,'Breakout Systems'!$T$3:$T$5000,$A46) -> 0 | AL46: =COUNTIFS('Breakout Systems'!$D$3:$D$5000,AL$2,'Breakout Systems'!$T$3:$T$5000,$A46) -> 0 | AM46: =COUNTIFS('Breakout Systems'!$D$3:$D$5000,AM$2,'Breakout Systems'!$T$3:$T$5000,$A46) -> 0 | AN46: =SUMIFS('Breakout Systems'!$R$3:$R$5000,'Breakout Systems'!$D$3:$D$5000,AN$2,'Breakout Systems'!$T$3:$T$5000,$A46) -> 0 | AO46: =SUMIFS('Breakout Systems'!$R$3:$R$5000,'Breakout Systems'!$D$3:$D$5000,AO$2,'Breakout Systems'!$T$3:$T$5000,$A46) -> 0 | AP46: =SUMIFS('Breakout Systems'!$R$3:$R$5000,'Breakout Systems'!$D$3:$D$5000,AP$2,'Breakout Systems'!$T$3:$T$5000,$A46) -> 0 | AQ46: =SUMIFS('Breakout Systems'!$R$3:$R$5000,'Breakout Systems'!$D$3:$D$5000,AQ$2,'Breakout Systems'!$T$3:$T$5000,$A46) -> 0 | AR46: =SUMIFS('Breakout Systems'!$R$3:$R$5000,'Breakout Systems'!$D$3:$D$5000,AR$2,'Breakout Systems'!$T$3:$T$5000,$A46) -> 0 | AS46: =SUMIFS('Breakout Systems'!$R$3:$R$5000,'Breakout Systems'!$D$3:$D$5000,AS$2,'Breakout Systems'!$T$3:$T$5000,$A46) -> 0 | AT46: =IF(AN46=0,0,AN46/AH46) -> 0 | AU46: =IF(AO46=0,0,AO46/AI46) -> 0 | AV46: =IF(AP46=0,0,AP46/AJ46) -> 0 | AW46: =IF(AQ46=0,0,AQ46/AK46) -> 0 | AX46: =IF(AR46=0,0,AR46/AL46) -> 0 | AY46: =IF(AS46=0,0,AS46/AM46) -> 0 | AZ46: =IF(AH46=0,0,SUM(AN46:AS46)/SUM(AH46:AM46)) -> 0 | BL46: =EOMONTH(BL45,1) -> 43343 | BR46: =EOMONTH(BR45,1) -> 43343 | BS46: =D46 -> 0 | BZ46: =IF(D46=0," ",C46&" "&B46) | CA46: =IF(D46=0," ",Z46) | CB46: =IF(D46=0," ",AC46)
A47: =A46+1 -> 45 | B47: =B46 -> 2018 | C47: Sep | D47: =COUNTIF('Breakout Systems'!T$3:T$5000,A47) -> 0 | E47: =SUMIF('Breakout Systems'!T$3:T$5000,A47,'Breakout Systems'!Z$3:Z$5000) -> 0 | F47: =IF(D47=0,0,E47/D47) -> 0 | G47: =SUMIF('Breakout Systems'!T$3:T$5000,A47,'Breakout Systems'!AA$3:AA$5000) -> 0 | H47: =IF(D47=0,0,G47/D47) -> 0 | I47: =SUMIF('Breakout Systems'!T$3:T$5000,A47,'Breakout Systems'!V$3:V$5000) -> 0 | J47: =IF($D47=0,0,I47/$D47) -> 0 | K47: =SUMIF('Breakout Systems'!$T$3:$T$5000,$A47,'Breakout Systems'!W$3:W$5000) -> 0 | L47: =IF($D47=0,0,K47/$D47) -> 0 | M47: =SUMIF('Breakout Systems'!$T$3:$T$5000,$A47,'Breakout Systems'!X$3:X$5000) -> 0 | N47: =IF($D47=0,0,M47/$D47) -> 0 | O47: =SUMIF('Breakout Systems'!$T$3:$T$5000,$A47,'Breakout Systems'!Y$3:Y$5000) -> 0 | P47: =IF($D47=0,0,O47/$D47) -> 0 | Q47: =SUMIF('Breakout Systems'!$T$3:$T$5000,$A47,'Breakout Systems'!AB$3:AB$5000) -> 0 | R47: =SUMIF('Breakout Systems'!$T$3:$T$5000,$A47,'Breakout Systems'!AD$3:AD$5000) -> 0 | S47: =Q47+R47 -> 0 | T47: =IF(D47=0,0,SUMIF('Breakout Systems'!T$3:T$5000,A47,'Breakout Systems'!AB$3:AB$5000)) -> 0 | U47: =IF(D47=0,0,SUMIF('Breakout Systems'!T$3:T$5000,A47,'Breakout Systems'!AD$3:AD$5000)) -> 0 | V47: =IF(D47=0,0,SUMIF('Breakout Systems'!T$3:T$5000,A47,'Breakout Systems'!O$3:O$5000)) -> 0 | W47: =IF(D47=0,0,T47/E47) -> 0 | X47: =IF(D47=0,0,U47/G47) -> 0 | Y47: =IF(D47=0,0,V47/D47) -> 0 | Z47: =S47+Z46 -> 281581.98 | AA47: =V47/$Z$2 -> 0 | AB47: =MAX(Z$2:Z47) -> 284284.29 | AC47: =(AB47-Z47)/Z47 -> 0.0095968854 | AD47: {=MAX(IF('Breakout Systems'!T$3:T$5000=A47,'Breakout Systems'!AB$3:AB$5000))} -> 0 | AE47: =IF(AD47=0,0,INDEX('Breakout Systems'!AC$3:AC$5000,(MATCH(AD47,'Breakout Systems'!AB$3:AB$5000,0)))) -> 0 | AF47: {=MIN(IF('Breakout Systems'!T$3:T$5000=A47,'Breakout Systems'!AD$3:AD$5000))} -> 0 | AG47: =IF(AF47=0,0,INDEX('Breakout Systems'!AC$3:AC$5000,(MATCH(AF47,'Breakout Systems'!AD$3:AD$5000,0)))) -> 0 | AH47: =COUNTIFS('Breakout Systems'!$D$3:$D$5000,AH$2,'Breakout Systems'!$T$3:$T$5000,$A47) -> 0 | AI47: =COUNTIFS('Breakout Systems'!$D$3:$D$5000,AI$2,'Breakout Systems'!$T$3:$T$5000,$A47) -> 0 | AJ47: =COUNTIFS('Breakout Systems'!$D$3:$D$5000,AJ$2,'Breakout Systems'!$T$3:$T$5000,$A47) -> 0 | AK47: =COUNTIFS('Breakout Systems'!$D$3:$D$5000,AK$2,'Breakout Systems'!$T$3:$T$5000,$A47) -> 0 | AL47: =COUNTIFS('Breakout Systems'!$D$3:$D$5000,AL$2,'Breakout Systems'!$T$3:$T$5000,$A47) -> 0 | AM47: =COUNTIFS('Breakout Systems'!$D$3:$D$5000,AM$2,'Breakout Systems'!$T$3:$T$5000,$A47) -> 0 | AN47: =SUMIFS('Breakout Systems'!$R$3:$R$5000,'Breakout Systems'!$D$3:$D$5000,AN$2,'Breakout Systems'!$T$3:$T$5000,$A47) -> 0 | AO47: =SUMIFS('Breakout Systems'!$R$3:$R$5000,'Breakout Systems'!$D$3:$D$5000,AO$2,'Breakout Systems'!$T$3:$T$5000,$A47) -> 0 | AP47: =SUMIFS('Breakout Systems'!$R$3:$R$5000,'Breakout Systems'!$D$3:$D$5000,AP$2,'Breakout Systems'!$T$3:$T$5000,$A47) -> 0 | AQ47: =SUMIFS('Breakout Systems'!$R$3:$R$5000,'Breakout Systems'!$D$3:$D$5000,AQ$2,'Breakout Systems'!$T$3:$T$5000,$A47) -> 0 | AR47: =SUMIFS('Breakout Systems'!$R$3:$R$5000,'Breakout Systems'!$D$3:$D$5000,AR$2,'Breakout Systems'!$T$3:$T$5000,$A47) -> 0 | AS47: =SUMIFS('Breakout Systems'!$R$3:$R$5000,'Breakout Systems'!$D$3:$D$5000,AS$2,'Breakout Systems'!$T$3:$T$5000,$A47) -> 0 | AT47: =IF(AN47=0,0,AN47/AH47) -> 0 | AU47: =IF(AO47=0,0,AO47/AI47) -> 0 | AV47: =IF(AP47=0,0,AP47/AJ47) -> 0 | AW47: =IF(AQ47=0,0,AQ47/AK47) -> 0 | AX47: =IF(AR47=0,0,AR47/AL47) -> 0 | AY47: =IF(AS47=0,0,AS47/AM47) -> 0 | AZ47: =IF(AH47=0,0,SUM(AN47:AS47)/SUM(AH47:AM47)) -> 0 | BL47: =EOMONTH(BL46,1) -> 43373 | BR47: =EOMONTH(BR46,1) -> 43373 | BS47: =D47 -> 0 | BZ47: =IF(D47=0," ",C47&" "&B47) | CA47: =IF(D47=0," ",Z47) | CB47: =IF(D47=0," ",AC47)
A48: =A47+1 -> 46 | B48: =B47 -> 2018 | C48: Oct | D48: =COUNTIF('Breakout Systems'!T$3:T$5000,A48) -> 0 | E48: =SUMIF('Breakout Systems'!T$3:T$5000,A48,'Breakout Systems'!Z$3:Z$5000) -> 0 | F48: =IF(D48=0,0,E48/D48) -> 0 | G48: =SUMIF('Breakout Systems'!T$3:T$5000,A48,'Breakout Systems'!AA$3:AA$5000) -> 0 | H48: =IF(D48=0,0,G48/D48) -> 0 | I48: =SUMIF('Breakout Systems'!T$3:T$5000,A48,'Breakout Systems'!V$3:V$5000) -> 0 | J48: =IF($D48=0,0,I48/$D48) -> 0 | K48: =SUMIF('Breakout Systems'!$T$3:$T$5000,$A48,'Breakout Systems'!W$3:W$5000) -> 0 | L48: =IF($D48=0,0,K48/$D48) -> 0 | M48: =SUMIF('Breakout Systems'!$T$3:$T$5000,$A48,'Breakout Systems'!X$3:X$5000) -> 0 | N48: =IF($D48=0,0,M48/$D48) -> 0 | O48: =SUMIF('Breakout Systems'!$T$3:$T$5000,$A48,'Breakout Systems'!Y$3:Y$5000) -> 0 | P48: =IF($D48=0,0,O48/$D48) -> 0 | Q48: =SUMIF('Breakout Systems'!$T$3:$T$5000,$A48,'Breakout Systems'!AB$3:AB$5000) -> 0 | R48: =SUMIF('Breakout Systems'!$T$3:$T$5000,$A48,'Breakout Systems'!AD$3:AD$5000) -> 0 | S48: =Q48+R48 -> 0 | T48: =IF(D48=0,0,SUMIF('Breakout Systems'!T$3:T$5000,A48,'Breakout Systems'!AB$3:AB$5000)) -> 0 | U48: =IF(D48=0,0,SUMIF('Breakout Systems'!T$3:T$5000,A48,'Breakout Systems'!AD$3:AD$5000)) -> 0 | V48: =IF(D48=0,0,SUMIF('Breakout Systems'!T$3:T$5000,A48,'Breakout Systems'!O$3:O$5000)) -> 0 | W48: =IF(D48=0,0,T48/E48) -> 0 | X48: =IF(D48=0,0,U48/G48) -> 0 | Y48: =IF(D48=0,0,V48/D48) -> 0 | Z48: =S48+Z47 -> 281581.98 | AA48: =V48/$Z$2 -> 0 | AB48: =MAX(Z$2:Z48) -> 284284.29 | AC48: =(AB48-Z48)/Z48 -> 0.0095968854 | AD48: {=MAX(IF('Breakout Systems'!T$3:T$5000=A48,'Breakout Systems'!AB$3:AB$5000))} -> 0 | AE48: =IF(AD48=0,0,INDEX('Breakout Systems'!AC$3:AC$5000,(MATCH(AD48,'Breakout Systems'!AB$3:AB$5000,0)))) -> 0 | AF48: {=MIN(IF('Breakout Systems'!T$3:T$5000=A48,'Breakout Systems'!AD$3:AD$5000))} -> 0 | AG48: =IF(AF48=0,0,INDEX('Breakout Systems'!AC$3:AC$5000,(MATCH(AF48,'Breakout Systems'!AD$3:AD$5000,0)))) -> 0 | AH48: =COUNTIFS('Breakout Systems'!$D$3:$D$5000,AH$2,'Breakout Systems'!$T$3:$T$5000,$A48) -> 0 | AI48: =COUNTIFS('Breakout Systems'!$D$3:$D$5000,AI$2,'Breakout Systems'!$T$3:$T$5000,$A48) -> 0 | AJ48: =COUNTIFS('Breakout Systems'!$D$3:$D$5000,AJ$2,'Breakout Systems'!$T$3:$T$5000,$A48) -> 0 | AK48: =COUNTIFS('Breakout Systems'!$D$3:$D$5000,AK$2,'Breakout Systems'!$T$3:$T$5000,$A48) -> 0 | AL48: =COUNTIFS('Breakout Systems'!$D$3:$D$5000,AL$2,'Breakout Systems'!$T$3:$T$5000,$A48) -> 0 | AM48: =COUNTIFS('Breakout Systems'!$D$3:$D$5000,AM$2,'Breakout Systems'!$T$3:$T$5000,$A48) -> 0 | AN48: =SUMIFS('Breakout Systems'!$R$3:$R$5000,'Breakout Systems'!$D$3:$D$5000,AN$2,'Breakout Systems'!$T$3:$T$5000,$A48) -> 0 | AO48: =SUMIFS('Breakout Systems'!$R$3:$R$5000,'Breakout Systems'!$D$3:$D$5000,AO$2,'Breakout Systems'!$T$3:$T$5000,$A48) -> 0 | AP48: =SUMIFS('Breakout Systems'!$R$3:$R$5000,'Breakout Systems'!$D$3:$D$5000,AP$2,'Breakout Systems'!$T$3:$T$5000,$A48) -> 0 | AQ48: =SUMIFS('Breakout Systems'!$R$3:$R$5000,'Breakout Systems'!$D$3:$D$5000,AQ$2,'Breakout Systems'!$T$3:$T$5000,$A48) -> 0 | AR48: =SUMIFS('Breakout Systems'!$R$3:$R$5000,'Breakout Systems'!$D$3:$D$5000,AR$2,'Breakout Systems'!$T$3:$T$5000,$A48) -> 0 | AS48: =SUMIFS('Breakout Systems'!$R$3:$R$5000,'Breakout Systems'!$D$3:$D$5000,AS$2,'Breakout Systems'!$T$3:$T$5000,$A48) -> 0 | AT48: =IF(AN48=0,0,AN48/AH48) -> 0 | AU48: =IF(AO48=0,0,AO48/AI48) -> 0 | AV48: =IF(AP48=0,0,AP48/AJ48) -> 0 | AW48: =IF(AQ48=0,0,AQ48/AK48) -> 0 | AX48: =IF(AR48=0,0,AR48/AL48) -> 0 | AY48: =IF(AS48=0,0,AS48/AM48) -> 0 | AZ48: =IF(AH48=0,0,SUM(AN48:AS48)/SUM(AH48:AM48)) -> 0 | BL48: =EOMONTH(BL47,1) -> 43404 | BR48: =EOMONTH(BR47,1) -> 43404 | BS48: =D48 -> 0 | BZ48: =IF(D48=0," ",C48&" "&B48) | CA48: =IF(D48=0," ",Z48) | CB48: =IF(D48=0," ",AC48)
A49: =A48+1 -> 47 | B49: =B48 -> 2018 | C49: Nov | D49: =COUNTIF('Breakout Systems'!T$3:T$5000,A49) -> 0 | E49: =SUMIF('Breakout Systems'!T$3:T$5000,A49,'Breakout Systems'!Z$3:Z$5000) -> 0 | F49: =IF(D49=0,0,E49/D49) -> 0 | G49: =SUMIF('Breakout Systems'!T$3:T$5000,A49,'Breakout Systems'!AA$3:AA$5000) -> 0 | H49: =IF(D49=0,0,G49/D49) -> 0 | I49: =SUMIF('Breakout Systems'!T$3:T$5000,A49,'Breakout Systems'!V$3:V$5000) -> 0 | J49: =IF($D49=0,0,I49/$D49) -> 0 | K49: =SUMIF('Breakout Systems'!$T$3:$T$5000,$A49,'Breakout Systems'!W$3:W$5000) -> 0 | L49: =IF($D49=0,0,K49/$D49) -> 0 | M49: =SUMIF('Breakout Systems'!$T$3:$T$5000,$A49,'Breakout Systems'!X$3:X$5000) -> 0 | N49: =IF($D49=0,0,M49/$D49) -> 0 | O49: =SUMIF('Breakout Systems'!$T$3:$T$5000,$A49,'Breakout Systems'!Y$3:Y$5000) -> 0 | P49: =IF($D49=0,0,O49/$D49) -> 0 | Q49: =SUMIF('Breakout Systems'!$T$3:$T$5000,$A49,'Breakout Systems'!AB$3:AB$5000) -> 0 | R49: =SUMIF('Breakout Systems'!$T$3:$T$5000,$A49,'Breakout Systems'!AD$3:AD$5000) -> 0 | S49: =Q49+R49 -> 0 | T49: =IF(D49=0,0,SUMIF('Breakout Systems'!T$3:T$5000,A49,'Breakout Systems'!AB$3:AB$5000)) -> 0 | U49: =IF(D49=0,0,SUMIF('Breakout Systems'!T$3:T$5000,A49,'Breakout Systems'!AD$3:AD$5000)) -> 0 | V49: =IF(D49=0,0,SUMIF('Breakout Systems'!T$3:T$5000,A49,'Breakout Systems'!O$3:O$5000)) -> 0 | W49: =IF(D49=0,0,T49/E49) -> 0 | X49: =IF(D49=0,0,U49/G49) -> 0 | Y49: =IF(D49=0,0,V49/D49) -> 0 | Z49: =S49+Z48 -> 281581.98 | AA49: =V49/$Z$2 -> 0 | AB49: =MAX(Z$2:Z49) -> 284284.29 | AC49: =(AB49-Z49)/Z49 -> 0.0095968854 | AD49: {=MAX(IF('Breakout Systems'!T$3:T$5000=A49,'Breakout Systems'!AB$3:AB$5000))} -> 0 | AE49: =IF(AD49=0,0,INDEX('Breakout Systems'!AC$3:AC$5000,(MATCH(AD49,'Breakout Systems'!AB$3:AB$5000,0)))) -> 0 | AF49: {=MIN(IF('Breakout Systems'!T$3:T$5000=A49,'Breakout Systems'!AD$3:AD$5000))} -> 0 | AG49: =IF(AF49=0,0,INDEX('Breakout Systems'!AC$3:AC$5000,(MATCH(AF49,'Breakout Systems'!AD$3:AD$5000,0)))) -> 0 | AH49: =COUNTIFS('Breakout Systems'!$D$3:$D$5000,AH$2,'Breakout Systems'!$T$3:$T$5000,$A49) -> 0 | AI49: =COUNTIFS('Breakout Systems'!$D$3:$D$5000,AI$2,'Breakout Systems'!$T$3:$T$5000,$A49) -> 0 | AJ49: =COUNTIFS('Breakout Systems'!$D$3:$D$5000,AJ$2,'Breakout Systems'!$T$3:$T$5000,$A49) -> 0 | AK49: =COUNTIFS('Breakout Systems'!$D$3:$D$5000,AK$2,'Breakout Systems'!$T$3:$T$5000,$A49) -> 0 | AL49: =COUNTIFS('Breakout Systems'!$D$3:$D$5000,AL$2,'Breakout Systems'!$T$3:$T$5000,$A49) -> 0 | AM49: =COUNTIFS('Breakout Systems'!$D$3:$D$5000,AM$2,'Breakout Systems'!$T$3:$T$5000,$A49) -> 0 | AN49: =SUMIFS('Breakout Systems'!$R$3:$R$5000,'Breakout Systems'!$D$3:$D$5000,AN$2,'Breakout Systems'!$T$3:$T$5000,$A49) -> 0 | AO49: =SUMIFS('Breakout Systems'!$R$3:$R$5000,'Breakout Systems'!$D$3:$D$5000,AO$2,'Breakout Systems'!$T$3:$T$5000,$A49) -> 0 | AP49: =SUMIFS('Breakout Systems'!$R$3:$R$5000,'Breakout Systems'!$D$3:$D$5000,AP$2,'Breakout Systems'!$T$3:$T$5000,$A49) -> 0 | AQ49: =SUMIFS('Breakout Systems'!$R$3:$R$5000,'Breakout Systems'!$D$3:$D$5000,AQ$2,'Breakout Systems'!$T$3:$T$5000,$A49) -> 0 | AR49: =SUMIFS('Breakout Systems'!$R$3:$R$5000,'Breakout Systems'!$D$3:$D$5000,AR$2,'Breakout Systems'!$T$3:$T$5000,$A49) -> 0 | AS49: =SUMIFS('Breakout Systems'!$R$3:$R$5000,'Breakout Systems'!$D$3:$D$5000,AS$2,'Breakout Systems'!$T$3:$T$5000,$A49) -> 0 | AT49: =IF(AN49=0,0,AN49/AH49) -> 0 | AU49: =IF(AO49=0,0,AO49/AI49) -> 0 | AV49: =IF(AP49=0,0,AP49/AJ49) -> 0 | AW49: =IF(AQ49=0,0,AQ49/AK49) -> 0 | AX49: =IF(AR49=0,0,AR49/AL49) -> 0 | AY49: =IF(AS49=0,0,AS49/AM49) -> 0 | AZ49: =IF(AH49=0,0,SUM(AN49:AS49)/SUM(AH49:AM49)) -> 0 | BL49: =EOMONTH(BL48,1) -> 43434 | BR49: =EOMONTH(BR48,1) -> 43434 | BS49: =D49 -> 0 | BZ49: =IF(D49=0," ",C49&" "&B49) | CA49: =IF(D49=0," ",Z49) | CB49: =IF(D49=0," ",AC49)
A50: =A49+1 -> 48 | B50: =B49 -> 2018 | C50: Dec | D50: =COUNTIF('Breakout Systems'!T$3:T$5000,A50) -> 0 | E50: =SUMIF('Breakout Systems'!T$3:T$5000,A50,'Breakout Systems'!Z$3:Z$5000) -> 0 | F50: =IF(D50=0,0,E50/D50) -> 0 | G50: =SUMIF('Breakout Systems'!T$3:T$5000,A50,'Breakout Systems'!AA$3:AA$5000) -> 0 | H50: =IF(D50=0,0,G50/D50) -> 0 | I50: =SUMIF('Breakout Systems'!T$3:T$5000,A50,'Breakout Systems'!V$3:V$5000) -> 0 | J50: =IF($D50=0,0,I50/$D50) -> 0 | K50: =SUMIF('Breakout Systems'!$T$3:$T$5000,$A50,'Breakout Systems'!W$3:W$5000) -> 0 | L50: =IF($D50=0,0,K50/$D50) -> 0 | M50: =SUMIF('Breakout Systems'!$T$3:$T$5000,$A50,'Breakout Systems'!X$3:X$5000) -> 0 | N50: =IF($D50=0,0,M50/$D50) -> 0 | O50: =SUMIF('Breakout Systems'!$T$3:$T$5000,$A50,'Breakout Systems'!Y$3:Y$5000) -> 0 | P50: =IF($D50=0,0,O50/$D50) -> 0 | Q50: =SUMIF('Breakout Systems'!$T$3:$T$5000,$A50,'Breakout Systems'!AB$3:AB$5000) -> 0 | R50: =SUMIF('Breakout Systems'!$T$3:$T$5000,$A50,'Breakout Systems'!AD$3:AD$5000) -> 0 | S50: =Q50+R50 -> 0 | T50: =IF(D50=0,0,SUMIF('Breakout Systems'!T$3:T$5000,A50,'Breakout Systems'!AB$3:AB$5000)) -> 0 | U50: =IF(D50=0,0,SUMIF('Breakout Systems'!T$3:T$5000,A50,'Breakout Systems'!AD$3:AD$5000)) -> 0 | V50: =IF(D50=0,0,SUMIF('Breakout Systems'!T$3:T$5000,A50,'Breakout Systems'!O$3:O$5000)) -> 0 | W50: =IF(D50=0,0,T50/E50) -> 0 | X50: =IF(D50=0,0,U50/G50) -> 0 | Y50: =IF(D50=0,0,V50/D50) -> 0 | Z50: =S50+Z49 -> 281581.98 | AA50: =V50/$Z$2 -> 0 | AB50: =MAX(Z$2:Z50) -> 284284.29 | AC50: =(AB50-Z50)/Z50 -> 0.0095968854 | AD50: {=MAX(IF('Breakout Systems'!T$3:T$5000=A50,'Breakout Systems'!AB$3:AB$5000))} -> 0 | AE50: =IF(AD50=0,0,INDEX('Breakout Systems'!AC$3:AC$5000,(MATCH(AD50,'Breakout Systems'!AB$3:AB$5000,0)))) -> 0 | AF50: {=MIN(IF('Breakout Systems'!T$3:T$5000=A50,'Breakout Systems'!AD$3:AD$5000))} -> 0 | AG50: =IF(AF50=0,0,INDEX('Breakout Systems'!AC$3:AC$5000,(MATCH(AF50,'Breakout Systems'!AD$3:AD$5000,0)))) -> 0 | AH50: =COUNTIFS('Breakout Systems'!$D$3:$D$5000,AH$2,'Breakout Systems'!$T$3:$T$5000,$A50) -> 0 | AI50: =COUNTIFS('Breakout Systems'!$D$3:$D$5000,AI$2,'Breakout Systems'!$T$3:$T$5000,$A50) -> 0 | AJ50: =COUNTIFS('Breakout Systems'!$D$3:$D$5000,AJ$2,'Breakout Systems'!$T$3:$T$5000,$A50) -> 0 | AK50: =COUNTIFS('Breakout Systems'!$D$3:$D$5000,AK$2,'Breakout Systems'!$T$3:$T$5000,$A50) -> 0 | AL50: =COUNTIFS('Breakout Systems'!$D$3:$D$5000,AL$2,'Breakout Systems'!$T$3:$T$5000,$A50) -> 0 | AM50: =COUNTIFS('Breakout Systems'!$D$3:$D$5000,AM$2,'Breakout Systems'!$T$3:$T$5000,$A50) -> 0 | AN50: =SUMIFS('Breakout Systems'!$R$3:$R$5000,'Breakout Systems'!$D$3:$D$5000,AN$2,'Breakout Systems'!$T$3:$T$5000,$A50) -> 0 | AO50: =SUMIFS('Breakout Systems'!$R$3:$R$5000,'Breakout Systems'!$D$3:$D$5000,AO$2,'Breakout Systems'!$T$3:$T$5000,$A50) -> 0 | AP50: =SUMIFS('Breakout Systems'!$R$3:$R$5000,'Breakout Systems'!$D$3:$D$5000,AP$2,'Breakout Systems'!$T$3:$T$5000,$A50) -> 0 | AQ50: =SUMIFS('Breakout Systems'!$R$3:$R$5000,'Breakout Systems'!$D$3:$D$5000,AQ$2,'Breakout Systems'!$T$3:$T$5000,$A50) -> 0 | AR50: =SUMIFS('Breakout Systems'!$R$3:$R$5000,'Breakout Systems'!$D$3:$D$5000,AR$2,'Breakout Systems'!$T$3:$T$5000,$A50) -> 0 | AS50: =SUMIFS('Breakout Systems'!$R$3:$R$5000,'Breakout Systems'!$D$3:$D$5000,AS$2,'Breakout Systems'!$T$3:$T$5000,$A50) -> 0 | AT50: =IF(AN50=0,0,AN50/AH50) -> 0 | AU50: =IF(AO50=0,0,AO50/AI50) -> 0 | AV50: =IF(AP50=0,0,AP50/AJ50) -> 0 | AW50: =IF(AQ50=0,0,AQ50/AK50) -> 0 | AX50: =IF(AR50=0,0,AR50/AL50) -> 0 | AY50: =IF(AS50=0,0,AS50/AM50) -> 0 | AZ50: =IF(AH50=0,0,SUM(AN50:AS50)/SUM(AH50:AM50)) -> 0 | BL50: =EOMONTH(BL49,1) -> 43465 | BR50: =EOMONTH(BR49,1) -> 43465 | BS50: =D50 -> 0 | BZ50: =IF(D50=0," ",C50&" "&B50) | CA50: =IF(D50=0," ",Z50) | CB50: =IF(D50=0," ",AC50)
A51: =A50+1 -> 49 | B51: =B50+1 -> 2019 | C51: Jan | D51: =COUNTIF('Breakout Systems'!T$3:T$5000,A51) -> 0 | E51: =SUMIF('Breakout Systems'!T$3:T$5000,A51,'Breakout Systems'!Z$3:Z$5000) -> 0 | F51: =IF(D51=0,0,E51/D51) -> 0 | G51: =SUMIF('Breakout Systems'!T$3:T$5000,A51,'Breakout Systems'!AA$3:AA$5000) -> 0 | H51: =IF(D51=0,0,G51/D51) -> 0 | I51: =SUMIF('Breakout Systems'!T$3:T$5000,A51,'Breakout Systems'!V$3:V$5000) -> 0 | J51: =IF($D51=0,0,I51/$D51) -> 0 | K51: =SUMIF('Breakout Systems'!$T$3:$T$5000,$A51,'Breakout Systems'!W$3:W$5000) -> 0 | L51: =IF($D51=0,0,K51/$D51) -> 0 | M51: =SUMIF('Breakout Systems'!$T$3:$T$5000,$A51,'Breakout Systems'!X$3:X$5000) -> 0 | N51: =IF($D51=0,0,M51/$D51) -> 0 | O51: =SUMIF('Breakout Systems'!$T$3:$T$5000,$A51,'Breakout Systems'!Y$3:Y$5000) -> 0 | P51: =IF($D51=0,0,O51/$D51) -> 0 | Q51: =SUMIF('Breakout Systems'!$T$3:$T$5000,$A51,'Breakout Systems'!AB$3:AB$5000) -> 0 | R51: =SUMIF('Breakout Systems'!$T$3:$T$5000,$A51,'Breakout Systems'!AD$3:AD$5000) -> 0 | S51: =Q51+R51 -> 0 | T51: =IF(D51=0,0,SUMIF('Breakout Systems'!T$3:T$5000,A51,'Breakout Systems'!AB$3:AB$5000)) -> 0 | U51: =IF(D51=0,0,SUMIF('Breakout Systems'!T$3:T$5000,A51,'Breakout Systems'!AD$3:AD$5000)) -> 0 | V51: =IF(D51=0,0,SUMIF('Breakout Systems'!T$3:T$5000,A51,'Breakout Systems'!O$3:O$5000)) -> 0 | W51: =IF(D51=0,0,T51/E51) -> 0 | X51: =IF(D51=0,0,U51/G51) -> 0 | Y51: =IF(D51=0,0,V51/D51) -> 0 | Z51: =S51+Z50 -> 281581.98 | AA51: =V51/$Z$2 -> 0 | AB51: =MAX(Z$2:Z51) -> 284284.29 | AC51: =(AB51-Z51)/Z51 -> 0.0095968854 | AD51: {=MAX(IF('Breakout Systems'!T$3:T$5000=A51,'Breakout Systems'!AB$3:AB$5000))} -> 0 | AE51: =IF(AD51=0,0,INDEX('Breakout Systems'!AC$3:AC$5000,(MATCH(AD51,'Breakout Systems'!AB$3:AB$5000,0)))) -> 0 | AF51: {=MIN(IF('Breakout Systems'!T$3:T$5000=A51,'Breakout Systems'!AD$3:AD$5000))} -> 0 | AG51: =IF(AF51=0,0,INDEX('Breakout Systems'!AC$3:AC$5000,(MATCH(AF51,'Breakout Systems'!AD$3:AD$5000,0)))) -> 0 | AH51: =COUNTIFS('Breakout Systems'!$D$3:$D$5000,AH$2,'Breakout Systems'!$T$3:$T$5000,$A51) -> 0 | AI51: =COUNTIFS('Breakout Systems'!$D$3:$D$5000,AI$2,'Breakout Systems'!$T$3:$T$5000,$A51) -> 0 | AJ51: =COUNTIFS('Breakout Systems'!$D$3:$D$5000,AJ$2,'Breakout Systems'!$T$3:$T$5000,$A51) -> 0 | AK51: =COUNTIFS('Breakout Systems'!$D$3:$D$5000,AK$2,'Breakout Systems'!$T$3:$T$5000,$A51) -> 0 | AL51: =COUNTIFS('Breakout Systems'!$D$3:$D$5000,AL$2,'Breakout Systems'!$T$3:$T$5000,$A51) -> 0 | AM51: =COUNTIFS('Breakout Systems'!$D$3:$D$5000,AM$2,'Breakout Systems'!$T$3:$T$5000,$A51) -> 0 | AN51: =SUMIFS('Breakout Systems'!$R$3:$R$5000,'Breakout Systems'!$D$3:$D$5000,AN$2,'Breakout Systems'!$T$3:$T$5000,$A51) -> 0 | AO51: =SUMIFS('Breakout Systems'!$R$3:$R$5000,'Breakout Systems'!$D$3:$D$5000,AO$2,'Breakout Systems'!$T$3:$T$5000,$A51) -> 0 | AP51: =SUMIFS('Breakout Systems'!$R$3:$R$5000,'Breakout Systems'!$D$3:$D$5000,AP$2,'Breakout Systems'!$T$3:$T$5000,$A51) -> 0 | AQ51: =SUMIFS('Breakout Systems'!$R$3:$R$5000,'Breakout Systems'!$D$3:$D$5000,AQ$2,'Breakout Systems'!$T$3:$T$5000,$A51) -> 0 | AR51: =SUMIFS('Breakout Systems'!$R$3:$R$5000,'Breakout Systems'!$D$3:$D$5000,AR$2,'Breakout Systems'!$T$3:$T$5000,$A51) -> 0 | AS51: =SUMIFS('Breakout Systems'!$R$3:$R$5000,'Breakout Systems'!$D$3:$D$5000,AS$2,'Breakout Systems'!$T$3:$T$5000,$A51) -> 0 | AT51: =IF(AN51=0,0,AN51/AH51) -> 0 | AU51: =IF(AO51=0,0,AO51/AI51) -> 0 | AV51: =IF(AP51=0,0,AP51/AJ51) -> 0 | AW51: =IF(AQ51=0,0,AQ51/AK51) -> 0 | AX51: =IF(AR51=0,0,AR51/AL51) -> 0 | AY51: =IF(AS51=0,0,AS51/AM51) -> 0 | AZ51: =IF(AH51=0,0,SUM(AN51:AS51)/SUM(AH51:AM51)) -> 0 | BL51: =EOMONTH(BL50,1) -> 43496 | BR51: =EOMONTH(BR50,1) -> 43496 | BS51: =D51 -> 0 | BZ51: =IF(D51=0," ",C51&" "&B51) | CA51: =IF(D51=0," ",Z51) | CB51: =IF(D51=0," ",AC51)
A52: =A51+1 -> 50 | B52: =B51 -> 2019 | C52: Feb | D52: =COUNTIF('Breakout Systems'!T$3:T$5000,A52) -> 0 | E52: =SUMIF('Breakout Systems'!T$3:T$5000,A52,'Breakout Systems'!Z$3:Z$5000) -> 0 | F52: =IF(D52=0,0,E52/D52) -> 0 | G52: =SUMIF('Breakout Systems'!T$3:T$5000,A52,'Breakout Systems'!AA$3:AA$5000) -> 0 | H52: =IF(D52=0,0,G52/D52) -> 0 | I52: =SUMIF('Breakout Systems'!T$3:T$5000,A52,'Breakout Systems'!V$3:V$5000) -> 0 | J52: =IF($D52=0,0,I52/$D52) -> 0 | K52: =SUMIF('Breakout Systems'!$T$3:$T$5000,$A52,'Breakout Systems'!W$3:W$5000) -> 0 | L52: =IF($D52=0,0,K52/$D52) -> 0 | M52: =SUMIF('Breakout Systems'!$T$3:$T$5000,$A52,'Breakout Systems'!X$3:X$5000) -> 0 | N52: =IF($D52=0,0,M52/$D52) -> 0 | O52: =SUMIF('Breakout Systems'!$T$3:$T$5000,$A52,'Breakout Systems'!Y$3:Y$5000) -> 0 | P52: =IF($D52=0,0,O52/$D52) -> 0 | Q52: =SUMIF('Breakout Systems'!$T$3:$T$5000,$A52,'Breakout Systems'!AB$3:AB$5000) -> 0 | R52: =SUMIF('Breakout Systems'!$T$3:$T$5000,$A52,'Breakout Systems'!AD$3:AD$5000) -> 0 | S52: =Q52+R52 -> 0 | T52: =IF(D52=0,0,SUMIF('Breakout Systems'!T$3:T$5000,A52,'Breakout Systems'!AB$3:AB$5000)) -> 0 | U52: =IF(D52=0,0,SUMIF('Breakout Systems'!T$3:T$5000,A52,'Breakout Systems'!AD$3:AD$5000)) -> 0 | V52: =IF(D52=0,0,SUMIF('Breakout Systems'!T$3:T$5000,A52,'Breakout Systems'!O$3:O$5000)) -> 0 | W52: =IF(D52=0,0,T52/E52) -> 0 | X52: =IF(D52=0,0,U52/G52) -> 0 | Y52: =IF(D52=0,0,V52/D52) -> 0 | Z52: =S52+Z51 -> 281581.98 | AA52: =V52/$Z$2 -> 0 | AB52: =MAX(Z$2:Z52) -> 284284.29 | AC52: =(AB52-Z52)/Z52 -> 0.0095968854 | AD52: {=MAX(IF('Breakout Systems'!T$3:T$5000=A52,'Breakout Systems'!AB$3:AB$5000))} -> 0 | AE52: =IF(AD52=0,0,INDEX('Breakout Systems'!AC$3:AC$5000,(MATCH(AD52,'Breakout Systems'!AB$3:AB$5000,0)))) -> 0 | AF52: {=MIN(IF('Breakout Systems'!T$3:T$5000=A52,'Breakout Systems'!AD$3:AD$5000))} -> 0 | AG52: =IF(AF52=0,0,INDEX('Breakout Systems'!AC$3:AC$5000,(MATCH(AF52,'Breakout Systems'!AD$3:AD$5000,0)))) -> 0 | AH52: =COUNTIFS('Breakout Systems'!$D$3:$D$5000,AH$2,'Breakout Systems'!$T$3:$T$5000,$A52) -> 0 | AI52: =COUNTIFS('Breakout Systems'!$D$3:$D$5000,AI$2,'Breakout Systems'!$T$3:$T$5000,$A52) -> 0 | AJ52: =COUNTIFS('Breakout Systems'!$D$3:$D$5000,AJ$2,'Breakout Systems'!$T$3:$T$5000,$A52) -> 0 | AK52: =COUNTIFS('Breakout Systems'!$D$3:$D$5000,AK$2,'Breakout Systems'!$T$3:$T$5000,$A52) -> 0 | AL52: =COUNTIFS('Breakout Systems'!$D$3:$D$5000,AL$2,'Breakout Systems'!$T$3:$T$5000,$A52) -> 0 | AM52: =COUNTIFS('Breakout Systems'!$D$3:$D$5000,AM$2,'Breakout Systems'!$T$3:$T$5000,$A52) -> 0 | AN52: =SUMIFS('Breakout Systems'!$R$3:$R$5000,'Breakout Systems'!$D$3:$D$5000,AN$2,'Breakout Systems'!$T$3:$T$5000,$A52) -> 0 | AO52: =SUMIFS('Breakout Systems'!$R$3:$R$5000,'Breakout Systems'!$D$3:$D$5000,AO$2,'Breakout Systems'!$T$3:$T$5000,$A52) -> 0 | AP52: =SUMIFS('Breakout Systems'!$R$3:$R$5000,'Breakout Systems'!$D$3:$D$5000,AP$2,'Breakout Systems'!$T$3:$T$5000,$A52) -> 0 | AQ52: =SUMIFS('Breakout Systems'!$R$3:$R$5000,'Breakout Systems'!$D$3:$D$5000,AQ$2,'Breakout Systems'!$T$3:$T$5000,$A52) -> 0 | AR52: =SUMIFS('Breakout Systems'!$R$3:$R$5000,'Breakout Systems'!$D$3:$D$5000,AR$2,'Breakout Systems'!$T$3:$T$5000,$A52) -> 0 | AS52: =SUMIFS('Breakout Systems'!$R$3:$R$5000,'Breakout Systems'!$D$3:$D$5000,AS$2,'Breakout Systems'!$T$3:$T$5000,$A52) -> 0 | AT52: =IF(AN52=0,0,AN52/AH52) -> 0 | AU52: =IF(AO52=0,0,AO52/AI52) -> 0 | AV52: =IF(AP52=0,0,AP52/AJ52) -> 0 | AW52: =IF(AQ52=0,0,AQ52/AK52) -> 0 | AX52: =IF(AR52=0,0,AR52/AL52) -> 0 | AY52: =IF(AS52=0,0,AS52/AM52) -> 0 | AZ52: =IF(AH52=0,0,SUM(AN52:AS52)/SUM(AH52:AM52)) -> 0 | BL52: =EOMONTH(BL51,1) -> 43524 | BR52: =EOMONTH(BR51,1) -> 43524 | BS52: =D52 -> 0 | BZ52: =IF(D52=0," ",C52&" "&B52) | CA52: =IF(D52=0," ",Z52) | CB52: =IF(D52=0," ",AC52)
