Workbook

Sheet Summary
A1: =MAX('Breakout Systems'!T3:T5000) -> 29 | B1: Trade Statistics - Closed Trades Only - DTT, EDTT, EDTT1 | AH1: Trades by Timeframe | AN1: Days Held by Timeframe | AT1: Avge Days Held by Timeframe | BB1: Overview | CA1: Equity | CB1: Drawdown
A2: Month# | B2: Year | C2: Month | D2: Trades | E2: Wins | F2: Pwin% | G2: Losses | H2: Ploss% | I2: Long | J2: Long % | K2: Short | L2: Short % | M2: In-Trend | N2: InTrend % | O2: C-Trend | P2: C-Trend % | Q2: Win$ | R2: Loss$ | S2: Profit$ | T2: Total Win$ | U2: Total Loss$ | V2: Profit $ | W2: Avg Win$ | X2: Avg Loss$ | Y2: Avg Profit $ | Z2: 200000 | AA2: Return% | AB2: Max Equity | AC2: Draw % | AD2: Max Win | AE2: Market | AF2: Max Loss | AG2: Market | AH2: M30 | AI2: H1 | AJ2: H4 | AK2: D1 | AL2: W1 | AM2: MN | AN2: M30 | AO2: H1 | AP2: H4 | AQ2: D1 | AR2: W1 | AS2: MN | AT2: M30 | AU2: H1 | AV2: H4 | AW2: D1 | AX2: W1 | AY2: MN | AZ2: Total | BL2: Date | BM2: Pwin | BN2: Cum Pwin | BO2: Avg Win$ | BP2: Cum Avg Win$ | BR2: Date | BS2: Total Trades | BT2: Avge Trades | BZ2: 41974 | CA2: =Z2 -> 200000 | CB2: 0
A3: 1 | B3: 2015 | C3: Jan | D3: =COUNTIF('Breakout Systems'!T$3:T$5000,A3) -> 35 | E3: =SUMIF('Breakout Systems'!T$3:T$5000,A3,'Breakout Systems'!Z$3:Z$5000) -> 18 | F3: =IF(D3=0,0,E3/D3) -> 0.51428571 | G3: =SUMIF('Breakout Systems'!T$3:T$5000,A3,'Breakout Systems'!AA$3:AA$5000) -> 17 | H3: =IF(D3=0,0,G3/D3) -> 0.48571429 | I3: =SUMIF('Breakout Systems'!T$3:T$5000,A3,'Breakout Systems'!V$3:V$5000) -> 17 | J3: =IF($D3=0,0,I3/$D3) -> 0.48571429 | K3: =SUMIF('Breakout Systems'!$T$3:$T$5000,$A3,'Breakout Systems'!W$3:W$5000) -> 18 | L3: =IF($D3=0,0,K3/$D3) -> 0.51428571 | M3: =SUMIF('Breakout Systems'!$T$3:$T$5000,$A3,'Breakout Systems'!X$3:X$5000) -> 25 | N3: =IF($D3=0,0,M3/$D3) -> 0.71428571 | O3: =SUMIF('Breakout Systems'!$T$3:$T$5000,$A3,'Breakout Systems'!Y$3:Y$5000) -> 10 | P3: =IF($D3=0,0,O3/$D3) -> 0.28571429 | Q3: =SUMIF('Breakout Systems'!$T$3:$T$5000,$A3,'Breakout Systems'!AB$3:AB$5000) -> 12315.37 | R3: =SUMIF('Breakout Systems'!$T$3:$T$5000,$A3,'Breakout Systems'!AD$3:AD$5000) -> -4101.03 | S3: =Q3+R3 -> 8214.34 | T3: =IF(D3=0,0,SUMIF('Breakout Systems'!T$3:T$5000,A3,'Breakout Systems'!AB$3:AB$5000)) -> 12315.37 | U3: =IF(D3=0,0,SUMIF('Breakout Systems'!T$3:T$5000,A3,'Breakout Systems'!AD$3:AD$5000)) -> -4101.03 | V3: =IF(D3=0,0,SUMIF('Breakout Systems'!T$3:T$5000,A3,'Breakout Systems'!O$3:O$5000)) -> 8214.34 | W3: =IF(D3=0,0,T3/E3) -> 684.18722 | X3: =IF(D3=0,0,U3/G3) -> -241.23706 | Y3: =IF(D3=0,0,V3/D3) -> 234.69543 | Z3: =S3+Z2 -> 208214.34 | AA3: =V3/$Z$2 -> 0.0410717 | AB3: =MAX(Z$2:Z3) -> 208214.34 | AC3: =(AB3-Z3)/Z3 -> 0 | AD3: {=MAX(IF('Breakout Systems'!T$3:T$5000=A3,'Breakout Systems'!AB$3:AB$5000))} -> 4381.92 | AE3: =IF(AD3=0,0,INDEX('Breakout Systems'!AC$3:AC$5000,(MATCH(AD3,'Breakout Systems'!AB$3:AB$5000,0)))) -> USDCAD | AF3: {=MIN(IF('Breakout Systems'!T$3:T$5000=A3,'Breakout Systems'!AD$3:AD$5000))} -> -1057.5 | AG3: =IF(AF3=0,0,INDEX('Breakout Systems'!AC$3:AC$5000,(MATCH(AF3,'Breakout Systems'!AD$3:AD$5000,0)))) -> USDCHF | AH3: =COUNTIFS('Breakout Systems'!$D$3:$D$5000,AH$2,'Breakout Systems'!$T$3:$T$5000,$A3) -> 20 | AI3: =COUNTIFS('Breakout Systems'!$D$3:$D$5000,AI$2,'Breakout Systems'!$T$3:$T$5000,$A3) -> 11 | AJ3: =COUNTIFS('Breakout Systems'!$D$3:$D$5000,AJ$2,'Breakout Systems'!$T$3:$T$5000,$A3) -> 0 | AK3: =COUNTIFS('Breakout Systems'!$D$3:$D$5000,AK$2,'Breakout Systems'!$T$3:$T$5000,$A3) -> 4 | AL3: =COUNTIFS('Breakout Systems'!$D$3:$D$5000,AL$2,'Breakout Systems'!$T$3:$T$5000,$A3) -> 0 | AM3: =COUNTIFS('Breakout Systems'!$D$3:$D$5000,AM$2,'Breakout Systems'!$T$3:$T$5000,$A3) -> 0 | AN3: =SUMIFS('Breakout Systems'!$R$3:$R$5000,'Breakout Systems'!$D$3:$D$5000,AN$2,'Breakout Systems'!$T$3:$T$5000,$A3) -> 83 | AO3: =SUMIFS('Breakout Systems'!$R$3:$R$5000,'Breakout Systems'!$D$3:$D$5000,AO$2,'Breakout Systems'!$T$3:$T$5000,$A3) -> 111 | AP3: =SUMIFS('Breakout Systems'!$R$3:$R$5000,'Breakout Systems'!$D$3:$D$5000,AP$2,'Breakout Systems'!$T$3:$T$5000,$A3) -> 0 | AQ3: =SUMIFS('Breakout Systems'!$R$3:$R$5000,'Breakout Systems'!$D$3:$D$5000,AQ$2,'Breakout Systems'!$T$3:$T$5000,$A3) -> 129 | AR3: =SUMIFS('Breakout Systems'!$R$3:$R$5000,'Breakout Systems'!$D$3:$D$5000,AR$2,'Breakout Systems'!$T$3:$T$5000,$A3) -> 0 | AS3: =SUMIFS('Breakout Systems'!$R$3:$R$5000,'Breakout Systems'!$D$3:$D$5000,AS$2,'Breakout Systems'!$T$3:$T$5000,$A3) -> 0 | AT3: =IF(AN3=0,0,AN3/AH3) -> 4.15 | AU3: =IF(AO3=0,0,AO3/AI3) -> 10.090909 | AV3: =IF(AP3=0,0,AP3/AJ3) -> 0 | AW3: =IF(AQ3=0,0,AQ3/AK3) -> 32.25 | AX3: =IF(AR3=0,0,AR3/AL3) -> 0 | AY3: =IF(AS3=0,0,AS3/AM3) -> 0 | AZ3: =IF(AH3=0,0,SUM(AN3:AS3)/SUM(AH3:AM3)) -> 9.2285714 | BL3: 42035 | BM3: =F3 -> 0.51428571 | BN3: =E3/D3 -> 0.51428571 | BO3: =W3 -> 684.18722 | BP3: =T3/E3 -> 684.18722 | BR3: 42035 | BS3: =D3 -> 35 | BT3: =BS3 -> 35 | BZ3: =C3&" "&B3 -> Jan 2015 | CA3: =IF(D3=0," ",Z3) -> 208214.34 | CB3: =IF(D3=0," ",AC3) -> 0
A4: =A3+1 -> 2 | B4: 2015 | C4: Feb | D4: =COUNTIF('Breakout Systems'!T$3:T$5000,A4) -> 71 | E4: =SUMIF('Breakout Systems'!T$3:T$5000,A4,'Breakout Systems'!Z$3:Z$5000) -> 19 | F4: =IF(D4=0,0,E4/D4) -> 0.26760563 | G4: =SUMIF('Breakout Systems'!T$3:T$5000,A4,'Breakout Systems'!AA$3:AA$5000) -> 52 | H4: =IF(D4=0,0,G4/D4) -> 0.73239437 | I4: =SUMIF('Breakout Systems'!T$3:T$5000,A4,'Breakout Systems'!V$3:V$5000) -> 42 | J4: =IF($D4=0,0,I4/$D4) -> 0.5915493 | K4: =SUMIF('Breakout Systems'!$T$3:$T$5000,$A4,'Breakout Systems'!W$3:W$5000) -> 29 | L4: =IF($D4=0,0,K4/$D4) -> 0.4084507 | M4: =SUMIF('Breakout Systems'!$T$3:$T$5000,$A4,'Breakout Systems'!X$3:X$5000) -> 46 | N4: =IF($D4=0,0,M4/$D4) -> 0.64788732 | O4: =SUMIF('Breakout Systems'!$T$3:$T$5000,$A4,'Breakout Systems'!Y$3:Y$5000) -> 25 | P4: =IF($D4=0,0,O4/$D4) -> 0.35211268 | Q4: =SUMIF('Breakout Systems'!$T$3:$T$5000,$A4,'Breakout Systems'!AB$3:AB$5000) -> 6501.13 | R4: =SUMIF('Breakout Systems'!$T$3:$T$5000,$A4,'Breakout Systems'!AD$3:AD$5000) -> -12035.12 | S4: =Q4+R4 -> -5533.99 | T4: =IF(D4=0,0,SUMIF('Breakout Systems'!T$3:T$5000,A4,'Breakout Systems'!AB$3:AB$5000)) -> 6501.13 | U4: =IF(D4=0,0,SUMIF('Breakout Systems'!T$3:T$5000,A4,'Breakout Systems'!AD$3:AD$5000)) -> -12035.12 | V4: =IF(D4=0,0,SUMIF('Breakout Systems'!T$3:T$5000,A4,'Breakout Systems'!O$3:O$5000)) -> -5533.99 | W4: =IF(D4=0,0,T4/E4) -> 342.16474 | X4: =IF(D4=0,0,U4/G4) -> -231.44462 | Y4: =IF(D4=0,0,V4/D4) -> -77.943521 | Z4: =S4+Z3 -> 202680.35 | AA4: =V4/$Z$2 -> -0.02766995 | AB4: =MAX(Z$2:Z4) -> 208214.34 | AC4: =(AB4-Z4)/Z4 -> 0.027304028 | AD4: {=MAX(IF('Breakout Systems'!T$3:T$5000=A4,'Breakout Systems'!AB$3:AB$5000))} -> 1877.8 | AE4: =IF(AD4=0,0,INDEX('Breakout Systems'!AC$3:AC$5000,(MATCH(AD4,'Breakout Systems'!AB$3:AB$5000,0)))) -> USDCAD | AF4: {=MIN(IF('Breakout Systems'!T$3:T$5000=A4,'Breakout Systems'!AD$3:AD$5000))} -> -719.21 | AG4: =IF(AF4=0,0,INDEX('Breakout Systems'!AC$3:AC$5000,(MATCH(AF4,'Breakout Systems'!AD$3:AD$5000,0)))) -> NZDJPY | AH4: =COUNTIFS('Breakout Systems'!$D$3:$D$5000,AH$2,'Breakout Systems'!$T$3:$T$5000,$A4) -> 41 | AI4: =COUNTIFS('Breakout Systems'!$D$3:$D$5000,AI$2,'Breakout Systems'!$T$3:$T$5000,$A4) -> 23 | AJ4: =COUNTIFS('Breakout Systems'!$D$3:$D$5000,AJ$2,'Breakout Systems'!$T$3:$T$5000,$A4) -> 4 | AK4: =COUNTIFS('Breakout Systems'!$D$3:$D$5000,AK$2,'Breakout Systems'!$T$3:$T$5000,$A4) -> 3 | AL4: =COUNTIFS('Breakout Systems'!$D$3:$D$5000,AL$2,'Breakout Systems'!$T$3:$T$5000,$A4) -> 0 | AM4: =COUNTIFS('Breakout Systems'!$D$3:$D$5000,AM$2,'Breakout Systems'!$T$3:$T$5000,$A4) -> 0 | AN4: =SUMIFS('Breakout Systems'!$R$3:$R$5000,'Breakout Systems'!$D$3:$D$5000,AN$2,'Breakout Systems'!$T$3:$T$5000,$A4) -> 151 | AO4: =SUMIFS('Breakout Systems'!$R$3:$R$5000,'Breakout Systems'!$D$3:$D$5000,AO$2,'Breakout Systems'!$T$3:$T$5000,$A4) -> 146 | AP4: =SUMIFS('Breakout Systems'!$R$3:$R$5000,'Breakout Systems'!$D$3:$D$5000,AP$2,'Breakout Systems'!$T$3:$T$5000,$A4) -> 16 | AQ4: =SUMIFS('Breakout Systems'!$R$3:$R$5000,'Breakout Systems'!$D$3:$D$5000,AQ$2,'Breakout Systems'!$T$3:$T$5000,$A4) -> 40 | AR4: =SUMIFS('Breakout Systems'!$R$3:$R$5000,'Breakout Systems'!$D$3:$D$5000,AR$2,'Breakout Systems'!$T$3:$T$5000,$A4) -> 0 | AS4: =SUMIFS('Breakout Systems'!$R$3:$R$5000,'Breakout Systems'!$D$3:$D$5000,AS$2,'Breakout Systems'!$T$3:$T$5000,$A4) -> 0 | AT4: =IF(AN4=0,0,AN4/AH4) -> 3.6829268 | AU4: =IF(AO4=0,0,AO4/AI4) -> 6.3478261 | AV4: =IF(AP4=0,0,AP4/AJ4) -> 4 | AW4: =IF(AQ4=0,0,AQ4/AK4) -> 13.333333 | AX4: =IF(AR4=0,0,AR4/AL4) -> 0 | AY4: =IF(AS4=0,0,AS4/AM4) -> 0 | AZ4: =IF(AH4=0,0,SUM(AN4:AS4)/SUM(AH4:AM4)) -> 4.971831 | BL4: =EOMONTH(BL3,1) -> 42063 | BM4: =F4 -> 0.26760563 | BN4: =SUM(E$3:E4)/SUM(D$3:D4) -> 0.3490566 | BO4: =W4 -> 342.16474 | BP4: =SUM(T$3:T4)/SUM(E$3:E4) -> 508.55405 | BR4: =EOMONTH(BR3,1) -> 42063 | BS4: =D4 -> 71 | BT4: =ROUND(AVERAGE(BS$3:BS4),0) -> 53 | BZ4: =C4&" "&B4 -> Feb 2015 | CA4: =IF(D4=0," ",Z4) -> 202680.35 | CB4: =IF(D4=0," ",AC4) -> 0.027304028
A5: =A4+1 -> 3 | B5: 2015 | C5: Mar | D5: =COUNTIF('Breakout Systems'!T$3:T$5000,A5) -> 108 | E5: =SUMIF('Breakout Systems'!T$3:T$5000,A5,'Breakout Systems'!Z$3:Z$5000) -> 42 | F5: =IF(D5=0,0,E5/D5) -> 0.38888889 | G5: =SUMIF('Breakout Systems'!T$3:T$5000,A5,'Breakout Systems'!AA$3:AA$5000) -> 66 | H5: =IF(D5=0,0,G5/D5) -> 0.61111111 | I5: =SUMIF('Breakout Systems'!T$3:T$5000,A5,'Breakout Systems'!V$3:V$5000) -> 63 | J5: =IF($D5=0,0,I5/$D5) -> 0.58333333 | K5: =SUMIF('Breakout Systems'!$T$3:$T$5000,$A5,'Breakout Systems'!W$3:W$5000) -> 45 | L5: =IF($D5=0,0,K5/$D5) -> 0.41666667 | M5: =SUMIF('Breakout Systems'!$T$3:$T$5000,$A5,'Breakout Systems'!X$3:X$5000) -> 88 | N5: =IF($D5=0,0,M5/$D5) -> 0.81481481 | O5: =SUMIF('Breakout Systems'!$T$3:$T$5000,$A5,'Breakout Systems'!Y$3:Y$5000) -> 20 | P5: =IF($D5=0,0,O5/$D5) -> 0.18518519 | Q5: =SUMIF('Breakout Systems'!$T$3:$T$5000,$A5,'Breakout Systems'!AB$3:AB$5000) -> 29108.67 | R5: =SUMIF('Breakout Systems'!$T$3:$T$5000,$A5,'Breakout Systems'!AD$3:AD$5000) -> -16358.7 | S5: =Q5+R5 -> 12749.97 | T5: =IF(D5=0,0,SUMIF('Breakout Systems'!T$3:T$5000,A5,'Breakout Systems'!AB$3:AB$5000)) -> 29108.67 | U5: =IF(D5=0,0,SUMIF('Breakout Systems'!T$3:T$5000,A5,'Breakout Systems'!AD$3:AD$5000)) -> -16358.7 | V5: =IF(D5=0,0,SUMIF('Breakout Systems'!T$3:T$5000,A5,'Breakout Systems'!O$3:O$5000)) -> 12749.97 | W5: =IF(D5=0,0,T5/E5) -> 693.06357 | X5: =IF(D5=0,0,U5/G5) -> -247.85909 | Y5: =IF(D5=0,0,V5/D5) -> 118.05528 | Z5: =S5+Z4 -> 215430.32 | AA5: =V5/$Z$2 -> 0.06374985 | AB5: =MAX(Z$2:Z5) -> 215430.32 | AC5: =(AB5-Z5)/Z5 -> 0 | AD5: {=MAX(IF('Breakout Systems'!T$3:T$5000=A5,'Breakout Systems'!AB$3:AB$5000))} -> 3004.8 | AE5: =IF(AD5=0,0,INDEX('Breakout Systems'!AC$3:AC$5000,(MATCH(AD5,'Breakout Systems'!AB$3:AB$5000,0)))) -> EURUSD | AF5: {=MIN(IF('Breakout Systems'!T$3:T$5000=A5,'Breakout Systems'!AD$3:AD$5000))} -> -834 | AG5: =IF(AF5=0,0,INDEX('Breakout Systems'!AC$3:AC$5000,(MATCH(AF5,'Breakout Systems'!AD$3:AD$5000,0)))) -> DJI | AH5: =COUNTIFS('Breakout Systems'!$D$3:$D$5000,AH$2,'Breakout Systems'!$T$3:$T$5000,$A5) -> 48 | AI5: =COUNTIFS('Breakout Systems'!$D$3:$D$5000,AI$2,'Breakout Systems'!$T$3:$T$5000,$A5) -> 34 | AJ5: =COUNTIFS('Breakout Systems'!$D$3:$D$5000,AJ$2,'Breakout Systems'!$T$3:$T$5000,$A5) -> 17 | AK5: =COUNTIFS('Breakout Systems'!$D$3:$D$5000,AK$2,'Breakout Systems'!$T$3:$T$5000,$A5) -> 9 | AL5: =COUNTIFS('Breakout Systems'!$D$3:$D$5000,AL$2,'Breakout Systems'!$T$3:$T$5000,$A5) -> 0 | AM5: =COUNTIFS('Breakout Systems'!$D$3:$D$5000,AM$2,'Breakout Systems'!$T$3:$T$5000,$A5) -> 0 | AN5: =SUMIFS('Breakout Systems'!$R$3:$R$5000,'Breakout Systems'!$D$3:$D$5000,AN$2,'Breakout Systems'!$T$3:$T$5000,$A5) -> 362 | AO5: =SUMIFS('Breakout Systems'!$R$3:$R$5000,'Breakout Systems'!$D$3:$D$5000,AO$2,'Breakout Systems'!$T$3:$T$5000,$A5) -> 360 | AP5: =SUMIFS('Breakout Systems'!$R$3:$R$5000,'Breakout Systems'!$D$3:$D$5000,AP$2,'Breakout Systems'!$T$3:$T$5000,$A5) -> 241 | AQ5: =SUMIFS('Breakout Systems'!$R$3:$R$5000,'Breakout Systems'!$D$3:$D$5000,AQ$2,'Breakout Systems'!$T$3:$T$5000,$A5) -> 184 | AR5: =SUMIFS('Breakout Systems'!$R$3:$R$5000,'Breakout Systems'!$D$3:$D$5000,AR$2,'Breakout Systems'!$T$3:$T$5000,$A5) -> 0 | AS5: =SUMIFS('Breakout Systems'!$R$3:$R$5000,'Breakout Systems'!$D$3:$D$5000,AS$2,'Breakout Systems'!$T$3:$T$5000,$A5) -> 0 | AT5: =IF(AN5=0,0,AN5/AH5) -> 7.5416667 | AU5: =IF(AO5=0,0,AO5/AI5) -> 10.588235 | AV5: =IF(AP5=0,0,AP5/AJ5) -> 14.176471 | AW5: =IF(AQ5=0,0,AQ5/AK5) -> 20.444444 | AX5: =IF(AR5=0,0,AR5/AL5) -> 0 | AY5: =IF(AS5=0,0,AS5/AM5) -> 0 | AZ5: =IF(AH5=0,0,SUM(AN5:AS5)/SUM(AH5:AM5)) -> 10.62037 | BL5: =EOMONTH(BL4,1) -> 42094 | BM5: =F5 -> 0.38888889 | BN5: =SUM(E$3:E5)/SUM(D$3:D5) -> 0.36915888 | BO5: =W5 -> 693.06357 | BP5: =SUM(T$3:T5)/SUM(E$3:E5) -> 606.64772 | BR5: =EOMONTH(BR4,1) -> 42094 | BS5: =D5 -> 108 | BT5: =ROUND(AVERAGE(BS$3:BS5),0) -> 71 | BZ5: =C5&" "&B5 -> Mar 2015 | CA5: =IF(D5=0," ",Z5) -> 215430.32 | CB5: =IF(D5=0," ",AC5) -> 0
A6: =A5+1 -> 4 | B6: 2015 | C6: Apr | D6: =COUNTIF('Breakout Systems'!T$3:T$5000,A6) -> 52 | E6: =SUMIF('Breakout Systems'!T$3:T$5000,A6,'Breakout Systems'!Z$3:Z$5000) -> 14 | F6: =IF(D6=0,0,E6/D6) -> 0.26923077 | G6: =SUMIF('Breakout Systems'!T$3:T$5000,A6,'Breakout Systems'!AA$3:AA$5000) -> 38 | H6: =IF(D6=0,0,G6/D6) -> 0.73076923 | I6: =SUMIF('Breakout Systems'!T$3:T$5000,A6,'Breakout Systems'!V$3:V$5000) -> 21 | J6: =IF($D6=0,0,I6/$D6) -> 0.40384615 | K6: =SUMIF('Breakout Systems'!$T$3:$T$5000,$A6,'Breakout Systems'!W$3:W$5000) -> 31 | L6: =IF($D6=0,0,K6/$D6) -> 0.59615385 | M6: =SUMIF('Breakout Systems'!$T$3:$T$5000,$A6,'Breakout Systems'!X$3:X$5000) -> 44 | N6: =IF($D6=0,0,M6/$D6) -> 0.84615385 | O6: =SUMIF('Breakout Systems'!$T$3:$T$5000,$A6,'Breakout Systems'!Y$3:Y$5000) -> 8 | P6: =IF($D6=0,0,O6/$D6) -> 0.15384615 | Q6: =SUMIF('Breakout Systems'!$T$3:$T$5000,$A6,'Breakout Systems'!AB$3:AB$5000) -> 4898.68 | R6: =SUMIF('Breakout Systems'!$T$3:$T$5000,$A6,'Breakout Systems'!AD$3:AD$5000) -> -11872.82 | S6: =Q6+R6 -> -6974.14 | T6: =IF(D6=0,0,SUMIF('Breakout Systems'!T$3:T$5000,A6,'Breakout Systems'!AB$3:AB$5000)) -> 4898.68 | U6: =IF(D6=0,0,SUMIF('Breakout Systems'!T$3:T$5000,A6,'Breakout Systems'!AD$3:AD$5000)) -> -11872.82 | V6: =IF(D6=0,0,SUMIF('Breakout Systems'!T$3:T$5000,A6,'Breakout Systems'!O$3:O$5000)) -> -6974.14 | W6: =IF(D6=0,0,T6/E6) -> 349.90571 | X6: =IF(D6=0,0,U6/G6) -> -312.44263 | Y6: =IF(D6=0,0,V6/D6) -> -134.11808 | Z6: =S6+Z5 -> 208456.18 | AA6: =V6/$Z$2 -> -0.0348707 | AB6: =MAX(Z$2:Z6) -> 215430.32 | AC6: =(AB6-Z6)/Z6 -> 0.033456144 | AD6: {=MAX(IF('Breakout Systems'!T$3:T$5000=A6,'Breakout Systems'!AB$3:AB$5000))} -> 1112.1 | AE6: =IF(AD6=0,0,INDEX('Breakout Systems'!AC$3:AC$5000,(MATCH(AD6,'Breakout Systems'!AB$3:AB$5000,0)))) -> DAX | AF6: {=MIN(IF('Breakout Systems'!T$3:T$5000=A6,'Breakout Systems'!AD$3:AD$5000))} -> -841.1 | AG6: =IF(AF6=0,0,INDEX('Breakout Systems'!AC$3:AC$5000,(MATCH(AF6,'Breakout Systems'!AD$3:AD$5000,0)))) -> GBPUSD | AH6: =COUNTIFS('Breakout Systems'!$D$3:$D$5000,AH$2,'Breakout Systems'!$T$3:$T$5000,$A6) -> 17 | AI6: =COUNTIFS('Breakout Systems'!$D$3:$D$5000,AI$2,'Breakout Systems'!$T$3:$T$5000,$A6) -> 11 | AJ6: =COUNTIFS('Breakout Systems'!$D$3:$D$5000,AJ$2,'Breakout Systems'!$T$3:$T$5000,$A6) -> 10 | AK6: =COUNTIFS('Breakout Systems'!$D$3:$D$5000,AK$2,'Breakout Systems'!$T$3:$T$5000,$A6) -> 11 | AL6: =COUNTIFS('Breakout Systems'!$D$3:$D$5000,AL$2,'Breakout Systems'!$T$3:$T$5000,$A6) -> 2 | AM6: =COUNTIFS('Breakout Systems'!$D$3:$D$5000,AM$2,'Breakout Systems'!$T$3:$T$5000,$A6) -> 1 | AN6: =SUMIFS('Breakout Systems'!$R$3:$R$5000,'Breakout Systems'!$D$3:$D$5000,AN$2,'Breakout Systems'!$T$3:$T$5000,$A6) -> 113 | AO6: =SUMIFS('Breakout Systems'!$R$3:$R$5000,'Breakout Systems'!$D$3:$D$5000,AO$2,'Breakout Systems'!$T$3:$T$5000,$A6) -> 116 | AP6: =SUMIFS('Breakout Systems'!$R$3:$R$5000,'Breakout Systems'!$D$3:$D$5000,AP$2,'Breakout Systems'!$T$3:$T$5000,$A6) -> 289 | AQ6: =SUMIFS('Breakout Systems'!$R$3:$R$5000,'Breakout Systems'!$D$3:$D$5000,AQ$2,'Breakout Systems'!$T$3:$T$5000,$A6) -> 476 | AR6: =SUMIFS('Breakout Systems'!$R$3:$R$5000,'Breakout Systems'!$D$3:$D$5000,AR$2,'Breakout Systems'!$T$3:$T$5000,$A6) -> 110 | AS6: =SUMIFS('Breakout Systems'!$R$3:$R$5000,'Breakout Systems'!$D$3:$D$5000,AS$2,'Breakout Systems'!$T$3:$T$5000,$A6) -> 29 | AT6: =IF(AN6=0,0,AN6/AH6) -> 6.6470588 | AU6: =IF(AO6=0,0,AO6/AI6) -> 10.545455 | AV6: =IF(AP6=0,0,AP6/AJ6) -> 28.9 | AW6: =IF(AQ6=0,0,AQ6/AK6) -> 43.272727 | AX6: =IF(AR6=0,0,AR6/AL6) -> 55 | AY6: =IF(AS6=0,0,AS6/AM6) -> 29 | AZ6: =IF(AH6=0,0,SUM(AN6:AS6)/SUM(AH6:AM6)) -> 21.788462 | BL6: =EOMONTH(BL5,1) -> 42124 | BM6: =F6 -> 0.26923077 | BN6: =SUM(E$3:E6)/SUM(D$3:D6) -> 0.34962406 | BO6: =W6 -> 349.90571 | BP6: =SUM(T$3:T6)/SUM(E$3:E6) -> 567.99839 | BR6: =EOMONTH(BR5,1) -> 42124 | BS6: =D6 -> 52 | BT6: =ROUND(AVERAGE(BS$3:BS6),0) -> 67 | BZ6: =C6&" "&B6 -> Apr 2015 | CA6: =IF(D6=0," ",Z6) -> 208456.18 | CB6: =IF(D6=0," ",AC6) -> 0.033456144
A7: =A6+1 -> 5 | B7: 2015 | C7: May | D7: =COUNTIF('Breakout Systems'!T$3:T$5000,A7) -> 35 | E7: =SUMIF('Breakout Systems'!T$3:T$5000,A7,'Breakout Systems'!Z$3:Z$5000) -> 8 | F7: =IF(D7=0,0,E7/D7) -> 0.22857143 | G7: =SUMIF('Breakout Systems'!T$3:T$5000,A7,'Breakout Systems'!AA$3:AA$5000) -> 27 | H7: =IF(D7=0,0,G7/D7) -> 0.77142857 | I7: =SUMIF('Breakout Systems'!T$3:T$5000,A7,'Breakout Systems'!V$3:V$5000) -> 16 | J7: =IF($D7=0,0,I7/$D7) -> 0.45714286 | K7: =SUMIF('Breakout Systems'!$T$3:$T$5000,$A7,'Breakout Systems'!W$3:W$5000) -> 19 | L7: =IF($D7=0,0,K7/$D7) -> 0.54285714 | M7: =SUMIF('Breakout Systems'!$T$3:$T$5000,$A7,'Breakout Systems'!X$3:X$5000) -> 13 | N7: =IF($D7=0,0,M7/$D7) -> 0.37142857 | O7: =SUMIF('Breakout Systems'!$T$3:$T$5000,$A7,'Breakout Systems'!Y$3:Y$5000) -> 22 | P7: =IF($D7=0,0,O7/$D7) -> 0.62857143 | Q7: =SUMIF('Breakout Systems'!$T$3:$T$5000,$A7,'Breakout Systems'!AB$3:AB$5000) -> 1892.7 | R7: =SUMIF('Breakout Systems'!$T$3:$T$5000,$A7,'Breakout Systems'!AD$3:AD$5000) -> -6632.02 | S7: =Q7+R7 -> -4739.32 | T7: =IF(D7=0,0,SUMIF('Breakout Systems'!T$3:T$5000,A7,'Breakout Systems'!AB$3:AB$5000)) -> 1892.7 | U7: =IF(D7=0,0,SUMIF('Breakout Systems'!T$3:T$5000,A7,'Breakout Systems'!AD$3:AD$5000)) -> -6632.02 | V7: =IF(D7=0,0,SUMIF('Breakout Systems'!T$3:T$5000,A7,'Breakout Systems'!O$3:O$5000)) -> -4739.32 | W7: =IF(D7=0,0,T7/E7) -> 236.5875 | X7: =IF(D7=0,0,U7/G7) -> -245.63037 | Y7: =IF(D7=0,0,V7/D7) -> -135.40914 | Z7: =S7+Z6 -> 203716.86 | AA7: =V7/$Z$2 -> -0.0236966 | AB7: =MAX(Z$2:Z7) -> 215430.32 | AC7: =(AB7-Z7)/Z7 -> 0.057498726 | AD7: {=MAX(IF('Breakout Systems'!T$3:T$5000=A7,'Breakout Systems'!AB$3:AB$5000))} -> 581.49 | AE7: =IF(AD7=0,0,INDEX('Breakout Systems'!AC$3:AC$5000,(MATCH(AD7,'Breakout Systems'!AB$3:AB$5000,0)))) -> ASX | AF7: {=MIN(IF('Breakout Systems'!T$3:T$5000=A7,'Breakout Systems'!AD$3:AD$5000))} -> -848.4 | AG7: =IF(AF7=0,0,INDEX('Breakout Systems'!AC$3:AC$5000,(MATCH(AF7,'Breakout Systems'!AD$3:AD$5000,0)))) -> GBPSGD | AH7: =COUNTIFS('Breakout Systems'!$D$3:$D$5000,AH$2,'Breakout Systems'!$T$3:$T$5000,$A7) -> 15 | AI7: =COUNTIFS('Breakout Systems'!$D$3:$D$5000,AI$2,'Breakout Systems'!$T$3:$T$5000,$A7) -> 11 | AJ7: =COUNTIFS('Breakout Systems'!$D$3:$D$5000,AJ$2,'Breakout Systems'!$T$3:$T$5000,$A7) -> 6 | AK7: =COUNTIFS('Breakout Systems'!$D$3:$D$5000,AK$2,'Breakout Systems'!$T$3:$T$5000,$A7) -> 2 | AL7: =COUNTIFS('Breakout Systems'!$D$3:$D$5000,AL$2,'Breakout Systems'!$T$3:$T$5000,$A7) -> 1 | AM7: =COUNTIFS('Breakout Systems'!$D$3:$D$5000,AM$2,'Breakout Systems'!$T$3:$T$5000,$A7) -> 0 | AN7: =SUMIFS('Breakout Systems'!$R$3:$R$5000,'Breakout Systems'!$D$3:$D$5000,AN$2,'Breakout Systems'!$T$3:$T$5000,$A7) -> 100 | AO7: =SUMIFS('Breakout Systems'!$R$3:$R$5000,'Breakout Systems'!$D$3:$D$5000,AO$2,'Breakout Systems'!$T$3:$T$5000,$A7) -> 120 | AP7: =SUMIFS('Breakout Systems'!$R$3:$R$5000,'Breakout Systems'!$D$3:$D$5000,AP$2,'Breakout Systems'!$T$3:$T$5000,$A7) -> 60 | AQ7: =SUMIFS('Breakout Systems'!$R$3:$R$5000,'Breakout Systems'!$D$3:$D$5000,AQ$2,'Breakout Systems'!$T$3:$T$5000,$A7) -> 33 | AR7: =SUMIFS('Breakout Systems'!$R$3:$R$5000,'Breakout Systems'!$D$3:$D$5000,AR$2,'Breakout Systems'!$T$3:$T$5000,$A7) -> 28 | AS7: =SUMIFS('Breakout Systems'!$R$3:$R$5000,'Breakout Systems'!$D$3:$D$5000,AS$2,'Breakout Systems'!$T$3:$T$5000,$A7) -> 0 | AT7: =IF(AN7=0,0,AN7/AH7) -> 6.6666667 | AU7: =IF(AO7=0,0,AO7/AI7) -> 10.909091 | AV7: =IF(AP7=0,0,AP7/AJ7) -> 10 | AW7: =IF(AQ7=0,0,AQ7/AK7) -> 16.5 | AX7: =IF(AR7=0,0,AR7/AL7) -> 28 | AY7: =IF(AS7=0,0,AS7/AM7) -> 0 | AZ7: =IF(AH7=0,0,SUM(AN7:AS7)/SUM(AH7:AM7)) -> 9.7428571 | BL7: =EOMONTH(BL6,1) -> 42155 | BM7: =F7 -> 0.22857143 | BN7: =SUM(E$3:E7)/SUM(D$3:D7) -> 0.33554817 | BO7: =W7 -> 236.5875 | BP7: =SUM(T$3:T7)/SUM(E$3:E7) -> 541.74802 | BR7: =EOMONTH(BR6,1) -> 42155 | BS7: =D7 -> 35 | BT7: =ROUND(AVERAGE(BS$3:BS7),0) -> 60 | BZ7: =C7&" "&B7 -> May 2015 | CA7: =IF(D7=0," ",Z7) -> 203716.86 | CB7: =IF(D7=0," ",AC7) -> 0.057498726
A8: =A7+1 -> 6 | B8: 2015 | C8: Jun | D8: =COUNTIF('Breakout Systems'!T$3:T$5000,A8) -> 46 | E8: =SUMIF('Breakout Systems'!T$3:T$5000,A8,'Breakout Systems'!Z$3:Z$5000) -> 19 | F8: =IF(D8=0,0,E8/D8) -> 0.41304348 | G8: =SUMIF('Breakout Systems'!T$3:T$5000,A8,'Breakout Systems'!AA$3:AA$5000) -> 27 | H8: =IF(D8=0,0,G8/D8) -> 0.58695652 | I8: =SUMIF('Breakout Systems'!T$3:T$5000,A8,'Breakout Systems'!V$3:V$5000) -> 23 | J8: =IF($D8=0,0,I8/$D8) -> 0.5 | K8: =SUMIF('Breakout Systems'!$T$3:$T$5000,$A8,'Breakout Systems'!W$3:W$5000) -> 23 | L8: =IF($D8=0,0,K8/$D8) -> 0.5 | M8: =SUMIF('Breakout Systems'!$T$3:$T$5000,$A8,'Breakout Systems'!X$3:X$5000) -> 26 | N8: =IF($D8=0,0,M8/$D8) -> 0.56521739 | O8: =SUMIF('Breakout Systems'!$T$3:$T$5000,$A8,'Breakout Systems'!Y$3:Y$5000) -> 20 | P8: =IF($D8=0,0,O8/$D8) -> 0.43478261 | Q8: =SUMIF('Breakout Systems'!$T$3:$T$5000,$A8,'Breakout Systems'!AB$3:AB$5000) -> 6026.58 | R8: =SUMIF('Breakout Systems'!$T$3:$T$5000,$A8,'Breakout Systems'!AD$3:AD$5000) -> -7748.05 | S8: =Q8+R8 -> -1721.47 | T8: =IF(D8=0,0,SUMIF('Breakout Systems'!T$3:T$5000,A8,'Breakout Systems'!AB$3:AB$5000)) -> 6026.58 | U8: =IF(D8=0,0,SUMIF('Breakout Systems'!T$3:T$5000,A8,'Breakout Systems'!AD$3:AD$5000)) -> -7748.05 | V8: =IF(D8=0,0,SUMIF('Breakout Systems'!T$3:T$5000,A8,'Breakout Systems'!O$3:O$5000)) -> -1721.47 | W8: =IF(D8=0,0,T8/E8) -> 317.18842 | X8: =IF(D8=0,0,U8/G8) -> -286.96481 | Y8: =IF(D8=0,0,V8/D8) -> -37.423261 | Z8: =S8+Z7 -> 201995.39 | AA8: =V8/$Z$2 -> -0.00860735 | AB8: =MAX(Z$2:Z8) -> 215430.32 | AC8: =(AB8-Z8)/Z8 -> 0.066511072 | AD8: {=MAX(IF('Breakout Systems'!T$3:T$5000=A8,'Breakout Systems'!AB$3:AB$5000))} -> 1213.7 | AE8: =IF(AD8=0,0,INDEX('Breakout Systems'!AC$3:AC$5000,(MATCH(AD8,'Breakout Systems'!AB$3:AB$5000,0)))) -> USDJPY | AF8: {=MIN(IF('Breakout Systems'!T$3:T$5000=A8,'Breakout Systems'!AD$3:AD$5000))} -> -829.6 | AG8: =IF(AF8=0,0,INDEX('Breakout Systems'!AC$3:AC$5000,(MATCH(AF8,'Breakout Systems'!AD$3:AD$5000,0)))) -> DJI | AH8: =COUNTIFS('Breakout Systems'!$D$3:$D$5000,AH$2,'Breakout Systems'!$T$3:$T$5000,$A8) -> 20 | AI8: =COUNTIFS('Breakout Systems'!$D$3:$D$5000,AI$2,'Breakout Systems'!$T$3:$T$5000,$A8) -> 11 | AJ8: =COUNTIFS('Breakout Systems'!$D$3:$D$5000,AJ$2,'Breakout Systems'!$T$3:$T$5000,$A8) -> 8 | AK8: =COUNTIFS('Breakout Systems'!$D$3:$D$5000,AK$2,'Breakout Systems'!$T$3:$T$5000,$A8) -> 5 | AL8: =COUNTIFS('Breakout Systems'!$D$3:$D$5000,AL$2,'Breakout Systems'!$T$3:$T$5000,$A8) -> 2 | AM8: =COUNTIFS('Breakout Systems'!$D$3:$D$5000,AM$2,'Breakout Systems'!$T$3:$T$5000,$A8) -> 0 | AN8: =SUMIFS('Breakout Systems'!$R$3:$R$5000,'Breakout Systems'!$D$3:$D$5000,AN$2,'Breakout Systems'!$T$3:$T$5000,$A8) -> 138 | AO8: =SUMIFS('Breakout Systems'!$R$3:$R$5000,'Breakout Systems'!$D$3:$D$5000,AO$2,'Breakout Systems'!$T$3:$T$5000,$A8) -> 127 | AP8: =SUMIFS('Breakout Systems'!$R$3:$R$5000,'Breakout Systems'!$D$3:$D$5000,AP$2,'Breakout Systems'!$T$3:$T$5000,$A8) -> 219 | AQ8: =SUMIFS('Breakout Systems'!$R$3:$R$5000,'Breakout Systems'!$D$3:$D$5000,AQ$2,'Breakout Systems'!$T$3:$T$5000,$A8) -> 207 | AR8: =SUMIFS('Breakout Systems'!$R$3:$R$5000,'Breakout Systems'!$D$3:$D$5000,AR$2,'Breakout Systems'!$T$3:$T$5000,$A8) -> 233 | AS8: =SUMIFS('Breakout Systems'!$R$3:$R$5000,'Breakout Systems'!$D$3:$D$5000,AS$2,'Breakout Systems'!$T$3:$T$5000,$A8) -> 0 | AT8: =IF(AN8=0,0,AN8/AH8) -> 6.9 | AU8: =IF(AO8=0,0,AO8/AI8) -> 11.545455 | AV8: =IF(AP8=0,0,AP8/AJ8) -> 27.375 | AW8: =IF(AQ8=0,0,AQ8/AK8) -> 41.4 | AX8: =IF(AR8=0,0,AR8/AL8) -> 116.5 | AY8: =IF(AS8=0,0,AS8/AM8) -> 0 | AZ8: =IF(AH8=0,0,SUM(AN8:AS8)/SUM(AH8:AM8)) -> 20.086957 | BL8: =EOMONTH(BL7,1) -> 42185 | BM8: =F8 -> 0.41304348 | BN8: =SUM(E$3:E8)/SUM(D$3:D8) -> 0.34582133 | BO8: =W8 -> 317.18842 | BP8: =SUM(T$3:T8)/SUM(E$3:E8) -> 506.19275 | BR8: =EOMONTH(BR7,1) -> 42185 | BS8: =D8 -> 46 | BT8: =ROUND(AVERAGE(BS$3:BS8),0) -> 58 | BZ8: =C8&" "&B8 -> Jun 2015 | CA8: =IF(D8=0," ",Z8) -> 201995.39 | CB8: =IF(D8=0," ",AC8) -> 0.066511072
A9: =A8+1 -> 7 | B9: 2015 | C9: Jul | D9: =COUNTIF('Breakout Systems'!T$3:T$5000,A9) -> 34 | E9: =SUMIF('Breakout Systems'!T$3:T$5000,A9,'Breakout Systems'!Z$3:Z$5000) -> 16 | F9: =IF(D9=0,0,E9/D9) -> 0.47058824 | G9: =SUMIF('Breakout Systems'!T$3:T$5000,A9,'Breakout Systems'!AA$3:AA$5000) -> 18 | H9: =IF(D9=0,0,G9/D9) -> 0.52941176 | I9: =SUMIF('Breakout Systems'!T$3:T$5000,A9,'Breakout Systems'!V$3:V$5000) -> 12 | J9: =IF($D9=0,0,I9/$D9) -> 0.35294118 | K9: =SUMIF('Breakout Systems'!$T$3:$T$5000,$A9,'Breakout Systems'!W$3:W$5000) -> 22 | L9: =IF($D9=0,0,K9/$D9) -> 0.64705882 | M9: =SUMIF('Breakout Systems'!$T$3:$T$5000,$A9,'Breakout Systems'!X$3:X$5000) -> 23 | N9: =IF($D9=0,0,M9/$D9) -> 0.67647059 | O9: =SUMIF('Breakout Systems'!$T$3:$T$5000,$A9,'Breakout Systems'!Y$3:Y$5000) -> 11 | P9: =IF($D9=0,0,O9/$D9) -> 0.32352941 | Q9: =SUMIF('Breakout Systems'!$T$3:$T$5000,$A9,'Breakout Systems'!AB$3:AB$5000) -> 6201.42 | R9: =SUMIF('Breakout Systems'!$T$3:$T$5000,$A9,'Breakout Systems'!AD$3:AD$5000) -> -4191.45 | S9: =Q9+R9 -> 2009.97 | T9: =IF(D9=0,0,SUMIF('Breakout Systems'!T$3:T$5000,A9,'Breakout Systems'!AB$3:AB$5000)) -> 6201.42 | U9: =IF(D9=0,0,SUMIF('Breakout Systems'!T$3:T$5000,A9,'Breakout Systems'!AD$3:AD$5000)) -> -4191.45 | V9: =IF(D9=0,0,SUMIF('Breakout Systems'!T$3:T$5000,A9,'Breakout Systems'!O$3:O$5000)) -> 2009.97 | W9: =IF(D9=0,0,T9/E9) -> 387.58875 | X9: =IF(D9=0,0,U9/G9) -> -232.85833 | Y9: =IF(D9=0,0,V9/D9) -> 59.116765 | Z9: =S9+Z8 -> 204005.36 | AA9: =V9/$Z$2 -> 0.01004985 | AB9: =MAX(Z$2:Z9) -> 215430.32 | AC9: =(AB9-Z9)/Z9 -> 0.056003234 | AD9: {=MAX(IF('Breakout Systems'!T$3:T$5000=A9,'Breakout Systems'!AB$3:AB$5000))} -> 858 | AE9: =IF(AD9=0,0,INDEX('Breakout Systems'!AC$3:AC$5000,(MATCH(AD9,'Breakout Systems'!AB$3:AB$5000,0)))) -> USDCAD | AF9: {=MIN(IF('Breakout Systems'!T$3:T$5000=A9,'Breakout Systems'!AD$3:AD$5000))} -> -635.04 | AG9: =IF(AF9=0,0,INDEX('Breakout Systems'!AC$3:AC$5000,(MATCH(AF9,'Breakout Systems'!AD$3:AD$5000,0)))) -> AUDJPY | AH9: =COUNTIFS('Breakout Systems'!$D$3:$D$5000,AH$2,'Breakout Systems'!$T$3:$T$5000,$A9) -> 17 | AI9: =COUNTIFS('Breakout Systems'!$D$3:$D$5000,AI$2,'Breakout Systems'!$T$3:$T$5000,$A9) -> 10 | AJ9: =COUNTIFS('Breakout Systems'!$D$3:$D$5000,AJ$2,'Breakout Systems'!$T$3:$T$5000,$A9) -> 4 | AK9: =COUNTIFS('Breakout Systems'!$D$3:$D$5000,AK$2,'Breakout Systems'!$T$3:$T$5000,$A9) -> 3 | AL9: =COUNTIFS('Breakout Systems'!$D$3:$D$5000,AL$2,'Breakout Systems'!$T$3:$T$5000,$A9) -> 0 | AM9: =COUNTIFS('Breakout Systems'!$D$3:$D$5000,AM$2,'Breakout Systems'!$T$3:$T$5000,$A9) -> 0 | AN9: =SUMIFS('Breakout Systems'!$R$3:$R$5000,'Breakout Systems'!$D$3:$D$5000,AN$2,'Breakout Systems'!$T$3:$T$5000,$A9) -> 150 | AO9: =SUMIFS('Breakout Systems'!$R$3:$R$5000,'Breakout Systems'!$D$3:$D$5000,AO$2,'Breakout Systems'!$T$3:$T$5000,$A9) -> 186 | AP9: =SUMIFS('Breakout Systems'!$R$3:$R$5000,'Breakout Systems'!$D$3:$D$5000,AP$2,'Breakout Systems'!$T$3:$T$5000,$A9) -> 104 | AQ9: =SUMIFS('Breakout Systems'!$R$3:$R$5000,'Breakout Systems'!$D$3:$D$5000,AQ$2,'Breakout Systems'!$T$3:$T$5000,$A9) -> 79 | AR9: =SUMIFS('Breakout Systems'!$R$3:$R$5000,'Breakout Systems'!$D$3:$D$5000,AR$2,'Breakout Systems'!$T$3:$T$5000,$A9) -> 0 | AS9: =SUMIFS('Breakout Systems'!$R$3:$R$5000,'Breakout Systems'!$D$3:$D$5000,AS$2,'Breakout Systems'!$T$3:$T$5000,$A9) -> 0 | AT9: =IF(AN9=0,0,AN9/AH9) -> 8.8235294 | AU9: =IF(AO9=0,0,AO9/AI9) -> 18.6 | AV9: =IF(AP9=0,0,AP9/AJ9) -> 26 | AW9: =IF(AQ9=0,0,AQ9/AK9) -> 26.333333 | AX9: =IF(AR9=0,0,AR9/AL9) -> 0 | AY9: =IF(AS9=0,0,AS9/AM9) -> 0 | AZ9: =IF(AH9=0,0,SUM(AN9:AS9)/SUM(AH9:AM9)) -> 15.264706 | BL9: =EOMONTH(BL8,1) -> 42216 | BM9: =F9 -> 0.47058824 | BN9: =SUM(E$3:E9)/SUM(D$3:D9) -> 0.35695538 | BO9: =W9 -> 387.58875 | BP9: =SUM(T$3:T9)/SUM(E$3:E9) -> 492.23934 | BR9: =EOMONTH(BR8,1) -> 42216 | BS9: =D9 -> 34 | BT9: =ROUND(AVERAGE(BS$3:BS9),0) -> 54 | BZ9: =C9&" "&B9 -> Jul 2015 | CA9: =IF(D9=0," ",Z9) -> 204005.36 | CB9: =IF(D9=0," ",AC9) -> 0.056003234
A10: =A9+1 -> 8 | B10: 2015 | C10: Aug | D10: =COUNTIF('Breakout Systems'!T$3:T$5000,A10) -> 54 | E10: =SUMIF('Breakout Systems'!T$3:T$5000,A10,'Breakout Systems'!Z$3:Z$5000) -> 31 | F10: =IF(D10=0,0,E10/D10) -> 0.57407407 | G10: =SUMIF('Breakout Systems'!T$3:T$5000,A10,'Breakout Systems'!AA$3:AA$5000) -> 23 | H10: =IF(D10=0,0,G10/D10) -> 0.42592593 | I10: =SUMIF('Breakout Systems'!T$3:T$5000,A10,'Breakout Systems'!V$3:V$5000) -> 17 | J10: =IF($D10=0,0,I10/$D10) -> 0.31481481 | K10: =SUMIF('Breakout Systems'!$T$3:$T$5000,$A10,'Breakout Systems'!W$3:W$5000) -> 37 | L10: =IF($D10=0,0,K10/$D10) -> 0.68518519 | M10: =SUMIF('Breakout Systems'!$T$3:$T$5000,$A10,'Breakout Systems'!X$3:X$5000) -> 29 | N10: =IF($D10=0,0,M10/$D10) -> 0.53703704 | O10: =SUMIF('Breakout Systems'!$T$3:$T$5000,$A10,'Breakout Systems'!Y$3:Y$5000) -> 25 | P10: =IF($D10=0,0,O10/$D10) -> 0.46296296 | Q10: =SUMIF('Breakout Systems'!$T$3:$T$5000,$A10,'Breakout Systems'!AB$3:AB$5000) -> 22602.77 | R10: =SUMIF('Breakout Systems'!$T$3:$T$5000,$A10,'Breakout Systems'!AD$3:AD$5000) -> -6061.47 | S10: =Q10+R10 -> 16541.3 | T10: =IF(D10=0,0,SUMIF('Breakout Systems'!T$3:T$5000,A10,'Breakout Systems'!AB$3:AB$5000)) -> 22602.77 | U10: =IF(D10=0,0,SUMIF('Breakout Systems'!T$3:T$5000,A10,'Breakout Systems'!AD$3:AD$5000)) -> -6061.47 | V10: =IF(D10=0,0,SUMIF('Breakout Systems'!T$3:T$5000,A10,'Breakout Systems'!O$3:O$5000)) -> 16541.3 | W10: =IF(D10=0,0,T10/E10) -> 729.12161 | X10: =IF(D10=0,0,U10/G10) -> -263.54217 | Y10: =IF(D10=0,0,V10/D10) -> 306.32037 | Z10: =S10+Z9 -> 220546.66 | AA10: =V10/$Z$2 -> 0.0827065 | AB10: =MAX(Z$2:Z10) -> 220546.66 | AC10: =(AB10-Z10)/Z10 -> 0 | AD10: {=MAX(IF('Breakout Systems'!T$3:T$5000=A10,'Breakout Systems'!AB$3:AB$5000))} -> 3140.48 | AE10: =IF(AD10=0,0,INDEX('Breakout Systems'!AC$3:AC$5000,(MATCH(AD10,'Breakout Systems'!AB$3:AB$5000,0)))) -> ASX | AF10: {=MIN(IF('Breakout Systems'!T$3:T$5000=A10,'Breakout Systems'!AD$3:AD$5000))} -> -831.1 | AG10: =IF(AF10=0,0,INDEX('Breakout Systems'!AC$3:AC$5000,(MATCH(AF10,'Breakout Systems'!AD$3:AD$5000,0)))) -> ASX | AH10: =COUNTIFS('Breakout Systems'!$D$3:$D$5000,AH$2,'Breakout Systems'!$T$3:$T$5000,$A10) -> 25 | AI10: =COUNTIFS('Breakout Systems'!$D$3:$D$5000,AI$2,'Breakout Systems'!$T$3:$T$5000,$A10) -> 15 | AJ10: =COUNTIFS('Breakout Systems'!$D$3:$D$5000,AJ$2,'Breakout Systems'!$T$3:$T$5000,$A10) -> 9 | AK10: =COUNTIFS('Breakout Systems'!$D$3:$D$5000,AK$2,'Breakout Systems'!$T$3:$T$5000,$A10) -> 3 | AL10: =COUNTIFS('Breakout Systems'!$D$3:$D$5000,AL$2,'Breakout Systems'!$T$3:$T$5000,$A10) -> 1 | AM10: =COUNTIFS('Breakout Systems'!$D$3:$D$5000,AM$2,'Breakout Systems'!$T$3:$T$5000,$A10) -> 1 | AN10: =SUMIFS('Breakout Systems'!$R$3:$R$5000,'Breakout Systems'!$D$3:$D$5000,AN$2,'Breakout Systems'!$T$3:$T$5000,$A10) -> 155 | AO10: =SUMIFS('Breakout Systems'!$R$3:$R$5000,'Breakout Systems'!$D$3:$D$5000,AO$2,'Breakout Systems'!$T$3:$T$5000,$A10) -> 138 | AP10: =SUMIFS('Breakout Systems'!$R$3:$R$5000,'Breakout Systems'!$D$3:$D$5000,AP$2,'Breakout Systems'!$T$3:$T$5000,$A10) -> 219 | AQ10: =SUMIFS('Breakout Systems'!$R$3:$R$5000,'Breakout Systems'!$D$3:$D$5000,AQ$2,'Breakout Systems'!$T$3:$T$5000,$A10) -> 115 | AR10: =SUMIFS('Breakout Systems'!$R$3:$R$5000,'Breakout Systems'!$D$3:$D$5000,AR$2,'Breakout Systems'!$T$3:$T$5000,$A10) -> 186 | AS10: =SUMIFS('Breakout Systems'!$R$3:$R$5000,'Breakout Systems'!$D$3:$D$5000,AS$2,'Breakout Systems'!$T$3:$T$5000,$A10) -> 200 | AT10: =IF(AN10=0,0,AN10/AH10) -> 6.2 | AU10: =IF(AO10=0,0,AO10/AI10) -> 9.2 | AV10: =IF(AP10=0,0,AP10/AJ10) -> 24.333333 | AW10: =IF(AQ10=0,0,AQ10/AK10) -> 38.333333 | AX10: =IF(AR10=0,0,AR10/AL10) -> 186 | AY10: =IF(AS10=0,0,AS10/AM10) -> 200 | AZ10: =IF(AH10=0,0,SUM(AN10:AS10)/SUM(AH10:AM10)) -> 18.759259 | BL10: =EOMONTH(BL9,1) -> 42247 | BM10: =F10 -> 0.57407407 | BN10: =SUM(E$3:E10)/SUM(D$3:D10) -> 0.38390805 | BO10: =W10 -> 729.12161 | BP10: =SUM(T$3:T10)/SUM(E$3:E10) -> 536.2115 | BR10: =EOMONTH(BR9,1) -> 42247 | BS10: =D10 -> 54 | BT10: =ROUND(AVERAGE(BS$3:BS10),0) -> 54 | BZ10: =C10&" "&B10 -> Aug 2015 | CA10: =IF(D10=0," ",Z10) -> 220546.66 | CB10: =IF(D10=0," ",AC10) -> 0
A11: =A10+1 -> 9 | B11: 2015 | C11: Sep | D11: =COUNTIF('Breakout Systems'!T$3:T$5000,A11) -> 44 | E11: =SUMIF('Breakout Systems'!T$3:T$5000,A11,'Breakout Systems'!Z$3:Z$5000) -> 15 | F11: =IF(D11=0,0,E11/D11) -> 0.34090909 | G11: =SUMIF('Breakout Systems'!T$3:T$5000,A11,'Breakout Systems'!AA$3:AA$5000) -> 29 | H11: =IF(D11=0,0,G11/D11) -> 0.65909091 | I11: =SUMIF('Breakout Systems'!T$3:T$5000,A11,'Breakout Systems'!V$3:V$5000) -> 20 | J11: =IF($D11=0,0,I11/$D11) -> 0.45454545 | K11: =SUMIF('Breakout Systems'!$T$3:$T$5000,$A11,'Breakout Systems'!W$3:W$5000) -> 24 | L11: =IF($D11=0,0,K11/$D11) -> 0.54545455 | M11: =SUMIF('Breakout Systems'!$T$3:$T$5000,$A11,'Breakout Systems'!X$3:X$5000) -> 25 | N11: =IF($D11=0,0,M11/$D11) -> 0.56818182 | O11: =SUMIF('Breakout Systems'!$T$3:$T$5000,$A11,'Breakout Systems'!Y$3:Y$5000) -> 19 | P11: =IF($D11=0,0,O11/$D11) -> 0.43181818 | Q11: =SUMIF('Breakout Systems'!$T$3:$T$5000,$A11,'Breakout Systems'!AB$3:AB$5000) -> 5823.88 | R11: =SUMIF('Breakout Systems'!$T$3:$T$5000,$A11,'Breakout Systems'!AD$3:AD$5000) -> -6790.71 | S11: =Q11+R11 -> -966.83 | T11: =IF(D11=0,0,SUMIF('Breakout Systems'!T$3:T$5000,A11,'Breakout Systems'!AB$3:AB$5000)) -> 5823.88 | U11: =IF(D11=0,0,SUMIF('Breakout Systems'!T$3:T$5000,A11,'Breakout Systems'!AD$3:AD$5000)) -> -6790.71 | V11: =IF(D11=0,0,SUMIF('Breakout Systems'!T$3:T$5000,A11,'Breakout Systems'!O$3:O$5000)) -> -966.83 | W11: =IF(D11=0,0,T11/E11) -> 388.25867 | X11: =IF(D11=0,0,U11/G11) -> -234.16241 | Y11: =IF(D11=0,0,V11/D11) -> -21.973409 | Z11: =S11+Z10 -> 219579.83 | AA11: =V11/$Z$2 -> -0.00483415 | AB11: =MAX(Z$2:Z11) -> 220546.66 | AC11: =(AB11-Z11)/Z11 -> 0.0044030911 | AD11: {=MAX(IF('Breakout Systems'!T$3:T$5000=A11,'Breakout Systems'!AB$3:AB$5000))} -> 883.31 | AE11: =IF(AD11=0,0,INDEX('Breakout Systems'!AC$3:AC$5000,(MATCH(AD11,'Breakout Systems'!AB$3:AB$5000,0)))) -> AUDJPY | AF11: {=MIN(IF('Breakout Systems'!T$3:T$5000=A11,'Breakout Systems'!AD$3:AD$5000))} -> -429.47 | AG11: =IF(AF11=0,0,INDEX('Breakout Systems'!AC$3:AC$5000,(MATCH(AF11,'Breakout Systems'!AD$3:AD$5000,0)))) -> USDSGD | AH11: =COUNTIFS('Breakout Systems'!$D$3:$D$5000,AH$2,'Breakout Systems'!$T$3:$T$5000,$A11) -> 19 | AI11: =COUNTIFS('Breakout Systems'!$D$3:$D$5000,AI$2,'Breakout Systems'!$T$3:$T$5000,$A11) -> 15 | AJ11: =COUNTIFS('Breakout Systems'!$D$3:$D$5000,AJ$2,'Breakout Systems'!$T$3:$T$5000,$A11) -> 7 | AK11: =COUNTIFS('Breakout Systems'!$D$3:$D$5000,AK$2,'Breakout Systems'!$T$3:$T$5000,$A11) -> 2 | AL11: =COUNTIFS('Breakout Systems'!$D$3:$D$5000,AL$2,'Breakout Systems'!$T$3:$T$5000,$A11) -> 1 | AM11: =COUNTIFS('Breakout Systems'!$D$3:$D$5000,AM$2,'Breakout Systems'!$T$3:$T$5000,$A11) -> 0 | AN11: =SUMIFS('Breakout Systems'!$R$3:$R$5000,'Breakout Systems'!$D$3:$D$5000,AN$2,'Breakout Systems'!$T$3:$T$5000,$A11) -> 154 | AO11: =SUMIFS('Breakout Systems'!$R$3:$R$5000,'Breakout Systems'!$D$3:$D$5000,AO$2,'Breakout Systems'!$T$3:$T$5000,$A11) -> 155 | AP11: =SUMIFS('Breakout Systems'!$R$3:$R$5000,'Breakout Systems'!$D$3:$D$5000,AP$2,'Breakout Systems'!$T$3:$T$5000,$A11) -> 96 | AQ11: =SUMIFS('Breakout Systems'!$R$3:$R$5000,'Breakout Systems'!$D$3:$D$5000,AQ$2,'Breakout Systems'!$T$3:$T$5000,$A11) -> 63 | AR11: =SUMIFS('Breakout Systems'!$R$3:$R$5000,'Breakout Systems'!$D$3:$D$5000,AR$2,'Breakout Systems'!$T$3:$T$5000,$A11) -> 36 | AS11: =SUMIFS('Breakout Systems'!$R$3:$R$5000,'Breakout Systems'!$D$3:$D$5000,AS$2,'Breakout Systems'!$T$3:$T$5000,$A11) -> 0 | AT11: =IF(AN11=0,0,AN11/AH11) -> 8.1052632 | AU11: =IF(AO11=0,0,AO11/AI11) -> 10.333333 | AV11: =IF(AP11=0,0,AP11/AJ11) -> 13.714286 | AW11: =IF(AQ11=0,0,AQ11/AK11) -> 31.5 | AX11: =IF(AR11=0,0,AR11/AL11) -> 36 | AY11: =IF(AS11=0,0,AS11/AM11) -> 0 | AZ11: =IF(AH11=0,0,SUM(AN11:AS11)/SUM(AH11:AM11)) -> 11.454545 | BL11: =EOMONTH(BL10,1) -> 42277 | BM11: =F11 -> 0.34090909 | BN11: =SUM(E$3:E11)/SUM(D$3:D11) -> 0.37995825 | BO11: =W11 -> 388.25867 | BP11: =SUM(T$3:T11)/SUM(E$3:E11) -> 524.01758 | BR11: =EOMONTH(BR10,1) -> 42277 | BS11: =D11 -> 44 | BT11: =ROUND(AVERAGE(BS$3:BS11),0) -> 53 | BZ11: =C11&" "&B11 -> Sep 2015 | CA11: =IF(D11=0," ",Z11) -> 219579.83 | CB11: =IF(D11=0," ",AC11) -> 0.0044030911
A12: =A11+1 -> 10 | B12: 2015 | C12: Oct | D12: =COUNTIF('Breakout Systems'!T$3:T$5000,A12) -> 75 | E12: =SUMIF('Breakout Systems'!T$3:T$5000,A12,'Breakout Systems'!Z$3:Z$5000) -> 38 | F12: =IF(D12=0,0,E12/D12) -> 0.50666667 | G12: =SUMIF('Breakout Systems'!T$3:T$5000,A12,'Breakout Systems'!AA$3:AA$5000) -> 37 | H12: =IF(D12=0,0,G12/D12) -> 0.49333333 | I12: =SUMIF('Breakout Systems'!T$3:T$5000,A12,'Breakout Systems'!V$3:V$5000) -> 45 | J12: =IF($D12=0,0,I12/$D12) -> 0.6 | K12: =SUMIF('Breakout Systems'!$T$3:$T$5000,$A12,'Breakout Systems'!W$3:W$5000) -> 30 | L12: =IF($D12=0,0,K12/$D12) -> 0.4 | M12: =SUMIF('Breakout Systems'!$T$3:$T$5000,$A12,'Breakout Systems'!X$3:X$5000) -> 32 | N12: =IF($D12=0,0,M12/$D12) -> 0.42666667 | O12: =SUMIF('Breakout Systems'!$T$3:$T$5000,$A12,'Breakout Systems'!Y$3:Y$5000) -> 43 | P12: =IF($D12=0,0,O12/$D12) -> 0.57333333 | Q12: =SUMIF('Breakout Systems'!$T$3:$T$5000,$A12,'Breakout Systems'!AB$3:AB$5000) -> 13344.31 | R12: =SUMIF('Breakout Systems'!$T$3:$T$5000,$A12,'Breakout Systems'!AD$3:AD$5000) -> -7105.19 | S12: =Q12+R12 -> 6239.12 | T12: =IF(D12=0,0,SUMIF('Breakout Systems'!T$3:T$5000,A12,'Breakout Systems'!AB$3:AB$5000)) -> 13344.31 | U12: =IF(D12=0,0,SUMIF('Breakout Systems'!T$3:T$5000,A12,'Breakout Systems'!AD$3:AD$5000)) -> -7105.19 | V12: =IF(D12=0,0,SUMIF('Breakout Systems'!T$3:T$5000,A12,'Breakout Systems'!O$3:O$5000)) -> 6239.12 | W12: =IF(D12=0,0,T12/E12) -> 351.16605 | X12: =IF(D12=0,0,U12/G12) -> -192.03216 | Y12: =IF(D12=0,0,V12/D12) -> 83.188267 | Z12: =S12+Z11 -> 225818.95 | AA12: =V12/$Z$2 -> 0.0311956 | AB12: =MAX(Z$2:Z12) -> 225818.95 | AC12: =(AB12-Z12)/Z12 -> 0 | AD12: {=MAX(IF('Breakout Systems'!T$3:T$5000=A12,'Breakout Systems'!AB$3:AB$5000))} -> 1215.2 | AE12: =IF(AD12=0,0,INDEX('Breakout Systems'!AC$3:AC$5000,(MATCH(AD12,'Breakout Systems'!AB$3:AB$5000,0)))) -> DJI | AF12: {=MIN(IF('Breakout Systems'!T$3:T$5000=A12,'Breakout Systems'!AD$3:AD$5000))} -> -736.2 | AG12: =IF(AF12=0,0,INDEX('Breakout Systems'!AC$3:AC$5000,(MATCH(AF12,'Breakout Systems'!AD$3:AD$5000,0)))) -> NIK | AH12: =COUNTIFS('Breakout Systems'!$D$3:$D$5000,AH$2,'Breakout Systems'!$T$3:$T$5000,$A12) -> 32 | AI12: =COUNTIFS('Breakout Systems'!$D$3:$D$5000,AI$2,'Breakout Systems'!$T$3:$T$5000,$A12) -> 20 | AJ12: =COUNTIFS('Breakout Systems'!$D$3:$D$5000,AJ$2,'Breakout Systems'!$T$3:$T$5000,$A12) -> 12 | AK12: =COUNTIFS('Breakout Systems'!$D$3:$D$5000,AK$2,'Breakout Systems'!$T$3:$T$5000,$A12) -> 10 | AL12: =COUNTIFS('Breakout Systems'!$D$3:$D$5000,AL$2,'Breakout Systems'!$T$3:$T$5000,$A12) -> 1 | AM12: =COUNTIFS('Breakout Systems'!$D$3:$D$5000,AM$2,'Breakout Systems'!$T$3:$T$5000,$A12) -> 0 | AN12: =SUMIFS('Breakout Systems'!$R$3:$R$5000,'Breakout Systems'!$D$3:$D$5000,AN$2,'Breakout Systems'!$T$3:$T$5000,$A12) -> 192 | AO12: =SUMIFS('Breakout Systems'!$R$3:$R$5000,'Breakout Systems'!$D$3:$D$5000,AO$2,'Breakout Systems'!$T$3:$T$5000,$A12) -> 288 | AP12: =SUMIFS('Breakout Systems'!$R$3:$R$5000,'Breakout Systems'!$D$3:$D$5000,AP$2,'Breakout Systems'!$T$3:$T$5000,$A12) -> 506 | AQ12: =SUMIFS('Breakout Systems'!$R$3:$R$5000,'Breakout Systems'!$D$3:$D$5000,AQ$2,'Breakout Systems'!$T$3:$T$5000,$A12) -> 489 | AR12: =SUMIFS('Breakout Systems'!$R$3:$R$5000,'Breakout Systems'!$D$3:$D$5000,AR$2,'Breakout Systems'!$T$3:$T$5000,$A12) -> 52 | AS12: =SUMIFS('Breakout Systems'!$R$3:$R$5000,'Breakout Systems'!$D$3:$D$5000,AS$2,'Breakout Systems'!$T$3:$T$5000,$A12) -> 0 | AT12: =IF(AN12=0,0,AN12/AH12) -> 6 | AU12: =IF(AO12=0,0,AO12/AI12) -> 14.4 | AV12: =IF(AP12=0,0,AP12/AJ12) -> 42.166667 | AW12: =IF(AQ12=0,0,AQ12/AK12) -> 48.9 | AX12: =IF(AR12=0,0,AR12/AL12) -> 52 | AY12: =IF(AS12=0,0,AS12/AM12) -> 0 | AZ12: =IF(AH12=0,0,SUM(AN12:AS12)/SUM(AH12:AM12)) -> 20.36 | BL12: =EOMONTH(BL11,1) -> 42308 | BM12: =F12 -> 0.50666667 | BN12: =SUM(E$3:E12)/SUM(D$3:D12) -> 0.39711191 | BO12: =W12 -> 351.16605 | BP12: =SUM(T$3:T12)/SUM(E$3:E12) -> 494.16141 | BR12: =EOMONTH(BR11,1) -> 42308 | BS12: =D12 -> 75 | BT12: =ROUND(AVERAGE(BS$3:BS12),0) -> 55 | BZ12: =C12&" "&B12 -> Oct 2015 | CA12: =IF(D12=0," ",Z12) -> 225818.95 | CB12: =IF(D12=0," ",AC12) -> 0
A13: =A12+1 -> 11 | B13: 2015 | C13: Nov | D13: =COUNTIF('Breakout Systems'!T$3:T$5000,A13) -> 83 | E13: =SUMIF('Breakout Systems'!T$3:T$5000,A13,'Breakout Systems'!Z$3:Z$5000) -> 33 | F13: =IF(D13=0,0,E13/D13) -> 0.39759036 | G13: =SUMIF('Breakout Systems'!T$3:T$5000,A13,'Breakout Systems'!AA$3:AA$5000) -> 50 | H13: =IF(D13=0,0,G13/D13) -> 0.60240964 | I13: =SUMIF('Breakout Systems'!T$3:T$5000,A13,'Breakout Systems'!V$3:V$5000) -> 42 | J13: =IF($D13=0,0,I13/$D13) -> 0.5060241 | K13: =SUMIF('Breakout Systems'!$T$3:$T$5000,$A13,'Breakout Systems'!W$3:W$5000) -> 41 | L13: =IF($D13=0,0,K13/$D13) -> 0.4939759 | M13: =SUMIF('Breakout Systems'!$T$3:$T$5000,$A13,'Breakout Systems'!X$3:X$5000) -> 54 | N13: =IF($D13=0,0,M13/$D13) -> 0.65060241 | O13: =SUMIF('Breakout Systems'!$T$3:$T$5000,$A13,'Breakout Systems'!Y$3:Y$5000) -> 29 | P13: =IF($D13=0,0,O13/$D13) -> 0.34939759 | Q13: =SUMIF('Breakout Systems'!$T$3:$T$5000,$A13,'Breakout Systems'!AB$3:AB$5000) -> 13594.11 | R13: =SUMIF('Breakout Systems'!$T$3:$T$5000,$A13,'Breakout Systems'!AD$3:AD$5000) -> -11021.74 | S13: =Q13+R13 -> 2572.37 | T13: =IF(D13=0,0,SUMIF('Breakout Systems'!T$3:T$5000,A13,'Breakout Systems'!AB$3:AB$5000)) -> 13594.11 | U13: =IF(D13=0,0,SUMIF('Breakout Systems'!T$3:T$5000,A13,'Breakout Systems'!AD$3:AD$5000)) -> -11021.74 | V13: =IF(D13=0,0,SUMIF('Breakout Systems'!T$3:T$5000,A13,'Breakout Systems'!O$3:O$5000)) -> 2572.37 | W13: =IF(D13=0,0,T13/E13) -> 411.94273 | X13: =IF(D13=0,0,U13/G13) -> -220.4348 | Y13: =IF(D13=0,0,V13/D13) -> 30.99241 | Z13: =S13+Z12 -> 228391.32 | AA13: =V13/$Z$2 -> 0.01286185 | AB13: =MAX(Z$2:Z13) -> 228391.32 | AC13: =(AB13-Z13)/Z13 -> 0 | AD13: {=MAX(IF('Breakout Systems'!T$3:T$5000=A13,'Breakout Systems'!AB$3:AB$5000))} -> 1247.54 | AE13: =IF(AD13=0,0,INDEX('Breakout Systems'!AC$3:AC$5000,(MATCH(AD13,'Breakout Systems'!AB$3:AB$5000,0)))) -> AUDCAD | AF13: {=MIN(IF('Breakout Systems'!T$3:T$5000=A13,'Breakout Systems'!AD$3:AD$5000))} -> -548.4 | AG13: =IF(AF13=0,0,INDEX('Breakout Systems'!AC$3:AC$5000,(MATCH(AF13,'Breakout Systems'!AD$3:AD$5000,0)))) -> AUDJPY | AH13: =COUNTIFS('Breakout Systems'!$D$3:$D$5000,AH$2,'Breakout Systems'!$T$3:$T$5000,$A13) -> 44 | AI13: =COUNTIFS('Breakout Systems'!$D$3:$D$5000,AI$2,'Breakout Systems'!$T$3:$T$5000,$A13) -> 27 | AJ13: =COUNTIFS('Breakout Systems'!$D$3:$D$5000,AJ$2,'Breakout Systems'!$T$3:$T$5000,$A13) -> 6 | AK13: =COUNTIFS('Breakout Systems'!$D$3:$D$5000,AK$2,'Breakout Systems'!$T$3:$T$5000,$A13) -> 5 | AL13: =COUNTIFS('Breakout Systems'!$D$3:$D$5000,AL$2,'Breakout Systems'!$T$3:$T$5000,$A13) -> 1 | AM13: =COUNTIFS('Breakout Systems'!$D$3:$D$5000,AM$2,'Breakout Systems'!$T$3:$T$5000,$A13) -> 0 | AN13: =SUMIFS('Breakout Systems'!$R$3:$R$5000,'Breakout Systems'!$D$3:$D$5000,AN$2,'Breakout Systems'!$T$3:$T$5000,$A13) -> 208 | AO13: =SUMIFS('Breakout Systems'!$R$3:$R$5000,'Breakout Systems'!$D$3:$D$5000,AO$2,'Breakout Systems'!$T$3:$T$5000,$A13) -> 224 | AP13: =SUMIFS('Breakout Systems'!$R$3:$R$5000,'Breakout Systems'!$D$3:$D$5000,AP$2,'Breakout Systems'!$T$3:$T$5000,$A13) -> 78 | AQ13: =SUMIFS('Breakout Systems'!$R$3:$R$5000,'Breakout Systems'!$D$3:$D$5000,AQ$2,'Breakout Systems'!$T$3:$T$5000,$A13) -> 242 | AR13: =SUMIFS('Breakout Systems'!$R$3:$R$5000,'Breakout Systems'!$D$3:$D$5000,AR$2,'Breakout Systems'!$T$3:$T$5000,$A13) -> 98 | AS13: =SUMIFS('Breakout Systems'!$R$3:$R$5000,'Breakout Systems'!$D$3:$D$5000,AS$2,'Breakout Systems'!$T$3:$T$5000,$A13) -> 0 | AT13: =IF(AN13=0,0,AN13/AH13) -> 4.7272727 | AU13: =IF(AO13=0,0,AO13/AI13) -> 8.2962963 | AV13: =IF(AP13=0,0,AP13/AJ13) -> 13 | AW13: =IF(AQ13=0,0,AQ13/AK13) -> 48.4 | AX13: =IF(AR13=0,0,AR13/AL13) -> 98 | AY13: =IF(AS13=0,0,AS13/AM13) -> 0 | AZ13: =IF(AH13=0,0,SUM(AN13:AS13)/SUM(AH13:AM13)) -> 10.240964 | BL13: =EOMONTH(BL12,1) -> 42338 | BM13: =F13 -> 0.39759036 | BN13: =SUM(E$3:E13)/SUM(D$3:D13) -> 0.39717425 | BO13: =W13 -> 411.94273 | BP13: =SUM(T$3:T13)/SUM(E$3:E13) -> 483.43723 | BR13: =EOMONTH(BR12,1) -> 42338 | BS13: =D13 -> 83 | BT13: =ROUND(AVERAGE(BS$3:BS13),0) -> 58 | BZ13: =C13&" "&B13 -> Nov 2015 | CA13: =IF(D13=0," ",Z13) -> 228391.32 | CB13: =IF(D13=0," ",AC13) -> 0
A14: =A13+1 -> 12 | B14: 2015 | C14: Dec | D14: =COUNTIF('Breakout Systems'!T$3:T$5000,A14) -> 147 | E14: =SUMIF('Breakout Systems'!T$3:T$5000,A14,'Breakout Systems'!Z$3:Z$5000) -> 61 | F14: =IF(D14=0,0,E14/D14) -> 0.41496599 | G14: =SUMIF('Breakout Systems'!T$3:T$5000,A14,'Breakout Systems'!AA$3:AA$5000) -> 86 | H14: =IF(D14=0,0,G14/D14) -> 0.58503401 | I14: =SUMIF('Breakout Systems'!T$3:T$5000,A14,'Breakout Systems'!V$3:V$5000) -> 70 | J14: =IF($D14=0,0,I14/$D14) -> 0.47619048 | K14: =SUMIF('Breakout Systems'!$T$3:$T$5000,$A14,'Breakout Systems'!W$3:W$5000) -> 77 | L14: =IF($D14=0,0,K14/$D14) -> 0.52380952 | M14: =SUMIF('Breakout Systems'!$T$3:$T$5000,$A14,'Breakout Systems'!X$3:X$5000) -> 86 | N14: =IF($D14=0,0,M14/$D14) -> 0.58503401 | O14: =SUMIF('Breakout Systems'!$T$3:$T$5000,$A14,'Breakout Systems'!Y$3:Y$5000) -> 61 | P14: =IF($D14=0,0,O14/$D14) -> 0.41496599 | Q14: =SUMIF('Breakout Systems'!$T$3:$T$5000,$A14,'Breakout Systems'!AB$3:AB$5000) -> 33239.57 | R14: =SUMIF('Breakout Systems'!$T$3:$T$5000,$A14,'Breakout Systems'!AD$3:AD$5000) -> -21758.28 | S14: =Q14+R14 -> 11481.29 | T14: =IF(D14=0,0,SUMIF('Breakout Systems'!T$3:T$5000,A14,'Breakout Systems'!AB$3:AB$5000)) -> 33239.57 | U14: =IF(D14=0,0,SUMIF('Breakout Systems'!T$3:T$5000,A14,'Breakout Systems'!AD$3:AD$5000)) -> -21758.28 | V14: =IF(D14=0,0,SUMIF('Breakout Systems'!T$3:T$5000,A14,'Breakout Systems'!O$3:O$5000)) -> 11481.29 | W14: =IF(D14=0,0,T14/E14) -> 544.91098 | X14: =IF(D14=0,0,U14/G14) -> -253.00326 | Y14: =IF(D14=0,0,V14/D14) -> 78.104014 | Z14: =S14+Z13 -> 239872.61 | AA14: =V14/$Z$2 -> 0.05740645 | AB14: =MAX(Z$2:Z14) -> 239872.61 | AC14: =(AB14-Z14)/Z14 -> 0 | AD14: {=MAX(IF('Breakout Systems'!T$3:T$5000=A14,'Breakout Systems'!AB$3:AB$5000))} -> 1708.05 | AE14: =IF(AD14=0,0,INDEX('Breakout Systems'!AC$3:AC$5000,(MATCH(AD14,'Breakout Systems'!AB$3:AB$5000,0)))) -> CADJPY | AF14: {=MIN(IF('Breakout Systems'!T$3:T$5000=A14,'Breakout Systems'!AD$3:AD$5000))} -> -916.8 | AG14: =IF(AF14=0,0,INDEX('Breakout Systems'!AC$3:AC$5000,(MATCH(AF14,'Breakout Systems'!AD$3:AD$5000,0)))) -> EURAUD | AH14: =COUNTIFS('Breakout Systems'!$D$3:$D$5000,AH$2,'Breakout Systems'!$T$3:$T$5000,$A14) -> 78 | AI14: =COUNTIFS('Breakout Systems'!$D$3:$D$5000,AI$2,'Breakout Systems'!$T$3:$T$5000,$A14) -> 42 | AJ14: =COUNTIFS('Breakout Systems'!$D$3:$D$5000,AJ$2,'Breakout Systems'!$T$3:$T$5000,$A14) -> 17 | AK14: =COUNTIFS('Breakout Systems'!$D$3:$D$5000,AK$2,'Breakout Systems'!$T$3:$T$5000,$A14) -> 6 | AL14: =COUNTIFS('Breakout Systems'!$D$3:$D$5000,AL$2,'Breakout Systems'!$T$3:$T$5000,$A14) -> 1 | AM14: =COUNTIFS('Breakout Systems'!$D$3:$D$5000,AM$2,'Breakout Systems'!$T$3:$T$5000,$A14) -> 3 | AN14: =SUMIFS('Breakout Systems'!$R$3:$R$5000,'Breakout Systems'!$D$3:$D$5000,AN$2,'Breakout Systems'!$T$3:$T$5000,$A14) -> 373 | AO14: =SUMIFS('Breakout Systems'!$R$3:$R$5000,'Breakout Systems'!$D$3:$D$5000,AO$2,'Breakout Systems'!$T$3:$T$5000,$A14) -> 391 | AP14: =SUMIFS('Breakout Systems'!$R$3:$R$5000,'Breakout Systems'!$D$3:$D$5000,AP$2,'Breakout Systems'!$T$3:$T$5000,$A14) -> 226 | AQ14: =SUMIFS('Breakout Systems'!$R$3:$R$5000,'Breakout Systems'!$D$3:$D$5000,AQ$2,'Breakout Systems'!$T$3:$T$5000,$A14) -> 444 | AR14: =SUMIFS('Breakout Systems'!$R$3:$R$5000,'Breakout Systems'!$D$3:$D$5000,AR$2,'Breakout Systems'!$T$3:$T$5000,$A14) -> 156 | AS14: =SUMIFS('Breakout Systems'!$R$3:$R$5000,'Breakout Systems'!$D$3:$D$5000,AS$2,'Breakout Systems'!$T$3:$T$5000,$A14) -> 336 | AT14: =IF(AN14=0,0,AN14/AH14) -> 4.7820513 | AU14: =IF(AO14=0,0,AO14/AI14) -> 9.3095238 | AV14: =IF(AP14=0,0,AP14/AJ14) -> 13.294118 | AW14: =IF(AQ14=0,0,AQ14/AK14) -> 74 | AX14: =IF(AR14=0,0,AR14/AL14) -> 156 | AY14: =IF(AS14=0,0,AS14/AM14) -> 112 | AZ14: =IF(AH14=0,0,SUM(AN14:AS14)/SUM(AH14:AM14)) -> 13.102041 | BL14: =EOMONTH(BL13,1) -> 42369 | BM14: =F14 -> 0.41496599 | BN14: =SUM(E$3:E14)/SUM(D$3:D14) -> 0.4005102 | BO14: =W14 -> 544.91098 | BP14: =SUM(T$3:T14)/SUM(E$3:E14) -> 495.37959 | BR14: =EOMONTH(BR13,1) -> 42369 | BS14: =D14 -> 147 | BT14: =ROUND(AVERAGE(BS$3:BS14),0) -> 65 | BZ14: =C14&" "&B14 -> Dec 2015 | CA14: =IF(D14=0," ",Z14) -> 239872.61 | CB14: =IF(D14=0," ",AC14) -> 0
A15: =A14+1 -> 13 | B15: =B14+1 -> 2016 | C15: Jan | D15: =COUNTIF('Breakout Systems'!T$3:T$5000,A15) -> 155 | E15: =SUMIF('Breakout Systems'!T$3:T$5000,A15,'Breakout Systems'!Z$3:Z$5000) -> 62 | F15: =IF(D15=0,0,E15/D15) -> 0.4 | G15: =SUMIF('Breakout Systems'!T$3:T$5000,A15,'Breakout Systems'!AA$3:AA$5000) -> 93 | H15: =IF(D15=0,0,G15/D15) -> 0.6 | I15: =SUMIF('Breakout Systems'!T$3:T$5000,A15,'Breakout Systems'!V$3:V$5000) -> 53 | J15: =IF($D15=0,0,I15/$D15) -> 0.34193548 | K15: =SUMIF('Breakout Systems'!$T$3:$T$5000,$A15,'Breakout Systems'!W$3:W$5000) -> 102 | L15: =IF($D15=0,0,K15/$D15) -> 0.65806452 | M15: =SUMIF('Breakout Systems'!$T$3:$T$5000,$A15,'Breakout Systems'!X$3:X$5000) -> 94 | N15: =IF($D15=0,0,M15/$D15) -> 0.60645161 | O15: =SUMIF('Breakout Systems'!$T$3:$T$5000,$A15,'Breakout Systems'!Y$3:Y$5000) -> 61 | P15: =IF($D15=0,0,O15/$D15) -> 0.39354839 | Q15: =SUMIF('Breakout Systems'!$T$3:$T$5000,$A15,'Breakout Systems'!AB$3:AB$5000) -> 41526.44 | R15: =SUMIF('Breakout Systems'!$T$3:$T$5000,$A15,'Breakout Systems'!AD$3:AD$5000) -> -22772.93 | S15: =Q15+R15 -> 18753.51 | T15: =IF(D15=0,0,SUMIF('Breakout Systems'!T$3:T$5000,A15,'Breakout Systems'!AB$3:AB$5000)) -> 41526.44 | U15: =IF(D15=0,0,SUMIF('Breakout Systems'!T$3:T$5000,A15,'Breakout Systems'!AD$3:AD$5000)) -> -22772.93 | V15: =IF(D15=0,0,SUMIF('Breakout Systems'!T$3:T$5000,A15,'Breakout Systems'!O$3:O$5000)) -> 18753.51 | W15: =IF(D15=0,0,T15/E15) -> 669.78129 | X15: =IF(D15=0,0,U15/G15) -> -244.87022 | Y15: =IF(D15=0,0,V15/D15) -> 120.99039 | Z15: =S15+Z14 -> 258626.12 | AA15: =V15/$Z$2 -> 0.09376755 | AB15: =MAX(Z$2:Z15) -> 258626.12 | AC15: =(AB15-Z15)/Z15 -> 0 | AD15: {=MAX(IF('Breakout Systems'!T$3:T$5000=A15,'Breakout Systems'!AB$3:AB$5000))} -> 3442.36 | AE15: =IF(AD15=0,0,INDEX('Breakout Systems'!AC$3:AC$5000,(MATCH(AD15,'Breakout Systems'!AB$3:AB$5000,0)))) -> CADJPY | AF15: {=MIN(IF('Breakout Systems'!T$3:T$5000=A15,'Breakout Systems'!AD$3:AD$5000))} -> -625.6 | AG15: =IF(AF15=0,0,INDEX('Breakout Systems'!AC$3:AC$5000,(MATCH(AF15,'Breakout Systems'!AD$3:AD$5000,0)))) -> NIK | AH15: =COUNTIFS('Breakout Systems'!$D$3:$D$5000,AH$2,'Breakout Systems'!$T$3:$T$5000,$A15) -> 86 | AI15: =COUNTIFS('Breakout Systems'!$D$3:$D$5000,AI$2,'Breakout Systems'!$T$3:$T$5000,$A15) -> 39 | AJ15: =COUNTIFS('Breakout Systems'!$D$3:$D$5000,AJ$2,'Breakout Systems'!$T$3:$T$5000,$A15) -> 21 | AK15: =COUNTIFS('Breakout Systems'!$D$3:$D$5000,AK$2,'Breakout Systems'!$T$3:$T$5000,$A15) -> 6 | AL15: =COUNTIFS('Breakout Systems'!$D$3:$D$5000,AL$2,'Breakout Systems'!$T$3:$T$5000,$A15) -> 2 | AM15: =COUNTIFS('Breakout Systems'!$D$3:$D$5000,AM$2,'Breakout Systems'!$T$3:$T$5000,$A15) -> 1 | AN15: =SUMIFS('Breakout Systems'!$R$3:$R$5000,'Breakout Systems'!$D$3:$D$5000,AN$2,'Breakout Systems'!$T$3:$T$5000,$A15) -> 289 | AO15: =SUMIFS('Breakout Systems'!$R$3:$R$5000,'Breakout Systems'!$D$3:$D$5000,AO$2,'Breakout Systems'!$T$3:$T$5000,$A15) -> 264 | AP15: =SUMIFS('Breakout Systems'!$R$3:$R$5000,'Breakout Systems'!$D$3:$D$5000,AP$2,'Breakout Systems'!$T$3:$T$5000,$A15) -> 376 | AQ15: =SUMIFS('Breakout Systems'!$R$3:$R$5000,'Breakout Systems'!$D$3:$D$5000,AQ$2,'Breakout Systems'!$T$3:$T$5000,$A15) -> 126 | AR15: =SUMIFS('Breakout Systems'!$R$3:$R$5000,'Breakout Systems'!$D$3:$D$5000,AR$2,'Breakout Systems'!$T$3:$T$5000,$A15) -> 534 | AS15: =SUMIFS('Breakout Systems'!$R$3:$R$5000,'Breakout Systems'!$D$3:$D$5000,AS$2,'Breakout Systems'!$T$3:$T$5000,$A15) -> 307 | AT15: =IF(AN15=0,0,AN15/AH15) -> 3.3604651 | AU15: =IF(AO15=0,0,AO15/AI15) -> 6.7692308 | AV15: =IF(AP15=0,0,AP15/AJ15) -> 17.904762 | AW15: =IF(AQ15=0,0,AQ15/AK15) -> 21 | AX15: =IF(AR15=0,0,AR15/AL15) -> 267 | AY15: =IF(AS15=0,0,AS15/AM15) -> 307 | AZ15: =IF(AH15=0,0,SUM(AN15:AS15)/SUM(AH15:AM15)) -> 12.232258 | BL15: =EOMONTH(BL14,1) -> 42400 | BM15: =F15 -> 0.4 | BN15: =SUM(E$3:E15)/SUM(D$3:D15) -> 0.40042599 | BO15: =W15 -> 669.78129 | BP15: =SUM(T$3:T15)/SUM(E$3:E15) -> 524.13731 | BR15: =EOMONTH(BR14,1) -> 42400 | BS15: =D15 -> 155 | BT15: =ROUND(AVERAGE(BS$3:BS15),0) -> 72 | BZ15: =C15&" "&B15 -> Jan 2016 | CA15: =IF(D15=0," ",Z15) -> 258626.12 | CB15: =IF(D15=0," ",AC15) -> 0
A16: =A15+1 -> 14 | B16: =B15 -> 2016 | C16: Feb | D16: =COUNTIF('Breakout Systems'!T$3:T$5000,A16) -> 89 | E16: =SUMIF('Breakout Systems'!T$3:T$5000,A16,'Breakout Systems'!Z$3:Z$5000) -> 30 | F16: =IF(D16=0,0,E16/D16) -> 0.33707865 | G16: =SUMIF('Breakout Systems'!T$3:T$5000,A16,'Breakout Systems'!AA$3:AA$5000) -> 59 | H16: =IF(D16=0,0,G16/D16) -> 0.66292135 | I16: =SUMIF('Breakout Systems'!T$3:T$5000,A16,'Breakout Systems'!V$3:V$5000) -> 40 | J16: =IF($D16=0,0,I16/$D16) -> 0.4494382 | K16: =SUMIF('Breakout Systems'!$T$3:$T$5000,$A16,'Breakout Systems'!W$3:W$5000) -> 49 | L16: =IF($D16=0,0,K16/$D16) -> 0.5505618 | M16: =SUMIF('Breakout Systems'!$T$3:$T$5000,$A16,'Breakout Systems'!X$3:X$5000) -> 49 | N16: =IF($D16=0,0,M16/$D16) -> 0.5505618 | O16: =SUMIF('Breakout Systems'!$T$3:$T$5000,$A16,'Breakout Systems'!Y$3:Y$5000) -> 40 | P16: =IF($D16=0,0,O16/$D16) -> 0.4494382 | Q16: =SUMIF('Breakout Systems'!$T$3:$T$5000,$A16,'Breakout Systems'!AB$3:AB$5000) -> 17413.66 | R16: =SUMIF('Breakout Systems'!$T$3:$T$5000,$A16,'Breakout Systems'!AD$3:AD$5000) -> -17012.56 | S16: =Q16+R16 -> 401.1 | T16: =IF(D16=0,0,SUMIF('Breakout Systems'!T$3:T$5000,A16,'Breakout Systems'!AB$3:AB$5000)) -> 17413.66 | U16: =IF(D16=0,0,SUMIF('Breakout Systems'!T$3:T$5000,A16,'Breakout Systems'!AD$3:AD$5000)) -> -17012.56 | V16: =IF(D16=0,0,SUMIF('Breakout Systems'!T$3:T$5000,A16,'Breakout Systems'!O$3:O$5000)) -> 401.1 | W16: =IF(D16=0,0,T16/E16) -> 580.45533 | X16: =IF(D16=0,0,U16/G16) -> -288.34847 | Y16: =IF(D16=0,0,V16/D16) -> 4.5067416 | Z16: =S16+Z15 -> 259027.22 | AA16: =V16/$Z$2 -> 0.0020055 | AB16: =MAX(Z$2:Z16) -> 259027.22 | AC16: =(AB16-Z16)/Z16 -> 0 | AD16: {=MAX(IF('Breakout Systems'!T$3:T$5000=A16,'Breakout Systems'!AB$3:AB$5000))} -> 2745.81 | AE16: =IF(AD16=0,0,INDEX('Breakout Systems'!AC$3:AC$5000,(MATCH(AD16,'Breakout Systems'!AB$3:AB$5000,0)))) -> XAUUSD | AF16: {=MIN(IF('Breakout Systems'!T$3:T$5000=A16,'Breakout Systems'!AD$3:AD$5000))} -> -851.89 | AG16: =IF(AF16=0,0,INDEX('Breakout Systems'!AC$3:AC$5000,(MATCH(AF16,'Breakout Systems'!AD$3:AD$5000,0)))) -> EURAUD | AH16: =COUNTIFS('Breakout Systems'!$D$3:$D$5000,AH$2,'Breakout Systems'!$T$3:$T$5000,$A16) -> 42 | AI16: =COUNTIFS('Breakout Systems'!$D$3:$D$5000,AI$2,'Breakout Systems'!$T$3:$T$5000,$A16) -> 26 | AJ16: =COUNTIFS('Breakout Systems'!$D$3:$D$5000,AJ$2,'Breakout Systems'!$T$3:$T$5000,$A16) -> 11 | AK16: =COUNTIFS('Breakout Systems'!$D$3:$D$5000,AK$2,'Breakout Systems'!$T$3:$T$5000,$A16) -> 5 | AL16: =COUNTIFS('Breakout Systems'!$D$3:$D$5000,AL$2,'Breakout Systems'!$T$3:$T$5000,$A16) -> 3 | AM16: =COUNTIFS('Breakout Systems'!$D$3:$D$5000,AM$2,'Breakout Systems'!$T$3:$T$5000,$A16) -> 2 | AN16: =SUMIFS('Breakout Systems'!$R$3:$R$5000,'Breakout Systems'!$D$3:$D$5000,AN$2,'Breakout Systems'!$T$3:$T$5000,$A16) -> 174 | AO16: =SUMIFS('Breakout Systems'!$R$3:$R$5000,'Breakout Systems'!$D$3:$D$5000,AO$2,'Breakout Systems'!$T$3:$T$5000,$A16) -> 160 | AP16: =SUMIFS('Breakout Systems'!$R$3:$R$5000,'Breakout Systems'!$D$3:$D$5000,AP$2,'Breakout Systems'!$T$3:$T$5000,$A16) -> 129 | AQ16: =SUMIFS('Breakout Systems'!$R$3:$R$5000,'Breakout Systems'!$D$3:$D$5000,AQ$2,'Breakout Systems'!$T$3:$T$5000,$A16) -> 142 | AR16: =SUMIFS('Breakout Systems'!$R$3:$R$5000,'Breakout Systems'!$D$3:$D$5000,AR$2,'Breakout Systems'!$T$3:$T$5000,$A16) -> 431 | AS16: =SUMIFS('Breakout Systems'!$R$3:$R$5000,'Breakout Systems'!$D$3:$D$5000,AS$2,'Breakout Systems'!$T$3:$T$5000,$A16) -> 448 | AT16: =IF(AN16=0,0,AN16/AH16) -> 4.1428571 | AU16: =IF(AO16=0,0,AO16/AI16) -> 6.1538462 | AV16: =IF(AP16=0,0,AP16/AJ16) -> 11.727273 | AW16: =IF(AQ16=0,0,AQ16/AK16) -> 28.4 | AX16: =IF(AR16=0,0,AR16/AL16) -> 143.66667 | AY16: =IF(AS16=0,0,AS16/AM16) -> 224 | AZ16: =IF(AH16=0,0,SUM(AN16:AS16)/SUM(AH16:AM16)) -> 16.674157 | BL16: =EOMONTH(BL15,1) -> 42429 | BM16: =F16 -> 0.33707865 | BN16: =SUM(E$3:E16)/SUM(D$3:D16) -> 0.39494163 | BO16: =W16 -> 580.45533 | BP16: =SUM(T$3:T16)/SUM(E$3:E16) -> 528.29874 | BR16: =EOMONTH(BR15,1) -> 42429 | BS16: =D16 -> 89 | BT16: =ROUND(AVERAGE(BS$3:BS16),0) -> 73 | BZ16: =C16&" "&B16 -> Feb 2016 | CA16: =IF(D16=0," ",Z16) -> 259027.22 | CB16: =IF(D16=0," ",AC16) -> 0
