Workbook

Sheet USDJPY H1
A1: No. | B1: Symbol | C1: Open Date | D1: Open Time | E1: Type | F1: Open Price | G1: S/L | H1: Rationale | I1: Close Date | J1: Close Time | K1: Close Price | L1: Pip P/L | M1: Trade Type | N1: TDI Level | O1: HA Color | P1: Trend | Q1: 5 SMA Cross | R1: Remarks | S1: Chartshot
A2: 1 | B2: USDJPY | C2: 42523 | D2: 0.875 | E2: Sell | F2: 108.764 | G2: 109.055 | H2: 2 candle high | I2: 42523 | J2: 0.91666667 | K2: 108.601 | L2: =_xlfn.IFS(E2="Sell",(F2-K2)*100,E2="Buy",(K2-F2)*100) -> 16.3 | M2: Cross | N2: Below 32 | O2: OK | P2: OK | Q2: OK | S2: http://fxpro.ctrader.com/images/screens/PzVpn.png
A3: 2 | B3: USDJPY | C3: 42524 | D3: 0.041666667 | E3: Buy | F3: 108.728 | G3: 108.521 | H3: 3 candle low | I3: 42524 | J3: 0.083333333 | K3: 108.883 | L3: =_xlfn.IFS(E3="Sell",(F3-K3)*100,E3="Buy",(K3-F3)*100) -> 15.5 | M3: Cross | N3: Above 32 | O3: OK | P3: NOK | Q3: OK | S3: http://fxpro.ctrader.com/images/screens/2zVpn.png
A4: 3 | B4: USDJPY | C4: 42524 | D4: 0.33333333 | E4: Buy | F4: 108.864 | G4: 108.743 | H4: 2 candle low | I4: 42524 | J4: 0.375 | K4: 108.922 | L4: =_xlfn.IFS(E4="Sell",(F4-K4)*100,E4="Buy",(K4-F4)*100) -> 5.8 | M4: Cross | N4: Above 32 | O4: OK | P4: NOK | Q4: OK | S4: http://fxpro.ctrader.com/images/screens/ZzVpn.png
A5: 4 | B5: USDJPY | C5: 42524 | D5: 0.5 | E5: Sell | F5: 108.832 | G5: 109.133 | H5: 3 candle high | I5: 42524 | J5: 0.54166667 | K5: 108.664 | L5: =_xlfn.IFS(E5="Sell",(F5-K5)*100,E5="Buy",(K5-F5)*100) -> 16.8 | M5: Cross | N5: Above 32 | O5: OK | P5: OK | Q5: OK | S5: http://fxpro.ctrader.com/images/screens/4zVpn.png
A6: 5 | B6: USDJPY | C6: 42524 | D6: 0.66666667 | E6: Buy | F6: 108.746 | G6: 108.579 | H6: 3 candle low | I6: 42524 | J6: 0.75 | K6: 108.926 | L6: =_xlfn.IFS(E6="Sell",(F6-K6)*100,E6="Buy",(K6-F6)*100) -> 18 | M6: Cross | N6: Above 32 | O6: OK | P6: NOK | Q6: OK | S6: http://fxpro.ctrader.com/images/screens/LzVpn.png
A7: 6 | B7: USDJPY | C7: 42524 | D7: 0.83333333 | E7: Sell | F7: 108.874 | G7: 109.022 | H7: 2 candle high | I7: 42524 | J7: 0.91666667 | K7: 106.77 | L7: =_xlfn.IFS(E7="Sell",(F7-K7)*100,E7="Buy",(K7-F7)*100) -> 210.4 | M7: Cross | N7: Above 32 | O7: OK | P7: OK | Q7: OK | S7: http://fxpro.ctrader.com/images/screens/SzVpn.png
A8: 7 | B8: USDJPY | C8: 42527 | D8: 0.29166667 | E8: Buy | F8: 106.683 | G8: 106.365 | H8: 2 candle low | I8: 42892 | J8: 0.45833333 | K8: 107.042 | L8: =_xlfn.IFS(E8="Sell",(F8-K8)*100,E8="Buy",(K8-F8)*100) -> 35.9 | M8: Cross | N8: Below 32 | O8: OK | P8: OK | Q8: OK | S8: http://fxpro.ctrader.com/images/screens/czVpn.png
A9: 8 | B9: USDJPY | C9: 42527 | D9: 0.625 | E9: Buy | F9: 107.031 | G9: 106.867 | H9: 3 candle low | I9: 42527 | J9: 0.66666667 | K9: 107.164 | L9: =_xlfn.IFS(E9="Sell",(F9-K9)*100,E9="Buy",(K9-F9)*100) -> 13.3 | M9: Bounce | N9: Above 32 | O9: OK | P9: OK | Q9: OK | S9: http://fxpro.ctrader.com/images/screens/BzVpn.png
A10: 9 | B10: USDJPY | C10: 42527 | D10: 0.91666667 | E10: Buy | F10: 107.152 | G10: 107 | H10: 2 candle low | I10: 42527 | J10: 0.95833333 | K10: 107.335 | L10: =_xlfn.IFS(E10="Sell",(F10-K10)*100,E10="Buy",(K10-F10)*100) -> 18.3 | M10: Bounce | N10: Above 32 | O10: OK | P10: OK | Q10: OK | S10: http://fxpro.ctrader.com/images/screens/bRVpn.png
A11: 10 | B11: USDJPY | C11: 42528 | D11: 0.041666667 | E11: Sell | F11: 106.939 | G11: 107.556 | H11: 2 candle high | I11: 42528 | J11: 0.083333333 | K11: 107.251 | L11: =_xlfn.IFS(E11="Sell",(F11-K11)*100,E11="Buy",(K11-F11)*100) -> -31.2 | M11: Cross | N11: Above 32 | O11: OK | P11: NOK | Q11: OK | S11: http://fxpro.ctrader.com/images/screens/6RVpn.png
A12: 11 | B12: USDJPY | C12: 42528 | D12: 0.125 | E12: Buy | F12: 107.38 | G12: 106.835 | H12: 3 candle low | I12: 42528 | J12: 0.16666667 | K12: 107.541 | L12: =_xlfn.IFS(E12="Sell",(F12-K12)*100,E12="Buy",(K12-F12)*100) -> 16.1 | M12: Cross | N12: Below 68 | O12: OK | P12: OK | Q12: OK | S12: http://fxpro.ctrader.com/images/screens/7RVpn.png
A13: 12 | B13: USDJPY | C13: 42528 | D13: 0.33333333 | E13: Sell | F13: 107.452 | G13: 107.57 | H13: 3 candle high | I13: 42528 | J13: 0.375 | K13: 107.57 | L13: =_xlfn.IFS(E13="Sell",(F13-K13)*100,E13="Buy",(K13-F13)*100) -> -11.8 | M13: Cross | N13: Below 68 | O13: OK | P13: NOK | Q13: OK | R13: SL hit | S13: http://fxpro.ctrader.com/images/screens/QRVpn.png
A14: 13 | B14: USDJPY | C14: 42528 | D14: 0.45833333 | E14: Buy | F14: 107.738 | G14: 107.218 | H14: 3 candle low | I14: 42528 | J14: 0.45833333 | K14: 107.817 | L14: =_xlfn.IFS(E14="Sell",(F14-K14)*100,E14="Buy",(K14-F14)*100) -> 7.9 | M14: Cross | N14: Below 68 | O14: OK | P14: OK | Q14: OK | S14: http://fxpro.ctrader.com/images/screens/mRVpn.png
A15: 14 | B15: USDJPY | C15: 42528 | D15: 0.58333333 | E15: Sell | F15: 107.655 | G15: 107.884 | H15: 3 candle high | I15: 42528 | J15: 0.625 | K15: 107.583 | L15: =_xlfn.IFS(E15="Sell",(F15-K15)*100,E15="Buy",(K15-F15)*100) -> 7.2 | M15: Cross | N15: Below 68 | O15: OK | P15: NOK | Q15: NOK | S15: http://fxpro.ctrader.com/images/screens/CRVpn.png
A16: 15 | B16: USDJPY | C16: 42528 | D16: 0.83333333 | E16: Sell | F16: 107.715 | G16: 107.9 | H16: 3 candle high | I16: 42528 | J16: 0.91666667 | K16: 107.222 | L16: =_xlfn.IFS(E16="Sell",(F16-K16)*100,E16="Buy",(K16-F16)*100) -> 49.3 | M16: Cross | N16: Below 68 | O16: OK | P16: NOK | Q16: NOK | S16: http://fxpro.ctrader.com/images/screens/KRVpn.png
A17: 16 | B17: USDJPY | C17: 42529 | D17: 0.083333333 | E17: Sell | F17: 107.265 | G17: 107.449 | H17: 2 candle high | I17: 42529 | J17: 0.125 | K17: 107.304 | L17: =_xlfn.IFS(E17="Sell",(F17-K17)*100,E17="Buy",(K17-F17)*100) -> -3.9 | M17: Bounce | N17: Above 32 | O17: OK | P17: OK | Q17: OK | S17: http://fxpro.ctrader.com/images/screens/4yvpn.png
A18: 17 | B18: USDJPY | C18: 42529 | D18: 0.16666667 | E18: Buy | F18: 107.332 | G18: 107.238 | H18: 2 candle low | I18: 42529 | J18: 0.20833333 | K18: 107.341 | L18: =_xlfn.IFS(E18="Sell",(F18-K18)*100,E18="Buy",(K18-F18)*100) -> 0.9 | M18: Cross | N18: Above 32 | O18: OK | P18: NOK | Q18: OK | R18: Loss due to commission | S18: http://fxpro.ctrader.com/images/screens/Wyvpn.png
A19: 18 | B19: USDJPY | C19: 42529 | D19: 0.33333333 | E19: Sell | F19: 107.292 | G19: 107.382 | H19: 2 candle high | I19: 42529 | J19: 0.375 | K19: 106.743 | L19: =_xlfn.IFS(E19="Sell",(F19-K19)*100,E19="Buy",(K19-F19)*100) -> 54.9 | M19: Cross | N19: Above 32 | O19: OK | P19: OK | Q19: OK | S19: http://fxpro.ctrader.com/images/screens/Hyvpn.png
A20: 19 | B20: USDJPY | C20: 42529 | D20: 0.5 | E20: Buy | F20: 107.201 | G20: 106.719 | H20: 3 candle low | I20: 42529 | J20: 0.54166667 | K20: 107.013 | L20: =_xlfn.IFS(E20="Sell",(F20-K20)*100,E20="Buy",(K20-F20)*100) -> -18.8 | M20: Cross | N20: Above 32 | O20: OK | P20: NOK | Q20: NOK | S20: http://fxpro.ctrader.com/images/screens/yFvpn.png
A21: 20 | B21: USDJPY | C21: 42529 | D21: 0.58333333 | E21: Buy | F21: 107.091 | G21: 106.869 | H21: 2 candle low | I21: 42529 | J21: 0.625 | K21: 107.113 | L21: =_xlfn.IFS(E21="Sell",(F21-K21)*100,E21="Buy",(K21-F21)*100) -> 2.2 | M21: Bounce | N21: Above 32 | O21: OK | P21: NOK | Q21: OK | R21: Break-even due to commission | S21: http://fxpro.ctrader.com/images/screens/QFvpn.png
A22: 21 | B22: USDJPY | C22: 42529 | D22: 0.875 | E22: Sell | F22: 106.952 | G22: 107.181 | H22: 3 candle high | I22: 42529 | J22: 0.95833333 | K22: 106.672 | L22: =_xlfn.IFS(E22="Sell",(F22-K22)*100,E22="Buy",(K22-F22)*100) -> 28 | M22: Cross | N22: Above 32 | O22: OK | P22: OK | Q22: OK | S22: http://fxpro.ctrader.com/images/screens/bJvpn.png

Sheet USDJPY H1 Stats
A2: Timeframe | B2: H1
A3: Currency Pair | B3: USDJPY
A5: Pips P/L | B5: =SUM('USDJPY H1'!L:L) -> 451.1
A6: Ave Win (Pips) | B6: =AVERAGEIF('USDJPY H1'!L:L,">0") -> 30.4
A7: Ave Loss (Pips) | B7: =AVERAGEIF('USDJPY H1'!L:L,"<0") -> -16.425
A8: Ave RRR | B8: =B6/(-1*B7) -> 1.8508371
A9: Total Win | B9: =COUNTIF('USDJPY H1'!L:L,">0") -> 17
A10: Total Loss | B10: =COUNTIF('USDJPY H1'!L:L,"<0") -> 4
A11: Total Trades | B11: =COUNT('USDJPY H1'!L:L) -> 21
A12: Win Ratio | B12: =B9/B11 -> 0.80952381
A14: Kelly Ratio (Wins) | B14: =((B12*B8)-(1-B12))/B8 -> 0.70661028
A15: Kelly Ratio (50-50) | B15: =((0.5*B8)-(1-0.5))/B8 -> 0.22985197
