Workbook

Sheet Summary
A1: =MAX('Trade Details'!T3:T5000) -> 9 | B1: Trade Statistics - Closed Trades Only - DTTR | AH1: Trades by Timeframe | AN1: Days Held by Timeframe | AT1: Avge Days Held by Timeframe | BB1: Overview | CA1: Equity | CB1: Drawdown
A2: Month# | B2: Year | C2: Month | D2: Trades | E2: Wins | F2: Pwin% | G2: Losses | H2: Ploss% | I2: Long | J2: Long % | K2: Short | L2: Short % | M2: In-Trend | N2: InTrend % | O2: C-Trend | P2: C-Trend % | Q2: Win$ | R2: Loss$ | S2: Profit$ | T2: Total Win$ | U2: Total Loss$ | V2: Profit $ | W2: Avg Win$ | X2: Avg Loss$ | Y2: Avg Profit $ | Z2: 200000 | AA2: Return% | AB2: Max Equity | AC2: Draw % | AD2: Max Win | AE2: Market | AF2: Max Loss | AG2: Market | AH2: M30 | AI2: H1 | AJ2: H4 | AK2: D1 | AL2: W1 | AM2: MN | AN2: M30 | AO2: H1 | AP2: H4 | AQ2: D1 | AR2: W1 | AS2: MN | AT2: M30 | AU2: H1 | AV2: H4 | AW2: D1 | AX2: W1 | AY2: MN | AZ2: Total | BB2: This portfolio crawls along when compared to the multi-timeframe discretionary breakout strategies however it is fast becoming my preferred strategy. The very selective trade entries combined with the restriction to the D1 timeframe results in few and far between trades, but what a breath of fresh air. This strategy reminds me of some of my favourite long term wealth building techniques like DIBS and the Equity Millipede. We could be holding some of these positions for years providing that market structure is maintained. While trend trading in general has been difficult over the past month or so, unrealised profit in the portfolio is growing to heady levels. Bugatti Veyron here we come. This just goes to demonstrate that we really don't need to trade lower timeframes. A far more peaceful and profitable trading life can be enjoyed out in the longer term timeframes. This is also evident when looking at the most successful CTA's in the industry (eg. Dreiss and DUNN) who trade the weekly timeframes. Once again, it demonstrates that over-trading is the greatest enemy for the trader. It unnecessarily introduces drawdowns into the system and also significantly increases the trading cost base associated with trade frictional costs (spread, SWAP and slippage). Given the mean reversion nature of this strategy back into the primary trend, this system complements the discretionary break-out strategies of the prior post. The retracement entry versus the breakout is sufficient to create a distinctive equity curve that allows for additional returns to be generated with a reduced risk. When trend breakouts are few and far between, this strategy will shine attributed to mean reversion activity. | BL2: Date | BM2: Pwin | BN2: Cum Pwin | BO2: Avg Win$ | BP2: Cum Avg Win$ | BR2: Date | BS2: Total Trades | BT2: Avge Trades | BZ2: 42004 | CB2: 0
A3: 1 | B3: 2016 | C3: Jan | D3: =COUNTIF('Trade Details'!T$3:T$5000,A3) -> 0 | E3: =SUMIF('Trade Details'!T$3:T$5000,A3,'Trade Details'!Z$3:Z$5000) -> 0 | F3: =IF(D3=0,0,E3/D3) -> 0 | G3: =SUMIF('Trade Details'!T$3:T$5000,A3,'Trade Details'!AA$3:AA$5000) -> 0 | H3: =IF(D3=0,0,G3/D3) -> 0 | I3: =SUMIF('Trade Details'!T$3:T$5000,A3,'Trade Details'!V$3:V$5000) -> 0 | J3: =IF($D3=0,0,I3/$D3) -> 0 | K3: =SUMIF('Trade Details'!$T$3:$T$5000,$A3,'Trade Details'!W$3:W$5000) -> 0 | L3: =IF($D3=0,0,K3/$D3) -> 0 | M3: =SUMIF('Trade Details'!$T$3:$T$5000,$A3,'Trade Details'!X$3:X$5000) -> 0 | N3: =IF($D3=0,0,M3/$D3) -> 0 | O3: =SUMIF('Trade Details'!$T$3:$T$5000,$A3,'Trade Details'!Y$3:Y$5000) -> 0 | P3: =IF($D3=0,0,O3/$D3) -> 0 | Q3: =SUMIF('Trade Details'!$T$3:$T$5000,$A3,'Trade Details'!AB$3:AB$5000) -> 0 | R3: =SUMIF('Trade Details'!$T$3:$T$5000,$A3,'Trade Details'!AD$3:AD$5000) -> 0 | S3: =Q3+R3 -> 0 | T3: =IF(D3=0,0,SUMIF('Trade Details'!T$3:T$5000,A3,'Trade Details'!AB$3:AB$5000)) -> 0 | U3: =IF(D3=0,0,SUMIF('Trade Details'!T$3:T$5000,A3,'Trade Details'!AD$3:AD$5000)) -> 0 | V3: =IF(D3=0,0,SUMIF('Trade Details'!T$3:T$5000,A3,'Trade Details'!O$3:O$5000)) -> 0 | W3: =IF(D3=0,0,T3/E3) -> 0 | X3: =IF(G3=0,0,U3/G3) -> 0 | Y3: =IF(D3=0,0,V3/D3) -> 0 | Z3: =S3+Z2 -> 200000 | AA3: =(Z3-Z2)/Z2 -> 0 | AB3: =MAX(Z$2:Z3) -> 200000 | AC3: =(AB3-Z3)/Z3 -> 0 | AD3: {=MAX(IF('Trade Details'!T$3:T$5000=A3,'Trade Details'!AB$3:AB$5000))} -> 0 | AE3: =IF(AD3=0,0,INDEX('Trade Details'!AC$3:AC$5000,(MATCH(AD3,'Trade Details'!AB$3:AB$5000,0)))) -> 0 | AF3: {=MIN(IF('Trade Details'!T$3:T$5000=A3,'Trade Details'!AD$3:AD$5000))} -> 0 | AG3: =IF(AF3=0,0,INDEX('Trade Details'!AC$3:AC$5000,(MATCH(AF3,'Trade Details'!AD$3:AD$5000,0)))) -> 0 | AH3: =COUNTIFS('Trade Details'!$D$3:$D$5000,AH$2,'Trade Details'!$T$3:$T$5000,$A3) -> 0 | AI3: =COUNTIFS('Trade Details'!$D$3:$D$5000,AI$2,'Trade Details'!$T$3:$T$5000,$A3) -> 0 | AJ3: =COUNTIFS('Trade Details'!$D$3:$D$5000,AJ$2,'Trade Details'!$T$3:$T$5000,$A3) -> 0 | AK3: =COUNTIFS('Trade Details'!$D$3:$D$5000,AK$2,'Trade Details'!$T$3:$T$5000,$A3) -> 0 | AL3: =COUNTIFS('Trade Details'!$D$3:$D$5000,AL$2,'Trade Details'!$T$3:$T$5000,$A3) -> 0 | AM3: =COUNTIFS('Trade Details'!$D$3:$D$5000,AM$2,'Trade Details'!$T$3:$T$5000,$A3) -> 0 | AN3: =SUMIFS('Trade Details'!$R$3:$R$5000,'Trade Details'!$D$3:$D$5000,AN$2,'Trade Details'!$T$3:$T$5000,$A3) -> 0 | AO3: =SUMIFS('Trade Details'!$R$3:$R$5000,'Trade Details'!$D$3:$D$5000,AO$2,'Trade Details'!$T$3:$T$5000,$A3) -> 0 | AP3: =SUMIFS('Trade Details'!$R$3:$R$5000,'Trade Details'!$D$3:$D$5000,AP$2,'Trade Details'!$T$3:$T$5000,$A3) -> 0 | AQ3: =SUMIFS('Trade Details'!$R$3:$R$5000,'Trade Details'!$D$3:$D$5000,AQ$2,'Trade Details'!$T$3:$T$5000,$A3) -> 0 | AR3: =SUMIFS('Trade Details'!$R$3:$R$5000,'Trade Details'!$D$3:$D$5000,AR$2,'Trade Details'!$T$3:$T$5000,$A3) -> 0 | AS3: =SUMIFS('Trade Details'!$R$3:$R$5000,'Trade Details'!$D$3:$D$5000,AS$2,'Trade Details'!$T$3:$T$5000,$A3) -> 0 | AT3: =IF(AN3=0,0,AN3/AH3) -> 0 | AU3: =IF(AO3=0,0,AO3/AI3) -> 0 | AV3: =IF(AP3=0,0,AP3/AJ3) -> 0 | AW3: =IF(AQ3=0,0,AQ3/AK3) -> 0 | AX3: =IF(AR3=0,0,AR3/AL3) -> 0 | AY3: =IF(AS3=0,0,AS3/AM3) -> 0 | AZ3: =IF(AH3=0,0,SUM(AN3:AS3)/SUM(AH3:AM3)) -> 0 | BL3: 42035 | BM3: =F3 -> 0 | BN3: =E3/D3 -> #DIV/0! | BO3: =W3 -> 0 | BP3: =T3/E3 -> #DIV/0! | BR3: 42035 | BS3: =D3 -> 0 | BT3: =BS3 -> 0 | BZ3: =C3&" "&B3 -> Jan 2016 | CA3: =IF(D3=0," ",Z3) | CB3: =IF(D3=0," ",AC3)
A4: =A3+1 -> 2 | B4: 2016 | C4: Feb | D4: =COUNTIF('Trade Details'!T$3:T$5000,A4) -> 0 | E4: =SUMIF('Trade Details'!T$3:T$5000,A4,'Trade Details'!Z$3:Z$5000) -> 0 | F4: =IF(D4=0,0,E4/D4) -> 0 | G4: =SUMIF('Trade Details'!T$3:T$5000,A4,'Trade Details'!AA$3:AA$5000) -> 0 | H4: =IF(D4=0,0,G4/D4) -> 0 | I4: =SUMIF('Trade Details'!T$3:T$5000,A4,'Trade Details'!V$3:V$5000) -> 0 | J4: =IF($D4=0,0,I4/$D4) -> 0 | K4: =SUMIF('Trade Details'!$T$3:$T$5000,$A4,'Trade Details'!W$3:W$5000) -> 0 | L4: =IF($D4=0,0,K4/$D4) -> 0 | M4: =SUMIF('Trade Details'!$T$3:$T$5000,$A4,'Trade Details'!X$3:X$5000) -> 0 | N4: =IF($D4=0,0,M4/$D4) -> 0 | O4: =SUMIF('Trade Details'!$T$3:$T$5000,$A4,'Trade Details'!Y$3:Y$5000) -> 0 | P4: =IF($D4=0,0,O4/$D4) -> 0 | Q4: =SUMIF('Trade Details'!$T$3:$T$5000,$A4,'Trade Details'!AB$3:AB$5000) -> 0 | R4: =SUMIF('Trade Details'!$T$3:$T$5000,$A4,'Trade Details'!AD$3:AD$5000) -> 0 | S4: =Q4+R4 -> 0 | T4: =IF(D4=0,0,SUMIF('Trade Details'!T$3:T$5000,A4,'Trade Details'!AB$3:AB$5000)) -> 0 | U4: =IF(D4=0,0,SUMIF('Trade Details'!T$3:T$5000,A4,'Trade Details'!AD$3:AD$5000)) -> 0 | V4: =IF(D4=0,0,SUMIF('Trade Details'!T$3:T$5000,A4,'Trade Details'!O$3:O$5000)) -> 0 | W4: =IF(D4=0,0,T4/E4) -> 0 | X4: =IF(G4=0,0,U4/G4) -> 0 | Y4: =IF(D4=0,0,V4/D4) -> 0 | Z4: =S4+Z3 -> 200000 | AA4: =(Z4-Z3)/Z3 -> 0 | AB4: =MAX(Z$2:Z4) -> 200000 | AC4: =(AB4-Z4)/Z4 -> 0 | AD4: {=MAX(IF('Trade Details'!T$3:T$5000=A4,'Trade Details'!AB$3:AB$5000))} -> 0 | AE4: =IF(AD4=0,0,INDEX('Trade Details'!AC$3:AC$5000,(MATCH(AD4,'Trade Details'!AB$3:AB$5000,0)))) -> 0 | AF4: {=MIN(IF('Trade Details'!T$3:T$5000=A4,'Trade Details'!AD$3:AD$5000))} -> 0 | AG4: =IF(AF4=0,0,INDEX('Trade Details'!AC$3:AC$5000,(MATCH(AF4,'Trade Details'!AD$3:AD$5000,0)))) -> 0 | AH4: =COUNTIFS('Trade Details'!$D$3:$D$5000,AH$2,'Trade Details'!$T$3:$T$5000,$A4) -> 0 | AI4: =COUNTIFS('Trade Details'!$D$3:$D$5000,AI$2,'Trade Details'!$T$3:$T$5000,$A4) -> 0 | AJ4: =COUNTIFS('Trade Details'!$D$3:$D$5000,AJ$2,'Trade Details'!$T$3:$T$5000,$A4) -> 0 | AK4: =COUNTIFS('Trade Details'!$D$3:$D$5000,AK$2,'Trade Details'!$T$3:$T$5000,$A4) -> 0 | AL4: =COUNTIFS('Trade Details'!$D$3:$D$5000,AL$2,'Trade Details'!$T$3:$T$5000,$A4) -> 0 | AM4: =COUNTIFS('Trade Details'!$D$3:$D$5000,AM$2,'Trade Details'!$T$3:$T$5000,$A4) -> 0 | AN4: =SUMIFS('Trade Details'!$R$3:$R$5000,'Trade Details'!$D$3:$D$5000,AN$2,'Trade Details'!$T$3:$T$5000,$A4) -> 0 | AO4: =SUMIFS('Trade Details'!$R$3:$R$5000,'Trade Details'!$D$3:$D$5000,AO$2,'Trade Details'!$T$3:$T$5000,$A4) -> 0 | AP4: =SUMIFS('Trade Details'!$R$3:$R$5000,'Trade Details'!$D$3:$D$5000,AP$2,'Trade Details'!$T$3:$T$5000,$A4) -> 0 | AQ4: =SUMIFS('Trade Details'!$R$3:$R$5000,'Trade Details'!$D$3:$D$5000,AQ$2,'Trade Details'!$T$3:$T$5000,$A4) -> 0 | AR4: =SUMIFS('Trade Details'!$R$3:$R$5000,'Trade Details'!$D$3:$D$5000,AR$2,'Trade Details'!$T$3:$T$5000,$A4) -> 0 | AS4: =SUMIFS('Trade Details'!$R$3:$R$5000,'Trade Details'!$D$3:$D$5000,AS$2,'Trade Details'!$T$3:$T$5000,$A4) -> 0 | AT4: =IF(AN4=0,0,AN4/AH4) -> 0 | AU4: =IF(AO4=0,0,AO4/AI4) -> 0 | AV4: =IF(AP4=0,0,AP4/AJ4) -> 0 | AW4: =IF(AQ4=0,0,AQ4/AK4) -> 0 | AX4: =IF(AR4=0,0,AR4/AL4) -> 0 | AY4: =IF(AS4=0,0,AS4/AM4) -> 0 | AZ4: =IF(AH4=0,0,SUM(AN4:AS4)/SUM(AH4:AM4)) -> 0 | BL4: =EOMONTH(BL3,1) -> 42063 | BM4: =F4 -> 0 | BN4: =SUM(E$3:E4)/SUM(D$3:D4) -> #DIV/0! | BO4: =W4 -> 0 | BP4: =SUM(T$3:T4)/SUM(E$3:E4) -> #DIV/0! | BR4: =EOMONTH(BR3,1) -> 42063 | BS4: =D4 -> 0 | BT4: =ROUND(AVERAGE(BS$3:BS4),0) -> 0 | BZ4: =C4&" "&B4 -> Feb 2016 | CA4: =IF(D4=0," ",Z4) | CB4: =IF(D4=0," ",AC4)
A5: =A4+1 -> 3 | B5: 2016 | C5: Mar | D5: =COUNTIF('Trade Details'!T$3:T$5000,A5) -> 0 | E5: =SUMIF('Trade Details'!T$3:T$5000,A5,'Trade Details'!Z$3:Z$5000) -> 0 | F5: =IF(D5=0,0,E5/D5) -> 0 | G5: =SUMIF('Trade Details'!T$3:T$5000,A5,'Trade Details'!AA$3:AA$5000) -> 0 | H5: =IF(D5=0,0,G5/D5) -> 0 | I5: =SUMIF('Trade Details'!T$3:T$5000,A5,'Trade Details'!V$3:V$5000) -> 0 | J5: =IF($D5=0,0,I5/$D5) -> 0 | K5: =SUMIF('Trade Details'!$T$3:$T$5000,$A5,'Trade Details'!W$3:W$5000) -> 0 | L5: =IF($D5=0,0,K5/$D5) -> 0 | M5: =SUMIF('Trade Details'!$T$3:$T$5000,$A5,'Trade Details'!X$3:X$5000) -> 0 | N5: =IF($D5=0,0,M5/$D5) -> 0 | O5: =SUMIF('Trade Details'!$T$3:$T$5000,$A5,'Trade Details'!Y$3:Y$5000) -> 0 | P5: =IF($D5=0,0,O5/$D5) -> 0 | Q5: =SUMIF('Trade Details'!$T$3:$T$5000,$A5,'Trade Details'!AB$3:AB$5000) -> 0 | R5: =SUMIF('Trade Details'!$T$3:$T$5000,$A5,'Trade Details'!AD$3:AD$5000) -> 0 | S5: =Q5+R5 -> 0 | T5: =IF(D5=0,0,SUMIF('Trade Details'!T$3:T$5000,A5,'Trade Details'!AB$3:AB$5000)) -> 0 | U5: =IF(D5=0,0,SUMIF('Trade Details'!T$3:T$5000,A5,'Trade Details'!AD$3:AD$5000)) -> 0 | V5: =IF(D5=0,0,SUMIF('Trade Details'!T$3:T$5000,A5,'Trade Details'!O$3:O$5000)) -> 0 | W5: =IF(D5=0,0,T5/E5) -> 0 | X5: =IF(G5=0,0,U5/G5) -> 0 | Y5: =IF(D5=0,0,V5/D5) -> 0 | Z5: =S5+Z4 -> 200000 | AA5: =(Z5-Z4)/Z4 -> 0 | AB5: =MAX(Z$2:Z5) -> 200000 | AC5: =(AB5-Z5)/Z5 -> 0 | AD5: {=MAX(IF('Trade Details'!T$3:T$5000=A5,'Trade Details'!AB$3:AB$5000))} -> 0 | AE5: =IF(AD5=0,0,INDEX('Trade Details'!AC$3:AC$5000,(MATCH(AD5,'Trade Details'!AB$3:AB$5000,0)))) -> 0 | AF5: {=MIN(IF('Trade Details'!T$3:T$5000=A5,'Trade Details'!AD$3:AD$5000))} -> 0 | AG5: =IF(AF5=0,0,INDEX('Trade Details'!AC$3:AC$5000,(MATCH(AF5,'Trade Details'!AD$3:AD$5000,0)))) -> 0 | AH5: =COUNTIFS('Trade Details'!$D$3:$D$5000,AH$2,'Trade Details'!$T$3:$T$5000,$A5) -> 0 | AI5: =COUNTIFS('Trade Details'!$D$3:$D$5000,AI$2,'Trade Details'!$T$3:$T$5000,$A5) -> 0 | AJ5: =COUNTIFS('Trade Details'!$D$3:$D$5000,AJ$2,'Trade Details'!$T$3:$T$5000,$A5) -> 0 | AK5: =COUNTIFS('Trade Details'!$D$3:$D$5000,AK$2,'Trade Details'!$T$3:$T$5000,$A5) -> 0 | AL5: =COUNTIFS('Trade Details'!$D$3:$D$5000,AL$2,'Trade Details'!$T$3:$T$5000,$A5) -> 0 | AM5: =COUNTIFS('Trade Details'!$D$3:$D$5000,AM$2,'Trade Details'!$T$3:$T$5000,$A5) -> 0 | AN5: =SUMIFS('Trade Details'!$R$3:$R$5000,'Trade Details'!$D$3:$D$5000,AN$2,'Trade Details'!$T$3:$T$5000,$A5) -> 0 | AO5: =SUMIFS('Trade Details'!$R$3:$R$5000,'Trade Details'!$D$3:$D$5000,AO$2,'Trade Details'!$T$3:$T$5000,$A5) -> 0 | AP5: =SUMIFS('Trade Details'!$R$3:$R$5000,'Trade Details'!$D$3:$D$5000,AP$2,'Trade Details'!$T$3:$T$5000,$A5) -> 0 | AQ5: =SUMIFS('Trade Details'!$R$3:$R$5000,'Trade Details'!$D$3:$D$5000,AQ$2,'Trade Details'!$T$3:$T$5000,$A5) -> 0 | AR5: =SUMIFS('Trade Details'!$R$3:$R$5000,'Trade Details'!$D$3:$D$5000,AR$2,'Trade Details'!$T$3:$T$5000,$A5) -> 0 | AS5: =SUMIFS('Trade Details'!$R$3:$R$5000,'Trade Details'!$D$3:$D$5000,AS$2,'Trade Details'!$T$3:$T$5000,$A5) -> 0 | AT5: =IF(AN5=0,0,AN5/AH5) -> 0 | AU5: =IF(AO5=0,0,AO5/AI5) -> 0 | AV5: =IF(AP5=0,0,AP5/AJ5) -> 0 | AW5: =IF(AQ5=0,0,AQ5/AK5) -> 0 | AX5: =IF(AR5=0,0,AR5/AL5) -> 0 | AY5: =IF(AS5=0,0,AS5/AM5) -> 0 | AZ5: =IF(AH5=0,0,SUM(AN5:AS5)/SUM(AH5:AM5)) -> 0 | BL5: =EOMONTH(BL4,1) -> 42094 | BM5: =F5 -> 0 | BN5: =SUM(E$3:E5)/SUM(D$3:D5) -> #DIV/0! | BO5: =W5 -> 0 | BP5: =SUM(T$3:T5)/SUM(E$3:E5) -> #DIV/0! | BR5: =EOMONTH(BR4,1) -> 42094 | BS5: =D5 -> 0 | BT5: =ROUND(AVERAGE(BS$3:BS5),0) -> 0 | BZ5: =C5&" "&B5 -> Mar 2016 | CA5: =IF(D5=0," ",Z5) | CB5: =IF(D5=0," ",AC5)
A6: =A5+1 -> 4 | B6: 2016 | C6: Apr | D6: =COUNTIF('Trade Details'!T$3:T$5000,A6) -> 1 | E6: =SUMIF('Trade Details'!T$3:T$5000,A6,'Trade Details'!Z$3:Z$5000) -> 1 | F6: =IF(D6=0,0,E6/D6) -> 1 | G6: =SUMIF('Trade Details'!T$3:T$5000,A6,'Trade Details'!AA$3:AA$5000) -> 0 | H6: =IF(D6=0,0,G6/D6) -> 0 | I6: =SUMIF('Trade Details'!T$3:T$5000,A6,'Trade Details'!V$3:V$5000) -> 0 | J6: =IF($D6=0,0,I6/$D6) -> 0 | K6: =SUMIF('Trade Details'!$T$3:$T$5000,$A6,'Trade Details'!W$3:W$5000) -> 1 | L6: =IF($D6=0,0,K6/$D6) -> 1 | M6: =SUMIF('Trade Details'!$T$3:$T$5000,$A6,'Trade Details'!X$3:X$5000) -> 1 | N6: =IF($D6=0,0,M6/$D6) -> 1 | O6: =SUMIF('Trade Details'!$T$3:$T$5000,$A6,'Trade Details'!Y$3:Y$5000) -> 0 | P6: =IF($D6=0,0,O6/$D6) -> 0 | Q6: =SUMIF('Trade Details'!$T$3:$T$5000,$A6,'Trade Details'!AB$3:AB$5000) -> 1457.92 | R6: =SUMIF('Trade Details'!$T$3:$T$5000,$A6,'Trade Details'!AD$3:AD$5000) -> 0 | S6: =Q6+R6 -> 1457.92 | T6: =IF(D6=0,0,SUMIF('Trade Details'!T$3:T$5000,A6,'Trade Details'!AB$3:AB$5000)) -> 1457.92 | U6: =IF(D6=0,0,SUMIF('Trade Details'!T$3:T$5000,A6,'Trade Details'!AD$3:AD$5000)) -> 0 | V6: =IF(D6=0,0,SUMIF('Trade Details'!T$3:T$5000,A6,'Trade Details'!O$3:O$5000)) -> 1457.92 | W6: =IF(D6=0,0,T6/E6) -> 1457.92 | X6: =IF(G6=0,0,U6/G6) -> 0 | Y6: =IF(D6=0,0,V6/D6) -> 1457.92 | Z6: =S6+Z5 -> 201457.92 | AA6: =(Z6-Z5)/Z5 -> 0.0072896 | AB6: =MAX(Z$2:Z6) -> 201457.92 | AC6: =(AB6-Z6)/Z6 -> 0 | AD6: {=MAX(IF('Trade Details'!T$3:T$5000=A6,'Trade Details'!AB$3:AB$5000))} -> 1457.92 | AE6: =IF(AD6=0,0,INDEX('Trade Details'!AC$3:AC$5000,(MATCH(AD6,'Trade Details'!AB$3:AB$5000,0)))) -> AUDCAD | AF6: {=MIN(IF('Trade Details'!T$3:T$5000=A6,'Trade Details'!AD$3:AD$5000))} -> 0 | AG6: =IF(AF6=0,0,INDEX('Trade Details'!AC$3:AC$5000,(MATCH(AF6,'Trade Details'!AD$3:AD$5000,0)))) -> 0 | AH6: =COUNTIFS('Trade Details'!$D$3:$D$5000,AH$2,'Trade Details'!$T$3:$T$5000,$A6) -> 0 | AI6: =COUNTIFS('Trade Details'!$D$3:$D$5000,AI$2,'Trade Details'!$T$3:$T$5000,$A6) -> 0 | AJ6: =COUNTIFS('Trade Details'!$D$3:$D$5000,AJ$2,'Trade Details'!$T$3:$T$5000,$A6) -> 0 | AK6: =COUNTIFS('Trade Details'!$D$3:$D$5000,AK$2,'Trade Details'!$T$3:$T$5000,$A6) -> 1 | AL6: =COUNTIFS('Trade Details'!$D$3:$D$5000,AL$2,'Trade Details'!$T$3:$T$5000,$A6) -> 0 | AM6: =COUNTIFS('Trade Details'!$D$3:$D$5000,AM$2,'Trade Details'!$T$3:$T$5000,$A6) -> 0 | AN6: =SUMIFS('Trade Details'!$R$3:$R$5000,'Trade Details'!$D$3:$D$5000,AN$2,'Trade Details'!$T$3:$T$5000,$A6) -> 0 | AO6: =SUMIFS('Trade Details'!$R$3:$R$5000,'Trade Details'!$D$3:$D$5000,AO$2,'Trade Details'!$T$3:$T$5000,$A6) -> 0 | AP6: =SUMIFS('Trade Details'!$R$3:$R$5000,'Trade Details'!$D$3:$D$5000,AP$2,'Trade Details'!$T$3:$T$5000,$A6) -> 0 | AQ6: =SUMIFS('Trade Details'!$R$3:$R$5000,'Trade Details'!$D$3:$D$5000,AQ$2,'Trade Details'!$T$3:$T$5000,$A6) -> 10 | AR6: =SUMIFS('Trade Details'!$R$3:$R$5000,'Trade Details'!$D$3:$D$5000,AR$2,'Trade Details'!$T$3:$T$5000,$A6) -> 0 | AS6: =SUMIFS('Trade Details'!$R$3:$R$5000,'Trade Details'!$D$3:$D$5000,AS$2,'Trade Details'!$T$3:$T$5000,$A6) -> 0 | AT6: =IF(AN6=0,0,AN6/AH6) -> 0 | AU6: =IF(AO6=0,0,AO6/AI6) -> 0 | AV6: =IF(AP6=0,0,AP6/AJ6) -> 0 | AW6: =IF(AQ6=0,0,AQ6/AK6) -> 10 | AX6: =IF(AR6=0,0,AR6/AL6) -> 0 | AY6: =IF(AS6=0,0,AS6/AM6) -> 0 | AZ6: =IF(AH6=0,0,SUM(AN6:AS6)/SUM(AH6:AM6)) -> 0 | BL6: =EOMONTH(BL5,1) -> 42124 | BM6: =F6 -> 1 | BN6: =SUM(E$3:E6)/SUM(D$3:D6) -> 1 | BO6: =W6 -> 1457.92 | BP6: =SUM(T$3:T6)/SUM(E$3:E6) -> 1457.92 | BR6: =EOMONTH(BR5,1) -> 42124 | BS6: =D6 -> 1 | BT6: =ROUND(AVERAGE(BS$3:BS6),0) -> 0 | BZ6: =BL6 -> 42124 | CA6: =IF(D6=0," ",Z6) -> 201457.92 | CB6: =IF(D6=0," ",AC6) -> 0
A7: =A6+1 -> 5 | B7: 2016 | C7: May | D7: =COUNTIF('Trade Details'!T$3:T$5000,A7) -> 24 | E7: =SUMIF('Trade Details'!T$3:T$5000,A7,'Trade Details'!Z$3:Z$5000) -> 6 | F7: =IF(D7=0,0,E7/D7) -> 0.25 | G7: =SUMIF('Trade Details'!T$3:T$5000,A7,'Trade Details'!AA$3:AA$5000) -> 18 | H7: =IF(D7=0,0,G7/D7) -> 0.75 | I7: =SUMIF('Trade Details'!T$3:T$5000,A7,'Trade Details'!V$3:V$5000) -> 8 | J7: =IF($D7=0,0,I7/$D7) -> 0.33333333 | K7: =SUMIF('Trade Details'!$T$3:$T$5000,$A7,'Trade Details'!W$3:W$5000) -> 16 | L7: =IF($D7=0,0,K7/$D7) -> 0.66666667 | M7: =SUMIF('Trade Details'!$T$3:$T$5000,$A7,'Trade Details'!X$3:X$5000) -> 24 | N7: =IF($D7=0,0,M7/$D7) -> 1 | O7: =SUMIF('Trade Details'!$T$3:$T$5000,$A7,'Trade Details'!Y$3:Y$5000) -> 0 | P7: =IF($D7=0,0,O7/$D7) -> 0 | Q7: =SUMIF('Trade Details'!$T$3:$T$5000,$A7,'Trade Details'!AB$3:AB$5000) -> 2783.36 | R7: =SUMIF('Trade Details'!$T$3:$T$5000,$A7,'Trade Details'!AD$3:AD$5000) -> -4866.5 | S7: =Q7+R7 -> -2083.14 | T7: =IF(D7=0,0,SUMIF('Trade Details'!T$3:T$5000,A7,'Trade Details'!AB$3:AB$5000)) -> 2783.36 | U7: =IF(D7=0,0,SUMIF('Trade Details'!T$3:T$5000,A7,'Trade Details'!AD$3:AD$5000)) -> -4866.5 | V7: =IF(D7=0,0,SUMIF('Trade Details'!T$3:T$5000,A7,'Trade Details'!O$3:O$5000)) -> -2083.14 | W7: =IF(D7=0,0,T7/E7) -> 463.89333 | X7: =IF(G7=0,0,U7/G7) -> -270.36111 | Y7: =IF(D7=0,0,V7/D7) -> -86.7975 | Z7: =S7+Z6 -> 199374.78 | AA7: =(Z7-Z6)/Z6 -> -0.010340323 | AB7: =MAX(Z$2:Z7) -> 201457.92 | AC7: =(AB7-Z7)/Z7 -> 0.010448363 | AD7: {=MAX(IF('Trade Details'!T$3:T$5000=A7,'Trade Details'!AB$3:AB$5000))} -> 1488.3 | AE7: =IF(AD7=0,0,INDEX('Trade Details'!AC$3:AC$5000,(MATCH(AD7,'Trade Details'!AB$3:AB$5000,0)))) -> GBPSGD | AF7: {=MIN(IF('Trade Details'!T$3:T$5000=A7,'Trade Details'!AD$3:AD$5000))} -> -423.9 | AG7: =IF(AF7=0,0,INDEX('Trade Details'!AC$3:AC$5000,(MATCH(AF7,'Trade Details'!AD$3:AD$5000,0)))) -> NZDCAD | AH7: =COUNTIFS('Trade Details'!$D$3:$D$5000,AH$2,'Trade Details'!$T$3:$T$5000,$A7) -> 0 | AI7: =COUNTIFS('Trade Details'!$D$3:$D$5000,AI$2,'Trade Details'!$T$3:$T$5000,$A7) -> 0 | AJ7: =COUNTIFS('Trade Details'!$D$3:$D$5000,AJ$2,'Trade Details'!$T$3:$T$5000,$A7) -> 0 | AK7: =COUNTIFS('Trade Details'!$D$3:$D$5000,AK$2,'Trade Details'!$T$3:$T$5000,$A7) -> 24 | AL7: =COUNTIFS('Trade Details'!$D$3:$D$5000,AL$2,'Trade Details'!$T$3:$T$5000,$A7) -> 0 | AM7: =COUNTIFS('Trade Details'!$D$3:$D$5000,AM$2,'Trade Details'!$T$3:$T$5000,$A7) -> 0 | AN7: =SUMIFS('Trade Details'!$R$3:$R$5000,'Trade Details'!$D$3:$D$5000,AN$2,'Trade Details'!$T$3:$T$5000,$A7) -> 0 | AO7: =SUMIFS('Trade Details'!$R$3:$R$5000,'Trade Details'!$D$3:$D$5000,AO$2,'Trade Details'!$T$3:$T$5000,$A7) -> 0 | AP7: =SUMIFS('Trade Details'!$R$3:$R$5000,'Trade Details'!$D$3:$D$5000,AP$2,'Trade Details'!$T$3:$T$5000,$A7) -> 0 | AQ7: =SUMIFS('Trade Details'!$R$3:$R$5000,'Trade Details'!$D$3:$D$5000,AQ$2,'Trade Details'!$T$3:$T$5000,$A7) -> 342 | AR7: =SUMIFS('Trade Details'!$R$3:$R$5000,'Trade Details'!$D$3:$D$5000,AR$2,'Trade Details'!$T$3:$T$5000,$A7) -> 0 | AS7: =SUMIFS('Trade Details'!$R$3:$R$5000,'Trade Details'!$D$3:$D$5000,AS$2,'Trade Details'!$T$3:$T$5000,$A7) -> 0 | AT7: =IF(AN7=0,0,AN7/AH7) -> 0 | AU7: =IF(AO7=0,0,AO7/AI7) -> 0 | AV7: =IF(AP7=0,0,AP7/AJ7) -> 0 | AW7: =IF(AQ7=0,0,AQ7/AK7) -> 14.25 | AX7: =IF(AR7=0,0,AR7/AL7) -> 0 | AY7: =IF(AS7=0,0,AS7/AM7) -> 0 | AZ7: =IF(AH7=0,0,SUM(AN7:AS7)/SUM(AH7:AM7)) -> 0 | BL7: =EOMONTH(BL6,1) -> 42155 | BM7: =F7 -> 0.25 | BN7: =SUM(E$3:E7)/SUM(D$3:D7) -> 0.28 | BO7: =W7 -> 463.89333 | BP7: =SUM(T$3:T7)/SUM(E$3:E7) -> 605.89714 | BR7: =EOMONTH(BR6,1) -> 42155 | BS7: =D7 -> 24 | BT7: =ROUND(AVERAGE(BS$3:BS7),0) -> 5 | BZ7: =BL7 -> 42155 | CA7: =IF(D7=0," ",Z7) -> 199374.78 | CB7: =IF(D7=0," ",AC7) -> 0.010448363
A8: =A7+1 -> 6 | B8: 2016 | C8: Jun | D8: =COUNTIF('Trade Details'!T$3:T$5000,A8) -> 27 | E8: =SUMIF('Trade Details'!T$3:T$5000,A8,'Trade Details'!Z$3:Z$5000) -> 8 | F8: =IF(D8=0,0,E8/D8) -> 0.2962963 | G8: =SUMIF('Trade Details'!T$3:T$5000,A8,'Trade Details'!AA$3:AA$5000) -> 19 | H8: =IF(D8=0,0,G8/D8) -> 0.7037037 | I8: =SUMIF('Trade Details'!T$3:T$5000,A8,'Trade Details'!V$3:V$5000) -> 8 | J8: =IF($D8=0,0,I8/$D8) -> 0.2962963 | K8: =SUMIF('Trade Details'!$T$3:$T$5000,$A8,'Trade Details'!W$3:W$5000) -> 19 | L8: =IF($D8=0,0,K8/$D8) -> 0.7037037 | M8: =SUMIF('Trade Details'!$T$3:$T$5000,$A8,'Trade Details'!X$3:X$5000) -> 27 | N8: =IF($D8=0,0,M8/$D8) -> 1 | O8: =SUMIF('Trade Details'!$T$3:$T$5000,$A8,'Trade Details'!Y$3:Y$5000) -> 0 | P8: =IF($D8=0,0,O8/$D8) -> 0 | Q8: =SUMIF('Trade Details'!$T$3:$T$5000,$A8,'Trade Details'!AB$3:AB$5000) -> 11697.29 | R8: =SUMIF('Trade Details'!$T$3:$T$5000,$A8,'Trade Details'!AD$3:AD$5000) -> -5703.03 | S8: =Q8+R8 -> 5994.26 | T8: =IF(D8=0,0,SUMIF('Trade Details'!T$3:T$5000,A8,'Trade Details'!AB$3:AB$5000)) -> 11697.29 | U8: =IF(D8=0,0,SUMIF('Trade Details'!T$3:T$5000,A8,'Trade Details'!AD$3:AD$5000)) -> -5703.03 | V8: =IF(D8=0,0,SUMIF('Trade Details'!T$3:T$5000,A8,'Trade Details'!O$3:O$5000)) -> 5994.26 | W8: =IF(D8=0,0,T8/E8) -> 1462.1612 | X8: =IF(G8=0,0,U8/G8) -> -300.15947 | Y8: =IF(D8=0,0,V8/D8) -> 222.00963 | Z8: =S8+Z7 -> 205369.04 | AA8: =(Z8-Z7)/Z7 -> 0.030065287 | AB8: =MAX(Z$2:Z8) -> 205369.04 | AC8: =(AB8-Z8)/Z8 -> 0 | AD8: {=MAX(IF('Trade Details'!T$3:T$5000=A8,'Trade Details'!AB$3:AB$5000))} -> 2241.92 | AE8: =IF(AD8=0,0,INDEX('Trade Details'!AC$3:AC$5000,(MATCH(AD8,'Trade Details'!AB$3:AB$5000,0)))) -> AUDCAD | AF8: {=MIN(IF('Trade Details'!T$3:T$5000=A8,'Trade Details'!AD$3:AD$5000))} -> -502.95 | AG8: =IF(AF8=0,0,INDEX('Trade Details'!AC$3:AC$5000,(MATCH(AF8,'Trade Details'!AD$3:AD$5000,0)))) -> FTSE | AH8: =COUNTIFS('Trade Details'!$D$3:$D$5000,AH$2,'Trade Details'!$T$3:$T$5000,$A8) -> 0 | AI8: =COUNTIFS('Trade Details'!$D$3:$D$5000,AI$2,'Trade Details'!$T$3:$T$5000,$A8) -> 0 | AJ8: =COUNTIFS('Trade Details'!$D$3:$D$5000,AJ$2,'Trade Details'!$T$3:$T$5000,$A8) -> 0 | AK8: =COUNTIFS('Trade Details'!$D$3:$D$5000,AK$2,'Trade Details'!$T$3:$T$5000,$A8) -> 27 | AL8: =COUNTIFS('Trade Details'!$D$3:$D$5000,AL$2,'Trade Details'!$T$3:$T$5000,$A8) -> 0 | AM8: =COUNTIFS('Trade Details'!$D$3:$D$5000,AM$2,'Trade Details'!$T$3:$T$5000,$A8) -> 0 | AN8: =SUMIFS('Trade Details'!$R$3:$R$5000,'Trade Details'!$D$3:$D$5000,AN$2,'Trade Details'!$T$3:$T$5000,$A8) -> 0 | AO8: =SUMIFS('Trade Details'!$R$3:$R$5000,'Trade Details'!$D$3:$D$5000,AO$2,'Trade Details'!$T$3:$T$5000,$A8) -> 0 | AP8: =SUMIFS('Trade Details'!$R$3:$R$5000,'Trade Details'!$D$3:$D$5000,AP$2,'Trade Details'!$T$3:$T$5000,$A8) -> 0 | AQ8: =SUMIFS('Trade Details'!$R$3:$R$5000,'Trade Details'!$D$3:$D$5000,AQ$2,'Trade Details'!$T$3:$T$5000,$A8) -> 455 | AR8: =SUMIFS('Trade Details'!$R$3:$R$5000,'Trade Details'!$D$3:$D$5000,AR$2,'Trade Details'!$T$3:$T$5000,$A8) -> 0 | AS8: =SUMIFS('Trade Details'!$R$3:$R$5000,'Trade Details'!$D$3:$D$5000,AS$2,'Trade Details'!$T$3:$T$5000,$A8) -> 0 | AT8: =IF(AN8=0,0,AN8/AH8) -> 0 | AU8: =IF(AO8=0,0,AO8/AI8) -> 0 | AV8: =IF(AP8=0,0,AP8/AJ8) -> 0 | AW8: =IF(AQ8=0,0,AQ8/AK8) -> 16.851852 | AX8: =IF(AR8=0,0,AR8/AL8) -> 0 | AY8: =IF(AS8=0,0,AS8/AM8) -> 0 | AZ8: =IF(AH8=0,0,SUM(AN8:AS8)/SUM(AH8:AM8)) -> 0 | BL8: =EOMONTH(BL7,1) -> 42185 | BM8: =F8 -> 0.2962963 | BN8: =SUM(E$3:E8)/SUM(D$3:D8) -> 0.28846154 | BO8: =W8 -> 1462.1612 | BP8: =SUM(T$3:T8)/SUM(E$3:E8) -> 1062.5713 | BR8: =EOMONTH(BR7,1) -> 42185 | BS8: =D8 -> 27 | BT8: =ROUND(AVERAGE(BS$3:BS8),0) -> 9 | BZ8: =BL8 -> 42185 | CA8: =IF(D8=0," ",Z8) -> 205369.04 | CB8: =IF(D8=0," ",AC8) -> 0
A9: =A8+1 -> 7 | B9: 2016 | C9: Jul | D9: =COUNTIF('Trade Details'!T$3:T$5000,A9) -> 8 | E9: =SUMIF('Trade Details'!T$3:T$5000,A9,'Trade Details'!Z$3:Z$5000) -> 2 | F9: =IF(D9=0,0,E9/D9) -> 0.25 | G9: =SUMIF('Trade Details'!T$3:T$5000,A9,'Trade Details'!AA$3:AA$5000) -> 6 | H9: =IF(D9=0,0,G9/D9) -> 0.75 | I9: =SUMIF('Trade Details'!T$3:T$5000,A9,'Trade Details'!V$3:V$5000) -> 2 | J9: =IF($D9=0,0,I9/$D9) -> 0.25 | K9: =SUMIF('Trade Details'!$T$3:$T$5000,$A9,'Trade Details'!W$3:W$5000) -> 6 | L9: =IF($D9=0,0,K9/$D9) -> 0.75 | M9: =SUMIF('Trade Details'!$T$3:$T$5000,$A9,'Trade Details'!X$3:X$5000) -> 8 | N9: =IF($D9=0,0,M9/$D9) -> 1 | O9: =SUMIF('Trade Details'!$T$3:$T$5000,$A9,'Trade Details'!Y$3:Y$5000) -> 0 | P9: =IF($D9=0,0,O9/$D9) -> 0 | Q9: =SUMIF('Trade Details'!$T$3:$T$5000,$A9,'Trade Details'!AB$3:AB$5000) -> 2942.64 | R9: =SUMIF('Trade Details'!$T$3:$T$5000,$A9,'Trade Details'!AD$3:AD$5000) -> -1613.46 | S9: =Q9+R9 -> 1329.18 | T9: =IF(D9=0,0,SUMIF('Trade Details'!T$3:T$5000,A9,'Trade Details'!AB$3:AB$5000)) -> 2942.64 | U9: =IF(D9=0,0,SUMIF('Trade Details'!T$3:T$5000,A9,'Trade Details'!AD$3:AD$5000)) -> -1613.46 | V9: =IF(D9=0,0,SUMIF('Trade Details'!T$3:T$5000,A9,'Trade Details'!O$3:O$5000)) -> 1329.18 | W9: =IF(D9=0,0,T9/E9) -> 1471.32 | X9: =IF(G9=0,0,U9/G9) -> -268.91 | Y9: =IF(D9=0,0,V9/D9) -> 166.1475 | Z9: =S9+Z8 -> 206698.22 | AA9: =(Z9-Z8)/Z8 -> 0.0064721537 | AB9: =MAX(Z$2:Z9) -> 206698.22 | AC9: =(AB9-Z9)/Z9 -> 0 | AD9: {=MAX(IF('Trade Details'!T$3:T$5000=A9,'Trade Details'!AB$3:AB$5000))} -> 1480.64 | AE9: =IF(AD9=0,0,INDEX('Trade Details'!AC$3:AC$5000,(MATCH(AD9,'Trade Details'!AB$3:AB$5000,0)))) -> XAGUSD | AF9: {=MIN(IF('Trade Details'!T$3:T$5000=A9,'Trade Details'!AD$3:AD$5000))} -> -389.13 | AG9: =IF(AF9=0,0,INDEX('Trade Details'!AC$3:AC$5000,(MATCH(AF9,'Trade Details'!AD$3:AD$5000,0)))) -> DAX | AH9: =COUNTIFS('Trade Details'!$D$3:$D$5000,AH$2,'Trade Details'!$T$3:$T$5000,$A9) -> 0 | AI9: =COUNTIFS('Trade Details'!$D$3:$D$5000,AI$2,'Trade Details'!$T$3:$T$5000,$A9) -> 0 | AJ9: =COUNTIFS('Trade Details'!$D$3:$D$5000,AJ$2,'Trade Details'!$T$3:$T$5000,$A9) -> 0 | AK9: =COUNTIFS('Trade Details'!$D$3:$D$5000,AK$2,'Trade Details'!$T$3:$T$5000,$A9) -> 8 | AL9: =COUNTIFS('Trade Details'!$D$3:$D$5000,AL$2,'Trade Details'!$T$3:$T$5000,$A9) -> 0 | AM9: =COUNTIFS('Trade Details'!$D$3:$D$5000,AM$2,'Trade Details'!$T$3:$T$5000,$A9) -> 0 | AN9: =SUMIFS('Trade Details'!$R$3:$R$5000,'Trade Details'!$D$3:$D$5000,AN$2,'Trade Details'!$T$3:$T$5000,$A9) -> 0 | AO9: =SUMIFS('Trade Details'!$R$3:$R$5000,'Trade Details'!$D$3:$D$5000,AO$2,'Trade Details'!$T$3:$T$5000,$A9) -> 0 | AP9: =SUMIFS('Trade Details'!$R$3:$R$5000,'Trade Details'!$D$3:$D$5000,AP$2,'Trade Details'!$T$3:$T$5000,$A9) -> 0 | AQ9: =SUMIFS('Trade Details'!$R$3:$R$5000,'Trade Details'!$D$3:$D$5000,AQ$2,'Trade Details'!$T$3:$T$5000,$A9) -> 205 | AR9: =SUMIFS('Trade Details'!$R$3:$R$5000,'Trade Details'!$D$3:$D$5000,AR$2,'Trade Details'!$T$3:$T$5000,$A9) -> 0 | AS9: =SUMIFS('Trade Details'!$R$3:$R$5000,'Trade Details'!$D$3:$D$5000,AS$2,'Trade Details'!$T$3:$T$5000,$A9) -> 0 | AT9: =IF(AN9=0,0,AN9/AH9) -> 0 | AU9: =IF(AO9=0,0,AO9/AI9) -> 0 | AV9: =IF(AP9=0,0,AP9/AJ9) -> 0 | AW9: =IF(AQ9=0,0,AQ9/AK9) -> 25.625 | AX9: =IF(AR9=0,0,AR9/AL9) -> 0 | AY9: =IF(AS9=0,0,AS9/AM9) -> 0 | AZ9: =IF(AH9=0,0,SUM(AN9:AS9)/SUM(AH9:AM9)) -> 0 | BL9: =EOMONTH(BL8,1) -> 42216 | BM9: =F9 -> 0.25 | BN9: =SUM(E$3:E9)/SUM(D$3:D9) -> 0.28333333 | BO9: =W9 -> 1471.32 | BP9: =SUM(T$3:T9)/SUM(E$3:E9) -> 1110.6594 | BR9: =EOMONTH(BR8,1) -> 42216 | BS9: =D9 -> 8 | BT9: =ROUND(AVERAGE(BS$3:BS9),0) -> 9 | BZ9: =BL9 -> 42216 | CA9: =IF(D9=0," ",Z9) -> 206698.22 | CB9: =IF(D9=0," ",AC9) -> 0
A10: =A9+1 -> 8 | B10: 2016 | C10: Aug | D10: =COUNTIF('Trade Details'!T$3:T$5000,A10) -> 17 | E10: =SUMIF('Trade Details'!T$3:T$5000,A10,'Trade Details'!Z$3:Z$5000) -> 7 | F10: =IF(D10=0,0,E10/D10) -> 0.41176471 | G10: =SUMIF('Trade Details'!T$3:T$5000,A10,'Trade Details'!AA$3:AA$5000) -> 10 | H10: =IF(D10=0,0,G10/D10) -> 0.58823529 | I10: =SUMIF('Trade Details'!T$3:T$5000,A10,'Trade Details'!V$3:V$5000) -> 14 | J10: =IF($D10=0,0,I10/$D10) -> 0.82352941 | K10: =SUMIF('Trade Details'!$T$3:$T$5000,$A10,'Trade Details'!W$3:W$5000) -> 3 | L10: =IF($D10=0,0,K10/$D10) -> 0.17647059 | M10: =SUMIF('Trade Details'!$T$3:$T$5000,$A10,'Trade Details'!X$3:X$5000) -> 17 | N10: =IF($D10=0,0,M10/$D10) -> 1 | O10: =SUMIF('Trade Details'!$T$3:$T$5000,$A10,'Trade Details'!Y$3:Y$5000) -> 0 | P10: =IF($D10=0,0,O10/$D10) -> 0 | Q10: =SUMIF('Trade Details'!$T$3:$T$5000,$A10,'Trade Details'!AB$3:AB$5000) -> 1111.68 | R10: =SUMIF('Trade Details'!$T$3:$T$5000,$A10,'Trade Details'!AD$3:AD$5000) -> -2881.22 | S10: =Q10+R10 -> -1769.54 | T10: =IF(D10=0,0,SUMIF('Trade Details'!T$3:T$5000,A10,'Trade Details'!AB$3:AB$5000)) -> 1111.68 | U10: =IF(D10=0,0,SUMIF('Trade Details'!T$3:T$5000,A10,'Trade Details'!AD$3:AD$5000)) -> -2881.22 | V10: =IF(D10=0,0,SUMIF('Trade Details'!T$3:T$5000,A10,'Trade Details'!O$3:O$5000)) -> -1769.54 | W10: =IF(D10=0,0,T10/E10) -> 158.81143 | X10: =IF(G10=0,0,U10/G10) -> -288.122 | Y10: =IF(D10=0,0,V10/D10) -> -104.09059 | Z10: =S10+Z9 -> 204928.68 | AA10: =(Z10-Z9)/Z9 -> -0.0085609833 | AB10: =MAX(Z$2:Z10) -> 206698.22 | AC10: =(AB10-Z10)/Z10 -> 0.0086349065 | AD10: {=MAX(IF('Trade Details'!T$3:T$5000=A10,'Trade Details'!AB$3:AB$5000))} -> 372.6 | AE10: =IF(AD10=0,0,INDEX('Trade Details'!AC$3:AC$5000,(MATCH(AD10,'Trade Details'!AB$3:AB$5000,0)))) -> NIK | AF10: {=MIN(IF('Trade Details'!T$3:T$5000=A10,'Trade Details'!AD$3:AD$5000))} -> -472.57 | AG10: =IF(AF10=0,0,INDEX('Trade Details'!AC$3:AC$5000,(MATCH(AF10,'Trade Details'!AD$3:AD$5000,0)))) -> USDSGD | AH10: =COUNTIFS('Trade Details'!$D$3:$D$5000,AH$2,'Trade Details'!$T$3:$T$5000,$A10) -> 0 | AI10: =COUNTIFS('Trade Details'!$D$3:$D$5000,AI$2,'Trade Details'!$T$3:$T$5000,$A10) -> 0 | AJ10: =COUNTIFS('Trade Details'!$D$3:$D$5000,AJ$2,'Trade Details'!$T$3:$T$5000,$A10) -> 0 | AK10: =COUNTIFS('Trade Details'!$D$3:$D$5000,AK$2,'Trade Details'!$T$3:$T$5000,$A10) -> 17 | AL10: =COUNTIFS('Trade Details'!$D$3:$D$5000,AL$2,'Trade Details'!$T$3:$T$5000,$A10) -> 0 | AM10: =COUNTIFS('Trade Details'!$D$3:$D$5000,AM$2,'Trade Details'!$T$3:$T$5000,$A10) -> 0 | AN10: =SUMIFS('Trade Details'!$R$3:$R$5000,'Trade Details'!$D$3:$D$5000,AN$2,'Trade Details'!$T$3:$T$5000,$A10) -> 0 | AO10: =SUMIFS('Trade Details'!$R$3:$R$5000,'Trade Details'!$D$3:$D$5000,AO$2,'Trade Details'!$T$3:$T$5000,$A10) -> 0 | AP10: =SUMIFS('Trade Details'!$R$3:$R$5000,'Trade Details'!$D$3:$D$5000,AP$2,'Trade Details'!$T$3:$T$5000,$A10) -> 0 | AQ10: =SUMIFS('Trade Details'!$R$3:$R$5000,'Trade Details'!$D$3:$D$5000,AQ$2,'Trade Details'!$T$3:$T$5000,$A10) -> 496 | AR10: =SUMIFS('Trade Details'!$R$3:$R$5000,'Trade Details'!$D$3:$D$5000,AR$2,'Trade Details'!$T$3:$T$5000,$A10) -> 0 | AS10: =SUMIFS('Trade Details'!$R$3:$R$5000,'Trade Details'!$D$3:$D$5000,AS$2,'Trade Details'!$T$3:$T$5000,$A10) -> 0 | AT10: =IF(AN10=0,0,AN10/AH10) -> 0 | AU10: =IF(AO10=0,0,AO10/AI10) -> 0 | AV10: =IF(AP10=0,0,AP10/AJ10) -> 0 | AW10: =IF(AQ10=0,0,AQ10/AK10) -> 29.176471 | AX10: =IF(AR10=0,0,AR10/AL10) -> 0 | AY10: =IF(AS10=0,0,AS10/AM10) -> 0 | AZ10: =IF(AH10=0,0,SUM(AN10:AS10)/SUM(AH10:AM10)) -> 0 | BL10: =EOMONTH(BL9,1) -> 42247 | BM10: =F10 -> 0.41176471 | BN10: =SUM(E$3:E10)/SUM(D$3:D10) -> 0.31168831 | BO10: =W10 -> 158.81143 | BP10: =SUM(T$3:T10)/SUM(E$3:E10) -> 833.03708 | BR10: =EOMONTH(BR9,1) -> 42247 | BS10: =D10 -> 17 | BT10: =ROUND(AVERAGE(BS$3:BS10),0) -> 10 | BZ10: =BL10 -> 42247 | CA10: =IF(D10=0," ",Z10) -> 204928.68 | CB10: =IF(D10=0," ",AC10) -> 0.0086349065
A11: =A10+1 -> 9 | B11: 2016 | C11: Sep | D11: =COUNTIF('Trade Details'!T$3:T$5000,A11) -> 7 | E11: =SUMIF('Trade Details'!T$3:T$5000,A11,'Trade Details'!Z$3:Z$5000) -> 5 | F11: =IF(D11=0,0,E11/D11) -> 0.71428571 | G11: =SUMIF('Trade Details'!T$3:T$5000,A11,'Trade Details'!AA$3:AA$5000) -> 2 | H11: =IF(D11=0,0,G11/D11) -> 0.28571429 | I11: =SUMIF('Trade Details'!T$3:T$5000,A11,'Trade Details'!V$3:V$5000) -> 4 | J11: =IF($D11=0,0,I11/$D11) -> 0.57142857 | K11: =SUMIF('Trade Details'!$T$3:$T$5000,$A11,'Trade Details'!W$3:W$5000) -> 3 | L11: =IF($D11=0,0,K11/$D11) -> 0.42857143 | M11: =SUMIF('Trade Details'!$T$3:$T$5000,$A11,'Trade Details'!X$3:X$5000) -> 7 | N11: =IF($D11=0,0,M11/$D11) -> 1 | O11: =SUMIF('Trade Details'!$T$3:$T$5000,$A11,'Trade Details'!Y$3:Y$5000) -> 0 | P11: =IF($D11=0,0,O11/$D11) -> 0 | Q11: =SUMIF('Trade Details'!$T$3:$T$5000,$A11,'Trade Details'!AB$3:AB$5000) -> 1882.2 | R11: =SUMIF('Trade Details'!$T$3:$T$5000,$A11,'Trade Details'!AD$3:AD$5000) -> -131.6 | S11: =Q11+R11 -> 1750.6 | T11: =IF(D11=0,0,SUMIF('Trade Details'!T$3:T$5000,A11,'Trade Details'!AB$3:AB$5000)) -> 1882.2 | U11: =IF(D11=0,0,SUMIF('Trade Details'!T$3:T$5000,A11,'Trade Details'!AD$3:AD$5000)) -> -131.6 | V11: =IF(D11=0,0,SUMIF('Trade Details'!T$3:T$5000,A11,'Trade Details'!O$3:O$5000)) -> 1750.6 | W11: =IF(D11=0,0,T11/E11) -> 376.44 | X11: =IF(G11=0,0,U11/G11) -> -65.8 | Y11: =IF(D11=0,0,V11/D11) -> 250.08571 | Z11: =S11+Z10 -> 206679.28 | AA11: =(Z11-Z10)/Z10 -> 0.0085424841 | AB11: =MAX(Z$2:Z11) -> 206698.22 | AC11: =(AB11-Z11)/Z11 -> 9.1639568e-05 | AD11: {=MAX(IF('Trade Details'!T$3:T$5000=A11,'Trade Details'!AB$3:AB$5000))} -> 1501.5 | AE11: =IF(AD11=0,0,INDEX('Trade Details'!AC$3:AC$5000,(MATCH(AD11,'Trade Details'!AB$3:AB$5000,0)))) -> ASX | AF11: {=MIN(IF('Trade Details'!T$3:T$5000=A11,'Trade Details'!AD$3:AD$5000))} -> -65.8 | AG11: =IF(AF11=0,0,INDEX('Trade Details'!AC$3:AC$5000,(MATCH(AF11,'Trade Details'!AD$3:AD$5000,0)))) -> USDSGD | AH11: =COUNTIFS('Trade Details'!$D$3:$D$5000,AH$2,'Trade Details'!$T$3:$T$5000,$A11) -> 0 | AI11: =COUNTIFS('Trade Details'!$D$3:$D$5000,AI$2,'Trade Details'!$T$3:$T$5000,$A11) -> 0 | AJ11: =COUNTIFS('Trade Details'!$D$3:$D$5000,AJ$2,'Trade Details'!$T$3:$T$5000,$A11) -> 0 | AK11: =COUNTIFS('Trade Details'!$D$3:$D$5000,AK$2,'Trade Details'!$T$3:$T$5000,$A11) -> 7 | AL11: =COUNTIFS('Trade Details'!$D$3:$D$5000,AL$2,'Trade Details'!$T$3:$T$5000,$A11) -> 0 | AM11: =COUNTIFS('Trade Details'!$D$3:$D$5000,AM$2,'Trade Details'!$T$3:$T$5000,$A11) -> 0 | AN11: =SUMIFS('Trade Details'!$R$3:$R$5000,'Trade Details'!$D$3:$D$5000,AN$2,'Trade Details'!$T$3:$T$5000,$A11) -> 0 | AO11: =SUMIFS('Trade Details'!$R$3:$R$5000,'Trade Details'!$D$3:$D$5000,AO$2,'Trade Details'!$T$3:$T$5000,$A11) -> 0 | AP11: =SUMIFS('Trade Details'!$R$3:$R$5000,'Trade Details'!$D$3:$D$5000,AP$2,'Trade Details'!$T$3:$T$5000,$A11) -> 0 | AQ11: =SUMIFS('Trade Details'!$R$3:$R$5000,'Trade Details'!$D$3:$D$5000,AQ$2,'Trade Details'!$T$3:$T$5000,$A11) -> 342 | AR11: =SUMIFS('Trade Details'!$R$3:$R$5000,'Trade Details'!$D$3:$D$5000,AR$2,'Trade Details'!$T$3:$T$5000,$A11) -> 0 | AS11: =SUMIFS('Trade Details'!$R$3:$R$5000,'Trade Details'!$D$3:$D$5000,AS$2,'Trade Details'!$T$3:$T$5000,$A11) -> 0 | AT11: =IF(AN11=0,0,AN11/AH11) -> 0 | AU11: =IF(AO11=0,0,AO11/AI11) -> 0 | AV11: =IF(AP11=0,0,AP11/AJ11) -> 0 | AW11: =IF(AQ11=0,0,AQ11/AK11) -> 48.857143 | AX11: =IF(AR11=0,0,AR11/AL11) -> 0 | AY11: =IF(AS11=0,0,AS11/AM11) -> 0 | AZ11: =IF(AH11=0,0,SUM(AN11:AS11)/SUM(AH11:AM11)) -> 0 | BL11: =EOMONTH(BL10,1) -> 42277 | BM11: =F11 -> 0.71428571 | BN11: =SUM(E$3:E11)/SUM(D$3:D11) -> 0.3452381 | BO11: =W11 -> 376.44 | BP11: =SUM(T$3:T11)/SUM(E$3:E11) -> 754.31345 | BR11: =EOMONTH(BR10,1) -> 42277 | BS11: =D11 -> 7 | BT11: =ROUND(AVERAGE(BS$3:BS11),0) -> 9 | BZ11: =BL11 -> 42277 | CA11: =IF(D11=0," ",Z11) -> 206679.28 | CB11: =IF(D11=0," ",AC11) -> 9.1639568e-05
A12: =A11+1 -> 10 | B12: 2016 | C12: Oct | D12: =COUNTIF('Trade Details'!T$3:T$5000,A12) -> 0 | E12: =SUMIF('Trade Details'!T$3:T$5000,A12,'Trade Details'!Z$3:Z$5000) -> 0 | F12: =IF(D12=0,0,E12/D12) -> 0 | G12: =SUMIF('Trade Details'!T$3:T$5000,A12,'Trade Details'!AA$3:AA$5000) -> 0 | H12: =IF(D12=0,0,G12/D12) -> 0 | I12: =SUMIF('Trade Details'!T$3:T$5000,A12,'Trade Details'!V$3:V$5000) -> 0 | J12: =IF($D12=0,0,I12/$D12) -> 0 | K12: =SUMIF('Trade Details'!$T$3:$T$5000,$A12,'Trade Details'!W$3:W$5000) -> 0 | L12: =IF($D12=0,0,K12/$D12) -> 0 | M12: =SUMIF('Trade Details'!$T$3:$T$5000,$A12,'Trade Details'!X$3:X$5000) -> 0 | N12: =IF($D12=0,0,M12/$D12) -> 0 | O12: =SUMIF('Trade Details'!$T$3:$T$5000,$A12,'Trade Details'!Y$3:Y$5000) -> 0 | P12: =IF($D12=0,0,O12/$D12) -> 0 | Q12: =SUMIF('Trade Details'!$T$3:$T$5000,$A12,'Trade Details'!AB$3:AB$5000) -> 0 | R12: =SUMIF('Trade Details'!$T$3:$T$5000,$A12,'Trade Details'!AD$3:AD$5000) -> 0 | S12: =Q12+R12 -> 0 | T12: =IF(D12=0,0,SUMIF('Trade Details'!T$3:T$5000,A12,'Trade Details'!AB$3:AB$5000)) -> 0 | U12: =IF(D12=0,0,SUMIF('Trade Details'!T$3:T$5000,A12,'Trade Details'!AD$3:AD$5000)) -> 0 | V12: =IF(D12=0,0,SUMIF('Trade Details'!T$3:T$5000,A12,'Trade Details'!O$3:O$5000)) -> 0 | W12: =IF(D12=0,0,T12/E12) -> 0 | X12: =IF(G12=0,0,U12/G12) -> 0 | Y12: =IF(D12=0,0,V12/D12) -> 0 | Z12: =S12+Z11 -> 206679.28 | AA12: =(Z12-Z11)/Z11 -> 0 | AB12: =MAX(Z$2:Z12) -> 206698.22 | AC12: =(AB12-Z12)/Z12 -> 9.1639568e-05 | AD12: {=MAX(IF('Trade Details'!T$3:T$5000=A12,'Trade Details'!AB$3:AB$5000))} -> 0 | AE12: =IF(AD12=0,0,INDEX('Trade Details'!AC$3:AC$5000,(MATCH(AD12,'Trade Details'!AB$3:AB$5000,0)))) -> 0 | AF12: {=MIN(IF('Trade Details'!T$3:T$5000=A12,'Trade Details'!AD$3:AD$5000))} -> 0 | AG12: =IF(AF12=0,0,INDEX('Trade Details'!AC$3:AC$5000,(MATCH(AF12,'Trade Details'!AD$3:AD$5000,0)))) -> 0 | AH12: =COUNTIFS('Trade Details'!$D$3:$D$5000,AH$2,'Trade Details'!$T$3:$T$5000,$A12) -> 0 | AI12: =COUNTIFS('Trade Details'!$D$3:$D$5000,AI$2,'Trade Details'!$T$3:$T$5000,$A12) -> 0 | AJ12: =COUNTIFS('Trade Details'!$D$3:$D$5000,AJ$2,'Trade Details'!$T$3:$T$5000,$A12) -> 0 | AK12: =COUNTIFS('Trade Details'!$D$3:$D$5000,AK$2,'Trade Details'!$T$3:$T$5000,$A12) -> 0 | AL12: =COUNTIFS('Trade Details'!$D$3:$D$5000,AL$2,'Trade Details'!$T$3:$T$5000,$A12) -> 0 | AM12: =COUNTIFS('Trade Details'!$D$3:$D$5000,AM$2,'Trade Details'!$T$3:$T$5000,$A12) -> 0 | AN12: =SUMIFS('Trade Details'!$R$3:$R$5000,'Trade Details'!$D$3:$D$5000,AN$2,'Trade Details'!$T$3:$T$5000,$A12) -> 0 | AO12: =SUMIFS('Trade Details'!$R$3:$R$5000,'Trade Details'!$D$3:$D$5000,AO$2,'Trade Details'!$T$3:$T$5000,$A12) -> 0 | AP12: =SUMIFS('Trade Details'!$R$3:$R$5000,'Trade Details'!$D$3:$D$5000,AP$2,'Trade Details'!$T$3:$T$5000,$A12) -> 0 | AQ12: =SUMIFS('Trade Details'!$R$3:$R$5000,'Trade Details'!$D$3:$D$5000,AQ$2,'Trade Details'!$T$3:$T$5000,$A12) -> 0 | AR12: =SUMIFS('Trade Details'!$R$3:$R$5000,'Trade Details'!$D$3:$D$5000,AR$2,'Trade Details'!$T$3:$T$5000,$A12) -> 0 | AS12: =SUMIFS('Trade Details'!$R$3:$R$5000,'Trade Details'!$D$3:$D$5000,AS$2,'Trade Details'!$T$3:$T$5000,$A12) -> 0 | AT12: =IF(AN12=0,0,AN12/AH12) -> 0 | AU12: =IF(AO12=0,0,AO12/AI12) -> 0 | AV12: =IF(AP12=0,0,AP12/AJ12) -> 0 | AW12: =IF(AQ12=0,0,AQ12/AK12) -> 0 | AX12: =IF(AR12=0,0,AR12/AL12) -> 0 | AY12: =IF(AS12=0,0,AS12/AM12) -> 0 | AZ12: =IF(AH12=0,0,SUM(AN12:AS12)/SUM(AH12:AM12)) -> 0 | BL12: =EOMONTH(BL11,1) -> 42308 | BZ12: =BL12 -> 42308 | CA12: =IF(D12=0," ",Z12) | CB12: =IF(D12=0," ",AC12)
A13: =A12+1 -> 11 | B13: 2016 | C13: Nov | D13: =COUNTIF('Trade Details'!T$3:T$5000,A13) -> 0 | E13: =SUMIF('Trade Details'!T$3:T$5000,A13,'Trade Details'!Z$3:Z$5000) -> 0 | F13: =IF(D13=0,0,E13/D13) -> 0 | G13: =SUMIF('Trade Details'!T$3:T$5000,A13,'Trade Details'!AA$3:AA$5000) -> 0 | H13: =IF(D13=0,0,G13/D13) -> 0 | I13: =SUMIF('Trade Details'!T$3:T$5000,A13,'Trade Details'!V$3:V$5000) -> 0 | J13: =IF($D13=0,0,I13/$D13) -> 0 | K13: =SUMIF('Trade Details'!$T$3:$T$5000,$A13,'Trade Details'!W$3:W$5000) -> 0 | L13: =IF($D13=0,0,K13/$D13) -> 0 | M13: =SUMIF('Trade Details'!$T$3:$T$5000,$A13,'Trade Details'!X$3:X$5000) -> 0 | N13: =IF($D13=0,0,M13/$D13) -> 0 | O13: =SUMIF('Trade Details'!$T$3:$T$5000,$A13,'Trade Details'!Y$3:Y$5000) -> 0 | P13: =IF($D13=0,0,O13/$D13) -> 0 | Q13: =SUMIF('Trade Details'!$T$3:$T$5000,$A13,'Trade Details'!AB$3:AB$5000) -> 0 | R13: =SUMIF('Trade Details'!$T$3:$T$5000,$A13,'Trade Details'!AD$3:AD$5000) -> 0 | S13: =Q13+R13 -> 0 | T13: =IF(D13=0,0,SUMIF('Trade Details'!T$3:T$5000,A13,'Trade Details'!AB$3:AB$5000)) -> 0 | U13: =IF(D13=0,0,SUMIF('Trade Details'!T$3:T$5000,A13,'Trade Details'!AD$3:AD$5000)) -> 0 | V13: =IF(D13=0,0,SUMIF('Trade Details'!T$3:T$5000,A13,'Trade Details'!O$3:O$5000)) -> 0 | W13: =IF(D13=0,0,T13/E13) -> 0 | X13: =IF(G13=0,0,U13/G13) -> 0 | Y13: =IF(D13=0,0,V13/D13) -> 0 | Z13: =S13+Z12 -> 206679.28 | AA13: =(Z13-Z12)/Z12 -> 0 | AB13: =MAX(Z$2:Z13) -> 206698.22 | AC13: =(AB13-Z13)/Z13 -> 9.1639568e-05 | AD13: {=MAX(IF('Trade Details'!T$3:T$5000=A13,'Trade Details'!AB$3:AB$5000))} -> 0 | AE13: =IF(AD13=0,0,INDEX('Trade Details'!AC$3:AC$5000,(MATCH(AD13,'Trade Details'!AB$3:AB$5000,0)))) -> 0 | AF13: {=MIN(IF('Trade Details'!T$3:T$5000=A13,'Trade Details'!AD$3:AD$5000))} -> 0 | AG13: =IF(AF13=0,0,INDEX('Trade Details'!AC$3:AC$5000,(MATCH(AF13,'Trade Details'!AD$3:AD$5000,0)))) -> 0 | AH13: =COUNTIFS('Trade Details'!$D$3:$D$5000,AH$2,'Trade Details'!$T$3:$T$5000,$A13) -> 0 | AI13: =COUNTIFS('Trade Details'!$D$3:$D$5000,AI$2,'Trade Details'!$T$3:$T$5000,$A13) -> 0 | AJ13: =COUNTIFS('Trade Details'!$D$3:$D$5000,AJ$2,'Trade Details'!$T$3:$T$5000,$A13) -> 0 | AK13: =COUNTIFS('Trade Details'!$D$3:$D$5000,AK$2,'Trade Details'!$T$3:$T$5000,$A13) -> 0 | AL13: =COUNTIFS('Trade Details'!$D$3:$D$5000,AL$2,'Trade Details'!$T$3:$T$5000,$A13) -> 0 | AM13: =COUNTIFS('Trade Details'!$D$3:$D$5000,AM$2,'Trade Details'!$T$3:$T$5000,$A13) -> 0 | AN13: =SUMIFS('Trade Details'!$R$3:$R$5000,'Trade Details'!$D$3:$D$5000,AN$2,'Trade Details'!$T$3:$T$5000,$A13) -> 0 | AO13: =SUMIFS('Trade Details'!$R$3:$R$5000,'Trade Details'!$D$3:$D$5000,AO$2,'Trade Details'!$T$3:$T$5000,$A13) -> 0 | AP13: =SUMIFS('Trade Details'!$R$3:$R$5000,'Trade Details'!$D$3:$D$5000,AP$2,'Trade Details'!$T$3:$T$5000,$A13) -> 0 | AQ13: =SUMIFS('Trade Details'!$R$3:$R$5000,'Trade Details'!$D$3:$D$5000,AQ$2,'Trade Details'!$T$3:$T$5000,$A13) -> 0 | AR13: =SUMIFS('Trade Details'!$R$3:$R$5000,'Trade Details'!$D$3:$D$5000,AR$2,'Trade Details'!$T$3:$T$5000,$A13) -> 0 | AS13: =SUMIFS('Trade Details'!$R$3:$R$5000,'Trade Details'!$D$3:$D$5000,AS$2,'Trade Details'!$T$3:$T$5000,$A13) -> 0 | AT13: =IF(AN13=0,0,AN13/AH13) -> 0 | AU13: =IF(AO13=0,0,AO13/AI13) -> 0 | AV13: =IF(AP13=0,0,AP13/AJ13) -> 0 | AW13: =IF(AQ13=0,0,AQ13/AK13) -> 0 | AX13: =IF(AR13=0,0,AR13/AL13) -> 0 | AY13: =IF(AS13=0,0,AS13/AM13) -> 0 | AZ13: =IF(AH13=0,0,SUM(AN13:AS13)/SUM(AH13:AM13)) -> 0 | BL13: =EOMONTH(BL12,1) -> 42338 | BZ13: =BL13 -> 42338 | CA13: =IF(D13=0," ",Z13) | CB13: =IF(D13=0," ",AC13)
A14: =A13+1 -> 12 | B14: 2016 | C14: Dec | D14: =COUNTIF('Trade Details'!T$3:T$5000,A14) -> 0 | E14: =SUMIF('Trade Details'!T$3:T$5000,A14,'Trade Details'!Z$3:Z$5000) -> 0 | F14: =IF(D14=0,0,E14/D14) -> 0 | G14: =SUMIF('Trade Details'!T$3:T$5000,A14,'Trade Details'!AA$3:AA$5000) -> 0 | H14: =IF(D14=0,0,G14/D14) -> 0 | I14: =SUMIF('Trade Details'!T$3:T$5000,A14,'Trade Details'!V$3:V$5000) -> 0 | J14: =IF($D14=0,0,I14/$D14) -> 0 | K14: =SUMIF('Trade Details'!$T$3:$T$5000,$A14,'Trade Details'!W$3:W$5000) -> 0 | L14: =IF($D14=0,0,K14/$D14) -> 0 | M14: =SUMIF('Trade Details'!$T$3:$T$5000,$A14,'Trade Details'!X$3:X$5000) -> 0 | N14: =IF($D14=0,0,M14/$D14) -> 0 | O14: =SUMIF('Trade Details'!$T$3:$T$5000,$A14,'Trade Details'!Y$3:Y$5000) -> 0 | P14: =IF($D14=0,0,O14/$D14) -> 0 | Q14: =SUMIF('Trade Details'!$T$3:$T$5000,$A14,'Trade Details'!AB$3:AB$5000) -> 0 | R14: =SUMIF('Trade Details'!$T$3:$T$5000,$A14,'Trade Details'!AD$3:AD$5000) -> 0 | S14: =Q14+R14 -> 0 | T14: =IF(D14=0,0,SUMIF('Trade Details'!T$3:T$5000,A14,'Trade Details'!AB$3:AB$5000)) -> 0 | U14: =IF(D14=0,0,SUMIF('Trade Details'!T$3:T$5000,A14,'Trade Details'!AD$3:AD$5000)) -> 0 | V14: =IF(D14=0,0,SUMIF('Trade Details'!T$3:T$5000,A14,'Trade Details'!O$3:O$5000)) -> 0 | W14: =IF(D14=0,0,T14/E14) -> 0 | X14: =IF(G14=0,0,U14/G14) -> 0 | Y14: =IF(D14=0,0,V14/D14) -> 0 | Z14: =S14+Z13 -> 206679.28 | AA14: =(Z14-Z13)/Z13 -> 0 | AB14: =MAX(Z$2:Z14) -> 206698.22 | AC14: =(AB14-Z14)/Z14 -> 9.1639568e-05 | AD14: {=MAX(IF('Trade Details'!T$3:T$5000=A14,'Trade Details'!AB$3:AB$5000))} -> 0 | AE14: =IF(AD14=0,0,INDEX('Trade Details'!AC$3:AC$5000,(MATCH(AD14,'Trade Details'!AB$3:AB$5000,0)))) -> 0 | AF14: {=MIN(IF('Trade Details'!T$3:T$5000=A14,'Trade Details'!AD$3:AD$5000))} -> 0 | AG14: =IF(AF14=0,0,INDEX('Trade Details'!AC$3:AC$5000,(MATCH(AF14,'Trade Details'!AD$3:AD$5000,0)))) -> 0 | AH14: =COUNTIFS('Trade Details'!$D$3:$D$5000,AH$2,'Trade Details'!$T$3:$T$5000,$A14) -> 0 | AI14: =COUNTIFS('Trade Details'!$D$3:$D$5000,AI$2,'Trade Details'!$T$3:$T$5000,$A14) -> 0 | AJ14: =COUNTIFS('Trade Details'!$D$3:$D$5000,AJ$2,'Trade Details'!$T$3:$T$5000,$A14) -> 0 | AK14: =COUNTIFS('Trade Details'!$D$3:$D$5000,AK$2,'Trade Details'!$T$3:$T$5000,$A14) -> 0 | AL14: =COUNTIFS('Trade Details'!$D$3:$D$5000,AL$2,'Trade Details'!$T$3:$T$5000,$A14) -> 0 | AM14: =COUNTIFS('Trade Details'!$D$3:$D$5000,AM$2,'Trade Details'!$T$3:$T$5000,$A14) -> 0 | AN14: =SUMIFS('Trade Details'!$R$3:$R$5000,'Trade Details'!$D$3:$D$5000,AN$2,'Trade Details'!$T$3:$T$5000,$A14) -> 0 | AO14: =SUMIFS('Trade Details'!$R$3:$R$5000,'Trade Details'!$D$3:$D$5000,AO$2,'Trade Details'!$T$3:$T$5000,$A14) -> 0 | AP14: =SUMIFS('Trade Details'!$R$3:$R$5000,'Trade Details'!$D$3:$D$5000,AP$2,'Trade Details'!$T$3:$T$5000,$A14) -> 0 | AQ14: =SUMIFS('Trade Details'!$R$3:$R$5000,'Trade Details'!$D$3:$D$5000,AQ$2,'Trade Details'!$T$3:$T$5000,$A14) -> 0 | AR14: =SUMIFS('Trade Details'!$R$3:$R$5000,'Trade Details'!$D$3:$D$5000,AR$2,'Trade Details'!$T$3:$T$5000,$A14) -> 0 | AS14: =SUMIFS('Trade Details'!$R$3:$R$5000,'Trade Details'!$D$3:$D$5000,AS$2,'Trade Details'!$T$3:$T$5000,$A14) -> 0 | AT14: =IF(AN14=0,0,AN14/AH14) -> 0 | AU14: =IF(AO14=0,0,AO14/AI14) -> 0 | AV14: =IF(AP14=0,0,AP14/AJ14) -> 0 | AW14: =IF(AQ14=0,0,AQ14/AK14) -> 0 | AX14: =IF(AR14=0,0,AR14/AL14) -> 0 | AY14: =IF(AS14=0,0,AS14/AM14) -> 0 | AZ14: =IF(AH14=0,0,SUM(AN14:AS14)/SUM(AH14:AM14)) -> 0 | BL14: =EOMONTH(BL13,1) -> 42369 | BZ14: =BL14 -> 42369 | CA14: =IF(D14=0," ",Z14) | CB14: =IF(D14=0," ",AC14)
A15: =A14+1 -> 13 | B15: =B14+1 -> 2017 | C15: Jan | D15: =COUNTIF('Trade Details'!T$3:T$5000,A15) -> 0 | E15: =SUMIF('Trade Details'!T$3:T$5000,A15,'Trade Details'!Z$3:Z$5000) -> 0 | F15: =IF(D15=0,0,E15/D15) -> 0 | G15: =SUMIF('Trade Details'!T$3:T$5000,A15,'Trade Details'!AA$3:AA$5000) -> 0 | H15: =IF(D15=0,0,G15/D15) -> 0 | I15: =SUMIF('Trade Details'!T$3:T$5000,A15,'Trade Details'!V$3:V$5000) -> 0 | J15: =IF($D15=0,0,I15/$D15) -> 0 | K15: =SUMIF('Trade Details'!$T$3:$T$5000,$A15,'Trade Details'!W$3:W$5000) -> 0 | L15: =IF($D15=0,0,K15/$D15) -> 0 | M15: =SUMIF('Trade Details'!$T$3:$T$5000,$A15,'Trade Details'!X$3:X$5000) -> 0 | N15: =IF($D15=0,0,M15/$D15) -> 0 | O15: =SUMIF('Trade Details'!$T$3:$T$5000,$A15,'Trade Details'!Y$3:Y$5000) -> 0 | P15: =IF($D15=0,0,O15/$D15) -> 0 | Q15: =SUMIF('Trade Details'!$T$3:$T$5000,$A15,'Trade Details'!AB$3:AB$5000) -> 0 | R15: =SUMIF('Trade Details'!$T$3:$T$5000,$A15,'Trade Details'!AD$3:AD$5000) -> 0 | S15: =Q15+R15 -> 0 | T15: =IF(D15=0,0,SUMIF('Trade Details'!T$3:T$5000,A15,'Trade Details'!AB$3:AB$5000)) -> 0 | U15: =IF(D15=0,0,SUMIF('Trade Details'!T$3:T$5000,A15,'Trade Details'!AD$3:AD$5000)) -> 0 | V15: =IF(D15=0,0,SUMIF('Trade Details'!T$3:T$5000,A15,'Trade Details'!O$3:O$5000)) -> 0 | W15: =IF(D15=0,0,T15/E15) -> 0 | X15: =IF(G15=0,0,U15/G15) -> 0 | Y15: =IF(D15=0,0,V15/D15) -> 0 | Z15: =S15+Z14 -> 206679.28 | AA15: =(Z15-Z14)/Z14 -> 0 | AB15: =MAX(Z$2:Z15) -> 206698.22 | AC15: =(AB15-Z15)/Z15 -> 9.1639568e-05 | AD15: {=MAX(IF('Trade Details'!T$3:T$5000=A15,'Trade Details'!AB$3:AB$5000))} -> 0 | AE15: =IF(AD15=0,0,INDEX('Trade Details'!AC$3:AC$5000,(MATCH(AD15,'Trade Details'!AB$3:AB$5000,0)))) -> 0 | AF15: {=MIN(IF('Trade Details'!T$3:T$5000=A15,'Trade Details'!AD$3:AD$5000))} -> 0 | AG15: =IF(AF15=0,0,INDEX('Trade Details'!AC$3:AC$5000,(MATCH(AF15,'Trade Details'!AD$3:AD$5000,0)))) -> 0 | AH15: =COUNTIFS('Trade Details'!$D$3:$D$5000,AH$2,'Trade Details'!$T$3:$T$5000,$A15) -> 0 | AI15: =COUNTIFS('Trade Details'!$D$3:$D$5000,AI$2,'Trade Details'!$T$3:$T$5000,$A15) -> 0 | AJ15: =COUNTIFS('Trade Details'!$D$3:$D$5000,AJ$2,'Trade Details'!$T$3:$T$5000,$A15) -> 0 | AK15: =COUNTIFS('Trade Details'!$D$3:$D$5000,AK$2,'Trade Details'!$T$3:$T$5000,$A15) -> 0 | AL15: =COUNTIFS('Trade Details'!$D$3:$D$5000,AL$2,'Trade Details'!$T$3:$T$5000,$A15) -> 0 | AM15: =COUNTIFS('Trade Details'!$D$3:$D$5000,AM$2,'Trade Details'!$T$3:$T$5000,$A15) -> 0 | AN15: =SUMIFS('Trade Details'!$R$3:$R$5000,'Trade Details'!$D$3:$D$5000,AN$2,'Trade Details'!$T$3:$T$5000,$A15) -> 0 | AO15: =SUMIFS('Trade Details'!$R$3:$R$5000,'Trade Details'!$D$3:$D$5000,AO$2,'Trade Details'!$T$3:$T$5000,$A15) -> 0 | AP15: =SUMIFS('Trade Details'!$R$3:$R$5000,'Trade Details'!$D$3:$D$5000,AP$2,'Trade Details'!$T$3:$T$5000,$A15) -> 0 | AQ15: =SUMIFS('Trade Details'!$R$3:$R$5000,'Trade Details'!$D$3:$D$5000,AQ$2,'Trade Details'!$T$3:$T$5000,$A15) -> 0 | AR15: =SUMIFS('Trade Details'!$R$3:$R$5000,'Trade Details'!$D$3:$D$5000,AR$2,'Trade Details'!$T$3:$T$5000,$A15) -> 0 | AS15: =SUMIFS('Trade Details'!$R$3:$R$5000,'Trade Details'!$D$3:$D$5000,AS$2,'Trade Details'!$T$3:$T$5000,$A15) -> 0 | AT15: =IF(AN15=0,0,AN15/AH15) -> 0 | AU15: =IF(AO15=0,0,AO15/AI15) -> 0 | AV15: =IF(AP15=0,0,AP15/AJ15) -> 0 | AW15: =IF(AQ15=0,0,AQ15/AK15) -> 0 | AX15: =IF(AR15=0,0,AR15/AL15) -> 0 | AY15: =IF(AS15=0,0,AS15/AM15) -> 0 | AZ15: =IF(AH15=0,0,SUM(AN15:AS15)/SUM(AH15:AM15)) -> 0 | BL15: =EOMONTH(BL14,1) -> 42400 | BZ15: =BL15 -> 42400 | CA15: =IF(D15=0," ",Z15) | CB15: =IF(D15=0," ",AC15)
A16: =A15+1 -> 14 | B16: =B15 -> 2017 | C16: Feb | D16: =COUNTIF('Trade Details'!T$3:T$5000,A16) -> 0 | E16: =SUMIF('Trade Details'!T$3:T$5000,A16,'Trade Details'!Z$3:Z$5000) -> 0 | F16: =IF(D16=0,0,E16/D16) -> 0 | G16: =SUMIF('Trade Details'!T$3:T$5000,A16,'Trade Details'!AA$3:AA$5000) -> 0 | H16: =IF(D16=0,0,G16/D16) -> 0 | I16: =SUMIF('Trade Details'!T$3:T$5000,A16,'Trade Details'!V$3:V$5000) -> 0 | J16: =IF($D16=0,0,I16/$D16) -> 0 | K16: =SUMIF('Trade Details'!$T$3:$T$5000,$A16,'Trade Details'!W$3:W$5000) -> 0 | L16: =IF($D16=0,0,K16/$D16) -> 0 | M16: =SUMIF('Trade Details'!$T$3:$T$5000,$A16,'Trade Details'!X$3:X$5000) -> 0 | N16: =IF($D16=0,0,M16/$D16) -> 0 | O16: =SUMIF('Trade Details'!$T$3:$T$5000,$A16,'Trade Details'!Y$3:Y$5000) -> 0 | P16: =IF($D16=0,0,O16/$D16) -> 0 | Q16: =SUMIF('Trade Details'!$T$3:$T$5000,$A16,'Trade Details'!AB$3:AB$5000) -> 0 | R16: =SUMIF('Trade Details'!$T$3:$T$5000,$A16,'Trade Details'!AD$3:AD$5000) -> 0 | S16: =Q16+R16 -> 0 | T16: =IF(D16=0,0,SUMIF('Trade Details'!T$3:T$5000,A16,'Trade Details'!AB$3:AB$5000)) -> 0 | U16: =IF(D16=0,0,SUMIF('Trade Details'!T$3:T$5000,A16,'Trade Details'!AD$3:AD$5000)) -> 0 | V16: =IF(D16=0,0,SUMIF('Trade Details'!T$3:T$5000,A16,'Trade Details'!O$3:O$5000)) -> 0 | W16: =IF(D16=0,0,T16/E16) -> 0 | X16: =IF(G16=0,0,U16/G16) -> 0 | Y16: =IF(D16=0,0,V16/D16) -> 0 | Z16: =S16+Z15 -> 206679.28 | AA16: =(Z16-Z15)/Z15 -> 0 | AB16: =MAX(Z$2:Z16) -> 206698.22 | AC16: =(AB16-Z16)/Z16 -> 9.1639568e-05 | AD16: {=MAX(IF('Trade Details'!T$3:T$5000=A16,'Trade Details'!AB$3:AB$5000))} -> 0 | AE16: =IF(AD16=0,0,INDEX('Trade Details'!AC$3:AC$5000,(MATCH(AD16,'Trade Details'!AB$3:AB$5000,0)))) -> 0 | AF16: {=MIN(IF('Trade Details'!T$3:T$5000=A16,'Trade Details'!AD$3:AD$5000))} -> 0 | AG16: =IF(AF16=0,0,INDEX('Trade Details'!AC$3:AC$5000,(MATCH(AF16,'Trade Details'!AD$3:AD$5000,0)))) -> 0 | AH16: =COUNTIFS('Trade Details'!$D$3:$D$5000,AH$2,'Trade Details'!$T$3:$T$5000,$A16) -> 0 | AI16: =COUNTIFS('Trade Details'!$D$3:$D$5000,AI$2,'Trade Details'!$T$3:$T$5000,$A16) -> 0 | AJ16: =COUNTIFS('Trade Details'!$D$3:$D$5000,AJ$2,'Trade Details'!$T$3:$T$5000,$A16) -> 0 | AK16: =COUNTIFS('Trade Details'!$D$3:$D$5000,AK$2,'Trade Details'!$T$3:$T$5000,$A16) -> 0 | AL16: =COUNTIFS('Trade Details'!$D$3:$D$5000,AL$2,'Trade Details'!$T$3:$T$5000,$A16) -> 0 | AM16: =COUNTIFS('Trade Details'!$D$3:$D$5000,AM$2,'Trade Details'!$T$3:$T$5000,$A16) -> 0 | AN16: =SUMIFS('Trade Details'!$R$3:$R$5000,'Trade Details'!$D$3:$D$5000,AN$2,'Trade Details'!$T$3:$T$5000,$A16) -> 0 | AO16: =SUMIFS('Trade Details'!$R$3:$R$5000,'Trade Details'!$D$3:$D$5000,AO$2,'Trade Details'!$T$3:$T$5000,$A16) -> 0 | AP16: =SUMIFS('Trade Details'!$R$3:$R$5000,'Trade Details'!$D$3:$D$5000,AP$2,'Trade Details'!$T$3:$T$5000,$A16) -> 0 | AQ16: =SUMIFS('Trade Details'!$R$3:$R$5000,'Trade Details'!$D$3:$D$5000,AQ$2,'Trade Details'!$T$3:$T$5000,$A16) -> 0 | AR16: =SUMIFS('Trade Details'!$R$3:$R$5000,'Trade Details'!$D$3:$D$5000,AR$2,'Trade Details'!$T$3:$T$5000,$A16) -> 0 | AS16: =SUMIFS('Trade Details'!$R$3:$R$5000,'Trade Details'!$D$3:$D$5000,AS$2,'Trade Details'!$T$3:$T$5000,$A16) -> 0 | AT16: =IF(AN16=0,0,AN16/AH16) -> 0 | AU16: =IF(AO16=0,0,AO16/AI16) -> 0 | AV16: =IF(AP16=0,0,AP16/AJ16) -> 0 | AW16: =IF(AQ16=0,0,AQ16/AK16) -> 0 | AX16: =IF(AR16=0,0,AR16/AL16) -> 0 | AY16: =IF(AS16=0,0,AS16/AM16) -> 0 | AZ16: =IF(AH16=0,0,SUM(AN16:AS16)/SUM(AH16:AM16)) -> 0 | BL16: =EOMONTH(BL15,1) -> 42429 | BZ16: =BL16 -> 42429 | CA16: =IF(D16=0," ",Z16) | CB16: =IF(D16=0," ",AC16)
A17: =A16+1 -> 15 | B17: =B16 -> 2017 | C17: Mar | D17: =COUNTIF('Trade Details'!T$3:T$5000,A17) -> 0 | E17: =SUMIF('Trade Details'!T$3:T$5000,A17,'Trade Details'!Z$3:Z$5000) -> 0 | F17: =IF(D17=0,0,E17/D17) -> 0 | G17: =SUMIF('Trade Details'!T$3:T$5000,A17,'Trade Details'!AA$3:AA$5000) -> 0 | H17: =IF(D17=0,0,G17/D17) -> 0 | I17: =SUMIF('Trade Details'!T$3:T$5000,A17,'Trade Details'!V$3:V$5000) -> 0 | J17: =IF($D17=0,0,I17/$D17) -> 0 | K17: =SUMIF('Trade Details'!$T$3:$T$5000,$A17,'Trade Details'!W$3:W$5000) -> 0 | L17: =IF($D17=0,0,K17/$D17) -> 0 | M17: =SUMIF('Trade Details'!$T$3:$T$5000,$A17,'Trade Details'!X$3:X$5000) -> 0 | N17: =IF($D17=0,0,M17/$D17) -> 0 | O17: =SUMIF('Trade Details'!$T$3:$T$5000,$A17,'Trade Details'!Y$3:Y$5000) -> 0 | P17: =IF($D17=0,0,O17/$D17) -> 0 | Q17: =SUMIF('Trade Details'!$T$3:$T$5000,$A17,'Trade Details'!AB$3:AB$5000) -> 0 | R17: =SUMIF('Trade Details'!$T$3:$T$5000,$A17,'Trade Details'!AD$3:AD$5000) -> 0 | S17: =Q17+R17 -> 0 | T17: =IF(D17=0,0,SUMIF('Trade Details'!T$3:T$5000,A17,'Trade Details'!AB$3:AB$5000)) -> 0 | U17: =IF(D17=0,0,SUMIF('Trade Details'!T$3:T$5000,A17,'Trade Details'!AD$3:AD$5000)) -> 0 | V17: =IF(D17=0,0,SUMIF('Trade Details'!T$3:T$5000,A17,'Trade Details'!O$3:O$5000)) -> 0 | W17: =IF(D17=0,0,T17/E17) -> 0 | X17: =IF(G17=0,0,U17/G17) -> 0 | Y17: =IF(D17=0,0,V17/D17) -> 0 | Z17: =S17+Z16 -> 206679.28 | AA17: =(Z17-Z16)/Z16 -> 0 | AB17: =MAX(Z$2:Z17) -> 206698.22 | AC17: =(AB17-Z17)/Z17 -> 9.1639568e-05 | AD17: {=MAX(IF('Trade Details'!T$3:T$5000=A17,'Trade Details'!AB$3:AB$5000))} -> 0 | AE17: =IF(AD17=0,0,INDEX('Trade Details'!AC$3:AC$5000,(MATCH(AD17,'Trade Details'!AB$3:AB$5000,0)))) -> 0 | AF17: {=MIN(IF('Trade Details'!T$3:T$5000=A17,'Trade Details'!AD$3:AD$5000))} -> 0 | AG17: =IF(AF17=0,0,INDEX('Trade Details'!AC$3:AC$5000,(MATCH(AF17,'Trade Details'!AD$3:AD$5000,0)))) -> 0 | AH17: =COUNTIFS('Trade Details'!$D$3:$D$5000,AH$2,'Trade Details'!$T$3:$T$5000,$A17) -> 0 | AI17: =COUNTIFS('Trade Details'!$D$3:$D$5000,AI$2,'Trade Details'!$T$3:$T$5000,$A17) -> 0 | AJ17: =COUNTIFS('Trade Details'!$D$3:$D$5000,AJ$2,'Trade Details'!$T$3:$T$5000,$A17) -> 0 | AK17: =COUNTIFS('Trade Details'!$D$3:$D$5000,AK$2,'Trade Details'!$T$3:$T$5000,$A17) -> 0 | AL17: =COUNTIFS('Trade Details'!$D$3:$D$5000,AL$2,'Trade Details'!$T$3:$T$5000,$A17) -> 0 | AM17: =COUNTIFS('Trade Details'!$D$3:$D$5000,AM$2,'Trade Details'!$T$3:$T$5000,$A17) -> 0 | AN17: =SUMIFS('Trade Details'!$R$3:$R$5000,'Trade Details'!$D$3:$D$5000,AN$2,'Trade Details'!$T$3:$T$5000,$A17) -> 0 | AO17: =SUMIFS('Trade Details'!$R$3:$R$5000,'Trade Details'!$D$3:$D$5000,AO$2,'Trade Details'!$T$3:$T$5000,$A17) -> 0 | AP17: =SUMIFS('Trade Details'!$R$3:$R$5000,'Trade Details'!$D$3:$D$5000,AP$2,'Trade Details'!$T$3:$T$5000,$A17) -> 0 | AQ17: =SUMIFS('Trade Details'!$R$3:$R$5000,'Trade Details'!$D$3:$D$5000,AQ$2,'Trade Details'!$T$3:$T$5000,$A17) -> 0 | AR17: =SUMIFS('Trade Details'!$R$3:$R$5000,'Trade Details'!$D$3:$D$5000,AR$2,'Trade Details'!$T$3:$T$5000,$A17) -> 0 | AS17: =SUMIFS('Trade Details'!$R$3:$R$5000,'Trade Details'!$D$3:$D$5000,AS$2,'Trade Details'!$T$3:$T$5000,$A17) -> 0 | AT17: =IF(AN17=0,0,AN17/AH17) -> 0 | AU17: =IF(AO17=0,0,AO17/AI17) -> 0 | AV17: =IF(AP17=0,0,AP17/AJ17) -> 0 | AW17: =IF(AQ17=0,0,AQ17/AK17) -> 0 | AX17: =IF(AR17=0,0,AR17/AL17) -> 0 | AY17: =IF(AS17=0,0,AS17/AM17) -> 0 | AZ17: =IF(AH17=0,0,SUM(AN17:AS17)/SUM(AH17:AM17)) -> 0 | BL17: =EOMONTH(BL16,1) -> 42460 | BZ17: =BL17 -> 42460 | CA17: =IF(D17=0," ",Z17) | CB17: =IF(D17=0," ",AC17)
A18: =A17+1 -> 16 | B18: =B17 -> 2017 | C18: Apr | D18: =COUNTIF('Trade Details'!T$3:T$5000,A18) -> 0 | E18: =SUMIF('Trade Details'!T$3:T$5000,A18,'Trade Details'!Z$3:Z$5000) -> 0 | F18: =IF(D18=0,0,E18/D18) -> 0 | G18: =SUMIF('Trade Details'!T$3:T$5000,A18,'Trade Details'!AA$3:AA$5000) -> 0 | H18: =IF(D18=0,0,G18/D18) -> 0 | I18: =SUMIF('Trade Details'!T$3:T$5000,A18,'Trade Details'!V$3:V$5000) -> 0 | J18: =IF($D18=0,0,I18/$D18) -> 0 | K18: =SUMIF('Trade Details'!$T$3:$T$5000,$A18,'Trade Details'!W$3:W$5000) -> 0 | L18: =IF($D18=0,0,K18/$D18) -> 0 | M18: =SUMIF('Trade Details'!$T$3:$T$5000,$A18,'Trade Details'!X$3:X$5000) -> 0 | N18: =IF($D18=0,0,M18/$D18) -> 0 | O18: =SUMIF('Trade Details'!$T$3:$T$5000,$A18,'Trade Details'!Y$3:Y$5000) -> 0 | P18: =IF($D18=0,0,O18/$D18) -> 0 | Q18: =SUMIF('Trade Details'!$T$3:$T$5000,$A18,'Trade Details'!AB$3:AB$5000) -> 0 | R18: =SUMIF('Trade Details'!$T$3:$T$5000,$A18,'Trade Details'!AD$3:AD$5000) -> 0 | S18: =Q18+R18 -> 0 | T18: =IF(D18=0,0,SUMIF('Trade Details'!T$3:T$5000,A18,'Trade Details'!AB$3:AB$5000)) -> 0 | U18: =IF(D18=0,0,SUMIF('Trade Details'!T$3:T$5000,A18,'Trade Details'!AD$3:AD$5000)) -> 0 | V18: =IF(D18=0,0,SUMIF('Trade Details'!T$3:T$5000,A18,'Trade Details'!O$3:O$5000)) -> 0 | W18: =IF(D18=0,0,T18/E18) -> 0 | X18: =IF(G18=0,0,U18/G18) -> 0 | Y18: =IF(D18=0,0,V18/D18) -> 0 | Z18: =S18+Z17 -> 206679.28 | AA18: =(Z18-Z17)/Z17 -> 0 | AB18: =MAX(Z$2:Z18) -> 206698.22 | AC18: =(AB18-Z18)/Z18 -> 9.1639568e-05 | AD18: {=MAX(IF('Trade Details'!T$3:T$5000=A18,'Trade Details'!AB$3:AB$5000))} -> 0 | AE18: =IF(AD18=0,0,INDEX('Trade Details'!AC$3:AC$5000,(MATCH(AD18,'Trade Details'!AB$3:AB$5000,0)))) -> 0 | AF18: {=MIN(IF('Trade Details'!T$3:T$5000=A18,'Trade Details'!AD$3:AD$5000))} -> 0 | AG18: =IF(AF18=0,0,INDEX('Trade Details'!AC$3:AC$5000,(MATCH(AF18,'Trade Details'!AD$3:AD$5000,0)))) -> 0 | AH18: =COUNTIFS('Trade Details'!$D$3:$D$5000,AH$2,'Trade Details'!$T$3:$T$5000,$A18) -> 0 | AI18: =COUNTIFS('Trade Details'!$D$3:$D$5000,AI$2,'Trade Details'!$T$3:$T$5000,$A18) -> 0 | AJ18: =COUNTIFS('Trade Details'!$D$3:$D$5000,AJ$2,'Trade Details'!$T$3:$T$5000,$A18) -> 0 | AK18: =COUNTIFS('Trade Details'!$D$3:$D$5000,AK$2,'Trade Details'!$T$3:$T$5000,$A18) -> 0 | AL18: =COUNTIFS('Trade Details'!$D$3:$D$5000,AL$2,'Trade Details'!$T$3:$T$5000,$A18) -> 0 | AM18: =COUNTIFS('Trade Details'!$D$3:$D$5000,AM$2,'Trade Details'!$T$3:$T$5000,$A18) -> 0 | AN18: =SUMIFS('Trade Details'!$R$3:$R$5000,'Trade Details'!$D$3:$D$5000,AN$2,'Trade Details'!$T$3:$T$5000,$A18) -> 0 | AO18: =SUMIFS('Trade Details'!$R$3:$R$5000,'Trade Details'!$D$3:$D$5000,AO$2,'Trade Details'!$T$3:$T$5000,$A18) -> 0 | AP18: =SUMIFS('Trade Details'!$R$3:$R$5000,'Trade Details'!$D$3:$D$5000,AP$2,'Trade Details'!$T$3:$T$5000,$A18) -> 0 | AQ18: =SUMIFS('Trade Details'!$R$3:$R$5000,'Trade Details'!$D$3:$D$5000,AQ$2,'Trade Details'!$T$3:$T$5000,$A18) -> 0 | AR18: =SUMIFS('Trade Details'!$R$3:$R$5000,'Trade Details'!$D$3:$D$5000,AR$2,'Trade Details'!$T$3:$T$5000,$A18) -> 0 | AS18: =SUMIFS('Trade Details'!$R$3:$R$5000,'Trade Details'!$D$3:$D$5000,AS$2,'Trade Details'!$T$3:$T$5000,$A18) -> 0 | AT18: =IF(AN18=0,0,AN18/AH18) -> 0 | AU18: =IF(AO18=0,0,AO18/AI18) -> 0 | AV18: =IF(AP18=0,0,AP18/AJ18) -> 0 | AW18: =IF(AQ18=0,0,AQ18/AK18) -> 0 | AX18: =IF(AR18=0,0,AR18/AL18) -> 0 | AY18: =IF(AS18=0,0,AS18/AM18) -> 0 | AZ18: =IF(AH18=0,0,SUM(AN18:AS18)/SUM(AH18:AM18)) -> 0 | BL18: =EOMONTH(BL17,1) -> 42490 | BZ18: =BL18 -> 42490 | CA18: =IF(D18=0," ",Z18) | CB18: =IF(D18=0," ",AC18)
A19: =A18+1 -> 17 | B19: =B18 -> 2017 | C19: May | D19: =COUNTIF('Trade Details'!T$3:T$5000,A19) -> 0 | E19: =SUMIF('Trade Details'!T$3:T$5000,A19,'Trade Details'!Z$3:Z$5000) -> 0 | F19: =IF(D19=0,0,E19/D19) -> 0 | G19: =SUMIF('Trade Details'!T$3:T$5000,A19,'Trade Details'!AA$3:AA$5000) -> 0 | H19: =IF(D19=0,0,G19/D19) -> 0 | I19: =SUMIF('Trade Details'!T$3:T$5000,A19,'Trade Details'!V$3:V$5000) -> 0 | J19: =IF($D19=0,0,I19/$D19) -> 0 | K19: =SUMIF('Trade Details'!$T$3:$T$5000,$A19,'Trade Details'!W$3:W$5000) -> 0 | L19: =IF($D19=0,0,K19/$D19) -> 0 | M19: =SUMIF('Trade Details'!$T$3:$T$5000,$A19,'Trade Details'!X$3:X$5000) -> 0 | N19: =IF($D19=0,0,M19/$D19) -> 0 | O19: =SUMIF('Trade Details'!$T$3:$T$5000,$A19,'Trade Details'!Y$3:Y$5000) -> 0 | P19: =IF($D19=0,0,O19/$D19) -> 0 | Q19: =SUMIF('Trade Details'!$T$3:$T$5000,$A19,'Trade Details'!AB$3:AB$5000) -> 0 | R19: =SUMIF('Trade Details'!$T$3:$T$5000,$A19,'Trade Details'!AD$3:AD$5000) -> 0 | S19: =Q19+R19 -> 0 | T19: =IF(D19=0,0,SUMIF('Trade Details'!T$3:T$5000,A19,'Trade Details'!AB$3:AB$5000)) -> 0 | U19: =IF(D19=0,0,SUMIF('Trade Details'!T$3:T$5000,A19,'Trade Details'!AD$3:AD$5000)) -> 0 | V19: =IF(D19=0,0,SUMIF('Trade Details'!T$3:T$5000,A19,'Trade Details'!O$3:O$5000)) -> 0 | W19: =IF(D19=0,0,T19/E19) -> 0 | X19: =IF(G19=0,0,U19/G19) -> 0 | Y19: =IF(D19=0,0,V19/D19) -> 0 | Z19: =S19+Z18 -> 206679.28 | AA19: =(Z19-Z18)/Z18 -> 0 | AB19: =MAX(Z$2:Z19) -> 206698.22 | AC19: =(AB19-Z19)/Z19 -> 9.1639568e-05 | AD19: {=MAX(IF('Trade Details'!T$3:T$5000=A19,'Trade Details'!AB$3:AB$5000))} -> 0 | AE19: =IF(AD19=0,0,INDEX('Trade Details'!AC$3:AC$5000,(MATCH(AD19,'Trade Details'!AB$3:AB$5000,0)))) -> 0 | AF19: {=MIN(IF('Trade Details'!T$3:T$5000=A19,'Trade Details'!AD$3:AD$5000))} -> 0 | AG19: =IF(AF19=0,0,INDEX('Trade Details'!AC$3:AC$5000,(MATCH(AF19,'Trade Details'!AD$3:AD$5000,0)))) -> 0 | AH19: =COUNTIFS('Trade Details'!$D$3:$D$5000,AH$2,'Trade Details'!$T$3:$T$5000,$A19) -> 0 | AI19: =COUNTIFS('Trade Details'!$D$3:$D$5000,AI$2,'Trade Details'!$T$3:$T$5000,$A19) -> 0 | AJ19: =COUNTIFS('Trade Details'!$D$3:$D$5000,AJ$2,'Trade Details'!$T$3:$T$5000,$A19) -> 0 | AK19: =COUNTIFS('Trade Details'!$D$3:$D$5000,AK$2,'Trade Details'!$T$3:$T$5000,$A19) -> 0 | AL19: =COUNTIFS('Trade Details'!$D$3:$D$5000,AL$2,'Trade Details'!$T$3:$T$5000,$A19) -> 0 | AM19: =COUNTIFS('Trade Details'!$D$3:$D$5000,AM$2,'Trade Details'!$T$3:$T$5000,$A19) -> 0 | AN19: =SUMIFS('Trade Details'!$R$3:$R$5000,'Trade Details'!$D$3:$D$5000,AN$2,'Trade Details'!$T$3:$T$5000,$A19) -> 0 | AO19: =SUMIFS('Trade Details'!$R$3:$R$5000,'Trade Details'!$D$3:$D$5000,AO$2,'Trade Details'!$T$3:$T$5000,$A19) -> 0 | AP19: =SUMIFS('Trade Details'!$R$3:$R$5000,'Trade Details'!$D$3:$D$5000,AP$2,'Trade Details'!$T$3:$T$5000,$A19) -> 0 | AQ19: =SUMIFS('Trade Details'!$R$3:$R$5000,'Trade Details'!$D$3:$D$5000,AQ$2,'Trade Details'!$T$3:$T$5000,$A19) -> 0 | AR19: =SUMIFS('Trade Details'!$R$3:$R$5000,'Trade Details'!$D$3:$D$5000,AR$2,'Trade Details'!$T$3:$T$5000,$A19) -> 0 | AS19: =SUMIFS('Trade Details'!$R$3:$R$5000,'Trade Details'!$D$3:$D$5000,AS$2,'Trade Details'!$T$3:$T$5000,$A19) -> 0 | AT19: =IF(AN19=0,0,AN19/AH19) -> 0 | AU19: =IF(AO19=0,0,AO19/AI19) -> 0 | AV19: =IF(AP19=0,0,AP19/AJ19) -> 0 | AW19: =IF(AQ19=0,0,AQ19/AK19) -> 0 | AX19: =IF(AR19=0,0,AR19/AL19) -> 0 | AY19: =IF(AS19=0,0,AS19/AM19) -> 0 | AZ19: =IF(AH19=0,0,SUM(AN19:AS19)/SUM(AH19:AM19)) -> 0 | BL19: =EOMONTH(BL18,1) -> 42521 | BZ19: =BL19 -> 42521 | CA19: =IF(D19=0," ",Z19) | CB19: =IF(D19=0," ",AC19)
A20: =A19+1 -> 18 | B20: =B19 -> 2017 | C20: Jun | D20: =COUNTIF('Trade Details'!T$3:T$5000,A20) -> 0 | E20: =SUMIF('Trade Details'!T$3:T$5000,A20,'Trade Details'!Z$3:Z$5000) -> 0 | F20: =IF(D20=0,0,E20/D20) -> 0 | G20: =SUMIF('Trade Details'!T$3:T$5000,A20,'Trade Details'!AA$3:AA$5000) -> 0 | H20: =IF(D20=0,0,G20/D20) -> 0 | I20: =SUMIF('Trade Details'!T$3:T$5000,A20,'Trade Details'!V$3:V$5000) -> 0 | J20: =IF($D20=0,0,I20/$D20) -> 0 | K20: =SUMIF('Trade Details'!$T$3:$T$5000,$A20,'Trade Details'!W$3:W$5000) -> 0 | L20: =IF($D20=0,0,K20/$D20) -> 0 | M20: =SUMIF('Trade Details'!$T$3:$T$5000,$A20,'Trade Details'!X$3:X$5000) -> 0 | N20: =IF($D20=0,0,M20/$D20) -> 0 | O20: =SUMIF('Trade Details'!$T$3:$T$5000,$A20,'Trade Details'!Y$3:Y$5000) -> 0 | P20: =IF($D20=0,0,O20/$D20) -> 0 | Q20: =SUMIF('Trade Details'!$T$3:$T$5000,$A20,'Trade Details'!AB$3:AB$5000) -> 0 | R20: =SUMIF('Trade Details'!$T$3:$T$5000,$A20,'Trade Details'!AD$3:AD$5000) -> 0 | S20: =Q20+R20 -> 0 | T20: =IF(D20=0,0,SUMIF('Trade Details'!T$3:T$5000,A20,'Trade Details'!AB$3:AB$5000)) -> 0 | U20: =IF(D20=0,0,SUMIF('Trade Details'!T$3:T$5000,A20,'Trade Details'!AD$3:AD$5000)) -> 0 | V20: =IF(D20=0,0,SUMIF('Trade Details'!T$3:T$5000,A20,'Trade Details'!O$3:O$5000)) -> 0 | W20: =IF(D20=0,0,T20/E20) -> 0 | X20: =IF(G20=0,0,U20/G20) -> 0 | Y20: =IF(D20=0,0,V20/D20) -> 0 | Z20: =S20+Z19 -> 206679.28 | AA20: =(Z20-Z19)/Z19 -> 0 | AB20: =MAX(Z$2:Z20) -> 206698.22 | AC20: =(AB20-Z20)/Z20 -> 9.1639568e-05 | AD20: {=MAX(IF('Trade Details'!T$3:T$5000=A20,'Trade Details'!AB$3:AB$5000))} -> 0 | AE20: =IF(AD20=0,0,INDEX('Trade Details'!AC$3:AC$5000,(MATCH(AD20,'Trade Details'!AB$3:AB$5000,0)))) -> 0 | AF20: {=MIN(IF('Trade Details'!T$3:T$5000=A20,'Trade Details'!AD$3:AD$5000))} -> 0 | AG20: =IF(AF20=0,0,INDEX('Trade Details'!AC$3:AC$5000,(MATCH(AF20,'Trade Details'!AD$3:AD$5000,0)))) -> 0 | AH20: =COUNTIFS('Trade Details'!$D$3:$D$5000,AH$2,'Trade Details'!$T$3:$T$5000,$A20) -> 0 | AI20: =COUNTIFS('Trade Details'!$D$3:$D$5000,AI$2,'Trade Details'!$T$3:$T$5000,$A20) -> 0 | AJ20: =COUNTIFS('Trade Details'!$D$3:$D$5000,AJ$2,'Trade Details'!$T$3:$T$5000,$A20) -> 0 | AK20: =COUNTIFS('Trade Details'!$D$3:$D$5000,AK$2,'Trade Details'!$T$3:$T$5000,$A20) -> 0 | AL20: =COUNTIFS('Trade Details'!$D$3:$D$5000,AL$2,'Trade Details'!$T$3:$T$5000,$A20) -> 0 | AM20: =COUNTIFS('Trade Details'!$D$3:$D$5000,AM$2,'Trade Details'!$T$3:$T$5000,$A20) -> 0 | AN20: =SUMIFS('Trade Details'!$R$3:$R$5000,'Trade Details'!$D$3:$D$5000,AN$2,'Trade Details'!$T$3:$T$5000,$A20) -> 0 | AO20: =SUMIFS('Trade Details'!$R$3:$R$5000,'Trade Details'!$D$3:$D$5000,AO$2,'Trade Details'!$T$3:$T$5000,$A20) -> 0 | AP20: =SUMIFS('Trade Details'!$R$3:$R$5000,'Trade Details'!$D$3:$D$5000,AP$2,'Trade Details'!$T$3:$T$5000,$A20) -> 0 | AQ20: =SUMIFS('Trade Details'!$R$3:$R$5000,'Trade Details'!$D$3:$D$5000,AQ$2,'Trade Details'!$T$3:$T$5000,$A20) -> 0 | AR20: =SUMIFS('Trade Details'!$R$3:$R$5000,'Trade Details'!$D$3:$D$5000,AR$2,'Trade Details'!$T$3:$T$5000,$A20) -> 0 | AS20: =SUMIFS('Trade Details'!$R$3:$R$5000,'Trade Details'!$D$3:$D$5000,AS$2,'Trade Details'!$T$3:$T$5000,$A20) -> 0 | AT20: =IF(AN20=0,0,AN20/AH20) -> 0 | AU20: =IF(AO20=0,0,AO20/AI20) -> 0 | AV20: =IF(AP20=0,0,AP20/AJ20) -> 0 | AW20: =IF(AQ20=0,0,AQ20/AK20) -> 0 | AX20: =IF(AR20=0,0,AR20/AL20) -> 0 | AY20: =IF(AS20=0,0,AS20/AM20) -> 0 | AZ20: =IF(AH20=0,0,SUM(AN20:AS20)/SUM(AH20:AM20)) -> 0 | BL20: =EOMONTH(BL19,1) -> 42551 | BZ20: =IF(D20=0," ",C20&" "&B20) | CA20: =IF(D20=0," ",Z20) | CB20: =IF(D20=0," ",AC20)
A21: =A20+1 -> 19 | B21: =B20 -> 2017 | C21: jul | D21: =COUNTIF('Trade Details'!T$3:T$5000,A21) -> 0 | E21: =SUMIF('Trade Details'!T$3:T$5000,A21,'Trade Details'!Z$3:Z$5000) -> 0 | F21: =IF(D21=0,0,E21/D21) -> 0 | G21: =SUMIF('Trade Details'!T$3:T$5000,A21,'Trade Details'!AA$3:AA$5000) -> 0 | H21: =IF(D21=0,0,G21/D21) -> 0 | I21: =SUMIF('Trade Details'!T$3:T$5000,A21,'Trade Details'!V$3:V$5000) -> 0 | J21: =IF($D21=0,0,I21/$D21) -> 0 | K21: =SUMIF('Trade Details'!$T$3:$T$5000,$A21,'Trade Details'!W$3:W$5000) -> 0 | L21: =IF($D21=0,0,K21/$D21) -> 0 | M21: =SUMIF('Trade Details'!$T$3:$T$5000,$A21,'Trade Details'!X$3:X$5000) -> 0 | N21: =IF($D21=0,0,M21/$D21) -> 0 | O21: =SUMIF('Trade Details'!$T$3:$T$5000,$A21,'Trade Details'!Y$3:Y$5000) -> 0 | P21: =IF($D21=0,0,O21/$D21) -> 0 | Q21: =SUMIF('Trade Details'!$T$3:$T$5000,$A21,'Trade Details'!AB$3:AB$5000) -> 0 | R21: =SUMIF('Trade Details'!$T$3:$T$5000,$A21,'Trade Details'!AD$3:AD$5000) -> 0 | S21: =Q21+R21 -> 0 | T21: =IF(D21=0,0,SUMIF('Trade Details'!T$3:T$5000,A21,'Trade Details'!AB$3:AB$5000)) -> 0 | U21: =IF(D21=0,0,SUMIF('Trade Details'!T$3:T$5000,A21,'Trade Details'!AD$3:AD$5000)) -> 0 | V21: =IF(D21=0,0,SUMIF('Trade Details'!T$3:T$5000,A21,'Trade Details'!O$3:O$5000)) -> 0 | W21: =IF(D21=0,0,T21/E21) -> 0 | X21: =IF(G21=0,0,U21/G21) -> 0 | Y21: =IF(D21=0,0,V21/D21) -> 0 | Z21: =S21+Z20 -> 206679.28 | AA21: =(Z21-Z20)/Z20 -> 0 | AB21: =MAX(Z$2:Z21) -> 206698.22 | AC21: =(AB21-Z21)/Z21 -> 9.1639568e-05 | AD21: {=MAX(IF('Trade Details'!T$3:T$5000=A21,'Trade Details'!AB$3:AB$5000))} -> 0 | AE21: =IF(AD21=0,0,INDEX('Trade Details'!AC$3:AC$5000,(MATCH(AD21,'Trade Details'!AB$3:AB$5000,0)))) -> 0 | AF21: {=MIN(IF('Trade Details'!T$3:T$5000=A21,'Trade Details'!AD$3:AD$5000))} -> 0 | AG21: =IF(AF21=0,0,INDEX('Trade Details'!AC$3:AC$5000,(MATCH(AF21,'Trade Details'!AD$3:AD$5000,0)))) -> 0 | AH21: =COUNTIFS('Trade Details'!$D$3:$D$5000,AH$2,'Trade Details'!$T$3:$T$5000,$A21) -> 0 | AI21: =COUNTIFS('Trade Details'!$D$3:$D$5000,AI$2,'Trade Details'!$T$3:$T$5000,$A21) -> 0 | AJ21: =COUNTIFS('Trade Details'!$D$3:$D$5000,AJ$2,'Trade Details'!$T$3:$T$5000,$A21) -> 0 | AK21: =COUNTIFS('Trade Details'!$D$3:$D$5000,AK$2,'Trade Details'!$T$3:$T$5000,$A21) -> 0 | AL21: =COUNTIFS('Trade Details'!$D$3:$D$5000,AL$2,'Trade Details'!$T$3:$T$5000,$A21) -> 0 | AM21: =COUNTIFS('Trade Details'!$D$3:$D$5000,AM$2,'Trade Details'!$T$3:$T$5000,$A21) -> 0 | AN21: =SUMIFS('Trade Details'!$R$3:$R$5000,'Trade Details'!$D$3:$D$5000,AN$2,'Trade Details'!$T$3:$T$5000,$A21) -> 0 | AO21: =SUMIFS('Trade Details'!$R$3:$R$5000,'Trade Details'!$D$3:$D$5000,AO$2,'Trade Details'!$T$3:$T$5000,$A21) -> 0 | AP21: =SUMIFS('Trade Details'!$R$3:$R$5000,'Trade Details'!$D$3:$D$5000,AP$2,'Trade Details'!$T$3:$T$5000,$A21) -> 0 | AQ21: =SUMIFS('Trade Details'!$R$3:$R$5000,'Trade Details'!$D$3:$D$5000,AQ$2,'Trade Details'!$T$3:$T$5000,$A21) -> 0 | AR21: =SUMIFS('Trade Details'!$R$3:$R$5000,'Trade Details'!$D$3:$D$5000,AR$2,'Trade Details'!$T$3:$T$5000,$A21) -> 0 | AS21: =SUMIFS('Trade Details'!$R$3:$R$5000,'Trade Details'!$D$3:$D$5000,AS$2,'Trade Details'!$T$3:$T$5000,$A21) -> 0 | AT21: =IF(AN21=0,0,AN21/AH21) -> 0 | AU21: =IF(AO21=0,0,AO21/AI21) -> 0 | AV21: =IF(AP21=0,0,AP21/AJ21) -> 0 | AW21: =IF(AQ21=0,0,AQ21/AK21) -> 0 | AX21: =IF(AR21=0,0,AR21/AL21) -> 0 | AY21: =IF(AS21=0,0,AS21/AM21) -> 0 | AZ21: =IF(AH21=0,0,SUM(AN21:AS21)/SUM(AH21:AM21)) -> 0 | BL21: =EOMONTH(BL20,1) -> 42582 | BZ21: =IF(D21=0," ",C21&" "&B21) | CA21: =IF(D21=0," ",Z21) | CB21: =IF(D21=0," ",AC21)
A22: =A21+1 -> 20 | B22: =B21 -> 2017 | C22: Aug | D22: =COUNTIF('Trade Details'!T$3:T$5000,A22) -> 0 | E22: =SUMIF('Trade Details'!T$3:T$5000,A22,'Trade Details'!Z$3:Z$5000) -> 0 | F22: =IF(D22=0,0,E22/D22) -> 0 | G22: =SUMIF('Trade Details'!T$3:T$5000,A22,'Trade Details'!AA$3:AA$5000) -> 0 | H22: =IF(D22=0,0,G22/D22) -> 0 | I22: =SUMIF('Trade Details'!T$3:T$5000,A22,'Trade Details'!V$3:V$5000) -> 0 | J22: =IF($D22=0,0,I22/$D22) -> 0 | K22: =SUMIF('Trade Details'!$T$3:$T$5000,$A22,'Trade Details'!W$3:W$5000) -> 0 | L22: =IF($D22=0,0,K22/$D22) -> 0 | M22: =SUMIF('Trade Details'!$T$3:$T$5000,$A22,'Trade Details'!X$3:X$5000) -> 0 | N22: =IF($D22=0,0,M22/$D22) -> 0 | O22: =SUMIF('Trade Details'!$T$3:$T$5000,$A22,'Trade Details'!Y$3:Y$5000) -> 0 | P22: =IF($D22=0,0,O22/$D22) -> 0 | Q22: =SUMIF('Trade Details'!$T$3:$T$5000,$A22,'Trade Details'!AB$3:AB$5000) -> 0 | R22: =SUMIF('Trade Details'!$T$3:$T$5000,$A22,'Trade Details'!AD$3:AD$5000) -> 0 | S22: =Q22+R22 -> 0 | T22: =IF(D22=0,0,SUMIF('Trade Details'!T$3:T$5000,A22,'Trade Details'!AB$3:AB$5000)) -> 0 | U22: =IF(D22=0,0,SUMIF('Trade Details'!T$3:T$5000,A22,'Trade Details'!AD$3:AD$5000)) -> 0 | V22: =IF(D22=0,0,SUMIF('Trade Details'!T$3:T$5000,A22,'Trade Details'!O$3:O$5000)) -> 0 | W22: =IF(D22=0,0,T22/E22) -> 0 | X22: =IF(G22=0,0,U22/G22) -> 0 | Y22: =IF(D22=0,0,V22/D22) -> 0 | Z22: =S22+Z21 -> 206679.28 | AA22: =(Z22-Z21)/Z21 -> 0 | AB22: =MAX(Z$2:Z22) -> 206698.22 | AC22: =(AB22-Z22)/Z22 -> 9.1639568e-05 | AD22: {=MAX(IF('Trade Details'!T$3:T$5000=A22,'Trade Details'!AB$3:AB$5000))} -> 0 | AE22: =IF(AD22=0,0,INDEX('Trade Details'!AC$3:AC$5000,(MATCH(AD22,'Trade Details'!AB$3:AB$5000,0)))) -> 0 | AF22: {=MIN(IF('Trade Details'!T$3:T$5000=A22,'Trade Details'!AD$3:AD$5000))} -> 0 | AG22: =IF(AF22=0,0,INDEX('Trade Details'!AC$3:AC$5000,(MATCH(AF22,'Trade Details'!AD$3:AD$5000,0)))) -> 0 | AH22: =COUNTIFS('Trade Details'!$D$3:$D$5000,AH$2,'Trade Details'!$T$3:$T$5000,$A22) -> 0 | AI22: =COUNTIFS('Trade Details'!$D$3:$D$5000,AI$2,'Trade Details'!$T$3:$T$5000,$A22) -> 0 | AJ22: =COUNTIFS('Trade Details'!$D$3:$D$5000,AJ$2,'Trade Details'!$T$3:$T$5000,$A22) -> 0 | AK22: =COUNTIFS('Trade Details'!$D$3:$D$5000,AK$2,'Trade Details'!$T$3:$T$5000,$A22) -> 0 | AL22: =COUNTIFS('Trade Details'!$D$3:$D$5000,AL$2,'Trade Details'!$T$3:$T$5000,$A22) -> 0 | AM22: =COUNTIFS('Trade Details'!$D$3:$D$5000,AM$2,'Trade Details'!$T$3:$T$5000,$A22) -> 0 | AN22: =SUMIFS('Trade Details'!$R$3:$R$5000,'Trade Details'!$D$3:$D$5000,AN$2,'Trade Details'!$T$3:$T$5000,$A22) -> 0 | AO22: =SUMIFS('Trade Details'!$R$3:$R$5000,'Trade Details'!$D$3:$D$5000,AO$2,'Trade Details'!$T$3:$T$5000,$A22) -> 0 | AP22: =SUMIFS('Trade Details'!$R$3:$R$5000,'Trade Details'!$D$3:$D$5000,AP$2,'Trade Details'!$T$3:$T$5000,$A22) -> 0 | AQ22: =SUMIFS('Trade Details'!$R$3:$R$5000,'Trade Details'!$D$3:$D$5000,AQ$2,'Trade Details'!$T$3:$T$5000,$A22) -> 0 | AR22: =SUMIFS('Trade Details'!$R$3:$R$5000,'Trade Details'!$D$3:$D$5000,AR$2,'Trade Details'!$T$3:$T$5000,$A22) -> 0 | AS22: =SUMIFS('Trade Details'!$R$3:$R$5000,'Trade Details'!$D$3:$D$5000,AS$2,'Trade Details'!$T$3:$T$5000,$A22) -> 0 | AT22: =IF(AN22=0,0,AN22/AH22) -> 0 | AU22: =IF(AO22=0,0,AO22/AI22) -> 0 | AV22: =IF(AP22=0,0,AP22/AJ22) -> 0 | AW22: =IF(AQ22=0,0,AQ22/AK22) -> 0 | AX22: =IF(AR22=0,0,AR22/AL22) -> 0 | AY22: =IF(AS22=0,0,AS22/AM22) -> 0 | AZ22: =IF(AH22=0,0,SUM(AN22:AS22)/SUM(AH22:AM22)) -> 0 | BL22: =EOMONTH(BL21,1) -> 42613 | BZ22: =IF(D22=0," ",C22&" "&B22) | CA22: =IF(D22=0," ",Z22) | CB22: =IF(D22=0," ",AC22)
A23: =A22+1 -> 21 | B23: =B22 -> 2017 | C23: Sep | D23: =COUNTIF('Trade Details'!T$3:T$5000,A23) -> 0 | E23: =SUMIF('Trade Details'!T$3:T$5000,A23,'Trade Details'!Z$3:Z$5000) -> 0 | F23: =IF(D23=0,0,E23/D23) -> 0 | G23: =SUMIF('Trade Details'!T$3:T$5000,A23,'Trade Details'!AA$3:AA$5000) -> 0 | H23: =IF(D23=0,0,G23/D23) -> 0 | I23: =SUMIF('Trade Details'!T$3:T$5000,A23,'Trade Details'!V$3:V$5000) -> 0 | J23: =IF($D23=0,0,I23/$D23) -> 0 | K23: =SUMIF('Trade Details'!$T$3:$T$5000,$A23,'Trade Details'!W$3:W$5000) -> 0 | L23: =IF($D23=0,0,K23/$D23) -> 0 | M23: =SUMIF('Trade Details'!$T$3:$T$5000,$A23,'Trade Details'!X$3:X$5000) -> 0 | N23: =IF($D23=0,0,M23/$D23) -> 0 | O23: =SUMIF('Trade Details'!$T$3:$T$5000,$A23,'Trade Details'!Y$3:Y$5000) -> 0 | P23: =IF($D23=0,0,O23/$D23) -> 0 | Q23: =SUMIF('Trade Details'!$T$3:$T$5000,$A23,'Trade Details'!AB$3:AB$5000) -> 0 | R23: =SUMIF('Trade Details'!$T$3:$T$5000,$A23,'Trade Details'!AD$3:AD$5000) -> 0 | S23: =Q23+R23 -> 0 | T23: =IF(D23=0,0,SUMIF('Trade Details'!T$3:T$5000,A23,'Trade Details'!AB$3:AB$5000)) -> 0 | U23: =IF(D23=0,0,SUMIF('Trade Details'!T$3:T$5000,A23,'Trade Details'!AD$3:AD$5000)) -> 0 | V23: =IF(D23=0,0,SUMIF('Trade Details'!T$3:T$5000,A23,'Trade Details'!O$3:O$5000)) -> 0 | W23: =IF(D23=0,0,T23/E23) -> 0 | X23: =IF(G23=0,0,U23/G23) -> 0 | Y23: =IF(D23=0,0,V23/D23) -> 0 | Z23: =S23+Z22 -> 206679.28 | AA23: =(Z23-Z22)/Z22 -> 0 | AB23: =MAX(Z$2:Z23) -> 206698.22 | AC23: =(AB23-Z23)/Z23 -> 9.1639568e-05 | AD23: {=MAX(IF('Trade Details'!T$3:T$5000=A23,'Trade Details'!AB$3:AB$5000))} -> 0 | AE23: =IF(AD23=0,0,INDEX('Trade Details'!AC$3:AC$5000,(MATCH(AD23,'Trade Details'!AB$3:AB$5000,0)))) -> 0 | AF23: {=MIN(IF('Trade Details'!T$3:T$5000=A23,'Trade Details'!AD$3:AD$5000))} -> 0 | AG23: =IF(AF23=0,0,INDEX('Trade Details'!AC$3:AC$5000,(MATCH(AF23,'Trade Details'!AD$3:AD$5000,0)))) -> 0 | AH23: =COUNTIFS('Trade Details'!$D$3:$D$5000,AH$2,'Trade Details'!$T$3:$T$5000,$A23) -> 0 | AI23: =COUNTIFS('Trade Details'!$D$3:$D$5000,AI$2,'Trade Details'!$T$3:$T$5000,$A23) -> 0 | AJ23: =COUNTIFS('Trade Details'!$D$3:$D$5000,AJ$2,'Trade Details'!$T$3:$T$5000,$A23) -> 0 | AK23: =COUNTIFS('Trade Details'!$D$3:$D$5000,AK$2,'Trade Details'!$T$3:$T$5000,$A23) -> 0 | AL23: =COUNTIFS('Trade Details'!$D$3:$D$5000,AL$2,'Trade Details'!$T$3:$T$5000,$A23) -> 0 | AM23: =COUNTIFS('Trade Details'!$D$3:$D$5000,AM$2,'Trade Details'!$T$3:$T$5000,$A23) -> 0 | AN23: =SUMIFS('Trade Details'!$R$3:$R$5000,'Trade Details'!$D$3:$D$5000,AN$2,'Trade Details'!$T$3:$T$5000,$A23) -> 0 | AO23: =SUMIFS('Trade Details'!$R$3:$R$5000,'Trade Details'!$D$3:$D$5000,AO$2,'Trade Details'!$T$3:$T$5000,$A23) -> 0 | AP23: =SUMIFS('Trade Details'!$R$3:$R$5000,'Trade Details'!$D$3:$D$5000,AP$2,'Trade Details'!$T$3:$T$5000,$A23) -> 0 | AQ23: =SUMIFS('Trade Details'!$R$3:$R$5000,'Trade Details'!$D$3:$D$5000,AQ$2,'Trade Details'!$T$3:$T$5000,$A23) -> 0 | AR23: =SUMIFS('Trade Details'!$R$3:$R$5000,'Trade Details'!$D$3:$D$5000,AR$2,'Trade Details'!$T$3:$T$5000,$A23) -> 0 | AS23: =SUMIFS('Trade Details'!$R$3:$R$5000,'Trade Details'!$D$3:$D$5000,AS$2,'Trade Details'!$T$3:$T$5000,$A23) -> 0 | AT23: =IF(AN23=0,0,AN23/AH23) -> 0 | AU23: =IF(AO23=0,0,AO23/AI23) -> 0 | AV23: =IF(AP23=0,0,AP23/AJ23) -> 0 | AW23: =IF(AQ23=0,0,AQ23/AK23) -> 0 | AX23: =IF(AR23=0,0,AR23/AL23) -> 0 | AY23: =IF(AS23=0,0,AS23/AM23) -> 0 | AZ23: =IF(AH23=0,0,SUM(AN23:AS23)/SUM(AH23:AM23)) -> 0 | BL23: =EOMONTH(BL22,1) -> 42643 | BZ23: =IF(D23=0," ",C23&" "&B23) | CA23: =IF(D23=0," ",Z23) | CB23: =IF(D23=0," ",AC23)
A24: =A23+1 -> 22 | B24: =B23 -> 2017 | C24: Oct | D24: =COUNTIF('Trade Details'!T$3:T$5000,A24) -> 0 | E24: =SUMIF('Trade Details'!T$3:T$5000,A24,'Trade Details'!Z$3:Z$5000) -> 0 | F24: =IF(D24=0,0,E24/D24) -> 0 | G24: =SUMIF('Trade Details'!T$3:T$5000,A24,'Trade Details'!AA$3:AA$5000) -> 0 | H24: =IF(D24=0,0,G24/D24) -> 0 | I24: =SUMIF('Trade Details'!T$3:T$5000,A24,'Trade Details'!V$3:V$5000) -> 0 | J24: =IF($D24=0,0,I24/$D24) -> 0 | K24: =SUMIF('Trade Details'!$T$3:$T$5000,$A24,'Trade Details'!W$3:W$5000) -> 0 | L24: =IF($D24=0,0,K24/$D24) -> 0 | M24: =SUMIF('Trade Details'!$T$3:$T$5000,$A24,'Trade Details'!X$3:X$5000) -> 0 | N24: =IF($D24=0,0,M24/$D24) -> 0 | O24: =SUMIF('Trade Details'!$T$3:$T$5000,$A24,'Trade Details'!Y$3:Y$5000) -> 0 | P24: =IF($D24=0,0,O24/$D24) -> 0 | Q24: =SUMIF('Trade Details'!$T$3:$T$5000,$A24,'Trade Details'!AB$3:AB$5000) -> 0 | R24: =SUMIF('Trade Details'!$T$3:$T$5000,$A24,'Trade Details'!AD$3:AD$5000) -> 0 | S24: =Q24+R24 -> 0 | T24: =IF(D24=0,0,SUMIF('Trade Details'!T$3:T$5000,A24,'Trade Details'!AB$3:AB$5000)) -> 0 | U24: =IF(D24=0,0,SUMIF('Trade Details'!T$3:T$5000,A24,'Trade Details'!AD$3:AD$5000)) -> 0 | V24: =IF(D24=0,0,SUMIF('Trade Details'!T$3:T$5000,A24,'Trade Details'!O$3:O$5000)) -> 0 | W24: =IF(D24=0,0,T24/E24) -> 0 | X24: =IF(G24=0,0,U24/G24) -> 0 | Y24: =IF(D24=0,0,V24/D24) -> 0 | Z24: =S24+Z23 -> 206679.28 | AA24: =(Z24-Z23)/Z23 -> 0 | AB24: =MAX(Z$2:Z24) -> 206698.22 | AC24: =(AB24-Z24)/Z24 -> 9.1639568e-05 | AD24: {=MAX(IF('Trade Details'!T$3:T$5000=A24,'Trade Details'!AB$3:AB$5000))} -> 0 | AE24: =IF(AD24=0,0,INDEX('Trade Details'!AC$3:AC$5000,(MATCH(AD24,'Trade Details'!AB$3:AB$5000,0)))) -> 0 | AF24: {=MIN(IF('Trade Details'!T$3:T$5000=A24,'Trade Details'!AD$3:AD$5000))} -> 0 | AG24: =IF(AF24=0,0,INDEX('Trade Details'!AC$3:AC$5000,(MATCH(AF24,'Trade Details'!AD$3:AD$5000,0)))) -> 0 | AH24: =COUNTIFS('Trade Details'!$D$3:$D$5000,AH$2,'Trade Details'!$T$3:$T$5000,$A24) -> 0 | AI24: =COUNTIFS('Trade Details'!$D$3:$D$5000,AI$2,'Trade Details'!$T$3:$T$5000,$A24) -> 0 | AJ24: =COUNTIFS('Trade Details'!$D$3:$D$5000,AJ$2,'Trade Details'!$T$3:$T$5000,$A24) -> 0 | AK24: =COUNTIFS('Trade Details'!$D$3:$D$5000,AK$2,'Trade Details'!$T$3:$T$5000,$A24) -> 0 | AL24: =COUNTIFS('Trade Details'!$D$3:$D$5000,AL$2,'Trade Details'!$T$3:$T$5000,$A24) -> 0 | AM24: =COUNTIFS('Trade Details'!$D$3:$D$5000,AM$2,'Trade Details'!$T$3:$T$5000,$A24) -> 0 | AN24: =SUMIFS('Trade Details'!$R$3:$R$5000,'Trade Details'!$D$3:$D$5000,AN$2,'Trade Details'!$T$3:$T$5000,$A24) -> 0 | AO24: =SUMIFS('Trade Details'!$R$3:$R$5000,'Trade Details'!$D$3:$D$5000,AO$2,'Trade Details'!$T$3:$T$5000,$A24) -> 0 | AP24: =SUMIFS('Trade Details'!$R$3:$R$5000,'Trade Details'!$D$3:$D$5000,AP$2,'Trade Details'!$T$3:$T$5000,$A24) -> 0 | AQ24: =SUMIFS('Trade Details'!$R$3:$R$5000,'Trade Details'!$D$3:$D$5000,AQ$2,'Trade Details'!$T$3:$T$5000,$A24) -> 0 | AR24: =SUMIFS('Trade Details'!$R$3:$R$5000,'Trade Details'!$D$3:$D$5000,AR$2,'Trade Details'!$T$3:$T$5000,$A24) -> 0 | AS24: =SUMIFS('Trade Details'!$R$3:$R$5000,'Trade Details'!$D$3:$D$5000,AS$2,'Trade Details'!$T$3:$T$5000,$A24) -> 0 | AT24: =IF(AN24=0,0,AN24/AH24) -> 0 | AU24: =IF(AO24=0,0,AO24/AI24) -> 0 | AV24: =IF(AP24=0,0,AP24/AJ24) -> 0 | AW24: =IF(AQ24=0,0,AQ24/AK24) -> 0 | AX24: =IF(AR24=0,0,AR24/AL24) -> 0 | AY24: =IF(AS24=0,0,AS24/AM24) -> 0 | AZ24: =IF(AH24=0,0,SUM(AN24:AS24)/SUM(AH24:AM24)) -> 0 | BL24: =EOMONTH(BL23,1) -> 42674 | BZ24: =IF(D24=0," ",C24&" "&B24) | CA24: =IF(D24=0," ",Z24) | CB24: =IF(D24=0," ",AC24)
A25: =A24+1 -> 23 | B25: =B24 -> 2017 | C25: Nov | D25: =COUNTIF('Trade Details'!T$3:T$5000,A25) -> 0 | E25: =SUMIF('Trade Details'!T$3:T$5000,A25,'Trade Details'!Z$3:Z$5000) -> 0 | F25: =IF(D25=0,0,E25/D25) -> 0 | G25: =SUMIF('Trade Details'!T$3:T$5000,A25,'Trade Details'!AA$3:AA$5000) -> 0 | H25: =IF(D25=0,0,G25/D25) -> 0 | I25: =SUMIF('Trade Details'!T$3:T$5000,A25,'Trade Details'!V$3:V$5000) -> 0 | J25: =IF($D25=0,0,I25/$D25) -> 0 | K25: =SUMIF('Trade Details'!$T$3:$T$5000,$A25,'Trade Details'!W$3:W$5000) -> 0 | L25: =IF($D25=0,0,K25/$D25) -> 0 | M25: =SUMIF('Trade Details'!$T$3:$T$5000,$A25,'Trade Details'!X$3:X$5000) -> 0 | N25: =IF($D25=0,0,M25/$D25) -> 0 | O25: =SUMIF('Trade Details'!$T$3:$T$5000,$A25,'Trade Details'!Y$3:Y$5000) -> 0 | P25: =IF($D25=0,0,O25/$D25) -> 0 | Q25: =SUMIF('Trade Details'!$T$3:$T$5000,$A25,'Trade Details'!AB$3:AB$5000) -> 0 | R25: =SUMIF('Trade Details'!$T$3:$T$5000,$A25,'Trade Details'!AD$3:AD$5000) -> 0 | S25: =Q25+R25 -> 0 | T25: =IF(D25=0,0,SUMIF('Trade Details'!T$3:T$5000,A25,'Trade Details'!AB$3:AB$5000)) -> 0 | U25: =IF(D25=0,0,SUMIF('Trade Details'!T$3:T$5000,A25,'Trade Details'!AD$3:AD$5000)) -> 0 | V25: =IF(D25=0,0,SUMIF('Trade Details'!T$3:T$5000,A25,'Trade Details'!O$3:O$5000)) -> 0 | W25: =IF(D25=0,0,T25/E25) -> 0 | X25: =IF(G25=0,0,U25/G25) -> 0 | Y25: =IF(D25=0,0,V25/D25) -> 0 | Z25: =S25+Z24 -> 206679.28 | AA25: =(Z25-Z24)/Z24 -> 0 | AB25: =MAX(Z$2:Z25) -> 206698.22 | AC25: =(AB25-Z25)/Z25 -> 9.1639568e-05 | AD25: {=MAX(IF('Trade Details'!T$3:T$5000=A25,'Trade Details'!AB$3:AB$5000))} -> 0 | AE25: =IF(AD25=0,0,INDEX('Trade Details'!AC$3:AC$5000,(MATCH(AD25,'Trade Details'!AB$3:AB$5000,0)))) -> 0 | AF25: {=MIN(IF('Trade Details'!T$3:T$5000=A25,'Trade Details'!AD$3:AD$5000))} -> 0 | AG25: =IF(AF25=0,0,INDEX('Trade Details'!AC$3:AC$5000,(MATCH(AF25,'Trade Details'!AD$3:AD$5000,0)))) -> 0 | AH25: =COUNTIFS('Trade Details'!$D$3:$D$5000,AH$2,'Trade Details'!$T$3:$T$5000,$A25) -> 0 | AI25: =COUNTIFS('Trade Details'!$D$3:$D$5000,AI$2,'Trade Details'!$T$3:$T$5000,$A25) -> 0 | AJ25: =COUNTIFS('Trade Details'!$D$3:$D$5000,AJ$2,'Trade Details'!$T$3:$T$5000,$A25) -> 0 | AK25: =COUNTIFS('Trade Details'!$D$3:$D$5000,AK$2,'Trade Details'!$T$3:$T$5000,$A25) -> 0 | AL25: =COUNTIFS('Trade Details'!$D$3:$D$5000,AL$2,'Trade Details'!$T$3:$T$5000,$A25) -> 0 | AM25: =COUNTIFS('Trade Details'!$D$3:$D$5000,AM$2,'Trade Details'!$T$3:$T$5000,$A25) -> 0 | AN25: =SUMIFS('Trade Details'!$R$3:$R$5000,'Trade Details'!$D$3:$D$5000,AN$2,'Trade Details'!$T$3:$T$5000,$A25) -> 0 | AO25: =SUMIFS('Trade Details'!$R$3:$R$5000,'Trade Details'!$D$3:$D$5000,AO$2,'Trade Details'!$T$3:$T$5000,$A25) -> 0 | AP25: =SUMIFS('Trade Details'!$R$3:$R$5000,'Trade Details'!$D$3:$D$5000,AP$2,'Trade Details'!$T$3:$T$5000,$A25) -> 0 | AQ25: =SUMIFS('Trade Details'!$R$3:$R$5000,'Trade Details'!$D$3:$D$5000,AQ$2,'Trade Details'!$T$3:$T$5000,$A25) -> 0 | AR25: =SUMIFS('Trade Details'!$R$3:$R$5000,'Trade Details'!$D$3:$D$5000,AR$2,'Trade Details'!$T$3:$T$5000,$A25) -> 0 | AS25: =SUMIFS('Trade Details'!$R$3:$R$5000,'Trade Details'!$D$3:$D$5000,AS$2,'Trade Details'!$T$3:$T$5000,$A25) -> 0 | AT25: =IF(AN25=0,0,AN25/AH25) -> 0 | AU25: =IF(AO25=0,0,AO25/AI25) -> 0 | AV25: =IF(AP25=0,0,AP25/AJ25) -> 0 | AW25: =IF(AQ25=0,0,AQ25/AK25) -> 0 | AX25: =IF(AR25=0,0,AR25/AL25) -> 0 | AY25: =IF(AS25=0,0,AS25/AM25) -> 0 | AZ25: =IF(AH25=0,0,SUM(AN25:AS25)/SUM(AH25:AM25)) -> 0 | BL25: =EOMONTH(BL24,1) -> 42704 | BZ25: =IF(D25=0," ",C25&" "&B25) | CA25: =IF(D25=0," ",Z25) | CB25: =IF(D25=0," ",AC25)
A26: =A25+1 -> 24 | B26: =B25 -> 2017 | C26: Dec | D26: =COUNTIF('Trade Details'!T$3:T$5000,A26) -> 0 | E26: =SUMIF('Trade Details'!T$3:T$5000,A26,'Trade Details'!Z$3:Z$5000) -> 0 | F26: =IF(D26=0,0,E26/D26) -> 0 | G26: =SUMIF('Trade Details'!T$3:T$5000,A26,'Trade Details'!AA$3:AA$5000) -> 0 | H26: =IF(D26=0,0,G26/D26) -> 0 | I26: =SUMIF('Trade Details'!T$3:T$5000,A26,'Trade Details'!V$3:V$5000) -> 0 | J26: =IF($D26=0,0,I26/$D26) -> 0 | K26: =SUMIF('Trade Details'!$T$3:$T$5000,$A26,'Trade Details'!W$3:W$5000) -> 0 | L26: =IF($D26=0,0,K26/$D26) -> 0 | M26: =SUMIF('Trade Details'!$T$3:$T$5000,$A26,'Trade Details'!X$3:X$5000) -> 0 | N26: =IF($D26=0,0,M26/$D26) -> 0 | O26: =SUMIF('Trade Details'!$T$3:$T$5000,$A26,'Trade Details'!Y$3:Y$5000) -> 0 | P26: =IF($D26=0,0,O26/$D26) -> 0 | Q26: =SUMIF('Trade Details'!$T$3:$T$5000,$A26,'Trade Details'!AB$3:AB$5000) -> 0 | R26: =SUMIF('Trade Details'!$T$3:$T$5000,$A26,'Trade Details'!AD$3:AD$5000) -> 0 | S26: =Q26+R26 -> 0 | T26: =IF(D26=0,0,SUMIF('Trade Details'!T$3:T$5000,A26,'Trade Details'!AB$3:AB$5000)) -> 0 | U26: =IF(D26=0,0,SUMIF('Trade Details'!T$3:T$5000,A26,'Trade Details'!AD$3:AD$5000)) -> 0 | V26: =IF(D26=0,0,SUMIF('Trade Details'!T$3:T$5000,A26,'Trade Details'!O$3:O$5000)) -> 0 | W26: =IF(D26=0,0,T26/E26) -> 0 | X26: =IF(G26=0,0,U26/G26) -> 0 | Y26: =IF(D26=0,0,V26/D26) -> 0 | Z26: =S26+Z25 -> 206679.28 | AA26: =(Z26-Z25)/Z25 -> 0 | AB26: =MAX(Z$2:Z26) -> 206698.22 | AC26: =(AB26-Z26)/Z26 -> 9.1639568e-05 | AD26: {=MAX(IF('Trade Details'!T$3:T$5000=A26,'Trade Details'!AB$3:AB$5000))} -> 0 | AE26: =IF(AD26=0,0,INDEX('Trade Details'!AC$3:AC$5000,(MATCH(AD26,'Trade Details'!AB$3:AB$5000,0)))) -> 0 | AF26: {=MIN(IF('Trade Details'!T$3:T$5000=A26,'Trade Details'!AD$3:AD$5000))} -> 0 | AG26: =IF(AF26=0,0,INDEX('Trade Details'!AC$3:AC$5000,(MATCH(AF26,'Trade Details'!AD$3:AD$5000,0)))) -> 0 | AH26: =COUNTIFS('Trade Details'!$D$3:$D$5000,AH$2,'Trade Details'!$T$3:$T$5000,$A26) -> 0 | AI26: =COUNTIFS('Trade Details'!$D$3:$D$5000,AI$2,'Trade Details'!$T$3:$T$5000,$A26) -> 0 | AJ26: =COUNTIFS('Trade Details'!$D$3:$D$5000,AJ$2,'Trade Details'!$T$3:$T$5000,$A26) -> 0 | AK26: =COUNTIFS('Trade Details'!$D$3:$D$5000,AK$2,'Trade Details'!$T$3:$T$5000,$A26) -> 0 | AL26: =COUNTIFS('Trade Details'!$D$3:$D$5000,AL$2,'Trade Details'!$T$3:$T$5000,$A26) -> 0 | AM26: =COUNTIFS('Trade Details'!$D$3:$D$5000,AM$2,'Trade Details'!$T$3:$T$5000,$A26) -> 0 | AN26: =SUMIFS('Trade Details'!$R$3:$R$5000,'Trade Details'!$D$3:$D$5000,AN$2,'Trade Details'!$T$3:$T$5000,$A26) -> 0 | AO26: =SUMIFS('Trade Details'!$R$3:$R$5000,'Trade Details'!$D$3:$D$5000,AO$2,'Trade Details'!$T$3:$T$5000,$A26) -> 0 | AP26: =SUMIFS('Trade Details'!$R$3:$R$5000,'Trade Details'!$D$3:$D$5000,AP$2,'Trade Details'!$T$3:$T$5000,$A26) -> 0 | AQ26: =SUMIFS('Trade Details'!$R$3:$R$5000,'Trade Details'!$D$3:$D$5000,AQ$2,'Trade Details'!$T$3:$T$5000,$A26) -> 0 | AR26: =SUMIFS('Trade Details'!$R$3:$R$5000,'Trade Details'!$D$3:$D$5000,AR$2,'Trade Details'!$T$3:$T$5000,$A26) -> 0 | AS26: =SUMIFS('Trade Details'!$R$3:$R$5000,'Trade Details'!$D$3:$D$5000,AS$2,'Trade Details'!$T$3:$T$5000,$A26) -> 0 | AT26: =IF(AN26=0,0,AN26/AH26) -> 0 | AU26: =IF(AO26=0,0,AO26/AI26) -> 0 | AV26: =IF(AP26=0,0,AP26/AJ26) -> 0 | AW26: =IF(AQ26=0,0,AQ26/AK26) -> 0 | AX26: =IF(AR26=0,0,AR26/AL26) -> 0 | AY26: =IF(AS26=0,0,AS26/AM26) -> 0 | AZ26: =IF(AH26=0,0,SUM(AN26:AS26)/SUM(AH26:AM26)) -> 0 | BL26: =EOMONTH(BL25,1) -> 42735 | BZ26: =IF(D26=0," ",C26&" "&B26) | CA26: =IF(D26=0," ",Z26) | CB26: =IF(D26=0," ",AC26)
A27: =A26+1 -> 25 | B27: =B26+1 -> 2018 | C27: Jan | D27: =COUNTIF('Trade Details'!T$3:T$5000,A27) -> 0 | E27: =SUMIF('Trade Details'!T$3:T$5000,A27,'Trade Details'!Z$3:Z$5000) -> 0 | F27: =IF(D27=0,0,E27/D27) -> 0 | G27: =SUMIF('Trade Details'!T$3:T$5000,A27,'Trade Details'!AA$3:AA$5000) -> 0 | H27: =IF(D27=0,0,G27/D27) -> 0 | I27: =SUMIF('Trade Details'!T$3:T$5000,A27,'Trade Details'!V$3:V$5000) -> 0 | J27: =IF($D27=0,0,I27/$D27) -> 0 | K27: =SUMIF('Trade Details'!$T$3:$T$5000,$A27,'Trade Details'!W$3:W$5000) -> 0 | L27: =IF($D27=0,0,K27/$D27) -> 0 | M27: =SUMIF('Trade Details'!$T$3:$T$5000,$A27,'Trade Details'!X$3:X$5000) -> 0 | N27: =IF($D27=0,0,M27/$D27) -> 0 | O27: =SUMIF('Trade Details'!$T$3:$T$5000,$A27,'Trade Details'!Y$3:Y$5000) -> 0 | P27: =IF($D27=0,0,O27/$D27) -> 0 | Q27: =SUMIF('Trade Details'!$T$3:$T$5000,$A27,'Trade Details'!AB$3:AB$5000) -> 0 | R27: =SUMIF('Trade Details'!$T$3:$T$5000,$A27,'Trade Details'!AD$3:AD$5000) -> 0 | S27: =Q27+R27 -> 0 | T27: =IF(D27=0,0,SUMIF('Trade Details'!T$3:T$5000,A27,'Trade Details'!AB$3:AB$5000)) -> 0 | U27: =IF(D27=0,0,SUMIF('Trade Details'!T$3:T$5000,A27,'Trade Details'!AD$3:AD$5000)) -> 0 | V27: =IF(D27=0,0,SUMIF('Trade Details'!T$3:T$5000,A27,'Trade Details'!O$3:O$5000)) -> 0 | W27: =IF(D27=0,0,T27/E27) -> 0 | X27: =IF(G27=0,0,U27/G27) -> 0 | Y27: =IF(D27=0,0,V27/D27) -> 0 | Z27: =S27+Z26 -> 206679.28 | AA27: =(Z27-Z26)/Z26 -> 0 | AB27: =MAX(Z$2:Z27) -> 206698.22 | AC27: =(AB27-Z27)/Z27 -> 9.1639568e-05 | AD27: {=MAX(IF('Trade Details'!T$3:T$5000=A27,'Trade Details'!AB$3:AB$5000))} -> 0 | AE27: =IF(AD27=0,0,INDEX('Trade Details'!AC$3:AC$5000,(MATCH(AD27,'Trade Details'!AB$3:AB$5000,0)))) -> 0 | AF27: {=MIN(IF('Trade Details'!T$3:T$5000=A27,'Trade Details'!AD$3:AD$5000))} -> 0 | AG27: =IF(AF27=0,0,INDEX('Trade Details'!AC$3:AC$5000,(MATCH(AF27,'Trade Details'!AD$3:AD$5000,0)))) -> 0 | AH27: =COUNTIFS('Trade Details'!$D$3:$D$5000,AH$2,'Trade Details'!$T$3:$T$5000,$A27) -> 0 | AI27: =COUNTIFS('Trade Details'!$D$3:$D$5000,AI$2,'Trade Details'!$T$3:$T$5000,$A27) -> 0 | AJ27: =COUNTIFS('Trade Details'!$D$3:$D$5000,AJ$2,'Trade Details'!$T$3:$T$5000,$A27) -> 0 | AK27: =COUNTIFS('Trade Details'!$D$3:$D$5000,AK$2,'Trade Details'!$T$3:$T$5000,$A27) -> 0 | AL27: =COUNTIFS('Trade Details'!$D$3:$D$5000,AL$2,'Trade Details'!$T$3:$T$5000,$A27) -> 0 | AM27: =COUNTIFS('Trade Details'!$D$3:$D$5000,AM$2,'Trade Details'!$T$3:$T$5000,$A27) -> 0 | AN27: =SUMIFS('Trade Details'!$R$3:$R$5000,'Trade Details'!$D$3:$D$5000,AN$2,'Trade Details'!$T$3:$T$5000,$A27) -> 0 | AO27: =SUMIFS('Trade Details'!$R$3:$R$5000,'Trade Details'!$D$3:$D$5000,AO$2,'Trade Details'!$T$3:$T$5000,$A27) -> 0 | AP27: =SUMIFS('Trade Details'!$R$3:$R$5000,'Trade Details'!$D$3:$D$5000,AP$2,'Trade Details'!$T$3:$T$5000,$A27) -> 0 | AQ27: =SUMIFS('Trade Details'!$R$3:$R$5000,'Trade Details'!$D$3:$D$5000,AQ$2,'Trade Details'!$T$3:$T$5000,$A27) -> 0 | AR27: =SUMIFS('Trade Details'!$R$3:$R$5000,'Trade Details'!$D$3:$D$5000,AR$2,'Trade Details'!$T$3:$T$5000,$A27) -> 0 | AS27: =SUMIFS('Trade Details'!$R$3:$R$5000,'Trade Details'!$D$3:$D$5000,AS$2,'Trade Details'!$T$3:$T$5000,$A27) -> 0 | AT27: =IF(AN27=0,0,AN27/AH27) -> 0 | AU27: =IF(AO27=0,0,AO27/AI27) -> 0 | AV27: =IF(AP27=0,0,AP27/AJ27) -> 0 | AW27: =IF(AQ27=0,0,AQ27/AK27) -> 0 | AX27: =IF(AR27=0,0,AR27/AL27) -> 0 | AY27: =IF(AS27=0,0,AS27/AM27) -> 0 | AZ27: =IF(AH27=0,0,SUM(AN27:AS27)/SUM(AH27:AM27)) -> 0 | BL27: =EOMONTH(BL26,1) -> 42766 | BZ27: =IF(D27=0," ",C27&" "&B27) | CA27: =IF(D27=0," ",Z27) | CB27: =IF(D27=0," ",AC27)
A28: =A27+1 -> 26 | B28: =B27 -> 2018 | C28: Feb | D28: =COUNTIF('Trade Details'!T$3:T$5000,A28) -> 0 | E28: =SUMIF('Trade Details'!T$3:T$5000,A28,'Trade Details'!Z$3:Z$5000) -> 0 | F28: =IF(D28=0,0,E28/D28) -> 0 | G28: =SUMIF('Trade Details'!T$3:T$5000,A28,'Trade Details'!AA$3:AA$5000) -> 0 | H28: =IF(D28=0,0,G28/D28) -> 0 | I28: =SUMIF('Trade Details'!T$3:T$5000,A28,'Trade Details'!V$3:V$5000) -> 0 | J28: =IF($D28=0,0,I28/$D28) -> 0 | K28: =SUMIF('Trade Details'!$T$3:$T$5000,$A28,'Trade Details'!W$3:W$5000) -> 0 | L28: =IF($D28=0,0,K28/$D28) -> 0 | M28: =SUMIF('Trade Details'!$T$3:$T$5000,$A28,'Trade Details'!X$3:X$5000) -> 0 | N28: =IF($D28=0,0,M28/$D28) -> 0 | O28: =SUMIF('Trade Details'!$T$3:$T$5000,$A28,'Trade Details'!Y$3:Y$5000) -> 0 | P28: =IF($D28=0,0,O28/$D28) -> 0 | Q28: =SUMIF('Trade Details'!$T$3:$T$5000,$A28,'Trade Details'!AB$3:AB$5000) -> 0 | R28: =SUMIF('Trade Details'!$T$3:$T$5000,$A28,'Trade Details'!AD$3:AD$5000) -> 0 | S28: =Q28+R28 -> 0 | T28: =IF(D28=0,0,SUMIF('Trade Details'!T$3:T$5000,A28,'Trade Details'!AB$3:AB$5000)) -> 0 | U28: =IF(D28=0,0,SUMIF('Trade Details'!T$3:T$5000,A28,'Trade Details'!AD$3:AD$5000)) -> 0 | V28: =IF(D28=0,0,SUMIF('Trade Details'!T$3:T$5000,A28,'Trade Details'!O$3:O$5000)) -> 0 | W28: =IF(D28=0,0,T28/E28) -> 0 | X28: =IF(G28=0,0,U28/G28) -> 0 | Y28: =IF(D28=0,0,V28/D28) -> 0 | Z28: =S28+Z27 -> 206679.28 | AA28: =(Z28-Z27)/Z27 -> 0 | AB28: =MAX(Z$2:Z28) -> 206698.22 | AC28: =(AB28-Z28)/Z28 -> 9.1639568e-05 | AD28: {=MAX(IF('Trade Details'!T$3:T$5000=A28,'Trade Details'!AB$3:AB$5000))} -> 0 | AE28: =IF(AD28=0,0,INDEX('Trade Details'!AC$3:AC$5000,(MATCH(AD28,'Trade Details'!AB$3:AB$5000,0)))) -> 0 | AF28: {=MIN(IF('Trade Details'!T$3:T$5000=A28,'Trade Details'!AD$3:AD$5000))} -> 0 | AG28: =IF(AF28=0,0,INDEX('Trade Details'!AC$3:AC$5000,(MATCH(AF28,'Trade Details'!AD$3:AD$5000,0)))) -> 0 | AH28: =COUNTIFS('Trade Details'!$D$3:$D$5000,AH$2,'Trade Details'!$T$3:$T$5000,$A28) -> 0 | AI28: =COUNTIFS('Trade Details'!$D$3:$D$5000,AI$2,'Trade Details'!$T$3:$T$5000,$A28) -> 0 | AJ28: =COUNTIFS('Trade Details'!$D$3:$D$5000,AJ$2,'Trade Details'!$T$3:$T$5000,$A28) -> 0 | AK28: =COUNTIFS('Trade Details'!$D$3:$D$5000,AK$2,'Trade Details'!$T$3:$T$5000,$A28) -> 0 | AL28: =COUNTIFS('Trade Details'!$D$3:$D$5000,AL$2,'Trade Details'!$T$3:$T$5000,$A28) -> 0 | AM28: =COUNTIFS('Trade Details'!$D$3:$D$5000,AM$2,'Trade Details'!$T$3:$T$5000,$A28) -> 0 | AN28: =SUMIFS('Trade Details'!$R$3:$R$5000,'Trade Details'!$D$3:$D$5000,AN$2,'Trade Details'!$T$3:$T$5000,$A28) -> 0 | AO28: =SUMIFS('Trade Details'!$R$3:$R$5000,'Trade Details'!$D$3:$D$5000,AO$2,'Trade Details'!$T$3:$T$5000,$A28) -> 0 | AP28: =SUMIFS('Trade Details'!$R$3:$R$5000,'Trade Details'!$D$3:$D$5000,AP$2,'Trade Details'!$T$3:$T$5000,$A28) -> 0 | AQ28: =SUMIFS('Trade Details'!$R$3:$R$5000,'Trade Details'!$D$3:$D$5000,AQ$2,'Trade Details'!$T$3:$T$5000,$A28) -> 0 | AR28: =SUMIFS('Trade Details'!$R$3:$R$5000,'Trade Details'!$D$3:$D$5000,AR$2,'Trade Details'!$T$3:$T$5000,$A28) -> 0 | AS28: =SUMIFS('Trade Details'!$R$3:$R$5000,'Trade Details'!$D$3:$D$5000,AS$2,'Trade Details'!$T$3:$T$5000,$A28) -> 0 | AT28: =IF(AN28=0,0,AN28/AH28) -> 0 | AU28: =IF(AO28=0,0,AO28/AI28) -> 0 | AV28: =IF(AP28=0,0,AP28/AJ28) -> 0 | AW28: =IF(AQ28=0,0,AQ28/AK28) -> 0 | AX28: =IF(AR28=0,0,AR28/AL28) -> 0 | AY28: =IF(AS28=0,0,AS28/AM28) -> 0 | AZ28: =IF(AH28=0,0,SUM(AN28:AS28)/SUM(AH28:AM28)) -> 0 | BL28: =EOMONTH(BL27,1) -> 42794 | BZ28: =IF(D28=0," ",C28&" "&B28) | CA28: =IF(D28=0," ",Z28) | CB28: =IF(D28=0," ",AC28)
A29: =A28+1 -> 27 | B29: =B28 -> 2018 | C29: Mar | D29: =COUNTIF('Trade Details'!T$3:T$5000,A29) -> 0 | E29: =SUMIF('Trade Details'!T$3:T$5000,A29,'Trade Details'!Z$3:Z$5000) -> 0 | F29: =IF(D29=0,0,E29/D29) -> 0 | G29: =SUMIF('Trade Details'!T$3:T$5000,A29,'Trade Details'!AA$3:AA$5000) -> 0 | H29: =IF(D29=0,0,G29/D29) -> 0 | I29: =SUMIF('Trade Details'!T$3:T$5000,A29,'Trade Details'!V$3:V$5000) -> 0 | J29: =IF($D29=0,0,I29/$D29) -> 0 | K29: =SUMIF('Trade Details'!$T$3:$T$5000,$A29,'Trade Details'!W$3:W$5000) -> 0 | L29: =IF($D29=0,0,K29/$D29) -> 0 | M29: =SUMIF('Trade Details'!$T$3:$T$5000,$A29,'Trade Details'!X$3:X$5000) -> 0 | N29: =IF($D29=0,0,M29/$D29) -> 0 | O29: =SUMIF('Trade Details'!$T$3:$T$5000,$A29,'Trade Details'!Y$3:Y$5000) -> 0 | P29: =IF($D29=0,0,O29/$D29) -> 0 | Q29: =SUMIF('Trade Details'!$T$3:$T$5000,$A29,'Trade Details'!AB$3:AB$5000) -> 0 | R29: =SUMIF('Trade Details'!$T$3:$T$5000,$A29,'Trade Details'!AD$3:AD$5000) -> 0 | S29: =Q29+R29 -> 0 | T29: =IF(D29=0,0,SUMIF('Trade Details'!T$3:T$5000,A29,'Trade Details'!AB$3:AB$5000)) -> 0 | U29: =IF(D29=0,0,SUMIF('Trade Details'!T$3:T$5000,A29,'Trade Details'!AD$3:AD$5000)) -> 0 | V29: =IF(D29=0,0,SUMIF('Trade Details'!T$3:T$5000,A29,'Trade Details'!O$3:O$5000)) -> 0 | W29: =IF(D29=0,0,T29/E29) -> 0 | X29: =IF(G29=0,0,U29/G29) -> 0 | Y29: =IF(D29=0,0,V29/D29) -> 0 | Z29: =S29+Z28 -> 206679.28 | AA29: =(Z29-Z28)/Z28 -> 0 | AB29: =MAX(Z$2:Z29) -> 206698.22 | AC29: =(AB29-Z29)/Z29 -> 9.1639568e-05 | AD29: {=MAX(IF('Trade Details'!T$3:T$5000=A29,'Trade Details'!AB$3:AB$5000))} -> 0 | AE29: =IF(AD29=0,0,INDEX('Trade Details'!AC$3:AC$5000,(MATCH(AD29,'Trade Details'!AB$3:AB$5000,0)))) -> 0 | AF29: {=MIN(IF('Trade Details'!T$3:T$5000=A29,'Trade Details'!AD$3:AD$5000))} -> 0 | AG29: =IF(AF29=0,0,INDEX('Trade Details'!AC$3:AC$5000,(MATCH(AF29,'Trade Details'!AD$3:AD$5000,0)))) -> 0 | AH29: =COUNTIFS('Trade Details'!$D$3:$D$5000,AH$2,'Trade Details'!$T$3:$T$5000,$A29) -> 0 | AI29: =COUNTIFS('Trade Details'!$D$3:$D$5000,AI$2,'Trade Details'!$T$3:$T$5000,$A29) -> 0 | AJ29: =COUNTIFS('Trade Details'!$D$3:$D$5000,AJ$2,'Trade Details'!$T$3:$T$5000,$A29) -> 0 | AK29: =COUNTIFS('Trade Details'!$D$3:$D$5000,AK$2,'Trade Details'!$T$3:$T$5000,$A29) -> 0 | AL29: =COUNTIFS('Trade Details'!$D$3:$D$5000,AL$2,'Trade Details'!$T$3:$T$5000,$A29) -> 0 | AM29: =COUNTIFS('Trade Details'!$D$3:$D$5000,AM$2,'Trade Details'!$T$3:$T$5000,$A29) -> 0 | AN29: =SUMIFS('Trade Details'!$R$3:$R$5000,'Trade Details'!$D$3:$D$5000,AN$2,'Trade Details'!$T$3:$T$5000,$A29) -> 0 | AO29: =SUMIFS('Trade Details'!$R$3:$R$5000,'Trade Details'!$D$3:$D$5000,AO$2,'Trade Details'!$T$3:$T$5000,$A29) -> 0 | AP29: =SUMIFS('Trade Details'!$R$3:$R$5000,'Trade Details'!$D$3:$D$5000,AP$2,'Trade Details'!$T$3:$T$5000,$A29) -> 0 | AQ29: =SUMIFS('Trade Details'!$R$3:$R$5000,'Trade Details'!$D$3:$D$5000,AQ$2,'Trade Details'!$T$3:$T$5000,$A29) -> 0 | AR29: =SUMIFS('Trade Details'!$R$3:$R$5000,'Trade Details'!$D$3:$D$5000,AR$2,'Trade Details'!$T$3:$T$5000,$A29) -> 0 | AS29: =SUMIFS('Trade Details'!$R$3:$R$5000,'Trade Details'!$D$3:$D$5000,AS$2,'Trade Details'!$T$3:$T$5000,$A29) -> 0 | AT29: =IF(AN29=0,0,AN29/AH29) -> 0 | AU29: =IF(AO29=0,0,AO29/AI29) -> 0 | AV29: =IF(AP29=0,0,AP29/AJ29) -> 0 | AW29: =IF(AQ29=0,0,AQ29/AK29) -> 0 | AX29: =IF(AR29=0,0,AR29/AL29) -> 0 | AY29: =IF(AS29=0,0,AS29/AM29) -> 0 | AZ29: =IF(AH29=0,0,SUM(AN29:AS29)/SUM(AH29:AM29)) -> 0 | BL29: =EOMONTH(BL28,1) -> 42825 | BZ29: =IF(D29=0," ",C29&" "&B29) | CA29: =IF(D29=0," ",Z29) | CB29: =IF(D29=0," ",AC29)
A30: =A29+1 -> 28 | B30: =B29 -> 2018 | C30: Apr | D30: =COUNTIF('Trade Details'!T$3:T$5000,A30) -> 0 | E30: =SUMIF('Trade Details'!T$3:T$5000,A30,'Trade Details'!Z$3:Z$5000) -> 0 | F30: =IF(D30=0,0,E30/D30) -> 0 | G30: =SUMIF('Trade Details'!T$3:T$5000,A30,'Trade Details'!AA$3:AA$5000) -> 0 | H30: =IF(D30=0,0,G30/D30) -> 0 | I30: =SUMIF('Trade Details'!T$3:T$5000,A30,'Trade Details'!V$3:V$5000) -> 0 | J30: =IF($D30=0,0,I30/$D30) -> 0 | K30: =SUMIF('Trade Details'!$T$3:$T$5000,$A30,'Trade Details'!W$3:W$5000) -> 0 | L30: =IF($D30=0,0,K30/$D30) -> 0 | M30: =SUMIF('Trade Details'!$T$3:$T$5000,$A30,'Trade Details'!X$3:X$5000) -> 0 | N30: =IF($D30=0,0,M30/$D30) -> 0 | O30: =SUMIF('Trade Details'!$T$3:$T$5000,$A30,'Trade Details'!Y$3:Y$5000) -> 0 | P30: =IF($D30=0,0,O30/$D30) -> 0 | Q30: =SUMIF('Trade Details'!$T$3:$T$5000,$A30,'Trade Details'!AB$3:AB$5000) -> 0 | R30: =SUMIF('Trade Details'!$T$3:$T$5000,$A30,'Trade Details'!AD$3:AD$5000) -> 0 | S30: =Q30+R30 -> 0 | T30: =IF(D30=0,0,SUMIF('Trade Details'!T$3:T$5000,A30,'Trade Details'!AB$3:AB$5000)) -> 0 | U30: =IF(D30=0,0,SUMIF('Trade Details'!T$3:T$5000,A30,'Trade Details'!AD$3:AD$5000)) -> 0 | V30: =IF(D30=0,0,SUMIF('Trade Details'!T$3:T$5000,A30,'Trade Details'!O$3:O$5000)) -> 0 | W30: =IF(D30=0,0,T30/E30) -> 0 | X30: =IF(G30=0,0,U30/G30) -> 0 | Y30: =IF(D30=0,0,V30/D30) -> 0 | Z30: =S30+Z29 -> 206679.28 | AA30: =(Z30-Z29)/Z29 -> 0 | AB30: =MAX(Z$2:Z30) -> 206698.22 | AC30: =(AB30-Z30)/Z30 -> 9.1639568e-05 | AD30: {=MAX(IF('Trade Details'!T$3:T$5000=A30,'Trade Details'!AB$3:AB$5000))} -> 0 | AE30: =IF(AD30=0,0,INDEX('Trade Details'!AC$3:AC$5000,(MATCH(AD30,'Trade Details'!AB$3:AB$5000,0)))) -> 0 | AF30: {=MIN(IF('Trade Details'!T$3:T$5000=A30,'Trade Details'!AD$3:AD$5000))} -> 0 | AG30: =IF(AF30=0,0,INDEX('Trade Details'!AC$3:AC$5000,(MATCH(AF30,'Trade Details'!AD$3:AD$5000,0)))) -> 0 | AH30: =COUNTIFS('Trade Details'!$D$3:$D$5000,AH$2,'Trade Details'!$T$3:$T$5000,$A30) -> 0 | AI30: =COUNTIFS('Trade Details'!$D$3:$D$5000,AI$2,'Trade Details'!$T$3:$T$5000,$A30) -> 0 | AJ30: =COUNTIFS('Trade Details'!$D$3:$D$5000,AJ$2,'Trade Details'!$T$3:$T$5000,$A30) -> 0 | AK30: =COUNTIFS('Trade Details'!$D$3:$D$5000,AK$2,'Trade Details'!$T$3:$T$5000,$A30) -> 0 | AL30: =COUNTIFS('Trade Details'!$D$3:$D$5000,AL$2,'Trade Details'!$T$3:$T$5000,$A30) -> 0 | AM30: =COUNTIFS('Trade Details'!$D$3:$D$5000,AM$2,'Trade Details'!$T$3:$T$5000,$A30) -> 0 | AN30: =SUMIFS('Trade Details'!$R$3:$R$5000,'Trade Details'!$D$3:$D$5000,AN$2,'Trade Details'!$T$3:$T$5000,$A30) -> 0 | AO30: =SUMIFS('Trade Details'!$R$3:$R$5000,'Trade Details'!$D$3:$D$5000,AO$2,'Trade Details'!$T$3:$T$5000,$A30) -> 0 | AP30: =SUMIFS('Trade Details'!$R$3:$R$5000,'Trade Details'!$D$3:$D$5000,AP$2,'Trade Details'!$T$3:$T$5000,$A30) -> 0 | AQ30: =SUMIFS('Trade Details'!$R$3:$R$5000,'Trade Details'!$D$3:$D$5000,AQ$2,'Trade Details'!$T$3:$T$5000,$A30) -> 0 | AR30: =SUMIFS('Trade Details'!$R$3:$R$5000,'Trade Details'!$D$3:$D$5000,AR$2,'Trade Details'!$T$3:$T$5000,$A30) -> 0 | AS30: =SUMIFS('Trade Details'!$R$3:$R$5000,'Trade Details'!$D$3:$D$5000,AS$2,'Trade Details'!$T$3:$T$5000,$A30) -> 0 | AT30: =IF(AN30=0,0,AN30/AH30) -> 0 | AU30: =IF(AO30=0,0,AO30/AI30) -> 0 | AV30: =IF(AP30=0,0,AP30/AJ30) -> 0 | AW30: =IF(AQ30=0,0,AQ30/AK30) -> 0 | AX30: =IF(AR30=0,0,AR30/AL30) -> 0 | AY30: =IF(AS30=0,0,AS30/AM30) -> 0 | AZ30: =IF(AH30=0,0,SUM(AN30:AS30)/SUM(AH30:AM30)) -> 0 | BL30: =EOMONTH(BL29,1) -> 42855 | BZ30: =IF(D30=0," ",C30&" "&B30) | CA30: =IF(D30=0," ",Z30) | CB30: =IF(D30=0," ",AC30)
A31: =A30+1 -> 29 | B31: =B30 -> 2018 | C31: May | D31: =COUNTIF('Trade Details'!T$3:T$5000,A31) -> 0 | E31: =SUMIF('Trade Details'!T$3:T$5000,A31,'Trade Details'!Z$3:Z$5000) -> 0 | F31: =IF(D31=0,0,E31/D31) -> 0 | G31: =SUMIF('Trade Details'!T$3:T$5000,A31,'Trade Details'!AA$3:AA$5000) -> 0 | H31: =IF(D31=0,0,G31/D31) -> 0 | I31: =SUMIF('Trade Details'!T$3:T$5000,A31,'Trade Details'!V$3:V$5000) -> 0 | J31: =IF($D31=0,0,I31/$D31) -> 0 | K31: =SUMIF('Trade Details'!$T$3:$T$5000,$A31,'Trade Details'!W$3:W$5000) -> 0 | L31: =IF($D31=0,0,K31/$D31) -> 0 | M31: =SUMIF('Trade Details'!$T$3:$T$5000,$A31,'Trade Details'!X$3:X$5000) -> 0 | N31: =IF($D31=0,0,M31/$D31) -> 0 | O31: =SUMIF('Trade Details'!$T$3:$T$5000,$A31,'Trade Details'!Y$3:Y$5000) -> 0 | P31: =IF($D31=0,0,O31/$D31) -> 0 | Q31: =SUMIF('Trade Details'!$T$3:$T$5000,$A31,'Trade Details'!AB$3:AB$5000) -> 0 | R31: =SUMIF('Trade Details'!$T$3:$T$5000,$A31,'Trade Details'!AD$3:AD$5000) -> 0 | S31: =Q31+R31 -> 0 | T31: =IF(D31=0,0,SUMIF('Trade Details'!T$3:T$5000,A31,'Trade Details'!AB$3:AB$5000)) -> 0 | U31: =IF(D31=0,0,SUMIF('Trade Details'!T$3:T$5000,A31,'Trade Details'!AD$3:AD$5000)) -> 0 | V31: =IF(D31=0,0,SUMIF('Trade Details'!T$3:T$5000,A31,'Trade Details'!O$3:O$5000)) -> 0 | W31: =IF(D31=0,0,T31/E31) -> 0 | X31: =IF(G31=0,0,U31/G31) -> 0 | Y31: =IF(D31=0,0,V31/D31) -> 0 | Z31: =S31+Z30 -> 206679.28 | AA31: =(Z31-Z30)/Z30 -> 0 | AB31: =MAX(Z$2:Z31) -> 206698.22 | AC31: =(AB31-Z31)/Z31 -> 9.1639568e-05 | AD31: {=MAX(IF('Trade Details'!T$3:T$5000=A31,'Trade Details'!AB$3:AB$5000))} -> 0 | AE31: =IF(AD31=0,0,INDEX('Trade Details'!AC$3:AC$5000,(MATCH(AD31,'Trade Details'!AB$3:AB$5000,0)))) -> 0 | AF31: {=MIN(IF('Trade Details'!T$3:T$5000=A31,'Trade Details'!AD$3:AD$5000))} -> 0 | AG31: =IF(AF31=0,0,INDEX('Trade Details'!AC$3:AC$5000,(MATCH(AF31,'Trade Details'!AD$3:AD$5000,0)))) -> 0 | AH31: =COUNTIFS('Trade Details'!$D$3:$D$5000,AH$2,'Trade Details'!$T$3:$T$5000,$A31) -> 0 | AI31: =COUNTIFS('Trade Details'!$D$3:$D$5000,AI$2,'Trade Details'!$T$3:$T$5000,$A31) -> 0 | AJ31: =COUNTIFS('Trade Details'!$D$3:$D$5000,AJ$2,'Trade Details'!$T$3:$T$5000,$A31) -> 0 | AK31: =COUNTIFS('Trade Details'!$D$3:$D$5000,AK$2,'Trade Details'!$T$3:$T$5000,$A31) -> 0 | AL31: =COUNTIFS('Trade Details'!$D$3:$D$5000,AL$2,'Trade Details'!$T$3:$T$5000,$A31) -> 0 | AM31: =COUNTIFS('Trade Details'!$D$3:$D$5000,AM$2,'Trade Details'!$T$3:$T$5000,$A31) -> 0 | AN31: =SUMIFS('Trade Details'!$R$3:$R$5000,'Trade Details'!$D$3:$D$5000,AN$2,'Trade Details'!$T$3:$T$5000,$A31) -> 0 | AO31: =SUMIFS('Trade Details'!$R$3:$R$5000,'Trade Details'!$D$3:$D$5000,AO$2,'Trade Details'!$T$3:$T$5000,$A31) -> 0 | AP31: =SUMIFS('Trade Details'!$R$3:$R$5000,'Trade Details'!$D$3:$D$5000,AP$2,'Trade Details'!$T$3:$T$5000,$A31) -> 0 | AQ31: =SUMIFS('Trade Details'!$R$3:$R$5000,'Trade Details'!$D$3:$D$5000,AQ$2,'Trade Details'!$T$3:$T$5000,$A31) -> 0 | AR31: =SUMIFS('Trade Details'!$R$3:$R$5000,'Trade Details'!$D$3:$D$5000,AR$2,'Trade Details'!$T$3:$T$5000,$A31) -> 0 | AS31: =SUMIFS('Trade Details'!$R$3:$R$5000,'Trade Details'!$D$3:$D$5000,AS$2,'Trade Details'!$T$3:$T$5000,$A31) -> 0 | AT31: =IF(AN31=0,0,AN31/AH31) -> 0 | AU31: =IF(AO31=0,0,AO31/AI31) -> 0 | AV31: =IF(AP31=0,0,AP31/AJ31) -> 0 | AW31: =IF(AQ31=0,0,AQ31/AK31) -> 0 | AX31: =IF(AR31=0,0,AR31/AL31) -> 0 | AY31: =IF(AS31=0,0,AS31/AM31) -> 0 | AZ31: =IF(AH31=0,0,SUM(AN31:AS31)/SUM(AH31:AM31)) -> 0 | BL31: =EOMONTH(BL30,1) -> 42886 | BZ31: =IF(D31=0," ",C31&" "&B31) | CA31: =IF(D31=0," ",Z31) | CB31: =IF(D31=0," ",AC31)
A32: =A31+1 -> 30 | B32: =B31 -> 2018 | C32: Jun | D32: =COUNTIF('Trade Details'!T$3:T$5000,A32) -> 0 | E32: =SUMIF('Trade Details'!T$3:T$5000,A32,'Trade Details'!Z$3:Z$5000) -> 0 | F32: =IF(D32=0,0,E32/D32) -> 0 | G32: =SUMIF('Trade Details'!T$3:T$5000,A32,'Trade Details'!AA$3:AA$5000) -> 0 | H32: =IF(D32=0,0,G32/D32) -> 0 | I32: =SUMIF('Trade Details'!T$3:T$5000,A32,'Trade Details'!V$3:V$5000) -> 0 | J32: =IF($D32=0,0,I32/$D32) -> 0 | K32: =SUMIF('Trade Details'!$T$3:$T$5000,$A32,'Trade Details'!W$3:W$5000) -> 0 | L32: =IF($D32=0,0,K32/$D32) -> 0 | M32: =SUMIF('Trade Details'!$T$3:$T$5000,$A32,'Trade Details'!X$3:X$5000) -> 0 | N32: =IF($D32=0,0,M32/$D32) -> 0 | O32: =SUMIF('Trade Details'!$T$3:$T$5000,$A32,'Trade Details'!Y$3:Y$5000) -> 0 | P32: =IF($D32=0,0,O32/$D32) -> 0 | Q32: =SUMIF('Trade Details'!$T$3:$T$5000,$A32,'Trade Details'!AB$3:AB$5000) -> 0 | R32: =SUMIF('Trade Details'!$T$3:$T$5000,$A32,'Trade Details'!AD$3:AD$5000) -> 0 | S32: =Q32+R32 -> 0 | T32: =IF(D32=0,0,SUMIF('Trade Details'!T$3:T$5000,A32,'Trade Details'!AB$3:AB$5000)) -> 0 | U32: =IF(D32=0,0,SUMIF('Trade Details'!T$3:T$5000,A32,'Trade Details'!AD$3:AD$5000)) -> 0 | V32: =IF(D32=0,0,SUMIF('Trade Details'!T$3:T$5000,A32,'Trade Details'!O$3:O$5000)) -> 0 | W32: =IF(D32=0,0,T32/E32) -> 0 | X32: =IF(G32=0,0,U32/G32) -> 0 | Y32: =IF(D32=0,0,V32/D32) -> 0 | Z32: =S32+Z31 -> 206679.28 | AA32: =(Z32-Z31)/Z31 -> 0 | AB32: =MAX(Z$2:Z32) -> 206698.22 | AC32: =(AB32-Z32)/Z32 -> 9.1639568e-05 | AD32: {=MAX(IF('Trade Details'!T$3:T$5000=A32,'Trade Details'!AB$3:AB$5000))} -> 0 | AE32: =IF(AD32=0,0,INDEX('Trade Details'!AC$3:AC$5000,(MATCH(AD32,'Trade Details'!AB$3:AB$5000,0)))) -> 0 | AF32: {=MIN(IF('Trade Details'!T$3:T$5000=A32,'Trade Details'!AD$3:AD$5000))} -> 0 | AG32: =IF(AF32=0,0,INDEX('Trade Details'!AC$3:AC$5000,(MATCH(AF32,'Trade Details'!AD$3:AD$5000,0)))) -> 0 | AH32: =COUNTIFS('Trade Details'!$D$3:$D$5000,AH$2,'Trade Details'!$T$3:$T$5000,$A32) -> 0 | AI32: =COUNTIFS('Trade Details'!$D$3:$D$5000,AI$2,'Trade Details'!$T$3:$T$5000,$A32) -> 0 | AJ32: =COUNTIFS('Trade Details'!$D$3:$D$5000,AJ$2,'Trade Details'!$T$3:$T$5000,$A32) -> 0 | AK32: =COUNTIFS('Trade Details'!$D$3:$D$5000,AK$2,'Trade Details'!$T$3:$T$5000,$A32) -> 0 | AL32: =COUNTIFS('Trade Details'!$D$3:$D$5000,AL$2,'Trade Details'!$T$3:$T$5000,$A32) -> 0 | AM32: =COUNTIFS('Trade Details'!$D$3:$D$5000,AM$2,'Trade Details'!$T$3:$T$5000,$A32) -> 0 | AN32: =SUMIFS('Trade Details'!$R$3:$R$5000,'Trade Details'!$D$3:$D$5000,AN$2,'Trade Details'!$T$3:$T$5000,$A32) -> 0 | AO32: =SUMIFS('Trade Details'!$R$3:$R$5000,'Trade Details'!$D$3:$D$5000,AO$2,'Trade Details'!$T$3:$T$5000,$A32) -> 0 | AP32: =SUMIFS('Trade Details'!$R$3:$R$5000,'Trade Details'!$D$3:$D$5000,AP$2,'Trade Details'!$T$3:$T$5000,$A32) -> 0 | AQ32: =SUMIFS('Trade Details'!$R$3:$R$5000,'Trade Details'!$D$3:$D$5000,AQ$2,'Trade Details'!$T$3:$T$5000,$A32) -> 0 | AR32: =SUMIFS('Trade Details'!$R$3:$R$5000,'Trade Details'!$D$3:$D$5000,AR$2,'Trade Details'!$T$3:$T$5000,$A32) -> 0 | AS32: =SUMIFS('Trade Details'!$R$3:$R$5000,'Trade Details'!$D$3:$D$5000,AS$2,'Trade Details'!$T$3:$T$5000,$A32) -> 0 | AT32: =IF(AN32=0,0,AN32/AH32) -> 0 | AU32: =IF(AO32=0,0,AO32/AI32) -> 0 | AV32: =IF(AP32=0,0,AP32/AJ32) -> 0 | AW32: =IF(AQ32=0,0,AQ32/AK32) -> 0 | AX32: =IF(AR32=0,0,AR32/AL32) -> 0 | AY32: =IF(AS32=0,0,AS32/AM32) -> 0 | AZ32: =IF(AH32=0,0,SUM(AN32:AS32)/SUM(AH32:AM32)) -> 0 | BL32: =EOMONTH(BL31,1) -> 42916 | BZ32: =IF(D32=0," ",C32&" "&B32) | CA32: =IF(D32=0," ",Z32) | CB32: =IF(D32=0," ",AC32)
A33: =A32+1 -> 31 | B33: =B32 -> 2018 | C33: Jul | D33: =COUNTIF('Trade Details'!T$3:T$5000,A33) -> 0 | E33: =SUMIF('Trade Details'!T$3:T$5000,A33,'Trade Details'!Z$3:Z$5000) -> 0 | F33: =IF(D33=0,0,E33/D33) -> 0 | G33: =SUMIF('Trade Details'!T$3:T$5000,A33,'Trade Details'!AA$3:AA$5000) -> 0 | H33: =IF(D33=0,0,G33/D33) -> 0 | I33: =SUMIF('Trade Details'!T$3:T$5000,A33,'Trade Details'!V$3:V$5000) -> 0 | J33: =IF($D33=0,0,I33/$D33) -> 0 | K33: =SUMIF('Trade Details'!$T$3:$T$5000,$A33,'Trade Details'!W$3:W$5000) -> 0 | L33: =IF($D33=0,0,K33/$D33) -> 0 | M33: =SUMIF('Trade Details'!$T$3:$T$5000,$A33,'Trade Details'!X$3:X$5000) -> 0 | N33: =IF($D33=0,0,M33/$D33) -> 0 | O33: =SUMIF('Trade Details'!$T$3:$T$5000,$A33,'Trade Details'!Y$3:Y$5000) -> 0 | P33: =IF($D33=0,0,O33/$D33) -> 0 | Q33: =SUMIF('Trade Details'!$T$3:$T$5000,$A33,'Trade Details'!AB$3:AB$5000) -> 0 | R33: =SUMIF('Trade Details'!$T$3:$T$5000,$A33,'Trade Details'!AD$3:AD$5000) -> 0 | S33: =Q33+R33 -> 0 | T33: =IF(D33=0,0,SUMIF('Trade Details'!T$3:T$5000,A33,'Trade Details'!AB$3:AB$5000)) -> 0 | U33: =IF(D33=0,0,SUMIF('Trade Details'!T$3:T$5000,A33,'Trade Details'!AD$3:AD$5000)) -> 0 | V33: =IF(D33=0,0,SUMIF('Trade Details'!T$3:T$5000,A33,'Trade Details'!O$3:O$5000)) -> 0 | W33: =IF(D33=0,0,T33/E33) -> 0 | X33: =IF(G33=0,0,U33/G33) -> 0 | Y33: =IF(D33=0,0,V33/D33) -> 0 | Z33: =S33+Z32 -> 206679.28 | AA33: =(Z33-Z32)/Z32 -> 0 | AB33: =MAX(Z$2:Z33) -> 206698.22 | AC33: =(AB33-Z33)/Z33 -> 9.1639568e-05 | AD33: {=MAX(IF('Trade Details'!T$3:T$5000=A33,'Trade Details'!AB$3:AB$5000))} -> 0 | AE33: =IF(AD33=0,0,INDEX('Trade Details'!AC$3:AC$5000,(MATCH(AD33,'Trade Details'!AB$3:AB$5000,0)))) -> 0 | AF33: {=MIN(IF('Trade Details'!T$3:T$5000=A33,'Trade Details'!AD$3:AD$5000))} -> 0 | AG33: =IF(AF33=0,0,INDEX('Trade Details'!AC$3:AC$5000,(MATCH(AF33,'Trade Details'!AD$3:AD$5000,0)))) -> 0 | AH33: =COUNTIFS('Trade Details'!$D$3:$D$5000,AH$2,'Trade Details'!$T$3:$T$5000,$A33) -> 0 | AI33: =COUNTIFS('Trade Details'!$D$3:$D$5000,AI$2,'Trade Details'!$T$3:$T$5000,$A33) -> 0 | AJ33: =COUNTIFS('Trade Details'!$D$3:$D$5000,AJ$2,'Trade Details'!$T$3:$T$5000,$A33) -> 0 | AK33: =COUNTIFS('Trade Details'!$D$3:$D$5000,AK$2,'Trade Details'!$T$3:$T$5000,$A33) -> 0 | AL33: =COUNTIFS('Trade Details'!$D$3:$D$5000,AL$2,'Trade Details'!$T$3:$T$5000,$A33) -> 0 | AM33: =COUNTIFS('Trade Details'!$D$3:$D$5000,AM$2,'Trade Details'!$T$3:$T$5000,$A33) -> 0 | AN33: =SUMIFS('Trade Details'!$R$3:$R$5000,'Trade Details'!$D$3:$D$5000,AN$2,'Trade Details'!$T$3:$T$5000,$A33) -> 0 | AO33: =SUMIFS('Trade Details'!$R$3:$R$5000,'Trade Details'!$D$3:$D$5000,AO$2,'Trade Details'!$T$3:$T$5000,$A33) -> 0 | AP33: =SUMIFS('Trade Details'!$R$3:$R$5000,'Trade Details'!$D$3:$D$5000,AP$2,'Trade Details'!$T$3:$T$5000,$A33) -> 0 | AQ33: =SUMIFS('Trade Details'!$R$3:$R$5000,'Trade Details'!$D$3:$D$5000,AQ$2,'Trade Details'!$T$3:$T$5000,$A33) -> 0 | AR33: =SUMIFS('Trade Details'!$R$3:$R$5000,'Trade Details'!$D$3:$D$5000,AR$2,'Trade Details'!$T$3:$T$5000,$A33) -> 0 | AS33: =SUMIFS('Trade Details'!$R$3:$R$5000,'Trade Details'!$D$3:$D$5000,AS$2,'Trade Details'!$T$3:$T$5000,$A33) -> 0 | AT33: =IF(AN33=0,0,AN33/AH33) -> 0 | AU33: =IF(AO33=0,0,AO33/AI33) -> 0 | AV33: =IF(AP33=0,0,AP33/AJ33) -> 0 | AW33: =IF(AQ33=0,0,AQ33/AK33) -> 0 | AX33: =IF(AR33=0,0,AR33/AL33) -> 0 | AY33: =IF(AS33=0,0,AS33/AM33) -> 0 | AZ33: =IF(AH33=0,0,SUM(AN33:AS33)/SUM(AH33:AM33)) -> 0 | BL33: =EOMONTH(BL32,1) -> 42947 | BZ33: =IF(D33=0," ",C33&" "&B33) | CA33: =IF(D33=0," ",Z33) | CB33: =IF(D33=0," ",AC33)
A34: =A33+1 -> 32 | B34: =B33 -> 2018 | C34: Aug | D34: =COUNTIF('Trade Details'!T$3:T$5000,A34) -> 0 | E34: =SUMIF('Trade Details'!T$3:T$5000,A34,'Trade Details'!Z$3:Z$5000) -> 0 | F34: =IF(D34=0,0,E34/D34) -> 0 | G34: =SUMIF('Trade Details'!T$3:T$5000,A34,'Trade Details'!AA$3:AA$5000) -> 0 | H34: =IF(D34=0,0,G34/D34) -> 0 | I34: =SUMIF('Trade Details'!T$3:T$5000,A34,'Trade Details'!V$3:V$5000) -> 0 | J34: =IF($D34=0,0,I34/$D34) -> 0 | K34: =SUMIF('Trade Details'!$T$3:$T$5000,$A34,'Trade Details'!W$3:W$5000) -> 0 | L34: =IF($D34=0,0,K34/$D34) -> 0 | M34: =SUMIF('Trade Details'!$T$3:$T$5000,$A34,'Trade Details'!X$3:X$5000) -> 0 | N34: =IF($D34=0,0,M34/$D34) -> 0 | O34: =SUMIF('Trade Details'!$T$3:$T$5000,$A34,'Trade Details'!Y$3:Y$5000) -> 0 | P34: =IF($D34=0,0,O34/$D34) -> 0 | Q34: =SUMIF('Trade Details'!$T$3:$T$5000,$A34,'Trade Details'!AB$3:AB$5000) -> 0 | R34: =SUMIF('Trade Details'!$T$3:$T$5000,$A34,'Trade Details'!AD$3:AD$5000) -> 0 | S34: =Q34+R34 -> 0 | T34: =IF(D34=0,0,SUMIF('Trade Details'!T$3:T$5000,A34,'Trade Details'!AB$3:AB$5000)) -> 0 | U34: =IF(D34=0,0,SUMIF('Trade Details'!T$3:T$5000,A34,'Trade Details'!AD$3:AD$5000)) -> 0 | V34: =IF(D34=0,0,SUMIF('Trade Details'!T$3:T$5000,A34,'Trade Details'!O$3:O$5000)) -> 0 | W34: =IF(D34=0,0,T34/E34) -> 0 | X34: =IF(G34=0,0,U34/G34) -> 0 | Y34: =IF(D34=0,0,V34/D34) -> 0 | Z34: =S34+Z33 -> 206679.28 | AA34: =(Z34-Z33)/Z33 -> 0 | AB34: =MAX(Z$2:Z34) -> 206698.22 | AC34: =(AB34-Z34)/Z34 -> 9.1639568e-05 | AD34: {=MAX(IF('Trade Details'!T$3:T$5000=A34,'Trade Details'!AB$3:AB$5000))} -> 0 | AE34: =IF(AD34=0,0,INDEX('Trade Details'!AC$3:AC$5000,(MATCH(AD34,'Trade Details'!AB$3:AB$5000,0)))) -> 0 | AF34: {=MIN(IF('Trade Details'!T$3:T$5000=A34,'Trade Details'!AD$3:AD$5000))} -> 0 | AG34: =IF(AF34=0,0,INDEX('Trade Details'!AC$3:AC$5000,(MATCH(AF34,'Trade Details'!AD$3:AD$5000,0)))) -> 0 | AH34: =COUNTIFS('Trade Details'!$D$3:$D$5000,AH$2,'Trade Details'!$T$3:$T$5000,$A34) -> 0 | AI34: =COUNTIFS('Trade Details'!$D$3:$D$5000,AI$2,'Trade Details'!$T$3:$T$5000,$A34) -> 0 | AJ34: =COUNTIFS('Trade Details'!$D$3:$D$5000,AJ$2,'Trade Details'!$T$3:$T$5000,$A34) -> 0 | AK34: =COUNTIFS('Trade Details'!$D$3:$D$5000,AK$2,'Trade Details'!$T$3:$T$5000,$A34) -> 0 | AL34: =COUNTIFS('Trade Details'!$D$3:$D$5000,AL$2,'Trade Details'!$T$3:$T$5000,$A34) -> 0 | AM34: =COUNTIFS('Trade Details'!$D$3:$D$5000,AM$2,'Trade Details'!$T$3:$T$5000,$A34) -> 0 | AN34: =SUMIFS('Trade Details'!$R$3:$R$5000,'Trade Details'!$D$3:$D$5000,AN$2,'Trade Details'!$T$3:$T$5000,$A34) -> 0 | AO34: =SUMIFS('Trade Details'!$R$3:$R$5000,'Trade Details'!$D$3:$D$5000,AO$2,'Trade Details'!$T$3:$T$5000,$A34) -> 0 | AP34: =SUMIFS('Trade Details'!$R$3:$R$5000,'Trade Details'!$D$3:$D$5000,AP$2,'Trade Details'!$T$3:$T$5000,$A34) -> 0 | AQ34: =SUMIFS('Trade Details'!$R$3:$R$5000,'Trade Details'!$D$3:$D$5000,AQ$2,'Trade Details'!$T$3:$T$5000,$A34) -> 0 | AR34: =SUMIFS('Trade Details'!$R$3:$R$5000,'Trade Details'!$D$3:$D$5000,AR$2,'Trade Details'!$T$3:$T$5000,$A34) -> 0 | AS34: =SUMIFS('Trade Details'!$R$3:$R$5000,'Trade Details'!$D$3:$D$5000,AS$2,'Trade Details'!$T$3:$T$5000,$A34) -> 0 | AT34: =IF(AN34=0,0,AN34/AH34) -> 0 | AU34: =IF(AO34=0,0,AO34/AI34) -> 0 | AV34: =IF(AP34=0,0,AP34/AJ34) -> 0 | AW34: =IF(AQ34=0,0,AQ34/AK34) -> 0 | AX34: =IF(AR34=0,0,AR34/AL34) -> 0 | AY34: =IF(AS34=0,0,AS34/AM34) -> 0 | AZ34: =IF(AH34=0,0,SUM(AN34:AS34)/SUM(AH34:AM34)) -> 0 | BL34: =EOMONTH(BL33,1) -> 42978 | BZ34: =IF(D34=0," ",C34&" "&B34) | CA34: =IF(D34=0," ",Z34) | CB34: =IF(D34=0," ",AC34)
A35: =A34+1 -> 33 | B35: =B34 -> 2018 | C35: Sep | D35: =COUNTIF('Trade Details'!T$3:T$5000,A35) -> 0 | E35: =SUMIF('Trade Details'!T$3:T$5000,A35,'Trade Details'!Z$3:Z$5000) -> 0 | F35: =IF(D35=0,0,E35/D35) -> 0 | G35: =SUMIF('Trade Details'!T$3:T$5000,A35,'Trade Details'!AA$3:AA$5000) -> 0 | H35: =IF(D35=0,0,G35/D35) -> 0 | I35: =SUMIF('Trade Details'!T$3:T$5000,A35,'Trade Details'!V$3:V$5000) -> 0 | J35: =IF($D35=0,0,I35/$D35) -> 0 | K35: =SUMIF('Trade Details'!$T$3:$T$5000,$A35,'Trade Details'!W$3:W$5000) -> 0 | L35: =IF($D35=0,0,K35/$D35) -> 0 | M35: =SUMIF('Trade Details'!$T$3:$T$5000,$A35,'Trade Details'!X$3:X$5000) -> 0 | N35: =IF($D35=0,0,M35/$D35) -> 0 | O35: =SUMIF('Trade Details'!$T$3:$T$5000,$A35,'Trade Details'!Y$3:Y$5000) -> 0 | P35: =IF($D35=0,0,O35/$D35) -> 0 | Q35: =SUMIF('Trade Details'!$T$3:$T$5000,$A35,'Trade Details'!AB$3:AB$5000) -> 0 | R35: =SUMIF('Trade Details'!$T$3:$T$5000,$A35,'Trade Details'!AD$3:AD$5000) -> 0 | S35: =Q35+R35 -> 0 | T35: =IF(D35=0,0,SUMIF('Trade Details'!T$3:T$5000,A35,'Trade Details'!AB$3:AB$5000)) -> 0 | U35: =IF(D35=0,0,SUMIF('Trade Details'!T$3:T$5000,A35,'Trade Details'!AD$3:AD$5000)) -> 0 | V35: =IF(D35=0,0,SUMIF('Trade Details'!T$3:T$5000,A35,'Trade Details'!O$3:O$5000)) -> 0 | W35: =IF(D35=0,0,T35/E35) -> 0 | X35: =IF(G35=0,0,U35/G35) -> 0 | Y35: =IF(D35=0,0,V35/D35) -> 0 | Z35: =S35+Z34 -> 206679.28 | AA35: =(Z35-Z34)/Z34 -> 0 | AB35: =MAX(Z$2:Z35) -> 206698.22 | AC35: =(AB35-Z35)/Z35 -> 9.1639568e-05 | AD35: {=MAX(IF('Trade Details'!T$3:T$5000=A35,'Trade Details'!AB$3:AB$5000))} -> 0 | AE35: =IF(AD35=0,0,INDEX('Trade Details'!AC$3:AC$5000,(MATCH(AD35,'Trade Details'!AB$3:AB$5000,0)))) -> 0 | AF35: {=MIN(IF('Trade Details'!T$3:T$5000=A35,'Trade Details'!AD$3:AD$5000))} -> 0 | AG35: =IF(AF35=0,0,INDEX('Trade Details'!AC$3:AC$5000,(MATCH(AF35,'Trade Details'!AD$3:AD$5000,0)))) -> 0 | AH35: =COUNTIFS('Trade Details'!$D$3:$D$5000,AH$2,'Trade Details'!$T$3:$T$5000,$A35) -> 0 | AI35: =COUNTIFS('Trade Details'!$D$3:$D$5000,AI$2,'Trade Details'!$T$3:$T$5000,$A35) -> 0 | AJ35: =COUNTIFS('Trade Details'!$D$3:$D$5000,AJ$2,'Trade Details'!$T$3:$T$5000,$A35) -> 0 | AK35: =COUNTIFS('Trade Details'!$D$3:$D$5000,AK$2,'Trade Details'!$T$3:$T$5000,$A35) -> 0 | AL35: =COUNTIFS('Trade Details'!$D$3:$D$5000,AL$2,'Trade Details'!$T$3:$T$5000,$A35) -> 0 | AM35: =COUNTIFS('Trade Details'!$D$3:$D$5000,AM$2,'Trade Details'!$T$3:$T$5000,$A35) -> 0 | AN35: =SUMIFS('Trade Details'!$R$3:$R$5000,'Trade Details'!$D$3:$D$5000,AN$2,'Trade Details'!$T$3:$T$5000,$A35) -> 0 | AO35: =SUMIFS('Trade Details'!$R$3:$R$5000,'Trade Details'!$D$3:$D$5000,AO$2,'Trade Details'!$T$3:$T$5000,$A35) -> 0 | AP35: =SUMIFS('Trade Details'!$R$3:$R$5000,'Trade Details'!$D$3:$D$5000,AP$2,'Trade Details'!$T$3:$T$5000,$A35) -> 0 | AQ35: =SUMIFS('Trade Details'!$R$3:$R$5000,'Trade Details'!$D$3:$D$5000,AQ$2,'Trade Details'!$T$3:$T$5000,$A35) -> 0 | AR35: =SUMIFS('Trade Details'!$R$3:$R$5000,'Trade Details'!$D$3:$D$5000,AR$2,'Trade Details'!$T$3:$T$5000,$A35) -> 0 | AS35: =SUMIFS('Trade Details'!$R$3:$R$5000,'Trade Details'!$D$3:$D$5000,AS$2,'Trade Details'!$T$3:$T$5000,$A35) -> 0 | AT35: =IF(AN35=0,0,AN35/AH35) -> 0 | AU35: =IF(AO35=0,0,AO35/AI35) -> 0 | AV35: =IF(AP35=0,0,AP35/AJ35) -> 0 | AW35: =IF(AQ35=0,0,AQ35/AK35) -> 0 | AX35: =IF(AR35=0,0,AR35/AL35) -> 0 | AY35: =IF(AS35=0,0,AS35/AM35) -> 0 | AZ35: =IF(AH35=0,0,SUM(AN35:AS35)/SUM(AH35:AM35)) -> 0 | BL35: =EOMONTH(BL34,1) -> 43008 | BZ35: =IF(D35=0," ",C35&" "&B35) | CA35: =IF(D35=0," ",Z35) | CB35: =IF(D35=0," ",AC35)
A36: =A35+1 -> 34 | B36: =B35 -> 2018 | C36: Oct | D36: =COUNTIF('Trade Details'!T$3:T$5000,A36) -> 0 | E36: =SUMIF('Trade Details'!T$3:T$5000,A36,'Trade Details'!Z$3:Z$5000) -> 0 | F36: =IF(D36=0,0,E36/D36) -> 0 | G36: =SUMIF('Trade Details'!T$3:T$5000,A36,'Trade Details'!AA$3:AA$5000) -> 0 | H36: =IF(D36=0,0,G36/D36) -> 0 | I36: =SUMIF('Trade Details'!T$3:T$5000,A36,'Trade Details'!V$3:V$5000) -> 0 | J36: =IF($D36=0,0,I36/$D36) -> 0 | K36: =SUMIF('Trade Details'!$T$3:$T$5000,$A36,'Trade Details'!W$3:W$5000) -> 0 | L36: =IF($D36=0,0,K36/$D36) -> 0 | M36: =SUMIF('Trade Details'!$T$3:$T$5000,$A36,'Trade Details'!X$3:X$5000) -> 0 | N36: =IF($D36=0,0,M36/$D36) -> 0 | O36: =SUMIF('Trade Details'!$T$3:$T$5000,$A36,'Trade Details'!Y$3:Y$5000) -> 0 | P36: =IF($D36=0,0,O36/$D36) -> 0 | Q36: =SUMIF('Trade Details'!$T$3:$T$5000,$A36,'Trade Details'!AB$3:AB$5000) -> 0 | R36: =SUMIF('Trade Details'!$T$3:$T$5000,$A36,'Trade Details'!AD$3:AD$5000) -> 0 | S36: =Q36+R36 -> 0 | T36: =IF(D36=0,0,SUMIF('Trade Details'!T$3:T$5000,A36,'Trade Details'!AB$3:AB$5000)) -> 0 | U36: =IF(D36=0,0,SUMIF('Trade Details'!T$3:T$5000,A36,'Trade Details'!AD$3:AD$5000)) -> 0 | V36: =IF(D36=0,0,SUMIF('Trade Details'!T$3:T$5000,A36,'Trade Details'!O$3:O$5000)) -> 0 | W36: =IF(D36=0,0,T36/E36) -> 0 | X36: =IF(G36=0,0,U36/G36) -> 0 | Y36: =IF(D36=0,0,V36/D36) -> 0 | Z36: =S36+Z35 -> 206679.28 | AA36: =(Z36-Z35)/Z35 -> 0 | AB36: =MAX(Z$2:Z36) -> 206698.22 | AC36: =(AB36-Z36)/Z36 -> 9.1639568e-05 | AD36: {=MAX(IF('Trade Details'!T$3:T$5000=A36,'Trade Details'!AB$3:AB$5000))} -> 0 | AE36: =IF(AD36=0,0,INDEX('Trade Details'!AC$3:AC$5000,(MATCH(AD36,'Trade Details'!AB$3:AB$5000,0)))) -> 0 | AF36: {=MIN(IF('Trade Details'!T$3:T$5000=A36,'Trade Details'!AD$3:AD$5000))} -> 0 | AG36: =IF(AF36=0,0,INDEX('Trade Details'!AC$3:AC$5000,(MATCH(AF36,'Trade Details'!AD$3:AD$5000,0)))) -> 0 | AH36: =COUNTIFS('Trade Details'!$D$3:$D$5000,AH$2,'Trade Details'!$T$3:$T$5000,$A36) -> 0 | AI36: =COUNTIFS('Trade Details'!$D$3:$D$5000,AI$2,'Trade Details'!$T$3:$T$5000,$A36) -> 0 | AJ36: =COUNTIFS('Trade Details'!$D$3:$D$5000,AJ$2,'Trade Details'!$T$3:$T$5000,$A36) -> 0 | AK36: =COUNTIFS('Trade Details'!$D$3:$D$5000,AK$2,'Trade Details'!$T$3:$T$5000,$A36) -> 0 | AL36: =COUNTIFS('Trade Details'!$D$3:$D$5000,AL$2,'Trade Details'!$T$3:$T$5000,$A36) -> 0 | AM36: =COUNTIFS('Trade Details'!$D$3:$D$5000,AM$2,'Trade Details'!$T$3:$T$5000,$A36) -> 0 | AN36: =SUMIFS('Trade Details'!$R$3:$R$5000,'Trade Details'!$D$3:$D$5000,AN$2,'Trade Details'!$T$3:$T$5000,$A36) -> 0 | AO36: =SUMIFS('Trade Details'!$R$3:$R$5000,'Trade Details'!$D$3:$D$5000,AO$2,'Trade Details'!$T$3:$T$5000,$A36) -> 0 | AP36: =SUMIFS('Trade Details'!$R$3:$R$5000,'Trade Details'!$D$3:$D$5000,AP$2,'Trade Details'!$T$3:$T$5000,$A36) -> 0 | AQ36: =SUMIFS('Trade Details'!$R$3:$R$5000,'Trade Details'!$D$3:$D$5000,AQ$2,'Trade Details'!$T$3:$T$5000,$A36) -> 0 | AR36: =SUMIFS('Trade Details'!$R$3:$R$5000,'Trade Details'!$D$3:$D$5000,AR$2,'Trade Details'!$T$3:$T$5000,$A36) -> 0 | AS36: =SUMIFS('Trade Details'!$R$3:$R$5000,'Trade Details'!$D$3:$D$5000,AS$2,'Trade Details'!$T$3:$T$5000,$A36) -> 0 | AT36: =IF(AN36=0,0,AN36/AH36) -> 0 | AU36: =IF(AO36=0,0,AO36/AI36) -> 0 | AV36: =IF(AP36=0,0,AP36/AJ36) -> 0 | AW36: =IF(AQ36=0,0,AQ36/AK36) -> 0 | AX36: =IF(AR36=0,0,AR36/AL36) -> 0 | AY36: =IF(AS36=0,0,AS36/AM36) -> 0 | AZ36: =IF(AH36=0,0,SUM(AN36:AS36)/SUM(AH36:AM36)) -> 0 | BL36: =EOMONTH(BL35,1) -> 43039 | BZ36: =IF(D36=0," ",C36&" "&B36) | CA36: =IF(D36=0," ",Z36) | CB36: =IF(D36=0," ",AC36)
A37: =A36+1 -> 35 | B37: =B36 -> 2018 | C37: Nov | D37: =COUNTIF('Trade Details'!T$3:T$5000,A37) -> 0 | E37: =SUMIF('Trade Details'!T$3:T$5000,A37,'Trade Details'!Z$3:Z$5000) -> 0 | F37: =IF(D37=0,0,E37/D37) -> 0 | G37: =SUMIF('Trade Details'!T$3:T$5000,A37,'Trade Details'!AA$3:AA$5000) -> 0 | H37: =IF(D37=0,0,G37/D37) -> 0 | I37: =SUMIF('Trade Details'!T$3:T$5000,A37,'Trade Details'!V$3:V$5000) -> 0 | J37: =IF($D37=0,0,I37/$D37) -> 0 | K37: =SUMIF('Trade Details'!$T$3:$T$5000,$A37,'Trade Details'!W$3:W$5000) -> 0 | L37: =IF($D37=0,0,K37/$D37) -> 0 | M37: =SUMIF('Trade Details'!$T$3:$T$5000,$A37,'Trade Details'!X$3:X$5000) -> 0 | N37: =IF($D37=0,0,M37/$D37) -> 0 | O37: =SUMIF('Trade Details'!$T$3:$T$5000,$A37,'Trade Details'!Y$3:Y$5000) -> 0 | P37: =IF($D37=0,0,O37/$D37) -> 0 | Q37: =SUMIF('Trade Details'!$T$3:$T$5000,$A37,'Trade Details'!AB$3:AB$5000) -> 0 | R37: =SUMIF('Trade Details'!$T$3:$T$5000,$A37,'Trade Details'!AD$3:AD$5000) -> 0 | S37: =Q37+R37 -> 0 | T37: =IF(D37=0,0,SUMIF('Trade Details'!T$3:T$5000,A37,'Trade Details'!AB$3:AB$5000)) -> 0 | U37: =IF(D37=0,0,SUMIF('Trade Details'!T$3:T$5000,A37,'Trade Details'!AD$3:AD$5000)) -> 0 | V37: =IF(D37=0,0,SUMIF('Trade Details'!T$3:T$5000,A37,'Trade Details'!O$3:O$5000)) -> 0 | W37: =IF(D37=0,0,T37/E37) -> 0 | X37: =IF(G37=0,0,U37/G37) -> 0 | Y37: =IF(D37=0,0,V37/D37) -> 0 | Z37: =S37+Z36 -> 206679.28 | AA37: =(Z37-Z36)/Z36 -> 0 | AB37: =MAX(Z$2:Z37) -> 206698.22 | AC37: =(AB37-Z37)/Z37 -> 9.1639568e-05 | AD37: {=MAX(IF('Trade Details'!T$3:T$5000=A37,'Trade Details'!AB$3:AB$5000))} -> 0 | AE37: =IF(AD37=0,0,INDEX('Trade Details'!AC$3:AC$5000,(MATCH(AD37,'Trade Details'!AB$3:AB$5000,0)))) -> 0 | AF37: {=MIN(IF('Trade Details'!T$3:T$5000=A37,'Trade Details'!AD$3:AD$5000))} -> 0 | AG37: =IF(AF37=0,0,INDEX('Trade Details'!AC$3:AC$5000,(MATCH(AF37,'Trade Details'!AD$3:AD$5000,0)))) -> 0 | AH37: =COUNTIFS('Trade Details'!$D$3:$D$5000,AH$2,'Trade Details'!$T$3:$T$5000,$A37) -> 0 | AI37: =COUNTIFS('Trade Details'!$D$3:$D$5000,AI$2,'Trade Details'!$T$3:$T$5000,$A37) -> 0 | AJ37: =COUNTIFS('Trade Details'!$D$3:$D$5000,AJ$2,'Trade Details'!$T$3:$T$5000,$A37) -> 0 | AK37: =COUNTIFS('Trade Details'!$D$3:$D$5000,AK$2,'Trade Details'!$T$3:$T$5000,$A37) -> 0 | AL37: =COUNTIFS('Trade Details'!$D$3:$D$5000,AL$2,'Trade Details'!$T$3:$T$5000,$A37) -> 0 | AM37: =COUNTIFS('Trade Details'!$D$3:$D$5000,AM$2,'Trade Details'!$T$3:$T$5000,$A37) -> 0 | AN37: =SUMIFS('Trade Details'!$R$3:$R$5000,'Trade Details'!$D$3:$D$5000,AN$2,'Trade Details'!$T$3:$T$5000,$A37) -> 0 | AO37: =SUMIFS('Trade Details'!$R$3:$R$5000,'Trade Details'!$D$3:$D$5000,AO$2,'Trade Details'!$T$3:$T$5000,$A37) -> 0 | AP37: =SUMIFS('Trade Details'!$R$3:$R$5000,'Trade Details'!$D$3:$D$5000,AP$2,'Trade Details'!$T$3:$T$5000,$A37) -> 0 | AQ37: =SUMIFS('Trade Details'!$R$3:$R$5000,'Trade Details'!$D$3:$D$5000,AQ$2,'Trade Details'!$T$3:$T$5000,$A37) -> 0 | AR37: =SUMIFS('Trade Details'!$R$3:$R$5000,'Trade Details'!$D$3:$D$5000,AR$2,'Trade Details'!$T$3:$T$5000,$A37) -> 0 | AS37: =SUMIFS('Trade Details'!$R$3:$R$5000,'Trade Details'!$D$3:$D$5000,AS$2,'Trade Details'!$T$3:$T$5000,$A37) -> 0 | AT37: =IF(AN37=0,0,AN37/AH37) -> 0 | AU37: =IF(AO37=0,0,AO37/AI37) -> 0 | AV37: =IF(AP37=0,0,AP37/AJ37) -> 0 | AW37: =IF(AQ37=0,0,AQ37/AK37) -> 0 | AX37: =IF(AR37=0,0,AR37/AL37) -> 0 | AY37: =IF(AS37=0,0,AS37/AM37) -> 0 | AZ37: =IF(AH37=0,0,SUM(AN37:AS37)/SUM(AH37:AM37)) -> 0 | BL37: =EOMONTH(BL36,1) -> 43069 | BZ37: =IF(D37=0," ",C37&" "&B37) | CA37: =IF(D37=0," ",Z37) | CB37: =IF(D37=0," ",AC37)
A38: =A37+1 -> 36 | B38: =B37 -> 2018 | C38: Dec | D38: =COUNTIF('Trade Details'!T$3:T$5000,A38) -> 0 | E38: =SUMIF('Trade Details'!T$3:T$5000,A38,'Trade Details'!Z$3:Z$5000) -> 0 | F38: =IF(D38=0,0,E38/D38) -> 0 | G38: =SUMIF('Trade Details'!T$3:T$5000,A38,'Trade Details'!AA$3:AA$5000) -> 0 | H38: =IF(D38=0,0,G38/D38) -> 0 | I38: =SUMIF('Trade Details'!T$3:T$5000,A38,'Trade Details'!V$3:V$5000) -> 0 | J38: =IF($D38=0,0,I38/$D38) -> 0 | K38: =SUMIF('Trade Details'!$T$3:$T$5000,$A38,'Trade Details'!W$3:W$5000) -> 0 | L38: =IF($D38=0,0,K38/$D38) -> 0 | M38: =SUMIF('Trade Details'!$T$3:$T$5000,$A38,'Trade Details'!X$3:X$5000) -> 0 | N38: =IF($D38=0,0,M38/$D38) -> 0 | O38: =SUMIF('Trade Details'!$T$3:$T$5000,$A38,'Trade Details'!Y$3:Y$5000) -> 0 | P38: =IF($D38=0,0,O38/$D38) -> 0 | Q38: =SUMIF('Trade Details'!$T$3:$T$5000,$A38,'Trade Details'!AB$3:AB$5000) -> 0 | R38: =SUMIF('Trade Details'!$T$3:$T$5000,$A38,'Trade Details'!AD$3:AD$5000) -> 0 | S38: =Q38+R38 -> 0 | T38: =IF(D38=0,0,SUMIF('Trade Details'!T$3:T$5000,A38,'Trade Details'!AB$3:AB$5000)) -> 0 | U38: =IF(D38=0,0,SUMIF('Trade Details'!T$3:T$5000,A38,'Trade Details'!AD$3:AD$5000)) -> 0 | V38: =IF(D38=0,0,SUMIF('Trade Details'!T$3:T$5000,A38,'Trade Details'!O$3:O$5000)) -> 0 | W38: =IF(D38=0,0,T38/E38) -> 0 | X38: =IF(G38=0,0,U38/G38) -> 0 | Y38: =IF(D38=0,0,V38/D38) -> 0 | Z38: =S38+Z37 -> 206679.28 | AA38: =(Z38-Z37)/Z37 -> 0 | AB38: =MAX(Z$2:Z38) -> 206698.22 | AC38: =(AB38-Z38)/Z38 -> 9.1639568e-05 | AD38: {=MAX(IF('Trade Details'!T$3:T$5000=A38,'Trade Details'!AB$3:AB$5000))} -> 0 | AE38: =IF(AD38=0,0,INDEX('Trade Details'!AC$3:AC$5000,(MATCH(AD38,'Trade Details'!AB$3:AB$5000,0)))) -> 0 | AF38: {=MIN(IF('Trade Details'!T$3:T$5000=A38,'Trade Details'!AD$3:AD$5000))} -> 0 | AG38: =IF(AF38=0,0,INDEX('Trade Details'!AC$3:AC$5000,(MATCH(AF38,'Trade Details'!AD$3:AD$5000,0)))) -> 0 | AH38: =COUNTIFS('Trade Details'!$D$3:$D$5000,AH$2,'Trade Details'!$T$3:$T$5000,$A38) -> 0 | AI38: =COUNTIFS('Trade Details'!$D$3:$D$5000,AI$2,'Trade Details'!$T$3:$T$5000,$A38) -> 0 | AJ38: =COUNTIFS('Trade Details'!$D$3:$D$5000,AJ$2,'Trade Details'!$T$3:$T$5000,$A38) -> 0 | AK38: =COUNTIFS('Trade Details'!$D$3:$D$5000,AK$2,'Trade Details'!$T$3:$T$5000,$A38) -> 0 | AL38: =COUNTIFS('Trade Details'!$D$3:$D$5000,AL$2,'Trade Details'!$T$3:$T$5000,$A38) -> 0 | AM38: =COUNTIFS('Trade Details'!$D$3:$D$5000,AM$2,'Trade Details'!$T$3:$T$5000,$A38) -> 0 | AN38: =SUMIFS('Trade Details'!$R$3:$R$5000,'Trade Details'!$D$3:$D$5000,AN$2,'Trade Details'!$T$3:$T$5000,$A38) -> 0 | AO38: =SUMIFS('Trade Details'!$R$3:$R$5000,'Trade Details'!$D$3:$D$5000,AO$2,'Trade Details'!$T$3:$T$5000,$A38) -> 0 | AP38: =SUMIFS('Trade Details'!$R$3:$R$5000,'Trade Details'!$D$3:$D$5000,AP$2,'Trade Details'!$T$3:$T$5000,$A38) -> 0 | AQ38: =SUMIFS('Trade Details'!$R$3:$R$5000,'Trade Details'!$D$3:$D$5000,AQ$2,'Trade Details'!$T$3:$T$5000,$A38) -> 0 | AR38: =SUMIFS('Trade Details'!$R$3:$R$5000,'Trade Details'!$D$3:$D$5000,AR$2,'Trade Details'!$T$3:$T$5000,$A38) -> 0 | AS38: =SUMIFS('Trade Details'!$R$3:$R$5000,'Trade Details'!$D$3:$D$5000,AS$2,'Trade Details'!$T$3:$T$5000,$A38) -> 0 | AT38: =IF(AN38=0,0,AN38/AH38) -> 0 | AU38: =IF(AO38=0,0,AO38/AI38) -> 0 | AV38: =IF(AP38=0,0,AP38/AJ38) -> 0 | AW38: =IF(AQ38=0,0,AQ38/AK38) -> 0 | AX38: =IF(AR38=0,0,AR38/AL38) -> 0 | AY38: =IF(AS38=0,0,AS38/AM38) -> 0 | AZ38: =IF(AH38=0,0,SUM(AN38:AS38)/SUM(AH38:AM38)) -> 0 | BL38: =EOMONTH(BL37,1) -> 43100 | BZ38: =IF(D38=0," ",C38&" "&B38) | CA38: =IF(D38=0," ",Z38) | CB38: =IF(D38=0," ",AC38)
A39: =A38+1 -> 37 | B39: =B38+1 -> 2019 | C39: Jan | D39: =COUNTIF('Trade Details'!T$3:T$5000,A39) -> 0 | E39: =SUMIF('Trade Details'!T$3:T$5000,A39,'Trade Details'!Z$3:Z$5000) -> 0 | F39: =IF(D39=0,0,E39/D39) -> 0 | G39: =SUMIF('Trade Details'!T$3:T$5000,A39,'Trade Details'!AA$3:AA$5000) -> 0 | H39: =IF(D39=0,0,G39/D39) -> 0 | I39: =SUMIF('Trade Details'!T$3:T$5000,A39,'Trade Details'!V$3:V$5000) -> 0 | J39: =IF($D39=0,0,I39/$D39) -> 0 | K39: =SUMIF('Trade Details'!$T$3:$T$5000,$A39,'Trade Details'!W$3:W$5000) -> 0 | L39: =IF($D39=0,0,K39/$D39) -> 0 | M39: =SUMIF('Trade Details'!$T$3:$T$5000,$A39,'Trade Details'!X$3:X$5000) -> 0 | N39: =IF($D39=0,0,M39/$D39) -> 0 | O39: =SUMIF('Trade Details'!$T$3:$T$5000,$A39,'Trade Details'!Y$3:Y$5000) -> 0 | P39: =IF($D39=0,0,O39/$D39) -> 0 | Q39: =SUMIF('Trade Details'!$T$3:$T$5000,$A39,'Trade Details'!AB$3:AB$5000) -> 0 | R39: =SUMIF('Trade Details'!$T$3:$T$5000,$A39,'Trade Details'!AD$3:AD$5000) -> 0 | S39: =Q39+R39 -> 0 | T39: =IF(D39=0,0,SUMIF('Trade Details'!T$3:T$5000,A39,'Trade Details'!AB$3:AB$5000)) -> 0 | U39: =IF(D39=0,0,SUMIF('Trade Details'!T$3:T$5000,A39,'Trade Details'!AD$3:AD$5000)) -> 0 | V39: =IF(D39=0,0,SUMIF('Trade Details'!T$3:T$5000,A39,'Trade Details'!O$3:O$5000)) -> 0 | W39: =IF(D39=0,0,T39/E39) -> 0 | X39: =IF(G39=0,0,U39/G39) -> 0 | Y39: =IF(D39=0,0,V39/D39) -> 0 | Z39: =S39+Z38 -> 206679.28 | AA39: =(Z39-Z38)/Z38 -> 0 | AB39: =MAX(Z$2:Z39) -> 206698.22 | AC39: =(AB39-Z39)/Z39 -> 9.1639568e-05 | AD39: {=MAX(IF('Trade Details'!T$3:T$5000=A39,'Trade Details'!AB$3:AB$5000))} -> 0 | AE39: =IF(AD39=0,0,INDEX('Trade Details'!AC$3:AC$5000,(MATCH(AD39,'Trade Details'!AB$3:AB$5000,0)))) -> 0 | AF39: {=MIN(IF('Trade Details'!T$3:T$5000=A39,'Trade Details'!AD$3:AD$5000))} -> 0 | AG39: =IF(AF39=0,0,INDEX('Trade Details'!AC$3:AC$5000,(MATCH(AF39,'Trade Details'!AD$3:AD$5000,0)))) -> 0 | AH39: =COUNTIFS('Trade Details'!$D$3:$D$5000,AH$2,'Trade Details'!$T$3:$T$5000,$A39) -> 0 | AI39: =COUNTIFS('Trade Details'!$D$3:$D$5000,AI$2,'Trade Details'!$T$3:$T$5000,$A39) -> 0 | AJ39: =COUNTIFS('Trade Details'!$D$3:$D$5000,AJ$2,'Trade Details'!$T$3:$T$5000,$A39) -> 0 | AK39: =COUNTIFS('Trade Details'!$D$3:$D$5000,AK$2,'Trade Details'!$T$3:$T$5000,$A39) -> 0 | AL39: =COUNTIFS('Trade Details'!$D$3:$D$5000,AL$2,'Trade Details'!$T$3:$T$5000,$A39) -> 0 | AM39: =COUNTIFS('Trade Details'!$D$3:$D$5000,AM$2,'Trade Details'!$T$3:$T$5000,$A39) -> 0 | AN39: =SUMIFS('Trade Details'!$R$3:$R$5000,'Trade Details'!$D$3:$D$5000,AN$2,'Trade Details'!$T$3:$T$5000,$A39) -> 0 | AO39: =SUMIFS('Trade Details'!$R$3:$R$5000,'Trade Details'!$D$3:$D$5000,AO$2,'Trade Details'!$T$3:$T$5000,$A39) -> 0 | AP39: =SUMIFS('Trade Details'!$R$3:$R$5000,'Trade Details'!$D$3:$D$5000,AP$2,'Trade Details'!$T$3:$T$5000,$A39) -> 0 | AQ39: =SUMIFS('Trade Details'!$R$3:$R$5000,'Trade Details'!$D$3:$D$5000,AQ$2,'Trade Details'!$T$3:$T$5000,$A39) -> 0 | AR39: =SUMIFS('Trade Details'!$R$3:$R$5000,'Trade Details'!$D$3:$D$5000,AR$2,'Trade Details'!$T$3:$T$5000,$A39) -> 0 | AS39: =SUMIFS('Trade Details'!$R$3:$R$5000,'Trade Details'!$D$3:$D$5000,AS$2,'Trade Details'!$T$3:$T$5000,$A39) -> 0 | AT39: =IF(AN39=0,0,AN39/AH39) -> 0 | AU39: =IF(AO39=0,0,AO39/AI39) -> 0 | AV39: =IF(AP39=0,0,AP39/AJ39) -> 0 | AW39: =IF(AQ39=0,0,AQ39/AK39) -> 0 | AX39: =IF(AR39=0,0,AR39/AL39) -> 0 | AY39: =IF(AS39=0,0,AS39/AM39) -> 0 | AZ39: =IF(AH39=0,0,SUM(AN39:AS39)/SUM(AH39:AM39)) -> 0 | BL39: =EOMONTH(BL38,1) -> 43131 | BZ39: =IF(D39=0," ",C39&" "&B39) | CA39: =IF(D39=0," ",Z39) | CB39: =IF(D39=0," ",AC39)
A40: =A39+1 -> 38 | B40: =B39 -> 2019 | C40: Feb | D40: =COUNTIF('Trade Details'!T$3:T$5000,A40) -> 0 | E40: =SUMIF('Trade Details'!T$3:T$5000,A40,'Trade Details'!Z$3:Z$5000) -> 0 | F40: =IF(D40=0,0,E40/D40) -> 0 | G40: =SUMIF('Trade Details'!T$3:T$5000,A40,'Trade Details'!AA$3:AA$5000) -> 0 | H40: =IF(D40=0,0,G40/D40) -> 0 | I40: =SUMIF('Trade Details'!T$3:T$5000,A40,'Trade Details'!V$3:V$5000) -> 0 | J40: =IF($D40=0,0,I40/$D40) -> 0 | K40: =SUMIF('Trade Details'!$T$3:$T$5000,$A40,'Trade Details'!W$3:W$5000) -> 0 | L40: =IF($D40=0,0,K40/$D40) -> 0 | M40: =SUMIF('Trade Details'!$T$3:$T$5000,$A40,'Trade Details'!X$3:X$5000) -> 0 | N40: =IF($D40=0,0,M40/$D40) -> 0 | O40: =SUMIF('Trade Details'!$T$3:$T$5000,$A40,'Trade Details'!Y$3:Y$5000) -> 0 | P40: =IF($D40=0,0,O40/$D40) -> 0 | Q40: =SUMIF('Trade Details'!$T$3:$T$5000,$A40,'Trade Details'!AB$3:AB$5000) -> 0 | R40: =SUMIF('Trade Details'!$T$3:$T$5000,$A40,'Trade Details'!AD$3:AD$5000) -> 0 | S40: =Q40+R40 -> 0 | T40: =IF(D40=0,0,SUMIF('Trade Details'!T$3:T$5000,A40,'Trade Details'!AB$3:AB$5000)) -> 0 | U40: =IF(D40=0,0,SUMIF('Trade Details'!T$3:T$5000,A40,'Trade Details'!AD$3:AD$5000)) -> 0 | V40: =IF(D40=0,0,SUMIF('Trade Details'!T$3:T$5000,A40,'Trade Details'!O$3:O$5000)) -> 0 | W40: =IF(D40=0,0,T40/E40) -> 0 | X40: =IF(G40=0,0,U40/G40) -> 0 | Y40: =IF(D40=0,0,V40/D40) -> 0 | Z40: =S40+Z39 -> 206679.28 | AA40: =(Z40-Z39)/Z39 -> 0 | AB40: =MAX(Z$2:Z40) -> 206698.22 | AC40: =(AB40-Z40)/Z40 -> 9.1639568e-05 | AD40: {=MAX(IF('Trade Details'!T$3:T$5000=A40,'Trade Details'!AB$3:AB$5000))} -> 0 | AE40: =IF(AD40=0,0,INDEX('Trade Details'!AC$3:AC$5000,(MATCH(AD40,'Trade Details'!AB$3:AB$5000,0)))) -> 0 | AF40: {=MIN(IF('Trade Details'!T$3:T$5000=A40,'Trade Details'!AD$3:AD$5000))} -> 0 | AG40: =IF(AF40=0,0,INDEX('Trade Details'!AC$3:AC$5000,(MATCH(AF40,'Trade Details'!AD$3:AD$5000,0)))) -> 0 | AH40: =COUNTIFS('Trade Details'!$D$3:$D$5000,AH$2,'Trade Details'!$T$3:$T$5000,$A40) -> 0 | AI40: =COUNTIFS('Trade Details'!$D$3:$D$5000,AI$2,'Trade Details'!$T$3:$T$5000,$A40) -> 0 | AJ40: =COUNTIFS('Trade Details'!$D$3:$D$5000,AJ$2,'Trade Details'!$T$3:$T$5000,$A40) -> 0 | AK40: =COUNTIFS('Trade Details'!$D$3:$D$5000,AK$2,'Trade Details'!$T$3:$T$5000,$A40) -> 0 | AL40: =COUNTIFS('Trade Details'!$D$3:$D$5000,AL$2,'Trade Details'!$T$3:$T$5000,$A40) -> 0 | AM40: =COUNTIFS('Trade Details'!$D$3:$D$5000,AM$2,'Trade Details'!$T$3:$T$5000,$A40) -> 0 | AN40: =SUMIFS('Trade Details'!$R$3:$R$5000,'Trade Details'!$D$3:$D$5000,AN$2,'Trade Details'!$T$3:$T$5000,$A40) -> 0 | AO40: =SUMIFS('Trade Details'!$R$3:$R$5000,'Trade Details'!$D$3:$D$5000,AO$2,'Trade Details'!$T$3:$T$5000,$A40) -> 0 | AP40: =SUMIFS('Trade Details'!$R$3:$R$5000,'Trade Details'!$D$3:$D$5000,AP$2,'Trade Details'!$T$3:$T$5000,$A40) -> 0 | AQ40: =SUMIFS('Trade Details'!$R$3:$R$5000,'Trade Details'!$D$3:$D$5000,AQ$2,'Trade Details'!$T$3:$T$5000,$A40) -> 0 | AR40: =SUMIFS('Trade Details'!$R$3:$R$5000,'Trade Details'!$D$3:$D$5000,AR$2,'Trade Details'!$T$3:$T$5000,$A40) -> 0 | AS40: =SUMIFS('Trade Details'!$R$3:$R$5000,'Trade Details'!$D$3:$D$5000,AS$2,'Trade Details'!$T$3:$T$5000,$A40) -> 0 | AT40: =IF(AN40=0,0,AN40/AH40) -> 0 | AU40: =IF(AO40=0,0,AO40/AI40) -> 0 | AV40: =IF(AP40=0,0,AP40/AJ40) -> 0 | AW40: =IF(AQ40=0,0,AQ40/AK40) -> 0 | AX40: =IF(AR40=0,0,AR40/AL40) -> 0 | AY40: =IF(AS40=0,0,AS40/AM40) -> 0 | AZ40: =IF(AH40=0,0,SUM(AN40:AS40)/SUM(AH40:AM40)) -> 0 | BL40: =EOMONTH(BL39,1) -> 43159 | BZ40: =IF(D40=0," ",C40&" "&B40) | CA40: =IF(D40=0," ",Z40) | CB40: =IF(D40=0," ",AC40)
A41: =A40+1 -> 39 | B41: =B40 -> 2019 | C41: Mar | D41: =COUNTIF('Trade Details'!T$3:T$5000,A41) -> 0 | E41: =SUMIF('Trade Details'!T$3:T$5000,A41,'Trade Details'!Z$3:Z$5000) -> 0 | F41: =IF(D41=0,0,E41/D41) -> 0 | G41: =SUMIF('Trade Details'!T$3:T$5000,A41,'Trade Details'!AA$3:AA$5000) -> 0 | H41: =IF(D41=0,0,G41/D41) -> 0 | I41: =SUMIF('Trade Details'!T$3:T$5000,A41,'Trade Details'!V$3:V$5000) -> 0 | J41: =IF($D41=0,0,I41/$D41) -> 0 | K41: =SUMIF('Trade Details'!$T$3:$T$5000,$A41,'Trade Details'!W$3:W$5000) -> 0 | L41: =IF($D41=0,0,K41/$D41) -> 0 | M41: =SUMIF('Trade Details'!$T$3:$T$5000,$A41,'Trade Details'!X$3:X$5000) -> 0 | N41: =IF($D41=0,0,M41/$D41) -> 0 | O41: =SUMIF('Trade Details'!$T$3:$T$5000,$A41,'Trade Details'!Y$3:Y$5000) -> 0 | P41: =IF($D41=0,0,O41/$D41) -> 0 | Q41: =SUMIF('Trade Details'!$T$3:$T$5000,$A41,'Trade Details'!AB$3:AB$5000) -> 0 | R41: =SUMIF('Trade Details'!$T$3:$T$5000,$A41,'Trade Details'!AD$3:AD$5000) -> 0 | S41: =Q41+R41 -> 0 | T41: =IF(D41=0,0,SUMIF('Trade Details'!T$3:T$5000,A41,'Trade Details'!AB$3:AB$5000)) -> 0 | U41: =IF(D41=0,0,SUMIF('Trade Details'!T$3:T$5000,A41,'Trade Details'!AD$3:AD$5000)) -> 0 | V41: =IF(D41=0,0,SUMIF('Trade Details'!T$3:T$5000,A41,'Trade Details'!O$3:O$5000)) -> 0 | W41: =IF(D41=0,0,T41/E41) -> 0 | X41: =IF(G41=0,0,U41/G41) -> 0 | Y41: =IF(D41=0,0,V41/D41) -> 0 | Z41: =S41+Z40 -> 206679.28 | AA41: =(Z41-Z40)/Z40 -> 0 | AB41: =MAX(Z$2:Z41) -> 206698.22 | AC41: =(AB41-Z41)/Z41 -> 9.1639568e-05 | AD41: {=MAX(IF('Trade Details'!T$3:T$5000=A41,'Trade Details'!AB$3:AB$5000))} -> 0 | AE41: =IF(AD41=0,0,INDEX('Trade Details'!AC$3:AC$5000,(MATCH(AD41,'Trade Details'!AB$3:AB$5000,0)))) -> 0 | AF41: {=MIN(IF('Trade Details'!T$3:T$5000=A41,'Trade Details'!AD$3:AD$5000))} -> 0 | AG41: =IF(AF41=0,0,INDEX('Trade Details'!AC$3:AC$5000,(MATCH(AF41,'Trade Details'!AD$3:AD$5000,0)))) -> 0 | AH41: =COUNTIFS('Trade Details'!$D$3:$D$5000,AH$2,'Trade Details'!$T$3:$T$5000,$A41) -> 0 | AI41: =COUNTIFS('Trade Details'!$D$3:$D$5000,AI$2,'Trade Details'!$T$3:$T$5000,$A41) -> 0 | AJ41: =COUNTIFS('Trade Details'!$D$3:$D$5000,AJ$2,'Trade Details'!$T$3:$T$5000,$A41) -> 0 | AK41: =COUNTIFS('Trade Details'!$D$3:$D$5000,AK$2,'Trade Details'!$T$3:$T$5000,$A41) -> 0 | AL41: =COUNTIFS('Trade Details'!$D$3:$D$5000,AL$2,'Trade Details'!$T$3:$T$5000,$A41) -> 0 | AM41: =COUNTIFS('Trade Details'!$D$3:$D$5000,AM$2,'Trade Details'!$T$3:$T$5000,$A41) -> 0 | AN41: =SUMIFS('Trade Details'!$R$3:$R$5000,'Trade Details'!$D$3:$D$5000,AN$2,'Trade Details'!$T$3:$T$5000,$A41) -> 0 | AO41: =SUMIFS('Trade Details'!$R$3:$R$5000,'Trade Details'!$D$3:$D$5000,AO$2,'Trade Details'!$T$3:$T$5000,$A41) -> 0 | AP41: =SUMIFS('Trade Details'!$R$3:$R$5000,'Trade Details'!$D$3:$D$5000,AP$2,'Trade Details'!$T$3:$T$5000,$A41) -> 0 | AQ41: =SUMIFS('Trade Details'!$R$3:$R$5000,'Trade Details'!$D$3:$D$5000,AQ$2,'Trade Details'!$T$3:$T$5000,$A41) -> 0 | AR41: =SUMIFS('Trade Details'!$R$3:$R$5000,'Trade Details'!$D$3:$D$5000,AR$2,'Trade Details'!$T$3:$T$5000,$A41) -> 0 | AS41: =SUMIFS('Trade Details'!$R$3:$R$5000,'Trade Details'!$D$3:$D$5000,AS$2,'Trade Details'!$T$3:$T$5000,$A41) -> 0 | AT41: =IF(AN41=0,0,AN41/AH41) -> 0 | AU41: =IF(AO41=0,0,AO41/AI41) -> 0 | AV41: =IF(AP41=0,0,AP41/AJ41) -> 0 | AW41: =IF(AQ41=0,0,AQ41/AK41) -> 0 | AX41: =IF(AR41=0,0,AR41/AL41) -> 0 | AY41: =IF(AS41=0,0,AS41/AM41) -> 0 | AZ41: =IF(AH41=0,0,SUM(AN41:AS41)/SUM(AH41:AM41)) -> 0 | BL41: =EOMONTH(BL40,1) -> 43190 | BZ41: =IF(D41=0," ",C41&" "&B41) | CA41: =IF(D41=0," ",Z41) | CB41: =IF(D41=0," ",AC41)
A42: =A41+1 -> 40 | B42: =B41 -> 2019 | C42: Apr | D42: =COUNTIF('Trade Details'!T$3:T$5000,A42) -> 0 | E42: =SUMIF('Trade Details'!T$3:T$5000,A42,'Trade Details'!Z$3:Z$5000) -> 0 | F42: =IF(D42=0,0,E42/D42) -> 0 | G42: =SUMIF('Trade Details'!T$3:T$5000,A42,'Trade Details'!AA$3:AA$5000) -> 0 | H42: =IF(D42=0,0,G42/D42) -> 0 | I42: =SUMIF('Trade Details'!T$3:T$5000,A42,'Trade Details'!V$3:V$5000) -> 0 | J42: =IF($D42=0,0,I42/$D42) -> 0 | K42: =SUMIF('Trade Details'!$T$3:$T$5000,$A42,'Trade Details'!W$3:W$5000) -> 0 | L42: =IF($D42=0,0,K42/$D42) -> 0 | M42: =SUMIF('Trade Details'!$T$3:$T$5000,$A42,'Trade Details'!X$3:X$5000) -> 0 | N42: =IF($D42=0,0,M42/$D42) -> 0 | O42: =SUMIF('Trade Details'!$T$3:$T$5000,$A42,'Trade Details'!Y$3:Y$5000) -> 0 | P42: =IF($D42=0,0,O42/$D42) -> 0 | Q42: =SUMIF('Trade Details'!$T$3:$T$5000,$A42,'Trade Details'!AB$3:AB$5000) -> 0 | R42: =SUMIF('Trade Details'!$T$3:$T$5000,$A42,'Trade Details'!AD$3:AD$5000) -> 0 | S42: =Q42+R42 -> 0 | T42: =IF(D42=0,0,SUMIF('Trade Details'!T$3:T$5000,A42,'Trade Details'!AB$3:AB$5000)) -> 0 | U42: =IF(D42=0,0,SUMIF('Trade Details'!T$3:T$5000,A42,'Trade Details'!AD$3:AD$5000)) -> 0 | V42: =IF(D42=0,0,SUMIF('Trade Details'!T$3:T$5000,A42,'Trade Details'!O$3:O$5000)) -> 0 | W42: =IF(D42=0,0,T42/E42) -> 0 | X42: =IF(G42=0,0,U42/G42) -> 0 | Y42: =IF(D42=0,0,V42/D42) -> 0 | Z42: =S42+Z41 -> 206679.28 | AA42: =(Z42-Z41)/Z41 -> 0 | AB42: =MAX(Z$2:Z42) -> 206698.22 | AC42: =(AB42-Z42)/Z42 -> 9.1639568e-05 | AD42: {=MAX(IF('Trade Details'!T$3:T$5000=A42,'Trade Details'!AB$3:AB$5000))} -> 0 | AE42: =IF(AD42=0,0,INDEX('Trade Details'!AC$3:AC$5000,(MATCH(AD42,'Trade Details'!AB$3:AB$5000,0)))) -> 0 | AF42: {=MIN(IF('Trade Details'!T$3:T$5000=A42,'Trade Details'!AD$3:AD$5000))} -> 0 | AG42: =IF(AF42=0,0,INDEX('Trade Details'!AC$3:AC$5000,(MATCH(AF42,'Trade Details'!AD$3:AD$5000,0)))) -> 0 | AH42: =COUNTIFS('Trade Details'!$D$3:$D$5000,AH$2,'Trade Details'!$T$3:$T$5000,$A42) -> 0 | AI42: =COUNTIFS('Trade Details'!$D$3:$D$5000,AI$2,'Trade Details'!$T$3:$T$5000,$A42) -> 0 | AJ42: =COUNTIFS('Trade Details'!$D$3:$D$5000,AJ$2,'Trade Details'!$T$3:$T$5000,$A42) -> 0 | AK42: =COUNTIFS('Trade Details'!$D$3:$D$5000,AK$2,'Trade Details'!$T$3:$T$5000,$A42) -> 0 | AL42: =COUNTIFS('Trade Details'!$D$3:$D$5000,AL$2,'Trade Details'!$T$3:$T$5000,$A42) -> 0 | AM42: =COUNTIFS('Trade Details'!$D$3:$D$5000,AM$2,'Trade Details'!$T$3:$T$5000,$A42) -> 0 | AN42: =SUMIFS('Trade Details'!$R$3:$R$5000,'Trade Details'!$D$3:$D$5000,AN$2,'Trade Details'!$T$3:$T$5000,$A42) -> 0 | AO42: =SUMIFS('Trade Details'!$R$3:$R$5000,'Trade Details'!$D$3:$D$5000,AO$2,'Trade Details'!$T$3:$T$5000,$A42) -> 0 | AP42: =SUMIFS('Trade Details'!$R$3:$R$5000,'Trade Details'!$D$3:$D$5000,AP$2,'Trade Details'!$T$3:$T$5000,$A42) -> 0 | AQ42: =SUMIFS('Trade Details'!$R$3:$R$5000,'Trade Details'!$D$3:$D$5000,AQ$2,'Trade Details'!$T$3:$T$5000,$A42) -> 0 | AR42: =SUMIFS('Trade Details'!$R$3:$R$5000,'Trade Details'!$D$3:$D$5000,AR$2,'Trade Details'!$T$3:$T$5000,$A42) -> 0 | AS42: =SUMIFS('Trade Details'!$R$3:$R$5000,'Trade Details'!$D$3:$D$5000,AS$2,'Trade Details'!$T$3:$T$5000,$A42) -> 0 | AT42: =IF(AN42=0,0,AN42/AH42) -> 0 | AU42: =IF(AO42=0,0,AO42/AI42) -> 0 | AV42: =IF(AP42=0,0,AP42/AJ42) -> 0 | AW42: =IF(AQ42=0,0,AQ42/AK42) -> 0 | AX42: =IF(AR42=0,0,AR42/AL42) -> 0 | AY42: =IF(AS42=0,0,AS42/AM42) -> 0 | AZ42: =IF(AH42=0,0,SUM(AN42:AS42)/SUM(AH42:AM42)) -> 0 | BL42: =EOMONTH(BL41,1) -> 43220 | BZ42: =IF(D42=0," ",C42&" "&B42) | CA42: =IF(D42=0," ",Z42) | CB42: =IF(D42=0," ",AC42)
A43: =A42+1 -> 41 | B43: =B42 -> 2019 | C43: May | D43: =COUNTIF('Trade Details'!T$3:T$5000,A43) -> 0 | E43: =SUMIF('Trade Details'!T$3:T$5000,A43,'Trade Details'!Z$3:Z$5000) -> 0 | F43: =IF(D43=0,0,E43/D43) -> 0 | G43: =SUMIF('Trade Details'!T$3:T$5000,A43,'Trade Details'!AA$3:AA$5000) -> 0 | H43: =IF(D43=0,0,G43/D43) -> 0 | I43: =SUMIF('Trade Details'!T$3:T$5000,A43,'Trade Details'!V$3:V$5000) -> 0 | J43: =IF($D43=0,0,I43/$D43) -> 0 | K43: =SUMIF('Trade Details'!$T$3:$T$5000,$A43,'Trade Details'!W$3:W$5000) -> 0 | L43: =IF($D43=0,0,K43/$D43) -> 0 | M43: =SUMIF('Trade Details'!$T$3:$T$5000,$A43,'Trade Details'!X$3:X$5000) -> 0 | N43: =IF($D43=0,0,M43/$D43) -> 0 | O43: =SUMIF('Trade Details'!$T$3:$T$5000,$A43,'Trade Details'!Y$3:Y$5000) -> 0 | P43: =IF($D43=0,0,O43/$D43) -> 0 | Q43: =SUMIF('Trade Details'!$T$3:$T$5000,$A43,'Trade Details'!AB$3:AB$5000) -> 0 | R43: =SUMIF('Trade Details'!$T$3:$T$5000,$A43,'Trade Details'!AD$3:AD$5000) -> 0 | S43: =Q43+R43 -> 0 | T43: =IF(D43=0,0,SUMIF('Trade Details'!T$3:T$5000,A43,'Trade Details'!AB$3:AB$5000)) -> 0 | U43: =IF(D43=0,0,SUMIF('Trade Details'!T$3:T$5000,A43,'Trade Details'!AD$3:AD$5000)) -> 0 | V43: =IF(D43=0,0,SUMIF('Trade Details'!T$3:T$5000,A43,'Trade Details'!O$3:O$5000)) -> 0 | W43: =IF(D43=0,0,T43/E43) -> 0 | X43: =IF(G43=0,0,U43/G43) -> 0 | Y43: =IF(D43=0,0,V43/D43) -> 0 | Z43: =S43+Z42 -> 206679.28 | AA43: =(Z43-Z42)/Z42 -> 0 | AB43: =MAX(Z$2:Z43) -> 206698.22 | AC43: =(AB43-Z43)/Z43 -> 9.1639568e-05 | AD43: {=MAX(IF('Trade Details'!T$3:T$5000=A43,'Trade Details'!AB$3:AB$5000))} -> 0 | AE43: =IF(AD43=0,0,INDEX('Trade Details'!AC$3:AC$5000,(MATCH(AD43,'Trade Details'!AB$3:AB$5000,0)))) -> 0 | AF43: {=MIN(IF('Trade Details'!T$3:T$5000=A43,'Trade Details'!AD$3:AD$5000))} -> 0 | AG43: =IF(AF43=0,0,INDEX('Trade Details'!AC$3:AC$5000,(MATCH(AF43,'Trade Details'!AD$3:AD$5000,0)))) -> 0 | AH43: =COUNTIFS('Trade Details'!$D$3:$D$5000,AH$2,'Trade Details'!$T$3:$T$5000,$A43) -> 0 | AI43: =COUNTIFS('Trade Details'!$D$3:$D$5000,AI$2,'Trade Details'!$T$3:$T$5000,$A43) -> 0 | AJ43: =COUNTIFS('Trade Details'!$D$3:$D$5000,AJ$2,'Trade Details'!$T$3:$T$5000,$A43) -> 0 | AK43: =COUNTIFS('Trade Details'!$D$3:$D$5000,AK$2,'Trade Details'!$T$3:$T$5000,$A43) -> 0 | AL43: =COUNTIFS('Trade Details'!$D$3:$D$5000,AL$2,'Trade Details'!$T$3:$T$5000,$A43) -> 0 | AM43: =COUNTIFS('Trade Details'!$D$3:$D$5000,AM$2,'Trade Details'!$T$3:$T$5000,$A43) -> 0 | AN43: =SUMIFS('Trade Details'!$R$3:$R$5000,'Trade Details'!$D$3:$D$5000,AN$2,'Trade Details'!$T$3:$T$5000,$A43) -> 0 | AO43: =SUMIFS('Trade Details'!$R$3:$R$5000,'Trade Details'!$D$3:$D$5000,AO$2,'Trade Details'!$T$3:$T$5000,$A43) -> 0 | AP43: =SUMIFS('Trade Details'!$R$3:$R$5000,'Trade Details'!$D$3:$D$5000,AP$2,'Trade Details'!$T$3:$T$5000,$A43) -> 0 | AQ43: =SUMIFS('Trade Details'!$R$3:$R$5000,'Trade Details'!$D$3:$D$5000,AQ$2,'Trade Details'!$T$3:$T$5000,$A43) -> 0 | AR43: =SUMIFS('Trade Details'!$R$3:$R$5000,'Trade Details'!$D$3:$D$5000,AR$2,'Trade Details'!$T$3:$T$5000,$A43) -> 0 | AS43: =SUMIFS('Trade Details'!$R$3:$R$5000,'Trade Details'!$D$3:$D$5000,AS$2,'Trade Details'!$T$3:$T$5000,$A43) -> 0 | AT43: =IF(AN43=0,0,AN43/AH43) -> 0 | AU43: =IF(AO43=0,0,AO43/AI43) -> 0 | AV43: =IF(AP43=0,0,AP43/AJ43) -> 0 | AW43: =IF(AQ43=0,0,AQ43/AK43) -> 0 | AX43: =IF(AR43=0,0,AR43/AL43) -> 0 | AY43: =IF(AS43=0,0,AS43/AM43) -> 0 | AZ43: =IF(AH43=0,0,SUM(AN43:AS43)/SUM(AH43:AM43)) -> 0 | BL43: =EOMONTH(BL42,1) -> 43251 | BZ43: =IF(D43=0," ",C43&" "&B43) | CA43: =IF(D43=0," ",Z43) | CB43: =IF(D43=0," ",AC43)
A44: =A43+1 -> 42 | B44: =B43 -> 2019 | C44: Jun | D44: =COUNTIF('Trade Details'!T$3:T$5000,A44) -> 0 | E44: =SUMIF('Trade Details'!T$3:T$5000,A44,'Trade Details'!Z$3:Z$5000) -> 0 | F44: =IF(D44=0,0,E44/D44) -> 0 | G44: =SUMIF('Trade Details'!T$3:T$5000,A44,'Trade Details'!AA$3:AA$5000) -> 0 | H44: =IF(D44=0,0,G44/D44) -> 0 | I44: =SUMIF('Trade Details'!T$3:T$5000,A44,'Trade Details'!V$3:V$5000) -> 0 | J44: =IF($D44=0,0,I44/$D44) -> 0 | K44: =SUMIF('Trade Details'!$T$3:$T$5000,$A44,'Trade Details'!W$3:W$5000) -> 0 | L44: =IF($D44=0,0,K44/$D44) -> 0 | M44: =SUMIF('Trade Details'!$T$3:$T$5000,$A44,'Trade Details'!X$3:X$5000) -> 0 | N44: =IF($D44=0,0,M44/$D44) -> 0 | O44: =SUMIF('Trade Details'!$T$3:$T$5000,$A44,'Trade Details'!Y$3:Y$5000) -> 0 | P44: =IF($D44=0,0,O44/$D44) -> 0 | Q44: =SUMIF('Trade Details'!$T$3:$T$5000,$A44,'Trade Details'!AB$3:AB$5000) -> 0 | R44: =SUMIF('Trade Details'!$T$3:$T$5000,$A44,'Trade Details'!AD$3:AD$5000) -> 0 | S44: =Q44+R44 -> 0 | T44: =IF(D44=0,0,SUMIF('Trade Details'!T$3:T$5000,A44,'Trade Details'!AB$3:AB$5000)) -> 0 | U44: =IF(D44=0,0,SUMIF('Trade Details'!T$3:T$5000,A44,'Trade Details'!AD$3:AD$5000)) -> 0 | V44: =IF(D44=0,0,SUMIF('Trade Details'!T$3:T$5000,A44,'Trade Details'!O$3:O$5000)) -> 0 | W44: =IF(D44=0,0,T44/E44) -> 0 | X44: =IF(G44=0,0,U44/G44) -> 0 | Y44: =IF(D44=0,0,V44/D44) -> 0 | Z44: =S44+Z43 -> 206679.28 | AA44: =(Z44-Z43)/Z43 -> 0 | AB44: =MAX(Z$2:Z44) -> 206698.22 | AC44: =(AB44-Z44)/Z44 -> 9.1639568e-05 | AD44: {=MAX(IF('Trade Details'!T$3:T$5000=A44,'Trade Details'!AB$3:AB$5000))} -> 0 | AE44: =IF(AD44=0,0,INDEX('Trade Details'!AC$3:AC$5000,(MATCH(AD44,'Trade Details'!AB$3:AB$5000,0)))) -> 0 | AF44: {=MIN(IF('Trade Details'!T$3:T$5000=A44,'Trade Details'!AD$3:AD$5000))} -> 0 | AG44: =IF(AF44=0,0,INDEX('Trade Details'!AC$3:AC$5000,(MATCH(AF44,'Trade Details'!AD$3:AD$5000,0)))) -> 0 | AH44: =COUNTIFS('Trade Details'!$D$3:$D$5000,AH$2,'Trade Details'!$T$3:$T$5000,$A44) -> 0 | AI44: =COUNTIFS('Trade Details'!$D$3:$D$5000,AI$2,'Trade Details'!$T$3:$T$5000,$A44) -> 0 | AJ44: =COUNTIFS('Trade Details'!$D$3:$D$5000,AJ$2,'Trade Details'!$T$3:$T$5000,$A44) -> 0 | AK44: =COUNTIFS('Trade Details'!$D$3:$D$5000,AK$2,'Trade Details'!$T$3:$T$5000,$A44) -> 0 | AL44: =COUNTIFS('Trade Details'!$D$3:$D$5000,AL$2,'Trade Details'!$T$3:$T$5000,$A44) -> 0 | AM44: =COUNTIFS('Trade Details'!$D$3:$D$5000,AM$2,'Trade Details'!$T$3:$T$5000,$A44) -> 0 | AN44: =SUMIFS('Trade Details'!$R$3:$R$5000,'Trade Details'!$D$3:$D$5000,AN$2,'Trade Details'!$T$3:$T$5000,$A44) -> 0 | AO44: =SUMIFS('Trade Details'!$R$3:$R$5000,'Trade Details'!$D$3:$D$5000,AO$2,'Trade Details'!$T$3:$T$5000,$A44) -> 0 | AP44: =SUMIFS('Trade Details'!$R$3:$R$5000,'Trade Details'!$D$3:$D$5000,AP$2,'Trade Details'!$T$3:$T$5000,$A44) -> 0 | AQ44: =SUMIFS('Trade Details'!$R$3:$R$5000,'Trade Details'!$D$3:$D$5000,AQ$2,'Trade Details'!$T$3:$T$5000,$A44) -> 0 | AR44: =SUMIFS('Trade Details'!$R$3:$R$5000,'Trade Details'!$D$3:$D$5000,AR$2,'Trade Details'!$T$3:$T$5000,$A44) -> 0 | AS44: =SUMIFS('Trade Details'!$R$3:$R$5000,'Trade Details'!$D$3:$D$5000,AS$2,'Trade Details'!$T$3:$T$5000,$A44) -> 0 | AT44: =IF(AN44=0,0,AN44/AH44) -> 0 | AU44: =IF(AO44=0,0,AO44/AI44) -> 0 | AV44: =IF(AP44=0,0,AP44/AJ44) -> 0 | AW44: =IF(AQ44=0,0,AQ44/AK44) -> 0 | AX44: =IF(AR44=0,0,AR44/AL44) -> 0 | AY44: =IF(AS44=0,0,AS44/AM44) -> 0 | AZ44: =IF(AH44=0,0,SUM(AN44:AS44)/SUM(AH44:AM44)) -> 0 | BL44: =EOMONTH(BL43,1) -> 43281 | BZ44: =IF(D44=0," ",C44&" "&B44) | CA44: =IF(D44=0," ",Z44) | CB44: =IF(D44=0," ",AC44)
A45: =A44+1 -> 43 | B45: =B44 -> 2019 | C45: Jul | D45: =COUNTIF('Trade Details'!T$3:T$5000,A45) -> 0 | E45: =SUMIF('Trade Details'!T$3:T$5000,A45,'Trade Details'!Z$3:Z$5000) -> 0 | F45: =IF(D45=0,0,E45/D45) -> 0 | G45: =SUMIF('Trade Details'!T$3:T$5000,A45,'Trade Details'!AA$3:AA$5000) -> 0 | H45: =IF(D45=0,0,G45/D45) -> 0 | I45: =SUMIF('Trade Details'!T$3:T$5000,A45,'Trade Details'!V$3:V$5000) -> 0 | J45: =IF($D45=0,0,I45/$D45) -> 0 | K45: =SUMIF('Trade Details'!$T$3:$T$5000,$A45,'Trade Details'!W$3:W$5000) -> 0 | L45: =IF($D45=0,0,K45/$D45) -> 0 | M45: =SUMIF('Trade Details'!$T$3:$T$5000,$A45,'Trade Details'!X$3:X$5000) -> 0 | N45: =IF($D45=0,0,M45/$D45) -> 0 | O45: =SUMIF('Trade Details'!$T$3:$T$5000,$A45,'Trade Details'!Y$3:Y$5000) -> 0 | P45: =IF($D45=0,0,O45/$D45) -> 0 | Q45: =SUMIF('Trade Details'!$T$3:$T$5000,$A45,'Trade Details'!AB$3:AB$5000) -> 0 | R45: =SUMIF('Trade Details'!$T$3:$T$5000,$A45,'Trade Details'!AD$3:AD$5000) -> 0 | S45: =Q45+R45 -> 0 | T45: =IF(D45=0,0,SUMIF('Trade Details'!T$3:T$5000,A45,'Trade Details'!AB$3:AB$5000)) -> 0 | U45: =IF(D45=0,0,SUMIF('Trade Details'!T$3:T$5000,A45,'Trade Details'!AD$3:AD$5000)) -> 0 | V45: =IF(D45=0,0,SUMIF('Trade Details'!T$3:T$5000,A45,'Trade Details'!O$3:O$5000)) -> 0 | W45: =IF(D45=0,0,T45/E45) -> 0 | X45: =IF(G45=0,0,U45/G45) -> 0 | Y45: =IF(D45=0,0,V45/D45) -> 0 | Z45: =S45+Z44 -> 206679.28 | AA45: =(Z45-Z44)/Z44 -> 0 | AB45: =MAX(Z$2:Z45) -> 206698.22 | AC45: =(AB45-Z45)/Z45 -> 9.1639568e-05 | AD45: {=MAX(IF('Trade Details'!T$3:T$5000=A45,'Trade Details'!AB$3:AB$5000))} -> 0 | AE45: =IF(AD45=0,0,INDEX('Trade Details'!AC$3:AC$5000,(MATCH(AD45,'Trade Details'!AB$3:AB$5000,0)))) -> 0 | AF45: {=MIN(IF('Trade Details'!T$3:T$5000=A45,'Trade Details'!AD$3:AD$5000))} -> 0 | AG45: =IF(AF45=0,0,INDEX('Trade Details'!AC$3:AC$5000,(MATCH(AF45,'Trade Details'!AD$3:AD$5000,0)))) -> 0 | AH45: =COUNTIFS('Trade Details'!$D$3:$D$5000,AH$2,'Trade Details'!$T$3:$T$5000,$A45) -> 0 | AI45: =COUNTIFS('Trade Details'!$D$3:$D$5000,AI$2,'Trade Details'!$T$3:$T$5000,$A45) -> 0 | AJ45: =COUNTIFS('Trade Details'!$D$3:$D$5000,AJ$2,'Trade Details'!$T$3:$T$5000,$A45) -> 0 | AK45: =COUNTIFS('Trade Details'!$D$3:$D$5000,AK$2,'Trade Details'!$T$3:$T$5000,$A45) -> 0 | AL45: =COUNTIFS('Trade Details'!$D$3:$D$5000,AL$2,'Trade Details'!$T$3:$T$5000,$A45) -> 0 | AM45: =COUNTIFS('Trade Details'!$D$3:$D$5000,AM$2,'Trade Details'!$T$3:$T$5000,$A45) -> 0 | AN45: =SUMIFS('Trade Details'!$R$3:$R$5000,'Trade Details'!$D$3:$D$5000,AN$2,'Trade Details'!$T$3:$T$5000,$A45) -> 0 | AO45: =SUMIFS('Trade Details'!$R$3:$R$5000,'Trade Details'!$D$3:$D$5000,AO$2,'Trade Details'!$T$3:$T$5000,$A45) -> 0 | AP45: =SUMIFS('Trade Details'!$R$3:$R$5000,'Trade Details'!$D$3:$D$5000,AP$2,'Trade Details'!$T$3:$T$5000,$A45) -> 0 | AQ45: =SUMIFS('Trade Details'!$R$3:$R$5000,'Trade Details'!$D$3:$D$5000,AQ$2,'Trade Details'!$T$3:$T$5000,$A45) -> 0 | AR45: =SUMIFS('Trade Details'!$R$3:$R$5000,'Trade Details'!$D$3:$D$5000,AR$2,'Trade Details'!$T$3:$T$5000,$A45) -> 0 | AS45: =SUMIFS('Trade Details'!$R$3:$R$5000,'Trade Details'!$D$3:$D$5000,AS$2,'Trade Details'!$T$3:$T$5000,$A45) -> 0 | AT45: =IF(AN45=0,0,AN45/AH45) -> 0 | AU45: =IF(AO45=0,0,AO45/AI45) -> 0 | AV45: =IF(AP45=0,0,AP45/AJ45) -> 0 | AW45: =IF(AQ45=0,0,AQ45/AK45) -> 0 | AX45: =IF(AR45=0,0,AR45/AL45) -> 0 | AY45: =IF(AS45=0,0,AS45/AM45) -> 0 | AZ45: =IF(AH45=0,0,SUM(AN45:AS45)/SUM(AH45:AM45)) -> 0 | BL45: =EOMONTH(BL44,1) -> 43312 | BZ45: =IF(D45=0," ",C45&" "&B45) | CA45: =IF(D45=0," ",Z45) | CB45: =IF(D45=0," ",AC45)
A46: =A45+1 -> 44 | B46: =B45 -> 2019 | C46: Aug | D46: =COUNTIF('Trade Details'!T$3:T$5000,A46) -> 0 | E46: =SUMIF('Trade Details'!T$3:T$5000,A46,'Trade Details'!Z$3:Z$5000) -> 0 | F46: =IF(D46=0,0,E46/D46) -> 0 | G46: =SUMIF('Trade Details'!T$3:T$5000,A46,'Trade Details'!AA$3:AA$5000) -> 0 | H46: =IF(D46=0,0,G46/D46) -> 0 | I46: =SUMIF('Trade Details'!T$3:T$5000,A46,'Trade Details'!V$3:V$5000) -> 0 | J46: =IF($D46=0,0,I46/$D46) -> 0 | K46: =SUMIF('Trade Details'!$T$3:$T$5000,$A46,'Trade Details'!W$3:W$5000) -> 0 | L46: =IF($D46=0,0,K46/$D46) -> 0 | M46: =SUMIF('Trade Details'!$T$3:$T$5000,$A46,'Trade Details'!X$3:X$5000) -> 0 | N46: =IF($D46=0,0,M46/$D46) -> 0 | O46: =SUMIF('Trade Details'!$T$3:$T$5000,$A46,'Trade Details'!Y$3:Y$5000) -> 0 | P46: =IF($D46=0,0,O46/$D46) -> 0 | Q46: =SUMIF('Trade Details'!$T$3:$T$5000,$A46,'Trade Details'!AB$3:AB$5000) -> 0 | R46: =SUMIF('Trade Details'!$T$3:$T$5000,$A46,'Trade Details'!AD$3:AD$5000) -> 0 | S46: =Q46+R46 -> 0 | T46: =IF(D46=0,0,SUMIF('Trade Details'!T$3:T$5000,A46,'Trade Details'!AB$3:AB$5000)) -> 0 | U46: =IF(D46=0,0,SUMIF('Trade Details'!T$3:T$5000,A46,'Trade Details'!AD$3:AD$5000)) -> 0 | V46: =IF(D46=0,0,SUMIF('Trade Details'!T$3:T$5000,A46,'Trade Details'!O$3:O$5000)) -> 0 | W46: =IF(D46=0,0,T46/E46) -> 0 | X46: =IF(G46=0,0,U46/G46) -> 0 | Y46: =IF(D46=0,0,V46/D46) -> 0 | Z46: =S46+Z45 -> 206679.28 | AA46: =(Z46-Z45)/Z45 -> 0 | AB46: =MAX(Z$2:Z46) -> 206698.22 | AC46: =(AB46-Z46)/Z46 -> 9.1639568e-05 | AD46: {=MAX(IF('Trade Details'!T$3:T$5000=A46,'Trade Details'!AB$3:AB$5000))} -> 0 | AE46: =IF(AD46=0,0,INDEX('Trade Details'!AC$3:AC$5000,(MATCH(AD46,'Trade Details'!AB$3:AB$5000,0)))) -> 0 | AF46: {=MIN(IF('Trade Details'!T$3:T$5000=A46,'Trade Details'!AD$3:AD$5000))} -> 0 | AG46: =IF(AF46=0,0,INDEX('Trade Details'!AC$3:AC$5000,(MATCH(AF46,'Trade Details'!AD$3:AD$5000,0)))) -> 0 | AH46: =COUNTIFS('Trade Details'!$D$3:$D$5000,AH$2,'Trade Details'!$T$3:$T$5000,$A46) -> 0 | AI46: =COUNTIFS('Trade Details'!$D$3:$D$5000,AI$2,'Trade Details'!$T$3:$T$5000,$A46) -> 0 | AJ46: =COUNTIFS('Trade Details'!$D$3:$D$5000,AJ$2,'Trade Details'!$T$3:$T$5000,$A46) -> 0 | AK46: =COUNTIFS('Trade Details'!$D$3:$D$5000,AK$2,'Trade Details'!$T$3:$T$5000,$A46) -> 0 | AL46: =COUNTIFS('Trade Details'!$D$3:$D$5000,AL$2,'Trade Details'!$T$3:$T$5000,$A46) -> 0 | AM46: =COUNTIFS('Trade Details'!$D$3:$D$5000,AM$2,'Trade Details'!$T$3:$T$5000,$A46) -> 0 | AN46: =SUMIFS('Trade Details'!$R$3:$R$5000,'Trade Details'!$D$3:$D$5000,AN$2,'Trade Details'!$T$3:$T$5000,$A46) -> 0 | AO46: =SUMIFS('Trade Details'!$R$3:$R$5000,'Trade Details'!$D$3:$D$5000,AO$2,'Trade Details'!$T$3:$T$5000,$A46) -> 0 | AP46: =SUMIFS('Trade Details'!$R$3:$R$5000,'Trade Details'!$D$3:$D$5000,AP$2,'Trade Details'!$T$3:$T$5000,$A46) -> 0 | AQ46: =SUMIFS('Trade Details'!$R$3:$R$5000,'Trade Details'!$D$3:$D$5000,AQ$2,'Trade Details'!$T$3:$T$5000,$A46) -> 0 | AR46: =SUMIFS('Trade Details'!$R$3:$R$5000,'Trade Details'!$D$3:$D$5000,AR$2,'Trade Details'!$T$3:$T$5000,$A46) -> 0 | AS46: =SUMIFS('Trade Details'!$R$3:$R$5000,'Trade Details'!$D$3:$D$5000,AS$2,'Trade Details'!$T$3:$T$5000,$A46) -> 0 | AT46: =IF(AN46=0,0,AN46/AH46) -> 0 | AU46: =IF(AO46=0,0,AO46/AI46) -> 0 | AV46: =IF(AP46=0,0,AP46/AJ46) -> 0 | AW46: =IF(AQ46=0,0,AQ46/AK46) -> 0 | AX46: =IF(AR46=0,0,AR46/AL46) -> 0 | AY46: =IF(AS46=0,0,AS46/AM46) -> 0 | AZ46: =IF(AH46=0,0,SUM(AN46:AS46)/SUM(AH46:AM46)) -> 0 | BL46: =EOMONTH(BL45,1) -> 43343 | BZ46: =IF(D46=0," ",C46&" "&B46) | CA46: =IF(D46=0," ",Z46) | CB46: =IF(D46=0," ",AC46)
A47: =A46+1 -> 45 | B47: =B46 -> 2019 | C47: Sep | D47: =COUNTIF('Trade Details'!T$3:T$5000,A47) -> 0 | E47: =SUMIF('Trade Details'!T$3:T$5000,A47,'Trade Details'!Z$3:Z$5000) -> 0 | F47: =IF(D47=0,0,E47/D47) -> 0 | G47: =SUMIF('Trade Details'!T$3:T$5000,A47,'Trade Details'!AA$3:AA$5000) -> 0 | H47: =IF(D47=0,0,G47/D47) -> 0 | I47: =SUMIF('Trade Details'!T$3:T$5000,A47,'Trade Details'!V$3:V$5000) -> 0 | J47: =IF($D47=0,0,I47/$D47) -> 0 | K47: =SUMIF('Trade Details'!$T$3:$T$5000,$A47,'Trade Details'!W$3:W$5000) -> 0 | L47: =IF($D47=0,0,K47/$D47) -> 0 | M47: =SUMIF('Trade Details'!$T$3:$T$5000,$A47,'Trade Details'!X$3:X$5000) -> 0 | N47: =IF($D47=0,0,M47/$D47) -> 0 | O47: =SUMIF('Trade Details'!$T$3:$T$5000,$A47,'Trade Details'!Y$3:Y$5000) -> 0 | P47: =IF($D47=0,0,O47/$D47) -> 0 | Q47: =SUMIF('Trade Details'!$T$3:$T$5000,$A47,'Trade Details'!AB$3:AB$5000) -> 0 | R47: =SUMIF('Trade Details'!$T$3:$T$5000,$A47,'Trade Details'!AD$3:AD$5000) -> 0 | S47: =Q47+R47 -> 0 | T47: =IF(D47=0,0,SUMIF('Trade Details'!T$3:T$5000,A47,'Trade Details'!AB$3:AB$5000)) -> 0 | U47: =IF(D47=0,0,SUMIF('Trade Details'!T$3:T$5000,A47,'Trade Details'!AD$3:AD$5000)) -> 0 | V47: =IF(D47=0,0,SUMIF('Trade Details'!T$3:T$5000,A47,'Trade Details'!O$3:O$5000)) -> 0 | W47: =IF(D47=0,0,T47/E47) -> 0 | X47: =IF(G47=0,0,U47/G47) -> 0 | Y47: =IF(D47=0,0,V47/D47) -> 0 | Z47: =S47+Z46 -> 206679.28 | AA47: =(Z47-Z46)/Z46 -> 0 | AB47: =MAX(Z$2:Z47) -> 206698.22 | AC47: =(AB47-Z47)/Z47 -> 9.1639568e-05 | AD47: {=MAX(IF('Trade Details'!T$3:T$5000=A47,'Trade Details'!AB$3:AB$5000))} -> 0 | AE47: =IF(AD47=0,0,INDEX('Trade Details'!AC$3:AC$5000,(MATCH(AD47,'Trade Details'!AB$3:AB$5000,0)))) -> 0 | AF47: {=MIN(IF('Trade Details'!T$3:T$5000=A47,'Trade Details'!AD$3:AD$5000))} -> 0 | AG47: =IF(AF47=0,0,INDEX('Trade Details'!AC$3:AC$5000,(MATCH(AF47,'Trade Details'!AD$3:AD$5000,0)))) -> 0 | AH47: =COUNTIFS('Trade Details'!$D$3:$D$5000,AH$2,'Trade Details'!$T$3:$T$5000,$A47) -> 0 | AI47: =COUNTIFS('Trade Details'!$D$3:$D$5000,AI$2,'Trade Details'!$T$3:$T$5000,$A47) -> 0 | AJ47: =COUNTIFS('Trade Details'!$D$3:$D$5000,AJ$2,'Trade Details'!$T$3:$T$5000,$A47) -> 0 | AK47: =COUNTIFS('Trade Details'!$D$3:$D$5000,AK$2,'Trade Details'!$T$3:$T$5000,$A47) -> 0 | AL47: =COUNTIFS('Trade Details'!$D$3:$D$5000,AL$2,'Trade Details'!$T$3:$T$5000,$A47) -> 0 | AM47: =COUNTIFS('Trade Details'!$D$3:$D$5000,AM$2,'Trade Details'!$T$3:$T$5000,$A47) -> 0 | AN47: =SUMIFS('Trade Details'!$R$3:$R$5000,'Trade Details'!$D$3:$D$5000,AN$2,'Trade Details'!$T$3:$T$5000,$A47) -> 0 | AO47: =SUMIFS('Trade Details'!$R$3:$R$5000,'Trade Details'!$D$3:$D$5000,AO$2,'Trade Details'!$T$3:$T$5000,$A47) -> 0 | AP47: =SUMIFS('Trade Details'!$R$3:$R$5000,'Trade Details'!$D$3:$D$5000,AP$2,'Trade Details'!$T$3:$T$5000,$A47) -> 0 | AQ47: =SUMIFS('Trade Details'!$R$3:$R$5000,'Trade Details'!$D$3:$D$5000,AQ$2,'Trade Details'!$T$3:$T$5000,$A47) -> 0 | AR47: =SUMIFS('Trade Details'!$R$3:$R$5000,'Trade Details'!$D$3:$D$5000,AR$2,'Trade Details'!$T$3:$T$5000,$A47) -> 0 | AS47: =SUMIFS('Trade Details'!$R$3:$R$5000,'Trade Details'!$D$3:$D$5000,AS$2,'Trade Details'!$T$3:$T$5000,$A47) -> 0 | AT47: =IF(AN47=0,0,AN47/AH47) -> 0 | AU47: =IF(AO47=0,0,AO47/AI47) -> 0 | AV47: =IF(AP47=0,0,AP47/AJ47) -> 0 | AW47: =IF(AQ47=0,0,AQ47/AK47) -> 0 | AX47: =IF(AR47=0,0,AR47/AL47) -> 0 | AY47: =IF(AS47=0,0,AS47/AM47) -> 0 | AZ47: =IF(AH47=0,0,SUM(AN47:AS47)/SUM(AH47:AM47)) -> 0 | BL47: =EOMONTH(BL46,1) -> 43373 | BZ47: =IF(D47=0," ",C47&" "&B47) | CA47: =IF(D47=0," ",Z47) | CB47: =IF(D47=0," ",AC47)
A48: =A47+1 -> 46 | B48: =B47 -> 2019 | C48: Oct | D48: =COUNTIF('Trade Details'!T$3:T$5000,A48) -> 0 | E48: =SUMIF('Trade Details'!T$3:T$5000,A48,'Trade Details'!Z$3:Z$5000) -> 0 | F48: =IF(D48=0,0,E48/D48) -> 0 | G48: =SUMIF('Trade Details'!T$3:T$5000,A48,'Trade Details'!AA$3:AA$5000) -> 0 | H48: =IF(D48=0,0,G48/D48) -> 0 | I48: =SUMIF('Trade Details'!T$3:T$5000,A48,'Trade Details'!V$3:V$5000) -> 0 | J48: =IF($D48=0,0,I48/$D48) -> 0 | K48: =SUMIF('Trade Details'!$T$3:$T$5000,$A48,'Trade Details'!W$3:W$5000) -> 0 | L48: =IF($D48=0,0,K48/$D48) -> 0 | M48: =SUMIF('Trade Details'!$T$3:$T$5000,$A48,'Trade Details'!X$3:X$5000) -> 0 | N48: =IF($D48=0,0,M48/$D48) -> 0 | O48: =SUMIF('Trade Details'!$T$3:$T$5000,$A48,'Trade Details'!Y$3:Y$5000) -> 0 | P48: =IF($D48=0,0,O48/$D48) -> 0 | Q48: =SUMIF('Trade Details'!$T$3:$T$5000,$A48,'Trade Details'!AB$3:AB$5000) -> 0 | R48: =SUMIF('Trade Details'!$T$3:$T$5000,$A48,'Trade Details'!AD$3:AD$5000) -> 0 | S48: =Q48+R48 -> 0 | T48: =IF(D48=0,0,SUMIF('Trade Details'!T$3:T$5000,A48,'Trade Details'!AB$3:AB$5000)) -> 0 | U48: =IF(D48=0,0,SUMIF('Trade Details'!T$3:T$5000,A48,'Trade Details'!AD$3:AD$5000)) -> 0 | V48: =IF(D48=0,0,SUMIF('Trade Details'!T$3:T$5000,A48,'Trade Details'!O$3:O$5000)) -> 0 | W48: =IF(D48=0,0,T48/E48) -> 0 | X48: =IF(G48=0,0,U48/G48) -> 0 | Y48: =IF(D48=0,0,V48/D48) -> 0 | Z48: =S48+Z47 -> 206679.28 | AA48: =(Z48-Z47)/Z47 -> 0 | AB48: =MAX(Z$2:Z48) -> 206698.22 | AC48: =(AB48-Z48)/Z48 -> 9.1639568e-05 | AD48: {=MAX(IF('Trade Details'!T$3:T$5000=A48,'Trade Details'!AB$3:AB$5000))} -> 0 | AE48: =IF(AD48=0,0,INDEX('Trade Details'!AC$3:AC$5000,(MATCH(AD48,'Trade Details'!AB$3:AB$5000,0)))) -> 0 | AF48: {=MIN(IF('Trade Details'!T$3:T$5000=A48,'Trade Details'!AD$3:AD$5000))} -> 0 | AG48: =IF(AF48=0,0,INDEX('Trade Details'!AC$3:AC$5000,(MATCH(AF48,'Trade Details'!AD$3:AD$5000,0)))) -> 0 | AH48: =COUNTIFS('Trade Details'!$D$3:$D$5000,AH$2,'Trade Details'!$T$3:$T$5000,$A48) -> 0 | AI48: =COUNTIFS('Trade Details'!$D$3:$D$5000,AI$2,'Trade Details'!$T$3:$T$5000,$A48) -> 0 | AJ48: =COUNTIFS('Trade Details'!$D$3:$D$5000,AJ$2,'Trade Details'!$T$3:$T$5000,$A48) -> 0 | AK48: =COUNTIFS('Trade Details'!$D$3:$D$5000,AK$2,'Trade Details'!$T$3:$T$5000,$A48) -> 0 | AL48: =COUNTIFS('Trade Details'!$D$3:$D$5000,AL$2,'Trade Details'!$T$3:$T$5000,$A48) -> 0 | AM48: =COUNTIFS('Trade Details'!$D$3:$D$5000,AM$2,'Trade Details'!$T$3:$T$5000,$A48) -> 0 | AN48: =SUMIFS('Trade Details'!$R$3:$R$5000,'Trade Details'!$D$3:$D$5000,AN$2,'Trade Details'!$T$3:$T$5000,$A48) -> 0 | AO48: =SUMIFS('Trade Details'!$R$3:$R$5000,'Trade Details'!$D$3:$D$5000,AO$2,'Trade Details'!$T$3:$T$5000,$A48) -> 0 | AP48: =SUMIFS('Trade Details'!$R$3:$R$5000,'Trade Details'!$D$3:$D$5000,AP$2,'Trade Details'!$T$3:$T$5000,$A48) -> 0 | AQ48: =SUMIFS('Trade Details'!$R$3:$R$5000,'Trade Details'!$D$3:$D$5000,AQ$2,'Trade Details'!$T$3:$T$5000,$A48) -> 0 | AR48: =SUMIFS('Trade Details'!$R$3:$R$5000,'Trade Details'!$D$3:$D$5000,AR$2,'Trade Details'!$T$3:$T$5000,$A48) -> 0 | AS48: =SUMIFS('Trade Details'!$R$3:$R$5000,'Trade Details'!$D$3:$D$5000,AS$2,'Trade Details'!$T$3:$T$5000,$A48) -> 0 | AT48: =IF(AN48=0,0,AN48/AH48) -> 0 | AU48: =IF(AO48=0,0,AO48/AI48) -> 0 | AV48: =IF(AP48=0,0,AP48/AJ48) -> 0 | AW48: =IF(AQ48=0,0,AQ48/AK48) -> 0 | AX48: =IF(AR48=0,0,AR48/AL48) -> 0 | AY48: =IF(AS48=0,0,AS48/AM48) -> 0 | AZ48: =IF(AH48=0,0,SUM(AN48:AS48)/SUM(AH48:AM48)) -> 0 | BL48: =EOMONTH(BL47,1) -> 43404 | BZ48: =IF(D48=0," ",C48&" "&B48) | CA48: =IF(D48=0," ",Z48) | CB48: =IF(D48=0," ",AC48)
A49: =A48+1 -> 47 | B49: =B48 -> 2019 | C49: Nov | D49: =COUNTIF('Trade Details'!T$3:T$5000,A49) -> 0 | E49: =SUMIF('Trade Details'!T$3:T$5000,A49,'Trade Details'!Z$3:Z$5000) -> 0 | F49: =IF(D49=0,0,E49/D49) -> 0 | G49: =SUMIF('Trade Details'!T$3:T$5000,A49,'Trade Details'!AA$3:AA$5000) -> 0 | H49: =IF(D49=0,0,G49/D49) -> 0 | I49: =SUMIF('Trade Details'!T$3:T$5000,A49,'Trade Details'!V$3:V$5000) -> 0 | J49: =IF($D49=0,0,I49/$D49) -> 0 | K49: =SUMIF('Trade Details'!$T$3:$T$5000,$A49,'Trade Details'!W$3:W$5000) -> 0 | L49: =IF($D49=0,0,K49/$D49) -> 0 | M49: =SUMIF('Trade Details'!$T$3:$T$5000,$A49,'Trade Details'!X$3:X$5000) -> 0 | N49: =IF($D49=0,0,M49/$D49) -> 0 | O49: =SUMIF('Trade Details'!$T$3:$T$5000,$A49,'Trade Details'!Y$3:Y$5000) -> 0 | P49: =IF($D49=0,0,O49/$D49) -> 0 | Q49: =SUMIF('Trade Details'!$T$3:$T$5000,$A49,'Trade Details'!AB$3:AB$5000) -> 0 | R49: =SUMIF('Trade Details'!$T$3:$T$5000,$A49,'Trade Details'!AD$3:AD$5000) -> 0 | S49: =Q49+R49 -> 0 | T49: =IF(D49=0,0,SUMIF('Trade Details'!T$3:T$5000,A49,'Trade Details'!AB$3:AB$5000)) -> 0 | U49: =IF(D49=0,0,SUMIF('Trade Details'!T$3:T$5000,A49,'Trade Details'!AD$3:AD$5000)) -> 0 | V49: =IF(D49=0,0,SUMIF('Trade Details'!T$3:T$5000,A49,'Trade Details'!O$3:O$5000)) -> 0 | W49: =IF(D49=0,0,T49/E49) -> 0 | X49: =IF(G49=0,0,U49/G49) -> 0 | Y49: =IF(D49=0,0,V49/D49) -> 0 | Z49: =S49+Z48 -> 206679.28 | AA49: =(Z49-Z48)/Z48 -> 0 | AB49: =MAX(Z$2:Z49) -> 206698.22 | AC49: =(AB49-Z49)/Z49 -> 9.1639568e-05 | AD49: {=MAX(IF('Trade Details'!T$3:T$5000=A49,'Trade Details'!AB$3:AB$5000))} -> 0 | AE49: =IF(AD49=0,0,INDEX('Trade Details'!AC$3:AC$5000,(MATCH(AD49,'Trade Details'!AB$3:AB$5000,0)))) -> 0 | AF49: {=MIN(IF('Trade Details'!T$3:T$5000=A49,'Trade Details'!AD$3:AD$5000))} -> 0 | AG49: =IF(AF49=0,0,INDEX('Trade Details'!AC$3:AC$5000,(MATCH(AF49,'Trade Details'!AD$3:AD$5000,0)))) -> 0 | AH49: =COUNTIFS('Trade Details'!$D$3:$D$5000,AH$2,'Trade Details'!$T$3:$T$5000,$A49) -> 0 | AI49: =COUNTIFS('Trade Details'!$D$3:$D$5000,AI$2,'Trade Details'!$T$3:$T$5000,$A49) -> 0 | AJ49: =COUNTIFS('Trade Details'!$D$3:$D$5000,AJ$2,'Trade Details'!$T$3:$T$5000,$A49) -> 0 | AK49: =COUNTIFS('Trade Details'!$D$3:$D$5000,AK$2,'Trade Details'!$T$3:$T$5000,$A49) -> 0 | AL49: =COUNTIFS('Trade Details'!$D$3:$D$5000,AL$2,'Trade Details'!$T$3:$T$5000,$A49) -> 0 | AM49: =COUNTIFS('Trade Details'!$D$3:$D$5000,AM$2,'Trade Details'!$T$3:$T$5000,$A49) -> 0 | AN49: =SUMIFS('Trade Details'!$R$3:$R$5000,'Trade Details'!$D$3:$D$5000,AN$2,'Trade Details'!$T$3:$T$5000,$A49) -> 0 | AO49: =SUMIFS('Trade Details'!$R$3:$R$5000,'Trade Details'!$D$3:$D$5000,AO$2,'Trade Details'!$T$3:$T$5000,$A49) -> 0 | AP49: =SUMIFS('Trade Details'!$R$3:$R$5000,'Trade Details'!$D$3:$D$5000,AP$2,'Trade Details'!$T$3:$T$5000,$A49) -> 0 | AQ49: =SUMIFS('Trade Details'!$R$3:$R$5000,'Trade Details'!$D$3:$D$5000,AQ$2,'Trade Details'!$T$3:$T$5000,$A49) -> 0 | AR49: =SUMIFS('Trade Details'!$R$3:$R$5000,'Trade Details'!$D$3:$D$5000,AR$2,'Trade Details'!$T$3:$T$5000,$A49) -> 0 | AS49: =SUMIFS('Trade Details'!$R$3:$R$5000,'Trade Details'!$D$3:$D$5000,AS$2,'Trade Details'!$T$3:$T$5000,$A49) -> 0 | AT49: =IF(AN49=0,0,AN49/AH49) -> 0 | AU49: =IF(AO49=0,0,AO49/AI49) -> 0 | AV49: =IF(AP49=0,0,AP49/AJ49) -> 0 | AW49: =IF(AQ49=0,0,AQ49/AK49) -> 0 | AX49: =IF(AR49=0,0,AR49/AL49) -> 0 | AY49: =IF(AS49=0,0,AS49/AM49) -> 0 | AZ49: =IF(AH49=0,0,SUM(AN49:AS49)/SUM(AH49:AM49)) -> 0 | BL49: =EOMONTH(BL48,1) -> 43434 | BZ49: =IF(D49=0," ",C49&" "&B49) | CA49: =IF(D49=0," ",Z49) | CB49: =IF(D49=0," ",AC49)
A50: =A49+1 -> 48 | B50: =B49 -> 2019 | C50: Dec | D50: =COUNTIF('Trade Details'!T$3:T$5000,A50) -> 0 | E50: =SUMIF('Trade Details'!T$3:T$5000,A50,'Trade Details'!Z$3:Z$5000) -> 0 | F50: =IF(D50=0,0,E50/D50) -> 0 | G50: =SUMIF('Trade Details'!T$3:T$5000,A50,'Trade Details'!AA$3:AA$5000) -> 0 | H50: =IF(D50=0,0,G50/D50) -> 0 | I50: =SUMIF('Trade Details'!T$3:T$5000,A50,'Trade Details'!V$3:V$5000) -> 0 | J50: =IF($D50=0,0,I50/$D50) -> 0 | K50: =SUMIF('Trade Details'!$T$3:$T$5000,$A50,'Trade Details'!W$3:W$5000) -> 0 | L50: =IF($D50=0,0,K50/$D50) -> 0 | M50: =SUMIF('Trade Details'!$T$3:$T$5000,$A50,'Trade Details'!X$3:X$5000) -> 0 | N50: =IF($D50=0,0,M50/$D50) -> 0 | O50: =SUMIF('Trade Details'!$T$3:$T$5000,$A50,'Trade Details'!Y$3:Y$5000) -> 0 | P50: =IF($D50=0,0,O50/$D50) -> 0 | Q50: =SUMIF('Trade Details'!$T$3:$T$5000,$A50,'Trade Details'!AB$3:AB$5000) -> 0 | R50: =SUMIF('Trade Details'!$T$3:$T$5000,$A50,'Trade Details'!AD$3:AD$5000) -> 0 | S50: =Q50+R50 -> 0 | T50: =IF(D50=0,0,SUMIF('Trade Details'!T$3:T$5000,A50,'Trade Details'!AB$3:AB$5000)) -> 0 | U50: =IF(D50=0,0,SUMIF('Trade Details'!T$3:T$5000,A50,'Trade Details'!AD$3:AD$5000)) -> 0 | V50: =IF(D50=0,0,SUMIF('Trade Details'!T$3:T$5000,A50,'Trade Details'!O$3:O$5000)) -> 0 | W50: =IF(D50=0,0,T50/E50) -> 0 | X50: =IF(G50=0,0,U50/G50) -> 0 | Y50: =IF(D50=0,0,V50/D50) -> 0 | Z50: =S50+Z49 -> 206679.28 | AA50: =(Z50-Z49)/Z49 -> 0 | AB50: =MAX(Z$2:Z50) -> 206698.22 | AC50: =(AB50-Z50)/Z50 -> 9.1639568e-05 | AD50: {=MAX(IF('Trade Details'!T$3:T$5000=A50,'Trade Details'!AB$3:AB$5000))} -> 0 | AE50: =IF(AD50=0,0,INDEX('Trade Details'!AC$3:AC$5000,(MATCH(AD50,'Trade Details'!AB$3:AB$5000,0)))) -> 0 | AF50: {=MIN(IF('Trade Details'!T$3:T$5000=A50,'Trade Details'!AD$3:AD$5000))} -> 0 | AG50: =IF(AF50=0,0,INDEX('Trade Details'!AC$3:AC$5000,(MATCH(AF50,'Trade Details'!AD$3:AD$5000,0)))) -> 0 | AH50: =COUNTIFS('Trade Details'!$D$3:$D$5000,AH$2,'Trade Details'!$T$3:$T$5000,$A50) -> 0 | AI50: =COUNTIFS('Trade Details'!$D$3:$D$5000,AI$2,'Trade Details'!$T$3:$T$5000,$A50) -> 0 | AJ50: =COUNTIFS('Trade Details'!$D$3:$D$5000,AJ$2,'Trade Details'!$T$3:$T$5000,$A50) -> 0 | AK50: =COUNTIFS('Trade Details'!$D$3:$D$5000,AK$2,'Trade Details'!$T$3:$T$5000,$A50) -> 0 | AL50: =COUNTIFS('Trade Details'!$D$3:$D$5000,AL$2,'Trade Details'!$T$3:$T$5000,$A50) -> 0 | AM50: =COUNTIFS('Trade Details'!$D$3:$D$5000,AM$2,'Trade Details'!$T$3:$T$5000,$A50) -> 0 | AN50: =SUMIFS('Trade Details'!$R$3:$R$5000,'Trade Details'!$D$3:$D$5000,AN$2,'Trade Details'!$T$3:$T$5000,$A50) -> 0 | AO50: =SUMIFS('Trade Details'!$R$3:$R$5000,'Trade Details'!$D$3:$D$5000,AO$2,'Trade Details'!$T$3:$T$5000,$A50) -> 0 | AP50: =SUMIFS('Trade Details'!$R$3:$R$5000,'Trade Details'!$D$3:$D$5000,AP$2,'Trade Details'!$T$3:$T$5000,$A50) -> 0 | AQ50: =SUMIFS('Trade Details'!$R$3:$R$5000,'Trade Details'!$D$3:$D$5000,AQ$2,'Trade Details'!$T$3:$T$5000,$A50) -> 0 | AR50: =SUMIFS('Trade Details'!$R$3:$R$5000,'Trade Details'!$D$3:$D$5000,AR$2,'Trade Details'!$T$3:$T$5000,$A50) -> 0 | AS50: =SUMIFS('Trade Details'!$R$3:$R$5000,'Trade Details'!$D$3:$D$5000,AS$2,'Trade Details'!$T$3:$T$5000,$A50) -> 0 | AT50: =IF(AN50=0,0,AN50/AH50) -> 0 | AU50: =IF(AO50=0,0,AO50/AI50) -> 0 | AV50: =IF(AP50=0,0,AP50/AJ50) -> 0 | AW50: =IF(AQ50=0,0,AQ50/AK50) -> 0 | AX50: =IF(AR50=0,0,AR50/AL50) -> 0 | AY50: =IF(AS50=0,0,AS50/AM50) -> 0 | AZ50: =IF(AH50=0,0,SUM(AN50:AS50)/SUM(AH50:AM50)) -> 0 | BL50: =EOMONTH(BL49,1) -> 43465 | BZ50: =IF(D50=0," ",C50&" "&B50) | CA50: =IF(D50=0," ",Z50) | CB50: =IF(D50=0," ",AC50)
A51: =A50+1 -> 49 | B51: =B50+1 -> 2020 | C51: Jan | D51: =COUNTIF('Trade Details'!T$3:T$5000,A51) -> 0 | E51: =SUMIF('Trade Details'!T$3:T$5000,A51,'Trade Details'!Z$3:Z$5000) -> 0 | F51: =IF(D51=0,0,E51/D51) -> 0 | G51: =SUMIF('Trade Details'!T$3:T$5000,A51,'Trade Details'!AA$3:AA$5000) -> 0 | H51: =IF(D51=0,0,G51/D51) -> 0 | I51: =SUMIF('Trade Details'!T$3:T$5000,A51,'Trade Details'!V$3:V$5000) -> 0 | J51: =IF($D51=0,0,I51/$D51) -> 0 | K51: =SUMIF('Trade Details'!$T$3:$T$5000,$A51,'Trade Details'!W$3:W$5000) -> 0 | L51: =IF($D51=0,0,K51/$D51) -> 0 | M51: =SUMIF('Trade Details'!$T$3:$T$5000,$A51,'Trade Details'!X$3:X$5000) -> 0 | N51: =IF($D51=0,0,M51/$D51) -> 0 | O51: =SUMIF('Trade Details'!$T$3:$T$5000,$A51,'Trade Details'!Y$3:Y$5000) -> 0 | P51: =IF($D51=0,0,O51/$D51) -> 0 | Q51: =SUMIF('Trade Details'!$T$3:$T$5000,$A51,'Trade Details'!AB$3:AB$5000) -> 0 | R51: =SUMIF('Trade Details'!$T$3:$T$5000,$A51,'Trade Details'!AD$3:AD$5000) -> 0 | S51: =Q51+R51 -> 0 | T51: =IF(D51=0,0,SUMIF('Trade Details'!T$3:T$5000,A51,'Trade Details'!AB$3:AB$5000)) -> 0 | U51: =IF(D51=0,0,SUMIF('Trade Details'!T$3:T$5000,A51,'Trade Details'!AD$3:AD$5000)) -> 0 | V51: =IF(D51=0,0,SUMIF('Trade Details'!T$3:T$5000,A51,'Trade Details'!O$3:O$5000)) -> 0 | W51: =IF(D51=0,0,T51/E51) -> 0 | X51: =IF(G51=0,0,U51/G51) -> 0 | Y51: =IF(D51=0,0,V51/D51) -> 0 | Z51: =S51+Z50 -> 206679.28 | AA51: =(Z51-Z50)/Z50 -> 0 | AB51: =MAX(Z$2:Z51) -> 206698.22 | AC51: =(AB51-Z51)/Z51 -> 9.1639568e-05 | AD51: {=MAX(IF('Trade Details'!T$3:T$5000=A51,'Trade Details'!AB$3:AB$5000))} -> 0 | AE51: =IF(AD51=0,0,INDEX('Trade Details'!AC$3:AC$5000,(MATCH(AD51,'Trade Details'!AB$3:AB$5000,0)))) -> 0 | AF51: {=MIN(IF('Trade Details'!T$3:T$5000=A51,'Trade Details'!AD$3:AD$5000))} -> 0 | AG51: =IF(AF51=0,0,INDEX('Trade Details'!AC$3:AC$5000,(MATCH(AF51,'Trade Details'!AD$3:AD$5000,0)))) -> 0 | AH51: =COUNTIFS('Trade Details'!$D$3:$D$5000,AH$2,'Trade Details'!$T$3:$T$5000,$A51) -> 0 | AI51: =COUNTIFS('Trade Details'!$D$3:$D$5000,AI$2,'Trade Details'!$T$3:$T$5000,$A51) -> 0 | AJ51: =COUNTIFS('Trade Details'!$D$3:$D$5000,AJ$2,'Trade Details'!$T$3:$T$5000,$A51) -> 0 | AK51: =COUNTIFS('Trade Details'!$D$3:$D$5000,AK$2,'Trade Details'!$T$3:$T$5000,$A51) -> 0 | AL51: =COUNTIFS('Trade Details'!$D$3:$D$5000,AL$2,'Trade Details'!$T$3:$T$5000,$A51) -> 0 | AM51: =COUNTIFS('Trade Details'!$D$3:$D$5000,AM$2,'Trade Details'!$T$3:$T$5000,$A51) -> 0 | AN51: =SUMIFS('Trade Details'!$R$3:$R$5000,'Trade Details'!$D$3:$D$5000,AN$2,'Trade Details'!$T$3:$T$5000,$A51) -> 0 | AO51: =SUMIFS('Trade Details'!$R$3:$R$5000,'Trade Details'!$D$3:$D$5000,AO$2,'Trade Details'!$T$3:$T$5000,$A51) -> 0 | AP51: =SUMIFS('Trade Details'!$R$3:$R$5000,'Trade Details'!$D$3:$D$5000,AP$2,'Trade Details'!$T$3:$T$5000,$A51) -> 0 | AQ51: =SUMIFS('Trade Details'!$R$3:$R$5000,'Trade Details'!$D$3:$D$5000,AQ$2,'Trade Details'!$T$3:$T$5000,$A51) -> 0 | AR51: =SUMIFS('Trade Details'!$R$3:$R$5000,'Trade Details'!$D$3:$D$5000,AR$2,'Trade Details'!$T$3:$T$5000,$A51) -> 0 | AS51: =SUMIFS('Trade Details'!$R$3:$R$5000,'Trade Details'!$D$3:$D$5000,AS$2,'Trade Details'!$T$3:$T$5000,$A51) -> 0 | AT51: =IF(AN51=0,0,AN51/AH51) -> 0 | AU51: =IF(AO51=0,0,AO51/AI51) -> 0 | AV51: =IF(AP51=0,0,AP51/AJ51) -> 0 | AW51: =IF(AQ51=0,0,AQ51/AK51) -> 0 | AX51: =IF(AR51=0,0,AR51/AL51) -> 0 | AY51: =IF(AS51=0,0,AS51/AM51) -> 0 | AZ51: =IF(AH51=0,0,SUM(AN51:AS51)/SUM(AH51:AM51)) -> 0 | BL51: =EOMONTH(BL50,1) -> 43496 | BZ51: =IF(D51=0," ",C51&" "&B51) | CA51: =IF(D51=0," ",Z51) | CB51: =IF(D51=0," ",AC51)
A52: =A51+1 -> 50 | B52: =B51 -> 2020 | C52: Feb | D52: =COUNTIF('Trade Details'!T$3:T$5000,A52) -> 0 | E52: =SUMIF('Trade Details'!T$3:T$5000,A52,'Trade Details'!Z$3:Z$5000) -> 0 | F52: =IF(D52=0,0,E52/D52) -> 0 | G52: =SUMIF('Trade Details'!T$3:T$5000,A52,'Trade Details'!AA$3:AA$5000) -> 0 | H52: =IF(D52=0,0,G52/D52) -> 0 | I52: =SUMIF('Trade Details'!T$3:T$5000,A52,'Trade Details'!V$3:V$5000) -> 0 | J52: =IF($D52=0,0,I52/$D52) -> 0 | K52: =SUMIF('Trade Details'!$T$3:$T$5000,$A52,'Trade Details'!W$3:W$5000) -> 0 | L52: =IF($D52=0,0,K52/$D52) -> 0 | M52: =SUMIF('Trade Details'!$T$3:$T$5000,$A52,'Trade Details'!X$3:X$5000) -> 0 | N52: =IF($D52=0,0,M52/$D52) -> 0 | O52: =SUMIF('Trade Details'!$T$3:$T$5000,$A52,'Trade Details'!Y$3:Y$5000) -> 0 | P52: =IF($D52=0,0,O52/$D52) -> 0 | Q52: =SUMIF('Trade Details'!$T$3:$T$5000,$A52,'Trade Details'!AB$3:AB$5000) -> 0 | R52: =SUMIF('Trade Details'!$T$3:$T$5000,$A52,'Trade Details'!AD$3:AD$5000) -> 0 | S52: =Q52+R52 -> 0 | T52: =IF(D52=0,0,SUMIF('Trade Details'!T$3:T$5000,A52,'Trade Details'!AB$3:AB$5000)) -> 0 | U52: =IF(D52=0,0,SUMIF('Trade Details'!T$3:T$5000,A52,'Trade Details'!AD$3:AD$5000)) -> 0 | V52: =IF(D52=0,0,SUMIF('Trade Details'!T$3:T$5000,A52,'Trade Details'!O$3:O$5000)) -> 0 | W52: =IF(D52=0,0,T52/E52) -> 0 | X52: =IF(G52=0,0,U52/G52) -> 0 | Y52: =IF(D52=0,0,V52/D52) -> 0 | Z52: =S52+Z51 -> 206679.28 | AA52: =(Z52-Z51)/Z51 -> 0 | AB52: =MAX(Z$2:Z52) -> 206698.22 | AC52: =(AB52-Z52)/Z52 -> 9.1639568e-05 | AD52: {=MAX(IF('Trade Details'!T$3:T$5000=A52,'Trade Details'!AB$3:AB$5000))} -> 0 | AE52: =IF(AD52=0,0,INDEX('Trade Details'!AC$3:AC$5000,(MATCH(AD52,'Trade Details'!AB$3:AB$5000,0)))) -> 0 | AF52: {=MIN(IF('Trade Details'!T$3:T$5000=A52,'Trade Details'!AD$3:AD$5000))} -> 0 | AG52: =IF(AF52=0,0,INDEX('Trade Details'!AC$3:AC$5000,(MATCH(AF52,'Trade Details'!AD$3:AD$5000,0)))) -> 0 | AH52: =COUNTIFS('Trade Details'!$D$3:$D$5000,AH$2,'Trade Details'!$T$3:$T$5000,$A52) -> 0 | AI52: =COUNTIFS('Trade Details'!$D$3:$D$5000,AI$2,'Trade Details'!$T$3:$T$5000,$A52) -> 0 | AJ52: =COUNTIFS('Trade Details'!$D$3:$D$5000,AJ$2,'Trade Details'!$T$3:$T$5000,$A52) -> 0 | AK52: =COUNTIFS('Trade Details'!$D$3:$D$5000,AK$2,'Trade Details'!$T$3:$T$5000,$A52) -> 0 | AL52: =COUNTIFS('Trade Details'!$D$3:$D$5000,AL$2,'Trade Details'!$T$3:$T$5000,$A52) -> 0 | AM52: =COUNTIFS('Trade Details'!$D$3:$D$5000,AM$2,'Trade Details'!$T$3:$T$5000,$A52) -> 0 | AN52: =SUMIFS('Trade Details'!$R$3:$R$5000,'Trade Details'!$D$3:$D$5000,AN$2,'Trade Details'!$T$3:$T$5000,$A52) -> 0 | AO52: =SUMIFS('Trade Details'!$R$3:$R$5000,'Trade Details'!$D$3:$D$5000,AO$2,'Trade Details'!$T$3:$T$5000,$A52) -> 0 | AP52: =SUMIFS('Trade Details'!$R$3:$R$5000,'Trade Details'!$D$3:$D$5000,AP$2,'Trade Details'!$T$3:$T$5000,$A52) -> 0 | AQ52: =SUMIFS('Trade Details'!$R$3:$R$5000,'Trade Details'!$D$3:$D$5000,AQ$2,'Trade Details'!$T$3:$T$5000,$A52) -> 0 | AR52: =SUMIFS('Trade Details'!$R$3:$R$5000,'Trade Details'!$D$3:$D$5000,AR$2,'Trade Details'!$T$3:$T$5000,$A52) -> 0 | AS52: =SUMIFS('Trade Details'!$R$3:$R$5000,'Trade Details'!$D$3:$D$5000,AS$2,'Trade Details'!$T$3:$T$5000,$A52) -> 0 | AT52: =IF(AN52=0,0,AN52/AH52) -> 0 | AU52: =IF(AO52=0,0,AO52/AI52) -> 0 | AV52: =IF(AP52=0,0,AP52/AJ52) -> 0 | AW52: =IF(AQ52=0,0,AQ52/AK52) -> 0 | AX52: =IF(AR52=0,0,AR52/AL52) -> 0 | AY52: =IF(AS52=0,0,AS52/AM52) -> 0 | AZ52: =IF(AH52=0,0,SUM(AN52:AS52)/SUM(AH52:AM52)) -> 0 | BL52: =EOMONTH(BL51,1) -> 43524 | BZ52: =IF(D52=0," ",C52&" "&B52) | CA52: =IF(D52=0," ",Z52) | CB52: =IF(D52=0," ",AC52)
A53: =A52+1 -> 51 | B53: =B52 -> 2020 | C53: Mar | D53: =COUNTIF('Trade Details'!T$3:T$5000,A53) -> 0 | E53: =SUMIF('Trade Details'!T$3:T$5000,A53,'Trade Details'!Z$3:Z$5000) -> 0 | F53: =IF(D53=0,0,E53/D53) -> 0 | G53: =SUMIF('Trade Details'!T$3:T$5000,A53,'Trade Details'!AA$3:AA$5000) -> 0 | H53: =IF(D53=0,0,G53/D53) -> 0 | I53: =SUMIF('Trade Details'!T$3:T$5000,A53,'Trade Details'!V$3:V$5000) -> 0 | J53: =IF($D53=0,0,I53/$D53) -> 0 | K53: =SUMIF('Trade Details'!$T$3:$T$5000,$A53,'Trade Details'!W$3:W$5000) -> 0 | L53: =IF($D53=0,0,K53/$D53) -> 0 | M53: =SUMIF('Trade Details'!$T$3:$T$5000,$A53,'Trade Details'!X$3:X$5000) -> 0 | N53: =IF($D53=0,0,M53/$D53) -> 0 | O53: =SUMIF('Trade Details'!$T$3:$T$5000,$A53,'Trade Details'!Y$3:Y$5000) -> 0 | P53: =IF($D53=0,0,O53/$D53) -> 0 | Q53: =SUMIF('Trade Details'!$T$3:$T$5000,$A53,'Trade Details'!AB$3:AB$5000) -> 0 | R53: =SUMIF('Trade Details'!$T$3:$T$5000,$A53,'Trade Details'!AD$3:AD$5000) -> 0 | S53: =Q53+R53 -> 0 | T53: =IF(D53=0,0,SUMIF('Trade Details'!T$3:T$5000,A53,'Trade Details'!AB$3:AB$5000)) -> 0 | U53: =IF(D53=0,0,SUMIF('Trade Details'!T$3:T$5000,A53,'Trade Details'!AD$3:AD$5000)) -> 0 | V53: =IF(D53=0,0,SUMIF('Trade Details'!T$3:T$5000,A53,'Trade Details'!O$3:O$5000)) -> 0 | W53: =IF(D53=0,0,T53/E53) -> 0 | X53: =IF(G53=0,0,U53/G53) -> 0 | Y53: =IF(D53=0,0,V53/D53) -> 0 | Z53: =S53+Z52 -> 206679.28 | AA53: =(Z53-Z52)/Z52 -> 0 | AB53: =MAX(Z$2:Z53) -> 206698.22 | AC53: =(AB53-Z53)/Z53 -> 9.1639568e-05 | AD53: {=MAX(IF('Trade Details'!T$3:T$5000=A53,'Trade Details'!AB$3:AB$5000))} -> 0 | AE53: =IF(AD53=0,0,INDEX('Trade Details'!AC$3:AC$5000,(MATCH(AD53,'Trade Details'!AB$3:AB$5000,0)))) -> 0 | AF53: {=MIN(IF('Trade Details'!T$3:T$5000=A53,'Trade Details'!AD$3:AD$5000))} -> 0 | AG53: =IF(AF53=0,0,INDEX('Trade Details'!AC$3:AC$5000,(MATCH(AF53,'Trade Details'!AD$3:AD$5000,0)))) -> 0 | AH53: =COUNTIFS('Trade Details'!$D$3:$D$5000,AH$2,'Trade Details'!$T$3:$T$5000,$A53) -> 0 | AI53: =COUNTIFS('Trade Details'!$D$3:$D$5000,AI$2,'Trade Details'!$T$3:$T$5000,$A53) -> 0 | AJ53: =COUNTIFS('Trade Details'!$D$3:$D$5000,AJ$2,'Trade Details'!$T$3:$T$5000,$A53) -> 0 | AK53: =COUNTIFS('Trade Details'!$D$3:$D$5000,AK$2,'Trade Details'!$T$3:$T$5000,$A53) -> 0 | AL53: =COUNTIFS('Trade Details'!$D$3:$D$5000,AL$2,'Trade Details'!$T$3:$T$5000,$A53) -> 0 | AM53: =COUNTIFS('Trade Details'!$D$3:$D$5000,AM$2,'Trade Details'!$T$3:$T$5000,$A53) -> 0 | AN53: =SUMIFS('Trade Details'!$R$3:$R$5000,'Trade Details'!$D$3:$D$5000,AN$2,'Trade Details'!$T$3:$T$5000,$A53) -> 0 | AO53: =SUMIFS('Trade Details'!$R$3:$R$5000,'Trade Details'!$D$3:$D$5000,AO$2,'Trade Details'!$T$3:$T$5000,$A53) -> 0 | AP53: =SUMIFS('Trade Details'!$R$3:$R$5000,'Trade Details'!$D$3:$D$5000,AP$2,'Trade Details'!$T$3:$T$5000,$A53) -> 0 | AQ53: =SUMIFS('Trade Details'!$R$3:$R$5000,'Trade Details'!$D$3:$D$5000,AQ$2,'Trade Details'!$T$3:$T$5000,$A53) -> 0 | AR53: =SUMIFS('Trade Details'!$R$3:$R$5000,'Trade Details'!$D$3:$D$5000,AR$2,'Trade Details'!$T$3:$T$5000,$A53) -> 0 | AS53: =SUMIFS('Trade Details'!$R$3:$R$5000,'Trade Details'!$D$3:$D$5000,AS$2,'Trade Details'!$T$3:$T$5000,$A53) -> 0 | AT53: =IF(AN53=0,0,AN53/AH53) -> 0 | AU53: =IF(AO53=0,0,AO53/AI53) -> 0 | AV53: =IF(AP53=0,0,AP53/AJ53) -> 0 | AW53: =IF(AQ53=0,0,AQ53/AK53) -> 0 | AX53: =IF(AR53=0,0,AR53/AL53) -> 0 | AY53: =IF(AS53=0,0,AS53/AM53) -> 0 | AZ53: =IF(AH53=0,0,SUM(AN53:AS53)/SUM(AH53:AM53)) -> 0 | BL53: =EOMONTH(BL52,1) -> 43555 | BZ53: =IF(D53=0," ",C53&" "&B53) | CA53: =IF(D53=0," ",Z53) | CB53: =IF(D53=0," ",AC53)
A54: =A53+1 -> 52 | B54: =B53 -> 2020 | C54: Apr | D54: =COUNTIF('Trade Details'!T$3:T$5000,A54) -> 0 | E54: =SUMIF('Trade Details'!T$3:T$5000,A54,'Trade Details'!Z$3:Z$5000) -> 0 | F54: =IF(D54=0,0,E54/D54) -> 0 | G54: =SUMIF('Trade Details'!T$3:T$5000,A54,'Trade Details'!AA$3:AA$5000) -> 0 | H54: =IF(D54=0,0,G54/D54) -> 0 | I54: =SUMIF('Trade Details'!T$3:T$5000,A54,'Trade Details'!V$3:V$5000) -> 0 | J54: =IF($D54=0,0,I54/$D54) -> 0 | K54: =SUMIF('Trade Details'!$T$3:$T$5000,$A54,'Trade Details'!W$3:W$5000) -> 0 | L54: =IF($D54=0,0,K54/$D54) -> 0 | M54: =SUMIF('Trade Details'!$T$3:$T$5000,$A54,'Trade Details'!X$3:X$5000) -> 0 | N54: =IF($D54=0,0,M54/$D54) -> 0 | O54: =SUMIF('Trade Details'!$T$3:$T$5000,$A54,'Trade Details'!Y$3:Y$5000) -> 0 | P54: =IF($D54=0,0,O54/$D54) -> 0 | Q54: =SUMIF('Trade Details'!$T$3:$T$5000,$A54,'Trade Details'!AB$3:AB$5000) -> 0 | R54: =SUMIF('Trade Details'!$T$3:$T$5000,$A54,'Trade Details'!AD$3:AD$5000) -> 0 | S54: =Q54+R54 -> 0 | T54: =IF(D54=0,0,SUMIF('Trade Details'!T$3:T$5000,A54,'Trade Details'!AB$3:AB$5000)) -> 0 | U54: =IF(D54=0,0,SUMIF('Trade Details'!T$3:T$5000,A54,'Trade Details'!AD$3:AD$5000)) -> 0 | V54: =IF(D54=0,0,SUMIF('Trade Details'!T$3:T$5000,A54,'Trade Details'!O$3:O$5000)) -> 0 | W54: =IF(D54=0,0,T54/E54) -> 0 | X54: =IF(G54=0,0,U54/G54) -> 0 | Y54: =IF(D54=0,0,V54/D54) -> 0 | Z54: =S54+Z53 -> 206679.28 | AA54: =(Z54-Z53)/Z53 -> 0 | AB54: =MAX(Z$2:Z54) -> 206698.22 | AC54: =(AB54-Z54)/Z54 -> 9.1639568e-05 | AD54: {=MAX(IF('Trade Details'!T$3:T$5000=A54,'Trade Details'!AB$3:AB$5000))} -> 0 | AE54: =IF(AD54=0,0,INDEX('Trade Details'!AC$3:AC$5000,(MATCH(AD54,'Trade Details'!AB$3:AB$5000,0)))) -> 0 | AF54: {=MIN(IF('Trade Details'!T$3:T$5000=A54,'Trade Details'!AD$3:AD$5000))} -> 0 | AG54: =IF(AF54=0,0,INDEX('Trade Details'!AC$3:AC$5000,(MATCH(AF54,'Trade Details'!AD$3:AD$5000,0)))) -> 0 | AH54: =COUNTIFS('Trade Details'!$D$3:$D$5000,AH$2,'Trade Details'!$T$3:$T$5000,$A54) -> 0 | AI54: =COUNTIFS('Trade Details'!$D$3:$D$5000,AI$2,'Trade Details'!$T$3:$T$5000,$A54) -> 0 | AJ54: =COUNTIFS('Trade Details'!$D$3:$D$5000,AJ$2,'Trade Details'!$T$3:$T$5000,$A54) -> 0 | AK54: =COUNTIFS('Trade Details'!$D$3:$D$5000,AK$2,'Trade Details'!$T$3:$T$5000,$A54) -> 0 | AL54: =COUNTIFS('Trade Details'!$D$3:$D$5000,AL$2,'Trade Details'!$T$3:$T$5000,$A54) -> 0 | AM54: =COUNTIFS('Trade Details'!$D$3:$D$5000,AM$2,'Trade Details'!$T$3:$T$5000,$A54) -> 0 | AN54: =SUMIFS('Trade Details'!$R$3:$R$5000,'Trade Details'!$D$3:$D$5000,AN$2,'Trade Details'!$T$3:$T$5000,$A54) -> 0 | AO54: =SUMIFS('Trade Details'!$R$3:$R$5000,'Trade Details'!$D$3:$D$5000,AO$2,'Trade Details'!$T$3:$T$5000,$A54) -> 0 | AP54: =SUMIFS('Trade Details'!$R$3:$R$5000,'Trade Details'!$D$3:$D$5000,AP$2,'Trade Details'!$T$3:$T$5000,$A54) -> 0 | AQ54: =SUMIFS('Trade Details'!$R$3:$R$5000,'Trade Details'!$D$3:$D$5000,AQ$2,'Trade Details'!$T$3:$T$5000,$A54) -> 0 | AR54: =SUMIFS('Trade Details'!$R$3:$R$5000,'Trade Details'!$D$3:$D$5000,AR$2,'Trade Details'!$T$3:$T$5000,$A54) -> 0 | AS54: =SUMIFS('Trade Details'!$R$3:$R$5000,'Trade Details'!$D$3:$D$5000,AS$2,'Trade Details'!$T$3:$T$5000,$A54) -> 0 | AT54: =IF(AN54=0,0,AN54/AH54) -> 0 | AU54: =IF(AO54=0,0,AO54/AI54) -> 0 | AV54: =IF(AP54=0,0,AP54/AJ54) -> 0 | AW54: =IF(AQ54=0,0,AQ54/AK54) -> 0 | AX54: =IF(AR54=0,0,AR54/AL54) -> 0 | AY54: =IF(AS54=0,0,AS54/AM54) -> 0 | AZ54: =IF(AH54=0,0,SUM(AN54:AS54)/SUM(AH54:AM54)) -> 0 | BL54: =EOMONTH(BL53,1) -> 43585 | BZ54: =IF(D54=0," ",C54&" "&B54) | CA54: =IF(D54=0," ",Z54) | CB54: =IF(D54=0," ",AC54)
A55: =A54+1 -> 53 | B55: =B54 -> 2020 | C55: May | D55: =COUNTIF('Trade Details'!T$3:T$5000,A55) -> 0 | E55: =SUMIF('Trade Details'!T$3:T$5000,A55,'Trade Details'!Z$3:Z$5000) -> 0 | F55: =IF(D55=0,0,E55/D55) -> 0 | G55: =SUMIF('Trade Details'!T$3:T$5000,A55,'Trade Details'!AA$3:AA$5000) -> 0 | H55: =IF(D55=0,0,G55/D55) -> 0 | I55: =SUMIF('Trade Details'!T$3:T$5000,A55,'Trade Details'!V$3:V$5000) -> 0 | J55: =IF($D55=0,0,I55/$D55) -> 0 | K55: =SUMIF('Trade Details'!$T$3:$T$5000,$A55,'Trade Details'!W$3:W$5000) -> 0 | L55: =IF($D55=0,0,K55/$D55) -> 0 | M55: =SUMIF('Trade Details'!$T$3:$T$5000,$A55,'Trade Details'!X$3:X$5000) -> 0 | N55: =IF($D55=0,0,M55/$D55) -> 0 | O55: =SUMIF('Trade Details'!$T$3:$T$5000,$A55,'Trade Details'!Y$3:Y$5000) -> 0 | P55: =IF($D55=0,0,O55/$D55) -> 0 | Q55: =SUMIF('Trade Details'!$T$3:$T$5000,$A55,'Trade Details'!AB$3:AB$5000) -> 0 | R55: =SUMIF('Trade Details'!$T$3:$T$5000,$A55,'Trade Details'!AD$3:AD$5000) -> 0 | S55: =Q55+R55 -> 0 | T55: =IF(D55=0,0,SUMIF('Trade Details'!T$3:T$5000,A55,'Trade Details'!AB$3:AB$5000)) -> 0 | U55: =IF(D55=0,0,SUMIF('Trade Details'!T$3:T$5000,A55,'Trade Details'!AD$3:AD$5000)) -> 0 | V55: =IF(D55=0,0,SUMIF('Trade Details'!T$3:T$5000,A55,'Trade Details'!O$3:O$5000)) -> 0 | W55: =IF(D55=0,0,T55/E55) -> 0 | X55: =IF(G55=0,0,U55/G55) -> 0 | Y55: =IF(D55=0,0,V55/D55) -> 0 | Z55: =S55+Z54 -> 206679.28 | AA55: =(Z55-Z54)/Z54 -> 0 | AB55: =MAX(Z$2:Z55) -> 206698.22 | AC55: =(AB55-Z55)/Z55 -> 9.1639568e-05 | AD55: {=MAX(IF('Trade Details'!T$3:T$5000=A55,'Trade Details'!AB$3:AB$5000))} -> 0 | AE55: =IF(AD55=0,0,INDEX('Trade Details'!AC$3:AC$5000,(MATCH(AD55,'Trade Details'!AB$3:AB$5000,0)))) -> 0 | AF55: {=MIN(IF('Trade Details'!T$3:T$5000=A55,'Trade Details'!AD$3:AD$5000))} -> 0 | AG55: =IF(AF55=0,0,INDEX('Trade Details'!AC$3:AC$5000,(MATCH(AF55,'Trade Details'!AD$3:AD$5000,0)))) -> 0 | AH55: =COUNTIFS('Trade Details'!$D$3:$D$5000,AH$2,'Trade Details'!$T$3:$T$5000,$A55) -> 0 | AI55: =COUNTIFS('Trade Details'!$D$3:$D$5000,AI$2,'Trade Details'!$T$3:$T$5000,$A55) -> 0 | AJ55: =COUNTIFS('Trade Details'!$D$3:$D$5000,AJ$2,'Trade Details'!$T$3:$T$5000,$A55) -> 0 | AK55: =COUNTIFS('Trade Details'!$D$3:$D$5000,AK$2,'Trade Details'!$T$3:$T$5000,$A55) -> 0 | AL55: =COUNTIFS('Trade Details'!$D$3:$D$5000,AL$2,'Trade Details'!$T$3:$T$5000,$A55) -> 0 | AM55: =COUNTIFS('Trade Details'!$D$3:$D$5000,AM$2,'Trade Details'!$T$3:$T$5000,$A55) -> 0 | AN55: =SUMIFS('Trade Details'!$R$3:$R$5000,'Trade Details'!$D$3:$D$5000,AN$2,'Trade Details'!$T$3:$T$5000,$A55) -> 0 | AO55: =SUMIFS('Trade Details'!$R$3:$R$5000,'Trade Details'!$D$3:$D$5000,AO$2,'Trade Details'!$T$3:$T$5000,$A55) -> 0 | AP55: =SUMIFS('Trade Details'!$R$3:$R$5000,'Trade Details'!$D$3:$D$5000,AP$2,'Trade Details'!$T$3:$T$5000,$A55) -> 0 | AQ55: =SUMIFS('Trade Details'!$R$3:$R$5000,'Trade Details'!$D$3:$D$5000,AQ$2,'Trade Details'!$T$3:$T$5000,$A55) -> 0 | AR55: =SUMIFS('Trade Details'!$R$3:$R$5000,'Trade Details'!$D$3:$D$5000,AR$2,'Trade Details'!$T$3:$T$5000,$A55) -> 0 | AS55: =SUMIFS('Trade Details'!$R$3:$R$5000,'Trade Details'!$D$3:$D$5000,AS$2,'Trade Details'!$T$3:$T$5000,$A55) -> 0 | AT55: =IF(AN55=0,0,AN55/AH55) -> 0 | AU55: =IF(AO55=0,0,AO55/AI55) -> 0 | AV55: =IF(AP55=0,0,AP55/AJ55) -> 0 | AW55: =IF(AQ55=0,0,AQ55/AK55) -> 0 | AX55: =IF(AR55=0,0,AR55/AL55) -> 0 | AY55: =IF(AS55=0,0,AS55/AM55) -> 0 | AZ55: =IF(AH55=0,0,SUM(AN55:AS55)/SUM(AH55:AM55)) -> 0 | BL55: =EOMONTH(BL54,1) -> 43616 | BZ55: =IF(D55=0," ",C55&" "&B55) | CA55: =IF(D55=0," ",Z55) | CB55: =IF(D55=0," ",AC55)
A56: =A55+1 -> 54 | B56: =B55 -> 2020 | C56: Jun | D56: =COUNTIF('Trade Details'!T$3:T$5000,A56) -> 0 | E56: =SUMIF('Trade Details'!T$3:T$5000,A56,'Trade Details'!Z$3:Z$5000) -> 0 | F56: =IF(D56=0,0,E56/D56) -> 0 | G56: =SUMIF('Trade Details'!T$3:T$5000,A56,'Trade Details'!AA$3:AA$5000) -> 0 | H56: =IF(D56=0,0,G56/D56) -> 0 | I56: =SUMIF('Trade Details'!T$3:T$5000,A56,'Trade Details'!V$3:V$5000) -> 0 | J56: =IF($D56=0,0,I56/$D56) -> 0 | K56: =SUMIF('Trade Details'!$T$3:$T$5000,$A56,'Trade Details'!W$3:W$5000) -> 0 | L56: =IF($D56=0,0,K56/$D56) -> 0 | M56: =SUMIF('Trade Details'!$T$3:$T$5000,$A56,'Trade Details'!X$3:X$5000) -> 0 | N56: =IF($D56=0,0,M56/$D56) -> 0 | O56: =SUMIF('Trade Details'!$T$3:$T$5000,$A56,'Trade Details'!Y$3:Y$5000) -> 0 | P56: =IF($D56=0,0,O56/$D56) -> 0 | Q56: =SUMIF('Trade Details'!$T$3:$T$5000,$A56,'Trade Details'!AB$3:AB$5000) -> 0 | R56: =SUMIF('Trade Details'!$T$3:$T$5000,$A56,'Trade Details'!AD$3:AD$5000) -> 0 | S56: =Q56+R56 -> 0 | T56: =IF(D56=0,0,SUMIF('Trade Details'!T$3:T$5000,A56,'Trade Details'!AB$3:AB$5000)) -> 0 | U56: =IF(D56=0,0,SUMIF('Trade Details'!T$3:T$5000,A56,'Trade Details'!AD$3:AD$5000)) -> 0 | V56: =IF(D56=0,0,SUMIF('Trade Details'!T$3:T$5000,A56,'Trade Details'!O$3:O$5000)) -> 0 | W56: =IF(D56=0,0,T56/E56) -> 0 | X56: =IF(G56=0,0,U56/G56) -> 0 | Y56: =IF(D56=0,0,V56/D56) -> 0 | Z56: =S56+Z55 -> 206679.28 | AA56: =(Z56-Z55)/Z55 -> 0 | AB56: =MAX(Z$2:Z56) -> 206698.22 | AC56: =(AB56-Z56)/Z56 -> 9.1639568e-05 | AD56: {=MAX(IF('Trade Details'!T$3:T$5000=A56,'Trade Details'!AB$3:AB$5000))} -> 0 | AE56: =IF(AD56=0,0,INDEX('Trade Details'!AC$3:AC$5000,(MATCH(AD56,'Trade Details'!AB$3:AB$5000,0)))) -> 0 | AF56: {=MIN(IF('Trade Details'!T$3:T$5000=A56,'Trade Details'!AD$3:AD$5000))} -> 0 | AG56: =IF(AF56=0,0,INDEX('Trade Details'!AC$3:AC$5000,(MATCH(AF56,'Trade Details'!AD$3:AD$5000,0)))) -> 0 | AH56: =COUNTIFS('Trade Details'!$D$3:$D$5000,AH$2,'Trade Details'!$T$3:$T$5000,$A56) -> 0 | AI56: =COUNTIFS('Trade Details'!$D$3:$D$5000,AI$2,'Trade Details'!$T$3:$T$5000,$A56) -> 0 | AJ56: =COUNTIFS('Trade Details'!$D$3:$D$5000,AJ$2,'Trade Details'!$T$3:$T$5000,$A56) -> 0 | AK56: =COUNTIFS('Trade Details'!$D$3:$D$5000,AK$2,'Trade Details'!$T$3:$T$5000,$A56) -> 0 | AL56: =COUNTIFS('Trade Details'!$D$3:$D$5000,AL$2,'Trade Details'!$T$3:$T$5000,$A56) -> 0 | AM56: =COUNTIFS('Trade Details'!$D$3:$D$5000,AM$2,'Trade Details'!$T$3:$T$5000,$A56) -> 0 | AN56: =SUMIFS('Trade Details'!$R$3:$R$5000,'Trade Details'!$D$3:$D$5000,AN$2,'Trade Details'!$T$3:$T$5000,$A56) -> 0 | AO56: =SUMIFS('Trade Details'!$R$3:$R$5000,'Trade Details'!$D$3:$D$5000,AO$2,'Trade Details'!$T$3:$T$5000,$A56) -> 0 | AP56: =SUMIFS('Trade Details'!$R$3:$R$5000,'Trade Details'!$D$3:$D$5000,AP$2,'Trade Details'!$T$3:$T$5000,$A56) -> 0 | AQ56: =SUMIFS('Trade Details'!$R$3:$R$5000,'Trade Details'!$D$3:$D$5000,AQ$2,'Trade Details'!$T$3:$T$5000,$A56) -> 0 | AR56: =SUMIFS('Trade Details'!$R$3:$R$5000,'Trade Details'!$D$3:$D$5000,AR$2,'Trade Details'!$T$3:$T$5000,$A56) -> 0 | AS56: =SUMIFS('Trade Details'!$R$3:$R$5000,'Trade Details'!$D$3:$D$5000,AS$2,'Trade Details'!$T$3:$T$5000,$A56) -> 0 | AT56: =IF(AN56=0,0,AN56/AH56) -> 0 | AU56: =IF(AO56=0,0,AO56/AI56) -> 0 | AV56: =IF(AP56=0,0,AP56/AJ56) -> 0 | AW56: =IF(AQ56=0,0,AQ56/AK56) -> 0 | AX56: =IF(AR56=0,0,AR56/AL56) -> 0 | AY56: =IF(AS56=0,0,AS56/AM56) -> 0 | AZ56: =IF(AH56=0,0,SUM(AN56:AS56)/SUM(AH56:AM56)) -> 0 | BL56: =EOMONTH(BL55,1) -> 43646 | BZ56: =IF(D56=0," ",C56&" "&B56) | CA56: =IF(D56=0," ",Z56) | CB56: =IF(D56=0," ",AC56)
A57: =A56+1 -> 55 | B57: =B56 -> 2020 | C57: Jul | D57: =COUNTIF('Trade Details'!T$3:T$5000,A57) -> 0 | E57: =SUMIF('Trade Details'!T$3:T$5000,A57,'Trade Details'!Z$3:Z$5000) -> 0 | F57: =IF(D57=0,0,E57/D57) -> 0 | G57: =SUMIF('Trade Details'!T$3:T$5000,A57,'Trade Details'!AA$3:AA$5000) -> 0 | H57: =IF(D57=0,0,G57/D57) -> 0 | I57: =SUMIF('Trade Details'!T$3:T$5000,A57,'Trade Details'!V$3:V$5000) -> 0 | J57: =IF($D57=0,0,I57/$D57) -> 0 | K57: =SUMIF('Trade Details'!$T$3:$T$5000,$A57,'Trade Details'!W$3:W$5000) -> 0 | L57: =IF($D57=0,0,K57/$D57) -> 0 | M57: =SUMIF('Trade Details'!$T$3:$T$5000,$A57,'Trade Details'!X$3:X$5000) -> 0 | N57: =IF($D57=0,0,M57/$D57) -> 0 | O57: =SUMIF('Trade Details'!$T$3:$T$5000,$A57,'Trade Details'!Y$3:Y$5000) -> 0 | P57: =IF($D57=0,0,O57/$D57) -> 0 | Q57: =SUMIF('Trade Details'!$T$3:$T$5000,$A57,'Trade Details'!AB$3:AB$5000) -> 0 | R57: =SUMIF('Trade Details'!$T$3:$T$5000,$A57,'Trade Details'!AD$3:AD$5000) -> 0 | S57: =Q57+R57 -> 0 | T57: =IF(D57=0,0,SUMIF('Trade Details'!T$3:T$5000,A57,'Trade Details'!AB$3:AB$5000)) -> 0 | U57: =IF(D57=0,0,SUMIF('Trade Details'!T$3:T$5000,A57,'Trade Details'!AD$3:AD$5000)) -> 0 | V57: =IF(D57=0,0,SUMIF('Trade Details'!T$3:T$5000,A57,'Trade Details'!O$3:O$5000)) -> 0 | W57: =IF(D57=0,0,T57/E57) -> 0 | X57: =IF(G57=0,0,U57/G57) -> 0 | Y57: =IF(D57=0,0,V57/D57) -> 0 | Z57: =S57+Z56 -> 206679.28 | AA57: =(Z57-Z56)/Z56 -> 0 | AB57: =MAX(Z$2:Z57) -> 206698.22 | AC57: =(AB57-Z57)/Z57 -> 9.1639568e-05 | AD57: {=MAX(IF('Trade Details'!T$3:T$5000=A57,'Trade Details'!AB$3:AB$5000))} -> 0 | AE57: =IF(AD57=0,0,INDEX('Trade Details'!AC$3:AC$5000,(MATCH(AD57,'Trade Details'!AB$3:AB$5000,0)))) -> 0 | AF57: {=MIN(IF('Trade Details'!T$3:T$5000=A57,'Trade Details'!AD$3:AD$5000))} -> 0 | AG57: =IF(AF57=0,0,INDEX('Trade Details'!AC$3:AC$5000,(MATCH(AF57,'Trade Details'!AD$3:AD$5000,0)))) -> 0 | AH57: =COUNTIFS('Trade Details'!$D$3:$D$5000,AH$2,'Trade Details'!$T$3:$T$5000,$A57) -> 0 | AI57: =COUNTIFS('Trade Details'!$D$3:$D$5000,AI$2,'Trade Details'!$T$3:$T$5000,$A57) -> 0 | AJ57: =COUNTIFS('Trade Details'!$D$3:$D$5000,AJ$2,'Trade Details'!$T$3:$T$5000,$A57) -> 0 | AK57: =COUNTIFS('Trade Details'!$D$3:$D$5000,AK$2,'Trade Details'!$T$3:$T$5000,$A57) -> 0 | AL57: =COUNTIFS('Trade Details'!$D$3:$D$5000,AL$2,'Trade Details'!$T$3:$T$5000,$A57) -> 0 | AM57: =COUNTIFS('Trade Details'!$D$3:$D$5000,AM$2,'Trade Details'!$T$3:$T$5000,$A57) -> 0 | AN57: =SUMIFS('Trade Details'!$R$3:$R$5000,'Trade Details'!$D$3:$D$5000,AN$2,'Trade Details'!$T$3:$T$5000,$A57) -> 0 | AO57: =SUMIFS('Trade Details'!$R$3:$R$5000,'Trade Details'!$D$3:$D$5000,AO$2,'Trade Details'!$T$3:$T$5000,$A57) -> 0 | AP57: =SUMIFS('Trade Details'!$R$3:$R$5000,'Trade Details'!$D$3:$D$5000,AP$2,'Trade Details'!$T$3:$T$5000,$A57) -> 0 | AQ57: =SUMIFS('Trade Details'!$R$3:$R$5000,'Trade Details'!$D$3:$D$5000,AQ$2,'Trade Details'!$T$3:$T$5000,$A57) -> 0 | AR57: =SUMIFS('Trade Details'!$R$3:$R$5000,'Trade Details'!$D$3:$D$5000,AR$2,'Trade Details'!$T$3:$T$5000,$A57) -> 0 | AS57: =SUMIFS('Trade Details'!$R$3:$R$5000,'Trade Details'!$D$3:$D$5000,AS$2,'Trade Details'!$T$3:$T$5000,$A57) -> 0 | AT57: =IF(AN57=0,0,AN57/AH57) -> 0 | AU57: =IF(AO57=0,0,AO57/AI57) -> 0 | AV57: =IF(AP57=0,0,AP57/AJ57) -> 0 | AW57: =IF(AQ57=0,0,AQ57/AK57) -> 0 | AX57: =IF(AR57=0,0,AR57/AL57) -> 0 | AY57: =IF(AS57=0,0,AS57/AM57) -> 0 | AZ57: =IF(AH57=0,0,SUM(AN57:AS57)/SUM(AH57:AM57)) -> 0 | BL57: =EOMONTH(BL56,1) -> 43677 | BZ57: =IF(D57=0," ",C57&" "&B57) | CA57: =IF(D57=0," ",Z57) | CB57: =IF(D57=0," ",AC57)
