Workbook

Sheet Summary
A1: =MAX('Trade Details'!T3:T5000) -> 9 | B1: Trade Statistics - Closed Trades Only - DTTR | AH1: Trades by Timeframe | AN1: Days Held by Timeframe | AT1: Avge Days Held by Timeframe | BB1: Overview | CA1: Equity | CB1: Drawdown
A2: Month# | B2: Year | C2: Month | D2: Trades | E2: Wins | F2: Pwin% | G2: Losses | H2: Ploss% | I2: Long | J2: Long % | K2: Short | L2: Short % | M2: In-Trend | N2: InTrend % | O2: C-Trend | P2: C-Trend % | Q2: Win$ | R2: Loss$ | S2: Profit$ | T2: Total Win$ | U2: Total Loss$ | V2: Profit $ | W2: Avg Win$ | X2: Avg Loss$ | Y2: Avg Profit $ | Z2: 200000 | AA2: Return% | AB2: Max Equity | AC2: Draw % | AD2: Max Win | AE2: Market | AF2: Max Loss | AG2: Market | AH2: M30 | AI2: H1 | AJ2: H4 | AK2: D1 | AL2: W1 | AM2: MN | AN2: M30 | AO2: H1 | AP2: H4 | AQ2: D1 | AR2: W1 | AS2: MN | AT2: M30 | AU2: H1 | AV2: H4 | AW2: D1 | AX2: W1 | AY2: MN | AZ2: Total | BB2: This portfolio crawls along when compared to the multi-timeframe discretionary breakout strategies however it is fast becoming my preferred strategy. The very selective trade entries combined with the restriction to the D1 timeframe results in few and far between trades, but what a breath of fresh air. This strategy reminds me of some of my favourite long term wealth building techniques like DIBS and the Equity Millipede. We could be holding some of these positions for years providing that market structure is maintained. While trend trading in general has been difficult over the past month or so, unrealised profit in the portfolio is growing to heady levels. Bugatti Veyron here we come. This just goes to demonstrate that we really don't need to trade lower timeframes. A far more peaceful and profitable trading life can be enjoyed out in the longer term timeframes. This is also evident when looking at the most successful CTA's in the industry (eg. Dreiss and DUNN) who trade the weekly timeframes. Once again, it demonstrates that over-trading is the greatest enemy for the trader. It unnecessarily introduces drawdowns into the system and also significantly increases the trading cost base associated with trade frictional costs (spread, SWAP and slippage). Given the mean reversion nature of this strategy back into the primary trend, this system complements the discretionary break-out strategies of the prior post. The retracement entry versus the breakout is sufficient to create a distinctive equity curve that allows for additional returns to be generated with a reduced risk. When trend breakouts are few and far between, this strategy will shine attributed to mean reversion activity. | BL2: Date | BM2: Pwin | BN2: Cum Pwin | BO2: Avg Win$ | BP2: Cum Avg Win$ | BR2: Date | BS2: Total Trades | BT2: Avge Trades | BZ2: 42004 | CB2: 0
A3: 1 | B3: 2016 | C3: Jan | D3: =COUNTIF('Trade Details'!T$3:T$5000,A3) -> 0 | E3: =SUMIF('Trade Details'!T$3:T$5000,A3,'Trade Details'!Z$3:Z$5000) -> 0 | F3: =IF(D3=0,0,E3/D3) -> 0 | G3: =SUMIF('Trade Details'!T$3:T$5000,A3,'Trade Details'!AA$3:AA$5000) -> 0 | H3: =IF(D3=0,0,G3/D3) -> 0 | I3: =SUMIF('Trade Details'!T$3:T$5000,A3,'Trade Details'!V$3:V$5000) -> 0 | J3: =IF($D3=0,0,I3/$D3) -> 0 | K3: =SUMIF('Trade Details'!$T$3:$T$5000,$A3,'Trade Details'!W$3:W$5000) -> 0 | L3: =IF($D3=0,0,K3/$D3) -> 0 | M3: =SUMIF('Trade Details'!$T$3:$T$5000,$A3,'Trade Details'!X$3:X$5000) -> 0 | N3: =IF($D3=0,0,M3/$D3) -> 0 | O3: =SUMIF('Trade Details'!$T$3:$T$5000,$A3,'Trade Details'!Y$3:Y$5000) -> 0 | P3: =IF($D3=0,0,O3/$D3) -> 0 | Q3: =SUMIF('Trade Details'!$T$3:$T$5000,$A3,'Trade Details'!AB$3:AB$5000) -> 0 | R3: =SUMIF('Trade Details'!$T$3:$T$5000,$A3,'Trade Details'!AD$3:AD$5000) -> 0 | S3: =Q3+R3 -> 0 | T3: =IF(D3=0,0,SUMIF('Trade Details'!T$3:T$5000,A3,'Trade Details'!AB$3:AB$5000)) -> 0 | U3: =IF(D3=0,0,SUMIF('Trade Details'!T$3:T$5000,A3,'Trade Details'!AD$3:AD$5000)) -> 0 | V3: =IF(D3=0,0,SUMIF('Trade Details'!T$3:T$5000,A3,'Trade Details'!O$3:O$5000)) -> 0 | W3: =IF(D3=0,0,T3/E3) -> 0 | X3: =IF(G3=0,0,U3/G3) -> 0 | Y3: =IF(D3=0,0,V3/D3) -> 0 | Z3: =S3+Z2 -> 200000 | AA3: =(Z3-Z2)/Z2 -> 0 | AB3: =MAX(Z$2:Z3) -> 200000 | AC3: =(AB3-Z3)/Z3 -> 0 | AD3: {=MAX(IF('Trade Details'!T$3:T$5000=A3,'Trade Details'!AB$3:AB$5000))} -> 0 | AE3: =IF(AD3=0,0,INDEX('Trade Details'!AC$3:AC$5000,(MATCH(AD3,'Trade Details'!AB$3:AB$5000,0)))) -> 0 | AF3: {=MIN(IF('Trade Details'!T$3:T$5000=A3,'Trade Details'!AD$3:AD$5000))} -> 0 | AG3: =IF(AF3=0,0,INDEX('Trade Details'!AC$3:AC$5000,(MATCH(AF3,'Trade Details'!AD$3:AD$5000,0)))) -> 0 | AH3: =COUNTIFS('Trade Details'!$D$3:$D$5000,AH$2,'Trade Details'!$T$3:$T$5000,$A3) -> 0 | AI3: =COUNTIFS('Trade Details'!$D$3:$D$5000,AI$2,'Trade Details'!$T$3:$T$5000,$A3) -> 0 | AJ3: =COUNTIFS('Trade Details'!$D$3:$D$5000,AJ$2,'Trade Details'!$T$3:$T$5000,$A3) -> 0 | AK3: =COUNTIFS('Trade Details'!$D$3:$D$5000,AK$2,'Trade Details'!$T$3:$T$5000,$A3) -> 0 | AL3: =COUNTIFS('Trade Details'!$D$3:$D$5000,AL$2,'Trade Details'!$T$3:$T$5000,$A3) -> 0 | AM3: =COUNTIFS('Trade Details'!$D$3:$D$5000,AM$2,'Trade Details'!$T$3:$T$5000,$A3) -> 0 | AN3: =SUMIFS('Trade Details'!$R$3:$R$5000,'Trade Details'!$D$3:$D$5000,AN$2,'Trade Details'!$T$3:$T$5000,$A3) -> 0 | AO3: =SUMIFS('Trade Details'!$R$3:$R$5000,'Trade Details'!$D$3:$D$5000,AO$2,'Trade Details'!$T$3:$T$5000,$A3) -> 0 | AP3: =SUMIFS('Trade Details'!$R$3:$R$5000,'Trade Details'!$D$3:$D$5000,AP$2,'Trade Details'!$T$3:$T$5000,$A3) -> 0 | AQ3: =SUMIFS('Trade Details'!$R$3:$R$5000,'Trade Details'!$D$3:$D$5000,AQ$2,'Trade Details'!$T$3:$T$5000,$A3) -> 0 | AR3: =SUMIFS('Trade Details'!$R$3:$R$5000,'Trade Details'!$D$3:$D$5000,AR$2,'Trade Details'!$T$3:$T$5000,$A3) -> 0 | AS3: =SUMIFS('Trade Details'!$R$3:$R$5000,'Trade Details'!$D$3:$D$5000,AS$2,'Trade Details'!$T$3:$T$5000,$A3) -> 0 | AT3: =IF(AN3=0,0,AN3/AH3) -> 0 | AU3: =IF(AO3=0,0,AO3/AI3) -> 0 | AV3: =IF(AP3=0,0,AP3/AJ3) -> 0 | AW3: =IF(AQ3=0,0,AQ3/AK3) -> 0 | AX3: =IF(AR3=0,0,AR3/AL3) -> 0 | AY3: =IF(AS3=0,0,AS3/AM3) -> 0 | AZ3: =IF(AH3=0,0,SUM(AN3:AS3)/SUM(AH3:AM3)) -> 0 | BL3: 42035 | BM3: =F3 -> 0 | BN3: =E3/D3 -> #DIV/0! | BO3: =W3 -> 0 | BP3: =T3/E3 -> #DIV/0! | BR3: 42035 | BS3: =D3 -> 0 | BT3: =BS3 -> 0 | BZ3: =C3&" "&B3 -> Jan 2016 | CA3: =IF(D3=0," ",Z3) | CB3: =IF(D3=0," ",AC3)
A4: =A3+1 -> 2 | B4: 2016 | C4: Feb | D4: =COUNTIF('Trade Details'!T$3:T$5000,A4) -> 0 | E4: =SUMIF('Trade Details'!T$3:T$5000,A4,'Trade Details'!Z$3:Z$5000) -> 0 | F4: =IF(D4=0,0,E4/D4) -> 0 | G4: =SUMIF('Trade Details'!T$3:T$5000,A4,'Trade Details'!AA$3:AA$5000) -> 0 | H4: =IF(D4=0,0,G4/D4) -> 0 | I4: =SUMIF('Trade Details'!T$3:T$5000,A4,'Trade Details'!V$3:V$5000) -> 0 | J4: =IF($D4=0,0,I4/$D4) -> 0 | K4: =SUMIF('Trade Details'!$T$3:$T$5000,$A4,'Trade Details'!W$3:W$5000) -> 0 | L4: =IF($D4=0,0,K4/$D4) -> 0 | M4: =SUMIF('Trade Details'!$T$3:$T$5000,$A4,'Trade Details'!X$3:X$5000) -> 0 | N4: =IF($D4=0,0,M4/$D4) -> 0 | O4: =SUMIF('Trade Details'!$T$3:$T$5000,$A4,'Trade Details'!Y$3:Y$5000) -> 0 | P4: =IF($D4=0,0,O4/$D4) -> 0 | Q4: =SUMIF('Trade Details'!$T$3:$T$5000,$A4,'Trade Details'!AB$3:AB$5000) -> 0 | R4: =SUMIF('Trade Details'!$T$3:$T$5000,$A4,'Trade Details'!AD$3:AD$5000) -> 0 | S4: =Q4+R4 -> 0 | T4: =IF(D4=0,0,SUMIF('Trade Details'!T$3:T$5000,A4,'Trade Details'!AB$3:AB$5000)) -> 0 | U4: =IF(D4=0,0,SUMIF('Trade Details'!T$3:T$5000,A4,'Trade Details'!AD$3:AD$5000)) -> 0 | V4: =IF(D4=0,0,SUMIF('Trade Details'!T$3:T$5000,A4,'Trade Details'!O$3:O$5000)) -> 0 | W4: =IF(D4=0,0,T4/E4) -> 0 | X4: =IF(G4=0,0,U4/G4) -> 0 | Y4: =IF(D4=0,0,V4/D4) -> 0 | Z4: =S4+Z3 -> 200000 | AA4: =(Z4-Z3)/Z3 -> 0 | AB4: =MAX(Z$2:Z4) -> 200000 | AC4: =(AB4-Z4)/Z4 -> 0 | AD4: {=MAX(IF('Trade Details'!T$3:T$5000=A4,'Trade Details'!AB$3:AB$5000))} -> 0 | AE4: =IF(AD4=0,0,INDEX('Trade Details'!AC$3:AC$5000,(MATCH(AD4,'Trade Details'!AB$3:AB$5000,0)))) -> 0 | AF4: {=MIN(IF('Trade Details'!T$3:T$5000=A4,'Trade Details'!AD$3:AD$5000))} -> 0 | AG4: =IF(AF4=0,0,INDEX('Trade Details'!AC$3:AC$5000,(MATCH(AF4,'Trade Details'!AD$3:AD$5000,0)))) -> 0 | AH4: =COUNTIFS('Trade Details'!$D$3:$D$5000,AH$2,'Trade Details'!$T$3:$T$5000,$A4) -> 0 | AI4: =COUNTIFS('Trade Details'!$D$3:$D$5000,AI$2,'Trade Details'!$T$3:$T$5000,$A4) -> 0 | AJ4: =COUNTIFS('Trade Details'!$D$3:$D$5000,AJ$2,'Trade Details'!$T$3:$T$5000,$A4) -> 0 | AK4: =COUNTIFS('Trade Details'!$D$3:$D$5000,AK$2,'Trade Details'!$T$3:$T$5000,$A4) -> 0 | AL4: =COUNTIFS('Trade Details'!$D$3:$D$5000,AL$2,'Trade Details'!$T$3:$T$5000,$A4) -> 0 | AM4: =COUNTIFS('Trade Details'!$D$3:$D$5000,AM$2,'Trade Details'!$T$3:$T$5000,$A4) -> 0 | AN4: =SUMIFS('Trade Details'!$R$3:$R$5000,'Trade Details'!$D$3:$D$5000,AN$2,'Trade Details'!$T$3:$T$5000,$A4) -> 0 | AO4: =SUMIFS('Trade Details'!$R$3:$R$5000,'Trade Details'!$D$3:$D$5000,AO$2,'Trade Details'!$T$3:$T$5000,$A4) -> 0 | AP4: =SUMIFS('Trade Details'!$R$3:$R$5000,'Trade Details'!$D$3:$D$5000,AP$2,'Trade Details'!$T$3:$T$5000,$A4) -> 0 | AQ4: =SUMIFS('Trade Details'!$R$3:$R$5000,'Trade Details'!$D$3:$D$5000,AQ$2,'Trade Details'!$T$3:$T$5000,$A4) -> 0 | AR4: =SUMIFS('Trade Details'!$R$3:$R$5000,'Trade Details'!$D$3:$D$5000,AR$2,'Trade Details'!$T$3:$T$5000,$A4) -> 0 | AS4: =SUMIFS('Trade Details'!$R$3:$R$5000,'Trade Details'!$D$3:$D$5000,AS$2,'Trade Details'!$T$3:$T$5000,$A4) -> 0 | AT4: =IF(AN4=0,0,AN4/AH4) -> 0 | AU4: =IF(AO4=0,0,AO4/AI4) -> 0 | AV4: =IF(AP4=0,0,AP4/AJ4) -> 0 | AW4: =IF(AQ4=0,0,AQ4/AK4) -> 0 | AX4: =IF(AR4=0,0,AR4/AL4) -> 0 | AY4: =IF(AS4=0,0,AS4/AM4) -> 0 | AZ4: =IF(AH4=0,0,SUM(AN4:AS4)/SUM(AH4:AM4)) -> 0 | BL4: =EOMONTH(BL3,1) -> 42063 | BM4: =F4 -> 0 | BN4: =SUM(E$3:E4)/SUM(D$3:D4) -> #DIV/0! | BO4: =W4 -> 0 | BP4: =SUM(T$3:T4)/SUM(E$3:E4) -> #DIV/0! | BR4: =EOMONTH(BR3,1) -> 42063 | BS4: =D4 -> 0 | BT4: =ROUND(AVERAGE(BS$3:BS4),0) -> 0 | BZ4: =C4&" "&B4 -> Feb 2016 | CA4: =IF(D4=0," ",Z4) | CB4: =IF(D4=0," ",AC4)
A5: =A4+1 -> 3 | B5: 2016 | C5: Mar | D5: =COUNTIF('Trade Details'!T$3:T$5000,A5) -> 0 | E5: =SUMIF('Trade Details'!T$3:T$5000,A5,'Trade Details'!Z$3:Z$5000) -> 0 | F5: =IF(D5=0,0,E5/D5) -> 0 | G5: =SUMIF('Trade Details'!T$3:T$5000,A5,'Trade Details'!AA$3:AA$5000) -> 0 | H5: =IF(D5=0,0,G5/D5) -> 0 | I5: =SUMIF('Trade Details'!T$3:T$5000,A5,'Trade Details'!V$3:V$5000) -> 0 | J5: =IF($D5=0,0,I5/$D5) -> 0 | K5: =SUMIF('Trade Details'!$T$3:$T$5000,$A5,'Trade Details'!W$3:W$5000) -> 0 | L5: =IF($D5=0,0,K5/$D5) -> 0 | M5: =SUMIF('Trade Details'!$T$3:$T$5000,$A5,'Trade Details'!X$3:X$5000) -> 0 | N5: =IF($D5=0,0,M5/$D5) -> 0 | O5: =SUMIF('Trade Details'!$T$3:$T$5000,$A5,'Trade Details'!Y$3:Y$5000) -> 0 | P5: =IF($D5=0,0,O5/$D5) -> 0 | Q5: =SUMIF('Trade Details'!$T$3:$T$5000,$A5,'Trade Details'!AB$3:AB$5000) -> 0 | R5: =SUMIF('Trade Details'!$T$3:$T$5000,$A5,'Trade Details'!AD$3:AD$5000) -> 0 | S5: =Q5+R5 -> 0 | T5: =IF(D5=0,0,SUMIF('Trade Details'!T$3:T$5000,A5,'Trade Details'!AB$3:AB$5000)) -> 0 | U5: =IF(D5=0,0,SUMIF('Trade Details'!T$3:T$5000,A5,'Trade Details'!AD$3:AD$5000)) -> 0 | V5: =IF(D5=0,0,SUMIF('Trade Details'!T$3:T$5000,A5,'Trade Details'!O$3:O$5000)) -> 0 | W5: =IF(D5=0,0,T5/E5) -> 0 | X5: =IF(G5=0,0,U5/G5) -> 0 | Y5: =IF(D5=0,0,V5/D5) -> 0 | Z5: =S5+Z4 -> 200000 | AA5: =(Z5-Z4)/Z4 -> 0 | AB5: =MAX(Z$2:Z5) -> 200000 | AC5: =(AB5-Z5)/Z5 -> 0 | AD5: {=MAX(IF('Trade Details'!T$3:T$5000=A5,'Trade Details'!AB$3:AB$5000))} -> 0 | AE5: =IF(AD5=0,0,INDEX('Trade Details'!AC$3:AC$5000,(MATCH(AD5,'Trade Details'!AB$3:AB$5000,0)))) -> 0 | AF5: {=MIN(IF('Trade Details'!T$3:T$5000=A5,'Trade Details'!AD$3:AD$5000))} -> 0 | AG5: =IF(AF5=0,0,INDEX('Trade Details'!AC$3:AC$5000,(MATCH(AF5,'Trade Details'!AD$3:AD$5000,0)))) -> 0 | AH5: =COUNTIFS('Trade Details'!$D$3:$D$5000,AH$2,'Trade Details'!$T$3:$T$5000,$A5) -> 0 | AI5: =COUNTIFS('Trade Details'!$D$3:$D$5000,AI$2,'Trade Details'!$T$3:$T$5000,$A5) -> 0 | AJ5: =COUNTIFS('Trade Details'!$D$3:$D$5000,AJ$2,'Trade Details'!$T$3:$T$5000,$A5) -> 0 | AK5: =COUNTIFS('Trade Details'!$D$3:$D$5000,AK$2,'Trade Details'!$T$3:$T$5000,$A5) -> 0 | AL5: =COUNTIFS('Trade Details'!$D$3:$D$5000,AL$2,'Trade Details'!$T$3:$T$5000,$A5) -> 0 | AM5: =COUNTIFS('Trade Details'!$D$3:$D$5000,AM$2,'Trade Details'!$T$3:$T$5000,$A5) -> 0 | AN5: =SUMIFS('Trade Details'!$R$3:$R$5000,'Trade Details'!$D$3:$D$5000,AN$2,'Trade Details'!$T$3:$T$5000,$A5) -> 0 | AO5: =SUMIFS('Trade Details'!$R$3:$R$5000,'Trade Details'!$D$3:$D$5000,AO$2,'Trade Details'!$T$3:$T$5000,$A5) -> 0 | AP5: =SUMIFS('Trade Details'!$R$3:$R$5000,'Trade Details'!$D$3:$D$5000,AP$2,'Trade Details'!$T$3:$T$5000,$A5) -> 0 | AQ5: =SUMIFS('Trade Details'!$R$3:$R$5000,'Trade Details'!$D$3:$D$5000,AQ$2,'Trade Details'!$T$3:$T$5000,$A5) -> 0 | AR5: =SUMIFS('Trade Details'!$R$3:$R$5000,'Trade Details'!$D$3:$D$5000,AR$2,'Trade Details'!$T$3:$T$5000,$A5) -> 0 | AS5: =SUMIFS('Trade Details'!$R$3:$R$5000,'Trade Details'!$D$3:$D$5000,AS$2,'Trade Details'!$T$3:$T$5000,$A5) -> 0 | AT5: =IF(AN5=0,0,AN5/AH5) -> 0 | AU5: =IF(AO5=0,0,AO5/AI5) -> 0 | AV5: =IF(AP5=0,0,AP5/AJ5) -> 0 | AW5: =IF(AQ5=0,0,AQ5/AK5) -> 0 | AX5: =IF(AR5=0,0,AR5/AL5) -> 0 | AY5: =IF(AS5=0,0,AS5/AM5) -> 0 | AZ5: =IF(AH5=0,0,SUM(AN5:AS5)/SUM(AH5:AM5)) -> 0 | BL5: =EOMONTH(BL4,1) -> 42094 | BM5: =F5 -> 0 | BN5: =SUM(E$3:E5)/SUM(D$3:D5) -> #DIV/0! | BO5: =W5 -> 0 | BP5: =SUM(T$3:T5)/SUM(E$3:E5) -> #DIV/0! | BR5: =EOMONTH(BR4,1) -> 42094 | BS5: =D5 -> 0 | BT5: =ROUND(AVERAGE(BS$3:BS5),0) -> 0 | BZ5: =C5&" "&B5 -> Mar 2016 | CA5: =IF(D5=0," ",Z5) | CB5: =IF(D5=0," ",AC5)
A6: =A5+1 -> 4 | B6: 2016 | C6: Apr | D6: =COUNTIF('Trade Details'!T$3:T$5000,A6) -> 1 | E6: =SUMIF('Trade Details'!T$3:T$5000,A6,'Trade Details'!Z$3:Z$5000) -> 1 | F6: =IF(D6=0,0,E6/D6) -> 1 | G6: =SUMIF('Trade Details'!T$3:T$5000,A6,'Trade Details'!AA$3:AA$5000) -> 0 | H6: =IF(D6=0,0,G6/D6) -> 0 | I6: =SUMIF('Trade Details'!T$3:T$5000,A6,'Trade Details'!V$3:V$5000) -> 0 | J6: =IF($D6=0,0,I6/$D6) -> 0 | K6: =SUMIF('Trade Details'!$T$3:$T$5000,$A6,'Trade Details'!W$3:W$5000) -> 1 | L6: =IF($D6=0,0,K6/$D6) -> 1 | M6: =SUMIF('Trade Details'!$T$3:$T$5000,$A6,'Trade Details'!X$3:X$5000) -> 1 | N6: =IF($D6=0,0,M6/$D6) -> 1 | O6: =SUMIF('Trade Details'!$T$3:$T$5000,$A6,'Trade Details'!Y$3:Y$5000) -> 0 | P6: =IF($D6=0,0,O6/$D6) -> 0 | Q6: =SUMIF('Trade Details'!$T$3:$T$5000,$A6,'Trade Details'!AB$3:AB$5000) -> 1457.92 | R6: =SUMIF('Trade Details'!$T$3:$T$5000,$A6,'Trade Details'!AD$3:AD$5000) -> 0 | S6: =Q6+R6 -> 1457.92 | T6: =IF(D6=0,0,SUMIF('Trade Details'!T$3:T$5000,A6,'Trade Details'!AB$3:AB$5000)) -> 1457.92 | U6: =IF(D6=0,0,SUMIF('Trade Details'!T$3:T$5000,A6,'Trade Details'!AD$3:AD$5000)) -> 0 | V6: =IF(D6=0,0,SUMIF('Trade Details'!T$3:T$5000,A6,'Trade Details'!O$3:O$5000)) -> 1457.92 | W6: =IF(D6=0,0,T6/E6) -> 1457.92 | X6: =IF(G6=0,0,U6/G6) -> 0 | Y6: =IF(D6=0,0,V6/D6) -> 1457.92 | Z6: =S6+Z5 -> 201457.92 | AA6: =(Z6-Z5)/Z5 -> 0.0072896 | AB6: =MAX(Z$2:Z6) -> 201457.92 | AC6: =(AB6-Z6)/Z6 -> 0 | AD6: {=MAX(IF('Trade Details'!T$3:T$5000=A6,'Trade Details'!AB$3:AB$5000))} -> 1457.92 | AE6: =IF(AD6=0,0,INDEX('Trade Details'!AC$3:AC$5000,(MATCH(AD6,'Trade Details'!AB$3:AB$5000,0)))) -> AUDCAD | AF6: {=MIN(IF('Trade Details'!T$3:T$5000=A6,'Trade Details'!AD$3:AD$5000))} -> 0 | AG6: =IF(AF6=0,0,INDEX('Trade Details'!AC$3:AC$5000,(MATCH(AF6,'Trade Details'!AD$3:AD$5000,0)))) -> 0 | AH6: =COUNTIFS('Trade Details'!$D$3:$D$5000,AH$2,'Trade Details'!$T$3:$T$5000,$A6) -> 0 | AI6: =COUNTIFS('Trade Details'!$D$3:$D$5000,AI$2,'Trade Details'!$T$3:$T$5000,$A6) -> 0 | AJ6: =COUNTIFS('Trade Details'!$D$3:$D$5000,AJ$2,'Trade Details'!$T$3:$T$5000,$A6) -> 0 | AK6: =COUNTIFS('Trade Details'!$D$3:$D$5000,AK$2,'Trade Details'!$T$3:$T$5000,$A6) -> 1 | AL6: =COUNTIFS('Trade Details'!$D$3:$D$5000,AL$2,'Trade Details'!$T$3:$T$5000,$A6) -> 0 | AM6: =COUNTIFS('Trade Details'!$D$3:$D$5000,AM$2,'Trade Details'!$T$3:$T$5000,$A6) -> 0 | AN6: =SUMIFS('Trade Details'!$R$3:$R$5000,'Trade Details'!$D$3:$D$5000,AN$2,'Trade Details'!$T$3:$T$5000,$A6) -> 0 | AO6: =SUMIFS('Trade Details'!$R$3:$R$5000,'Trade Details'!$D$3:$D$5000,AO$2,'Trade Details'!$T$3:$T$5000,$A6) -> 0 | AP6: =SUMIFS('Trade Details'!$R$3:$R$5000,'Trade Details'!$D$3:$D$5000,AP$2,'Trade Details'!$T$3:$T$5000,$A6) -> 0 | AQ6: =SUMIFS('Trade Details'!$R$3:$R$5000,'Trade Details'!$D$3:$D$5000,AQ$2,'Trade Details'!$T$3:$T$5000,$A6) -> 10 | AR6: =SUMIFS('Trade Details'!$R$3:$R$5000,'Trade Details'!$D$3:$D$5000,AR$2,'Trade Details'!$T$3:$T$5000,$A6) -> 0 | AS6: =SUMIFS('Trade Details'!$R$3:$R$5000,'Trade Details'!$D$3:$D$5000,AS$2,'Trade Details'!$T$3:$T$5000,$A6) -> 0 | AT6: =IF(AN6=0,0,AN6/AH6) -> 0 | AU6: =IF(AO6=0,0,AO6/AI6) -> 0 | AV6: =IF(AP6=0,0,AP6/AJ6) -> 0 | AW6: =IF(AQ6=0,0,AQ6/AK6) -> 10 | AX6: =IF(AR6=0,0,AR6/AL6) -> 0 | AY6: =IF(AS6=0,0,AS6/AM6) -> 0 | AZ6: =IF(AH6=0,0,SUM(AN6:AS6)/SUM(AH6:AM6)) -> 0 | BL6: =EOMONTH(BL5,1) -> 42124 | BM6: =F6 -> 1 | BN6: =SUM(E$3:E6)/SUM(D$3:D6) -> 1 | BO6: =W6 -> 1457.92 | BP6: =SUM(T$3:T6)/SUM(E$3:E6) -> 1457.92 | BR6: =EOMONTH(BR5,1) -> 42124 | BS6: =D6 -> 1 | BT6: =ROUND(AVERAGE(BS$3:BS6),0) -> 0 | BZ6: =BL6 -> 42124 | CA6: =IF(D6=0," ",Z6) -> 201457.92 | CB6: =IF(D6=0," ",AC6) -> 0
A7: =A6+1 -> 5 | B7: 2016 | C7: May | D7: =COUNTIF('Trade Details'!T$3:T$5000,A7) -> 24 | E7: =SUMIF('Trade Details'!T$3:T$5000,A7,'Trade Details'!Z$3:Z$5000) -> 6 | F7: =IF(D7=0,0,E7/D7) -> 0.25 | G7: =SUMIF('Trade Details'!T$3:T$5000,A7,'Trade Details'!AA$3:AA$5000) -> 18 | H7: =IF(D7=0,0,G7/D7) -> 0.75 | I7: =SUMIF('Trade Details'!T$3:T$5000,A7,'Trade Details'!V$3:V$5000) -> 8 | J7: =IF($D7=0,0,I7/$D7) -> 0.33333333 | K7: =SUMIF('Trade Details'!$T$3:$T$5000,$A7,'Trade Details'!W$3:W$5000) -> 16 | L7: =IF($D7=0,0,K7/$D7) -> 0.66666667 | M7: =SUMIF('Trade Details'!$T$3:$T$5000,$A7,'Trade Details'!X$3:X$5000) -> 24 | N7: =IF($D7=0,0,M7/$D7) -> 1 | O7: =SUMIF('Trade Details'!$T$3:$T$5000,$A7,'Trade Details'!Y$3:Y$5000) -> 0 | P7: =IF($D7=0,0,O7/$D7) -> 0 | Q7: =SUMIF('Trade Details'!$T$3:$T$5000,$A7,'Trade Details'!AB$3:AB$5000) -> 2783.36 | R7: =SUMIF('Trade Details'!$T$3:$T$5000,$A7,'Trade Details'!AD$3:AD$5000) -> -4866.5 | S7: =Q7+R7 -> -2083.14 | T7: =IF(D7=0,0,SUMIF('Trade Details'!T$3:T$5000,A7,'Trade Details'!AB$3:AB$5000)) -> 2783.36 | U7: =IF(D7=0,0,SUMIF('Trade Details'!T$3:T$5000,A7,'Trade Details'!AD$3:AD$5000)) -> -4866.5 | V7: =IF(D7=0,0,SUMIF('Trade Details'!T$3:T$5000,A7,'Trade Details'!O$3:O$5000)) -> -2083.14 | W7: =IF(D7=0,0,T7/E7) -> 463.89333 | X7: =IF(G7=0,0,U7/G7) -> -270.36111 | Y7: =IF(D7=0,0,V7/D7) -> -86.7975 | Z7: =S7+Z6 -> 199374.78 | AA7: =(Z7-Z6)/Z6 -> -0.010340323 | AB7: =MAX(Z$2:Z7) -> 201457.92 | AC7: =(AB7-Z7)/Z7 -> 0.010448363 | AD7: {=MAX(IF('Trade Details'!T$3:T$5000=A7,'Trade Details'!AB$3:AB$5000))} -> 1488.3 | AE7: =IF(AD7=0,0,INDEX('Trade Details'!AC$3:AC$5000,(MATCH(AD7,'Trade Details'!AB$3:AB$5000,0)))) -> GBPSGD | AF7: {=MIN(IF('Trade Details'!T$3:T$5000=A7,'Trade Details'!AD$3:AD$5000))} -> -423.9 | AG7: =IF(AF7=0,0,INDEX('Trade Details'!AC$3:AC$5000,(MATCH(AF7,'Trade Details'!AD$3:AD$5000,0)))) -> NZDCAD | AH7: =COUNTIFS('Trade Details'!$D$3:$D$5000,AH$2,'Trade Details'!$T$3:$T$5000,$A7) -> 0 | AI7: =COUNTIFS('Trade Details'!$D$3:$D$5000,AI$2,'Trade Details'!$T$3:$T$5000,$A7) -> 0 | AJ7: =COUNTIFS('Trade Details'!$D$3:$D$5000,AJ$2,'Trade Details'!$T$3:$T$5000,$A7) -> 0 | AK7: =COUNTIFS('Trade Details'!$D$3:$D$5000,AK$2,'Trade Details'!$T$3:$T$5000,$A7) -> 24 | AL7: =COUNTIFS('Trade Details'!$D$3:$D$5000,AL$2,'Trade Details'!$T$3:$T$5000,$A7) -> 0 | AM7: =COUNTIFS('Trade Details'!$D$3:$D$5000,AM$2,'Trade Details'!$T$3:$T$5000,$A7) -> 0 | AN7: =SUMIFS('Trade Details'!$R$3:$R$5000,'Trade Details'!$D$3:$D$5000,AN$2,'Trade Details'!$T$3:$T$5000,$A7) -> 0 | AO7: =SUMIFS('Trade Details'!$R$3:$R$5000,'Trade Details'!$D$3:$D$5000,AO$2,'Trade Details'!$T$3:$T$5000,$A7) -> 0 | AP7: =SUMIFS('Trade Details'!$R$3:$R$5000,'Trade Details'!$D$3:$D$5000,AP$2,'Trade Details'!$T$3:$T$5000,$A7) -> 0 | AQ7: =SUMIFS('Trade Details'!$R$3:$R$5000,'Trade Details'!$D$3:$D$5000,AQ$2,'Trade Details'!$T$3:$T$5000,$A7) -> 342 | AR7: =SUMIFS('Trade Details'!$R$3:$R$5000,'Trade Details'!$D$3:$D$5000,AR$2,'Trade Details'!$T$3:$T$5000,$A7) -> 0 | AS7: =SUMIFS('Trade Details'!$R$3:$R$5000,'Trade Details'!$D$3:$D$5000,AS$2,'Trade Details'!$T$3:$T$5000,$A7) -> 0 | AT7: =IF(AN7=0,0,AN7/AH7) -> 0 | AU7: =IF(AO7=0,0,AO7/AI7) -> 0 | AV7: =IF(AP7=0,0,AP7/AJ7) -> 0 | AW7: =IF(AQ7=0,0,AQ7/AK7) -> 14.25 | AX7: =IF(AR7=0,0,AR7/AL7) -> 0 | AY7: =IF(AS7=0,0,AS7/AM7) -> 0 | AZ7: =IF(AH7=0,0,SUM(AN7:AS7)/SUM(AH7:AM7)) -> 0 | BL7: =EOMONTH(BL6,1) -> 42155 | BM7: =F7 -> 0.25 | BN7: =SUM(E$3:E7)/SUM(D$3:D7) -> 0.28 | BO7: =W7 -> 463.89333 | BP7: =SUM(T$3:T7)/SUM(E$3:E7) -> 605.89714 | BR7: =EOMONTH(BR6,1) -> 42155 | BS7: =D7 -> 24 | BT7: =ROUND(AVERAGE(BS$3:BS7),0) -> 5 | BZ7: =BL7 -> 42155 | CA7: =IF(D7=0," ",Z7) -> 199374.78 | CB7: =IF(D7=0," ",AC7) -> 0.010448363
A8: =A7+1 -> 6 | B8: 2016 | C8: Jun | D8: =COUNTIF('Trade Details'!T$3:T$5000,A8) -> 27 | E8: =SUMIF('Trade Details'!T$3:T$5000,A8,'Trade Details'!Z$3:Z$5000) -> 8 | F8: =IF(D8=0,0,E8/D8) -> 0.2962963 | G8: =SUMIF('Trade Details'!T$3:T$5000,A8,'Trade Details'!AA$3:AA$5000) -> 19 | H8: =IF(D8=0,0,G8/D8) -> 0.7037037 | I8: =SUMIF('Trade Details'!T$3:T$5000,A8,'Trade Details'!V$3:V$5000) -> 8 | J8: =IF($D8=0,0,I8/$D8) -> 0.2962963 | K8: =SUMIF('Trade Details'!$T$3:$T$5000,$A8,'Trade Details'!W$3:W$5000) -> 19 | L8: =IF($D8=0,0,K8/$D8) -> 0.7037037 | M8: =SUMIF('Trade Details'!$T$3:$T$5000,$A8,'Trade Details'!X$3:X$5000) -> 27 | N8: =IF($D8=0,0,M8/$D8) -> 1 | O8: =SUMIF('Trade Details'!$T$3:$T$5000,$A8,'Trade Details'!Y$3:Y$5000) -> 0 | P8: =IF($D8=0,0,O8/$D8) -> 0 | Q8: =SUMIF('Trade Details'!$T$3:$T$5000,$A8,'Trade Details'!AB$3:AB$5000) -> 11697.29 | R8: =SUMIF('Trade Details'!$T$3:$T$5000,$A8,'Trade Details'!AD$3:AD$5000) -> -5703.03 | S8: =Q8+R8 -> 5994.26 | T8: =IF(D8=0,0,SUMIF('Trade Details'!T$3:T$5000,A8,'Trade Details'!AB$3:AB$5000)) -> 11697.29 | U8: =IF(D8=0,0,SUMIF('Trade Details'!T$3:T$5000,A8,'Trade Details'!AD$3:AD$5000)) -> -5703.03 | V8: =IF(D8=0,0,SUMIF('Trade Details'!T$3:T$5000,A8,'Trade Details'!O$3:O$5000)) -> 5994.26 | W8: =IF(D8=0,0,T8/E8) -> 1462.1612 | X8: =IF(G8=0,0,U8/G8) -> -300.15947 | Y8: =IF(D8=0,0,V8/D8) -> 222.00963 | Z8: =S8+Z7 -> 205369.04 | AA8: =(Z8-Z7)/Z7 -> 0.030065287 | AB8: =MAX(Z$2:Z8) -> 205369.04 | AC8: =(AB8-Z8)/Z8 -> 0 | AD8: {=MAX(IF('Trade Details'!T$3:T$5000=A8,'Trade Details'!AB$3:AB$5000))} -> 2241.92 | AE8: =IF(AD8=0,0,INDEX('Trade Details'!AC$3:AC$5000,(MATCH(AD8,'Trade Details'!AB$3:AB$5000,0)))) -> AUDCAD | AF8: {=MIN(IF('Trade Details'!T$3:T$5000=A8,'Trade Details'!AD$3:AD$5000))} -> -502.95 | AG8: =IF(AF8=0,0,INDEX('Trade Details'!AC$3:AC$5000,(MATCH(AF8,'Trade Details'!AD$3:AD$5000,0)))) -> FTSE | AH8: =COUNTIFS('Trade Details'!$D$3:$D$5000,AH$2,'Trade Details'!$T$3:$T$5000,$A8) -> 0 | AI8: =COUNTIFS('Trade Details'!$D$3:$D$5000,AI$2,'Trade Details'!$T$3:$T$5000,$A8) -> 0 | AJ8: =COUNTIFS('Trade Details'!$D$3:$D$5000,AJ$2,'Trade Details'!$T$3:$T$5000,$A8) -> 0 | AK8: =COUNTIFS('Trade Details'!$D$3:$D$5000,AK$2,'Trade Details'!$T$3:$T$5000,$A8) -> 27 | AL8: =COUNTIFS('Trade Details'!$D$3:$D$5000,AL$2,'Trade Details'!$T$3:$T$5000,$A8) -> 0 | AM8: =COUNTIFS('Trade Details'!$D$3:$D$5000,AM$2,'Trade Details'!$T$3:$T$5000,$A8) -> 0 | AN8: =SUMIFS('Trade Details'!$R$3:$R$5000,'Trade Details'!$D$3:$D$5000,AN$2,'Trade Details'!$T$3:$T$5000,$A8) -> 0 | AO8: =SUMIFS('Trade Details'!$R$3:$R$5000,'Trade Details'!$D$3:$D$5000,AO$2,'Trade Details'!$T$3:$T$5000,$A8) -> 0 | AP8: =SUMIFS('Trade Details'!$R$3:$R$5000,'Trade Details'!$D$3:$D$5000,AP$2,'Trade Details'!$T$3:$T$5000,$A8) -> 0 | AQ8: =SUMIFS('Trade Details'!$R$3:$R$5000,'Trade Details'!$D$3:$D$5000,AQ$2,'Trade Details'!$T$3:$T$5000,$A8) -> 455 | AR8: =SUMIFS('Trade Details'!$R$3:$R$5000,'Trade Details'!$D$3:$D$5000,AR$2,'Trade Details'!$T$3:$T$5000,$A8) -> 0 | AS8: =SUMIFS('Trade Details'!$R$3:$R$5000,'Trade Details'!$D$3:$D$5000,AS$2,'Trade Details'!$T$3:$T$5000,$A8) -> 0 | AT8: =IF(AN8=0,0,AN8/AH8) -> 0 | AU8: =IF(AO8=0,0,AO8/AI8) -> 0 | AV8: =IF(AP8=0,0,AP8/AJ8) -> 0 | AW8: =IF(AQ8=0,0,AQ8/AK8) -> 16.851852 | AX8: =IF(AR8=0,0,AR8/AL8) -> 0 | AY8: =IF(AS8=0,0,AS8/AM8) -> 0 | AZ8: =IF(AH8=0,0,SUM(AN8:AS8)/SUM(AH8:AM8)) -> 0 | BL8: =EOMONTH(BL7,1) -> 42185 | BM8: =F8 -> 0.2962963 | BN8: =SUM(E$3:E8)/SUM(D$3:D8) -> 0.28846154 | BO8: =W8 -> 1462.1612 | BP8: =SUM(T$3:T8)/SUM(E$3:E8) -> 1062.5713 | BR8: =EOMONTH(BR7,1) -> 42185 | BS8: =D8 -> 27 | BT8: =ROUND(AVERAGE(BS$3:BS8),0) -> 9 | BZ8: =BL8 -> 42185 | CA8: =IF(D8=0," ",Z8) -> 205369.04 | CB8: =IF(D8=0," ",AC8) -> 0
A9: =A8+1 -> 7 | B9: 2016 | C9: Jul | D9: =COUNTIF('Trade Details'!T$3:T$5000,A9) -> 8 | E9: =SUMIF('Trade Details'!T$3:T$5000,A9,'Trade Details'!Z$3:Z$5000) -> 2 | F9: =IF(D9=0,0,E9/D9) -> 0.25 | G9: =SUMIF('Trade Details'!T$3:T$5000,A9,'Trade Details'!AA$3:AA$5000) -> 6 | H9: =IF(D9=0,0,G9/D9) -> 0.75 | I9: =SUMIF('Trade Details'!T$3:T$5000,A9,'Trade Details'!V$3:V$5000) -> 2 | J9: =IF($D9=0,0,I9/$D9) -> 0.25 | K9: =SUMIF('Trade Details'!$T$3:$T$5000,$A9,'Trade Details'!W$3:W$5000) -> 6 | L9: =IF($D9=0,0,K9/$D9) -> 0.75 | M9: =SUMIF('Trade Details'!$T$3:$T$5000,$A9,'Trade Details'!X$3:X$5000) -> 8 | N9: =IF($D9=0,0,M9/$D9) -> 1 | O9: =SUMIF('Trade Details'!$T$3:$T$5000,$A9,'Trade Details'!Y$3:Y$5000) -> 0 | P9: =IF($D9=0,0,O9/$D9) -> 0 | Q9: =SUMIF('Trade Details'!$T$3:$T$5000,$A9,'Trade Details'!AB$3:AB$5000) -> 2942.64 | R9: =SUMIF('Trade Details'!$T$3:$T$5000,$A9,'Trade Details'!AD$3:AD$5000) -> -1613.46 | S9: =Q9+R9 -> 1329.18 | T9: =IF(D9=0,0,SUMIF('Trade Details'!T$3:T$5000,A9,'Trade Details'!AB$3:AB$5000)) -> 2942.64 | U9: =IF(D9=0,0,SUMIF('Trade Details'!T$3:T$5000,A9,'Trade Details'!AD$3:AD$5000)) -> -1613.46 | V9: =IF(D9=0,0,SUMIF('Trade Details'!T$3:T$5000,A9,'Trade Details'!O$3:O$5000)) -> 1329.18 | W9: =IF(D9=0,0,T9/E9) -> 1471.32 | X9: =IF(G9=0,0,U9/G9) -> -268.91 | Y9: =IF(D9=0,0,V9/D9) -> 166.1475 | Z9: =S9+Z8 -> 206698.22 | AA9: =(Z9-Z8)/Z8 -> 0.0064721537 | AB9: =MAX(Z$2:Z9) -> 206698.22 | AC9: =(AB9-Z9)/Z9 -> 0 | AD9: {=MAX(IF('Trade Details'!T$3:T$5000=A9,'Trade Details'!AB$3:AB$5000))} -> 1480.64 | AE9: =IF(AD9=0,0,INDEX('Trade Details'!AC$3:AC$5000,(MATCH(AD9,'Trade Details'!AB$3:AB$5000,0)))) -> XAGUSD | AF9: {=MIN(IF('Trade Details'!T$3:T$5000=A9,'Trade Details'!AD$3:AD$5000))} -> -389.13 | AG9: =IF(AF9=0,0,INDEX('Trade Details'!AC$3:AC$5000,(MATCH(AF9,'Trade Details'!AD$3:AD$5000,0)))) -> DAX | AH9: =COUNTIFS('Trade Details'!$D$3:$D$5000,AH$2,'Trade Details'!$T$3:$T$5000,$A9) -> 0 | AI9: =COUNTIFS('Trade Details'!$D$3:$D$5000,AI$2,'Trade Details'!$T$3:$T$5000,$A9) -> 0 | AJ9: =COUNTIFS('Trade Details'!$D$3:$D$5000,AJ$2,'Trade Details'!$T$3:$T$5000,$A9) -> 0 | AK9: =COUNTIFS('Trade Details'!$D$3:$D$5000,AK$2,'Trade Details'!$T$3:$T$5000,$A9) -> 8 | AL9: =COUNTIFS('Trade Details'!$D$3:$D$5000,AL$2,'Trade Details'!$T$3:$T$5000,$A9) -> 0 | AM9: =COUNTIFS('Trade Details'!$D$3:$D$5000,AM$2,'Trade Details'!$T$3:$T$5000,$A9) -> 0 | AN9: =SUMIFS('Trade Details'!$R$3:$R$5000,'Trade Details'!$D$3:$D$5000,AN$2,'Trade Details'!$T$3:$T$5000,$A9) -> 0 | AO9: =SUMIFS('Trade Details'!$R$3:$R$5000,'Trade Details'!$D$3:$D$5000,AO$2,'Trade Details'!$T$3:$T$5000,$A9) -> 0 | AP9: =SUMIFS('Trade Details'!$R$3:$R$5000,'Trade Details'!$D$3:$D$5000,AP$2,'Trade Details'!$T$3:$T$5000,$A9) -> 0 | AQ9: =SUMIFS('Trade Details'!$R$3:$R$5000,'Trade Details'!$D$3:$D$5000,AQ$2,'Trade Details'!$T$3:$T$5000,$A9) -> 205 | AR9: =SUMIFS('Trade Details'!$R$3:$R$5000,'Trade Details'!$D$3:$D$5000,AR$2,'Trade Details'!$T$3:$T$5000,$A9) -> 0 | AS9: =SUMIFS('Trade Details'!$R$3:$R$5000,'Trade Details'!$D$3:$D$5000,AS$2,'Trade Details'!$T$3:$T$5000,$A9) -> 0 | AT9: =IF(AN9=0,0,AN9/AH9) -> 0 | AU9: =IF(AO9=0,0,AO9/AI9) -> 0 | AV9: =IF(AP9=0,0,AP9/AJ9) -> 0 | AW9: =IF(AQ9=0,0,AQ9/AK9) -> 25.625 | AX9: =IF(AR9=0,0,AR9/AL9) -> 0 | AY9: =IF(AS9=0,0,AS9/AM9) -> 0 | AZ9: =IF(AH9=0,0,SUM(AN9:AS9)/SUM(AH9:AM9)) -> 0 | BL9: =EOMONTH(BL8,1) -> 42216 | BM9: =F9 -> 0.25 | BN9: =SUM(E$3:E9)/SUM(D$3:D9) -> 0.28333333 | BO9: =W9 -> 1471.32 | BP9: =SUM(T$3:T9)/SUM(E$3:E9) -> 1110.6594 | BR9: =EOMONTH(BR8,1) -> 42216 | BS9: =D9 -> 8 | BT9: =ROUND(AVERAGE(BS$3:BS9),0) -> 9 | BZ9: =BL9 -> 42216 | CA9: =IF(D9=0," ",Z9) -> 206698.22 | CB9: =IF(D9=0," ",AC9) -> 0
A10: =A9+1 -> 8 | B10: 2016 | C10: Aug | D10: =COUNTIF('Trade Details'!T$3:T$5000,A10) -> 17 | E10: =SUMIF('Trade Details'!T$3:T$5000,A10,'Trade Details'!Z$3:Z$5000) -> 7 | F10: =IF(D10=0,0,E10/D10) -> 0.41176471 | G10: =SUMIF('Trade Details'!T$3:T$5000,A10,'Trade Details'!AA$3:AA$5000) -> 10 | H10: =IF(D10=0,0,G10/D10) -> 0.58823529 | I10: =SUMIF('Trade Details'!T$3:T$5000,A10,'Trade Details'!V$3:V$5000) -> 14 | J10: =IF($D10=0,0,I10/$D10) -> 0.82352941 | K10: =SUMIF('Trade Details'!$T$3:$T$5000,$A10,'Trade Details'!W$3:W$5000) -> 3 | L10: =IF($D10=0,0,K10/$D10) -> 0.17647059 | M10: =SUMIF('Trade Details'!$T$3:$T$5000,$A10,'Trade Details'!X$3:X$5000) -> 17 | N10: =IF($D10=0,0,M10/$D10) -> 1 | O10: =SUMIF('Trade Details'!$T$3:$T$5000,$A10,'Trade Details'!Y$3:Y$5000) -> 0 | P10: =IF($D10=0,0,O10/$D10) -> 0 | Q10: =SUMIF('Trade Details'!$T$3:$T$5000,$A10,'Trade Details'!AB$3:AB$5000) -> 1111.68 | R10: =SUMIF('Trade Details'!$T$3:$T$5000,$A10,'Trade Details'!AD$3:AD$5000) -> -2881.22 | S10: =Q10+R10 -> -1769.54 | T10: =IF(D10=0,0,SUMIF('Trade Details'!T$3:T$5000,A10,'Trade Details'!AB$3:AB$5000)) -> 1111.68 | U10: =IF(D10=0,0,SUMIF('Trade Details'!T$3:T$5000,A10,'Trade Details'!AD$3:AD$5000)) -> -2881.22 | V10: =IF(D10=0,0,SUMIF('Trade Details'!T$3:T$5000,A10,'Trade Details'!O$3:O$5000)) -> -1769.54 | W10: =IF(D10=0,0,T10/E10) -> 158.81143 | X10: =IF(G10=0,0,U10/G10) -> -288.122 | Y10: =IF(D10=0,0,V10/D10) -> -104.09059 | Z10: =S10+Z9 -> 204928.68 | AA10: =(Z10-Z9)/Z9 -> -0.0085609833 | AB10: =MAX(Z$2:Z10) -> 206698.22 | AC10: =(AB10-Z10)/Z10 -> 0.0086349065 | AD10: {=MAX(IF('Trade Details'!T$3:T$5000=A10,'Trade Details'!AB$3:AB$5000))} -> 372.6 | AE10: =IF(AD10=0,0,INDEX('Trade Details'!AC$3:AC$5000,(MATCH(AD10,'Trade Details'!AB$3:AB$5000,0)))) -> NIK | AF10: {=MIN(IF('Trade Details'!T$3:T$5000=A10,'Trade Details'!AD$3:AD$5000))} -> -472.57 | AG10: =IF(AF10=0,0,INDEX('Trade Details'!AC$3:AC$5000,(MATCH(AF10,'Trade Details'!AD$3:AD$5000,0)))) -> USDSGD | AH10: =COUNTIFS('Trade Details'!$D$3:$D$5000,AH$2,'Trade Details'!$T$3:$T$5000,$A10) -> 0 | AI10: =COUNTIFS('Trade Details'!$D$3:$D$5000,AI$2,'Trade Details'!$T$3:$T$5000,$A10) -> 0 | AJ10: =COUNTIFS('Trade Details'!$D$3:$D$5000,AJ$2,'Trade Details'!$T$3:$T$5000,$A10) -> 0 | AK10: =COUNTIFS('Trade Details'!$D$3:$D$5000,AK$2,'Trade Details'!$T$3:$T$5000,$A10) -> 17 | AL10: =COUNTIFS('Trade Details'!$D$3:$D$5000,AL$2,'Trade Details'!$T$3:$T$5000,$A10) -> 0 | AM10: =COUNTIFS('Trade Details'!$D$3:$D$5000,AM$2,'Trade Details'!$T$3:$T$5000,$A10) -> 0 | AN10: =SUMIFS('Trade Details'!$R$3:$R$5000,'Trade Details'!$D$3:$D$5000,AN$2,'Trade Details'!$T$3:$T$5000,$A10) -> 0 | AO10: =SUMIFS('Trade Details'!$R$3:$R$5000,'Trade Details'!$D$3:$D$5000,AO$2,'Trade Details'!$T$3:$T$5000,$A10) -> 0 | AP10: =SUMIFS('Trade Details'!$R$3:$R$5000,'Trade Details'!$D$3:$D$5000,AP$2,'Trade Details'!$T$3:$T$5000,$A10) -> 0 | AQ10: =SUMIFS('Trade Details'!$R$3:$R$5000,'Trade Details'!$D$3:$D$5000,AQ$2,'Trade Details'!$T$3:$T$5000,$A10) -> 496 | AR10: =SUMIFS('Trade Details'!$R$3:$R$5000,'Trade Details'!$D$3:$D$5000,AR$2,'Trade Details'!$T$3:$T$5000,$A10) -> 0 | AS10: =SUMIFS('Trade Details'!$R$3:$R$5000,'Trade Details'!$D$3:$D$5000,AS$2,'Trade Details'!$T$3:$T$5000,$A10) -> 0 | AT10: =IF(AN10=0,0,AN10/AH10) -> 0 | AU10: =IF(AO10=0,0,AO10/AI10) -> 0 | AV10: =IF(AP10=0,0,AP10/AJ10) -> 0 | AW10: =IF(AQ10=0,0,AQ10/AK10) -> 29.176471 | AX10: =IF(AR10=0,0,AR10/AL10) -> 0 | AY10: =IF(AS10=0,0,AS10/AM10) -> 0 | AZ10: =IF(AH10=0,0,SUM(AN10:AS10)/SUM(AH10:AM10)) -> 0 | BL10: =EOMONTH(BL9,1) -> 42247 | BM10: =F10 -> 0.41176471 | BN10: =SUM(E$3:E10)/SUM(D$3:D10) -> 0.31168831 | BO10: =W10 -> 158.81143 | BP10: =SUM(T$3:T10)/SUM(E$3:E10) -> 833.03708 | BR10: =EOMONTH(BR9,1) -> 42247 | BS10: =D10 -> 17 | BT10: =ROUND(AVERAGE(BS$3:BS10),0) -> 10 | BZ10: =BL10 -> 42247 | CA10: =IF(D10=0," ",Z10) -> 204928.68 | CB10: =IF(D10=0," ",AC10) -> 0.0086349065
A11: =A10+1 -> 9 | B11: 2016 | C11: Sep | D11: =COUNTIF('Trade Details'!T$3:T$5000,A11) -> 7 | E11: =SUMIF('Trade Details'!T$3:T$5000,A11,'Trade Details'!Z$3:Z$5000) -> 5 | F11: =IF(D11=0,0,E11/D11) -> 0.71428571 | G11: =SUMIF('Trade Details'!T$3:T$5000,A11,'Trade Details'!AA$3:AA$5000) -> 2 | H11: =IF(D11=0,0,G11/D11) -> 0.28571429 | I11: =SUMIF('Trade Details'!T$3:T$5000,A11,'Trade Details'!V$3:V$5000) -> 4 | J11: =IF($D11=0,0,I11/$D11) -> 0.57142857 | K11: =SUMIF('Trade Details'!$T$3:$T$5000,$A11,'Trade Details'!W$3:W$5000) -> 3 | L11: =IF($D11=0,0,K11/$D11) -> 0.42857143 | M11: =SUMIF('Trade Details'!$T$3:$T$5000,$A11,'Trade Details'!X$3:X$5000) -> 7 | N11: =IF($D11=0,0,M11/$D11) -> 1 | O11: =SUMIF('Trade Details'!$T$3:$T$5000,$A11,'Trade Details'!Y$3:Y$5000) -> 0 | P11: =IF($D11=0,0,O11/$D11) -> 0 | Q11: =SUMIF('Trade Details'!$T$3:$T$5000,$A11,'Trade Details'!AB$3:AB$5000) -> 1882.2 | R11: =SUMIF('Trade Details'!$T$3:$T$5000,$A11,'Trade Details'!AD$3:AD$5000) -> -131.6 | S11: =Q11+R11 -> 1750.6 | T11: =IF(D11=0,0,SUMIF('Trade Details'!T$3:T$5000,A11,'Trade Details'!AB$3:AB$5000)) -> 1882.2 | U11: =IF(D11=0,0,SUMIF('Trade Details'!T$3:T$5000,A11,'Trade Details'!AD$3:AD$5000)) -> -131.6 | V11: =IF(D11=0,0,SUMIF('Trade Details'!T$3:T$5000,A11,'Trade Details'!O$3:O$5000)) -> 1750.6 | W11: =IF(D11=0,0,T11/E11) -> 376.44 | X11: =IF(G11=0,0,U11/G11) -> -65.8 | Y11: =IF(D11=0,0,V11/D11) -> 250.08571 | Z11: =S11+Z10 -> 206679.28 | AA11: =(Z11-Z10)/Z10 -> 0.0085424841 | AB11: =MAX(Z$2:Z11) -> 206698.22 | AC11: =(AB11-Z11)/Z11 -> 9.1639568e-05 | AD11: {=MAX(IF('Trade Details'!T$3:T$5000=A11,'Trade Details'!AB$3:AB$5000))} -> 1501.5 | AE11: =IF(AD11=0,0,INDEX('Trade Details'!AC$3:AC$5000,(MATCH(AD11,'Trade Details'!AB$3:AB$5000,0)))) -> ASX | AF11: {=MIN(IF('Trade Details'!T$3:T$5000=A11,'Trade Details'!AD$3:AD$5000))} -> -65.8 | AG11: =IF(AF11=0,0,INDEX('Trade Details'!AC$3:AC$5000,(MATCH(AF11,'Trade Details'!AD$3:AD$5000,0)))) -> USDSGD | AH11: =COUNTIFS('Trade Details'!$D$3:$D$5000,AH$2,'Trade Details'!$T$3:$T$5000,$A11) -> 0 | AI11: =COUNTIFS('Trade Details'!$D$3:$D$5000,AI$2,'Trade Details'!$T$3:$T$5000,$A11) -> 0 | AJ11: =COUNTIFS('Trade Details'!$D$3:$D$5000,AJ$2,'Trade Details'!$T$3:$T$5000,$A11) -> 0 | AK11: =COUNTIFS('Trade Details'!$D$3:$D$5000,AK$2,'Trade Details'!$T$3:$T$5000,$A11) -> 7 | AL11: =COUNTIFS('Trade Details'!$D$3:$D$5000,AL$2,'Trade Details'!$T$3:$T$5000,$A11) -> 0 | AM11: =COUNTIFS('Trade Details'!$D$3:$D$5000,AM$2,'Trade Details'!$T$3:$T$5000,$A11) -> 0 | AN11: =SUMIFS('Trade Details'!$R$3:$R$5000,'Trade Details'!$D$3:$D$5000,AN$2,'Trade Details'!$T$3:$T$5000,$A11) -> 0 | AO11: =SUMIFS('Trade Details'!$R$3:$R$5000,'Trade Details'!$D$3:$D$5000,AO$2,'Trade Details'!$T$3:$T$5000,$A11) -> 0 | AP11: =SUMIFS('Trade Details'!$R$3:$R$5000,'Trade Details'!$D$3:$D$5000,AP$2,'Trade Details'!$T$3:$T$5000,$A11) -> 0 | AQ11: =SUMIFS('Trade Details'!$R$3:$R$5000,'Trade Details'!$D$3:$D$5000,AQ$2,'Trade Details'!$T$3:$T$5000,$A11) -> 342 | AR11: =SUMIFS('Trade Details'!$R$3:$R$5000,'Trade Details'!$D$3:$D$5000,AR$2,'Trade Details'!$T$3:$T$5000,$A11) -> 0 | AS11: =SUMIFS('Trade Details'!$R$3:$R$5000,'Trade Details'!$D$3:$D$5000,AS$2,'Trade Details'!$T$3:$T$5000,$A11) -> 0 | AT11: =IF(AN11=0,0,AN11/AH11) -> 0 | AU11: =IF(AO11=0,0,AO11/AI11) -> 0 | AV11: =IF(AP11=0,0,AP11/AJ11) -> 0 | AW11: =IF(AQ11=0,0,AQ11/AK11) -> 48.857143 | AX11: =IF(AR11=0,0,AR11/AL11) -> 0 | AY11: =IF(AS11=0,0,AS11/AM11) -> 0 | AZ11: =IF(AH11=0,0,SUM(AN11:AS11)/SUM(AH11:AM11)) -> 0 | BL11: =EOMONTH(BL10,1) -> 42277 | BM11: =F11 -> 0.71428571 | BN11: =SUM(E$3:E11)/SUM(D$3:D11) -> 0.3452381 | BO11: =W11 -> 376.44 | BP11: =SUM(T$3:T11)/SUM(E$3:E11) -> 754.31345 | BR11: =EOMONTH(BR10,1) -> 42277 | BS11: =D11 -> 7 | BT11: =ROUND(AVERAGE(BS$3:BS11),0) -> 9 | BZ11: =BL11 -> 42277 | CA11: =IF(D11=0," ",Z11) -> 206679.28 | CB11: =IF(D11=0," ",AC11) -> 9.1639568e-05
A12: =A11+1 -> 10 | B12: 2016 | C12: Oct | D12: =COUNTIF('Trade Details'!T$3:T$5000,A12) -> 0 | E12: =SUMIF('Trade Details'!T$3:T$5000,A12,'Trade Details'!Z$3:Z$5000) -> 0 | F12: =IF(D12=0,0,E12/D12) -> 0 | G12: =SUMIF('Trade Details'!T$3:T$5000,A12,'Trade Details'!AA$3:AA$5000) -> 0 | H12: =IF(D12=0,0,G12/D12) -> 0 | I12: =SUMIF('Trade Details'!T$3:T$5000,A12,'Trade Details'!V$3:V$5000) -> 0 | J12: =IF($D12=0,0,I12/$D12) -> 0 | K12: =SUMIF('Trade Details'!$T$3:$T$5000,$A12,'Trade Details'!W$3:W$5000) -> 0 | L12: =IF($D12=0,0,K12/$D12) -> 0 | M12: =SUMIF('Trade Details'!$T$3:$T$5000,$A12,'Trade Details'!X$3:X$5000) -> 0 | N12: =IF($D12=0,0,M12/$D12) -> 0 | O12: =SUMIF('Trade Details'!$T$3:$T$5000,$A12,'Trade Details'!Y$3:Y$5000) -> 0 | P12: =IF($D12=0,0,O12/$D12) -> 0 | Q12: =SUMIF('Trade Details'!$T$3:$T$5000,$A12,'Trade Details'!AB$3:AB$5000) -> 0 | R12: =SUMIF('Trade Details'!$T$3:$T$5000,$A12,'Trade Details'!AD$3:AD$5000) -> 0 | S12: =Q12+R12 -> 0 | T12: =IF(D12=0,0,SUMIF('Trade Details'!T$3:T$5000,A12,'Trade Details'!AB$3:AB$5000)) -> 0 | U12: =IF(D12=0,0,SUMIF('Trade Details'!T$3:T$5000,A12,'Trade Details'!AD$3:AD$5000)) -> 0 | V12: =IF(D12=0,0,SUMIF('Trade Details'!T$3:T$5000,A12,'Trade Details'!O$3:O$5000)) -> 0 | W12: =IF(D12=0,0,T12/E12) -> 0 | X12: =IF(G12=0,0,U12/G12) -> 0 | Y12: =IF(D12=0,0,V12/D12) -> 0 | Z12: =S12+Z11 -> 206679.28 | AA12: =(Z12-Z11)/Z11 -> 0 | AB12: =MAX(Z$2:Z12) -> 206698.22 | AC12: =(AB12-Z12)/Z12 -> 9.1639568e-05 | AD12: {=MAX(IF('Trade Details'!T$3:T$5000=A12,'Trade Details'!AB$3:AB$5000))} -> 0 | AE12: =IF(AD12=0,0,INDEX('Trade Details'!AC$3:AC$5000,(MATCH(AD12,'Trade Details'!AB$3:AB$5000,0)))) -> 0 | AF12: {=MIN(IF('Trade Details'!T$3:T$5000=A12,'Trade Details'!AD$3:AD$5000))} -> 0 | AG12: =IF(AF12=0,0,INDEX('Trade Details'!AC$3:AC$5000,(MATCH(AF12,'Trade Details'!AD$3:AD$5000,0)))) -> 0 | AH12: =COUNTIFS('Trade Details'!$D$3:$D$5000,AH$2,'Trade Details'!$T$3:$T$5000,$A12) -> 0 | AI12: =COUNTIFS('Trade Details'!$D$3:$D$5000,AI$2,'Trade Details'!$T$3:$T$5000,$A12) -> 0 | AJ12: =COUNTIFS('Trade Details'!$D$3:$D$5000,AJ$2,'Trade Details'!$T$3:$T$5000,$A12) -> 0 | AK12: =COUNTIFS('Trade Details'!$D$3:$D$5000,AK$2,'Trade Details'!$T$3:$T$5000,$A12) -> 0 | AL12: =COUNTIFS('Trade Details'!$D$3:$D$5000,AL$2,'Trade Details'!$T$3:$T$5000,$A12) -> 0 | AM12: =COUNTIFS('Trade Details'!$D$3:$D$5000,AM$2,'Trade Details'!$T$3:$T$5000,$A12) -> 0 | AN12: =SUMIFS('Trade Details'!$R$3:$R$5000,'Trade Details'!$D$3:$D$5000,AN$2,'Trade Details'!$T$3:$T$5000,$A12) -> 0 | AO12: =SUMIFS('Trade Details'!$R$3:$R$5000,'Trade Details'!$D$3:$D$5000,AO$2,'Trade Details'!$T$3:$T$5000,$A12) -> 0 | AP12: =SUMIFS('Trade Details'!$R$3:$R$5000,'Trade Details'!$D$3:$D$5000,AP$2,'Trade Details'!$T$3:$T$5000,$A12) -> 0 | AQ12: =SUMIFS('Trade Details'!$R$3:$R$5000,'Trade Details'!$D$3:$D$5000,AQ$2,'Trade Details'!$T$3:$T$5000,$A12) -> 0 | AR12: =SUMIFS('Trade Details'!$R$3:$R$5000,'Trade Details'!$D$3:$D$5000,AR$2,'Trade Details'!$T$3:$T$5000,$A12) -> 0 | AS12: =SUMIFS('Trade Details'!$R$3:$R$5000,'Trade Details'!$D$3:$D$5000,AS$2,'Trade Details'!$T$3:$T$5000,$A12) -> 0 | AT12: =IF(AN12=0,0,AN12/AH12) -> 0 | AU12: =IF(AO12=0,0,AO12/AI12) -> 0 | AV12: =IF(AP12=0,0,AP12/AJ12) -> 0 | AW12: =IF(AQ12=0,0,AQ12/AK12) -> 0 | AX12: =IF(AR12=0,0,AR12/AL12) -> 0 | AY12: =IF(AS12=0,0,AS12/AM12) -> 0 | AZ12: =IF(AH12=0,0,SUM(AN12:AS12)/SUM(AH12:AM12)) -> 0 | BL12: =EOMONTH(BL11,1) -> 42308 | BZ12: =BL12 -> 42308 | CA12: =IF(D12=0," ",Z12) | CB12: =IF(D12=0," ",AC12)
A13: =A12+1 -> 11 | B13: 2016 | C13: Nov | D13: =COUNTIF('Trade Details'!T$3:T$5000,A13) -> 0 | E13: =SUMIF('Trade Details'!T$3:T$5000,A13,'Trade Details'!Z$3:Z$5000) -> 0 | F13: =IF(D13=0,0,E13/D13) -> 0 | G13: =SUMIF('Trade Details'!T$3:T$5000,A13,'Trade Details'!AA$3:AA$5000) -> 0 | H13: =IF(D13=0,0,G13/D13) -> 0 | I13: =SUMIF('Trade Details'!T$3:T$5000,A13,'Trade Details'!V$3:V$5000) -> 0 | J13: =IF($D13=0,0,I13/$D13) -> 0 | K13: =SUMIF('Trade Details'!$T$3:$T$5000,$A13,'Trade Details'!W$3:W$5000) -> 0 | L13: =IF($D13=0,0,K13/$D13) -> 0 | M13: =SUMIF('Trade Details'!$T$3:$T$5000,$A13,'Trade Details'!X$3:X$5000) -> 0 | N13: =IF($D13=0,0,M13/$D13) -> 0 | O13: =SUMIF('Trade Details'!$T$3:$T$5000,$A13,'Trade Details'!Y$3:Y$5000) -> 0 | P13: =IF($D13=0,0,O13/$D13) -> 0 | Q13: =SUMIF('Trade Details'!$T$3:$T$5000,$A13,'Trade Details'!AB$3:AB$5000) -> 0 | R13: =SUMIF('Trade Details'!$T$3:$T$5000,$A13,'Trade Details'!AD$3:AD$5000) -> 0 | S13: =Q13+R13 -> 0 | T13: =IF(D13=0,0,SUMIF('Trade Details'!T$3:T$5000,A13,'Trade Details'!AB$3:AB$5000)) -> 0 | U13: =IF(D13=0,0,SUMIF('Trade Details'!T$3:T$5000,A13,'Trade Details'!AD$3:AD$5000)) -> 0 | V13: =IF(D13=0,0,SUMIF('Trade Details'!T$3:T$5000,A13,'Trade Details'!O$3:O$5000)) -> 0 | W13: =IF(D13=0,0,T13/E13) -> 0 | X13: =IF(G13=0,0,U13/G13) -> 0 | Y13: =IF(D13=0,0,V13/D13) -> 0 | Z13: =S13+Z12 -> 206679.28 | AA13: =(Z13-Z12)/Z12 -> 0 | AB13: =MAX(Z$2:Z13) -> 206698.22 | AC13: =(AB13-Z13)/Z13 -> 9.1639568e-05 | AD13: {=MAX(IF('Trade Details'!T$3:T$5000=A13,'Trade Details'!AB$3:AB$5000))} -> 0 | AE13: =IF(AD13=0,0,INDEX('Trade Details'!AC$3:AC$5000,(MATCH(AD13,'Trade Details'!AB$3:AB$5000,0)))) -> 0 | AF13: {=MIN(IF('Trade Details'!T$3:T$5000=A13,'Trade Details'!AD$3:AD$5000))} -> 0 | AG13: =IF(AF13=0,0,INDEX('Trade Details'!AC$3:AC$5000,(MATCH(AF13,'Trade Details'!AD$3:AD$5000,0)))) -> 0 | AH13: =COUNTIFS('Trade Details'!$D$3:$D$5000,AH$2,'Trade Details'!$T$3:$T$5000,$A13) -> 0 | AI13: =COUNTIFS('Trade Details'!$D$3:$D$5000,AI$2,'Trade Details'!$T$3:$T$5000,$A13) -> 0 | AJ13: =COUNTIFS('Trade Details'!$D$3:$D$5000,AJ$2,'Trade Details'!$T$3:$T$5000,$A13) -> 0 | AK13: =COUNTIFS('Trade Details'!$D$3:$D$5000,AK$2,'Trade Details'!$T$3:$T$5000,$A13) -> 0 | AL13: =COUNTIFS('Trade Details'!$D$3:$D$5000,AL$2,'Trade Details'!$T$3:$T$5000,$A13) -> 0 | AM13: =COUNTIFS('Trade Details'!$D$3:$D$5000,AM$2,'Trade Details'!$T$3:$T$5000,$A13) -> 0 | AN13: =SUMIFS('Trade Details'!$R$3:$R$5000,'Trade Details'!$D$3:$D$5000,AN$2,'Trade Details'!$T$3:$T$5000,$A13) -> 0 | AO13: =SUMIFS('Trade Details'!$R$3:$R$5000,'Trade Details'!$D$3:$D$5000,AO$2,'Trade Details'!$T$3:$T$5000,$A13) -> 0 | AP13: =SUMIFS('Trade Details'!$R$3:$R$5000,'Trade Details'!$D$3:$D$5000,AP$2,'Trade Details'!$T$3:$T$5000,$A13) -> 0 | AQ13: =SUMIFS('Trade Details'!$R$3:$R$5000,'Trade Details'!$D$3:$D$5000,AQ$2,'Trade Details'!$T$3:$T$5000,$A13) -> 0 | AR13: =SUMIFS('Trade Details'!$R$3:$R$5000,'Trade Details'!$D$3:$D$5000,AR$2,'Trade Details'!$T$3:$T$5000,$A13) -> 0 | AS13: =SUMIFS('Trade Details'!$R$3:$R$5000,'Trade Details'!$D$3:$D$5000,AS$2,'Trade Details'!$T$3:$T$5000,$A13) -> 0 | AT13: =IF(AN13=0,0,AN13/AH13) -> 0 | AU13: =IF(AO13=0,0,AO13/AI13) -> 0 | AV13: =IF(AP13=0,0,AP13/AJ13) -> 0 | AW13: =IF(AQ13=0,0,AQ13/AK13) -> 0 | AX13: =IF(AR13=0,0,AR13/AL13) -> 0 | AY13: =IF(AS13=0,0,AS13/AM13) -> 0 | AZ13: =IF(AH13=0,0,SUM(AN13:AS13)/SUM(AH13:AM13)) -> 0 | BL13: =EOMONTH(BL12,1) -> 42338 | BZ13: =BL13 -> 42338 | CA13: =IF(D13=0," ",Z13) | CB13: =IF(D13=0," ",AC13)
A14: =A13+1 -> 12 | B14: 2016 | C14: Dec | D14: =COUNTIF('Trade Details'!T$3:T$5000,A14) -> 0 | E14: =SUMIF('Trade Details'!T$3:T$5000,A14,'Trade Details'!Z$3:Z$5000) -> 0 | F14: =IF(D14=0,0,E14/D14) -> 0 | G14: =SUMIF('Trade Details'!T$3:T$5000,A14,'Trade Details'!AA$3:AA$5000) -> 0 | H14: =IF(D14=0,0,G14/D14) -> 0 | I14: =SUMIF('Trade Details'!T$3:T$5000,A14,'Trade Details'!V$3:V$5000) -> 0 | J14: =IF($D14=0,0,I14/$D14) -> 0 | K14: =SUMIF('Trade Details'!$T$3:$T$5000,$A14,'Trade Details'!W$3:W$5000) -> 0 | L14: =IF($D14=0,0,K14/$D14) -> 0 | M14: =SUMIF('Trade Details'!$T$3:$T$5000,$A14,'Trade Details'!X$3:X$5000) -> 0 | N14: =IF($D14=0,0,M14/$D14) -> 0 | O14: =SUMIF('Trade Details'!$T$3:$T$5000,$A14,'Trade Details'!Y$3:Y$5000) -> 0 | P14: =IF($D14=0,0,O14/$D14) -> 0 | Q14: =SUMIF('Trade Details'!$T$3:$T$5000,$A14,'Trade Details'!AB$3:AB$5000) -> 0 | R14: =SUMIF('Trade Details'!$T$3:$T$5000,$A14,'Trade Details'!AD$3:AD$5000) -> 0 | S14: =Q14+R14 -> 0 | T14: =IF(D14=0,0,SUMIF('Trade Details'!T$3:T$5000,A14,'Trade Details'!AB$3:AB$5000)) -> 0 | U14: =IF(D14=0,0,SUMIF('Trade Details'!T$3:T$5000,A14,'Trade Details'!AD$3:AD$5000)) -> 0 | V14: =IF(D14=0,0,SUMIF('Trade Details'!T$3:T$5000,A14,'Trade Details'!O$3:O$5000)) -> 0 | W14: =IF(D14=0,0,T14/E14) -> 0 | X14: =IF(G14=0,0,U14/G14) -> 0 | Y14: =IF(D14=0,0,V14/D14) -> 0 | Z14: =S14+Z13 -> 206679.28 | AA14: =(Z14-Z13)/Z13 -> 0 | AB14: =MAX(Z$2:Z14) -> 206698.22 | AC14: =(AB14-Z14)/Z14 -> 9.1639568e-05 | AD14: {=MAX(IF('Trade Details'!T$3:T$5000=A14,'Trade Details'!AB$3:AB$5000))} -> 0 | AE14: =IF(AD14=0,0,INDEX('Trade Details'!AC$3:AC$5000,(MATCH(AD14,'Trade Details'!AB$3:AB$5000,0)))) -> 0 | AF14: {=MIN(IF('Trade Details'!T$3:T$5000=A14,'Trade Details'!AD$3:AD$5000))} -> 0 | AG14: =IF(AF14=0,0,INDEX('Trade Details'!AC$3:AC$5000,(MATCH(AF14,'Trade Details'!AD$3:AD$5000,0)))) -> 0 | AH14: =COUNTIFS('Trade Details'!$D$3:$D$5000,AH$2,'Trade Details'!$T$3:$T$5000,$A14) -> 0 | AI14: =COUNTIFS('Trade Details'!$D$3:$D$5000,AI$2,'Trade Details'!$T$3:$T$5000,$A14) -> 0 | AJ14: =COUNTIFS('Trade Details'!$D$3:$D$5000,AJ$2,'Trade Details'!$T$3:$T$5000,$A14) -> 0 | AK14: =COUNTIFS('Trade Details'!$D$3:$D$5000,AK$2,'Trade Details'!$T$3:$T$5000,$A14) -> 0 | AL14: =COUNTIFS('Trade Details'!$D$3:$D$5000,AL$2,'Trade Details'!$T$3:$T$5000,$A14) -> 0 | AM14: =COUNTIFS('Trade Details'!$D$3:$D$5000,AM$2,'Trade Details'!$T$3:$T$5000,$A14) -> 0 | AN14: =SUMIFS('Trade Details'!$R$3:$R$5000,'Trade Details'!$D$3:$D$5000,AN$2,'Trade Details'!$T$3:$T$5000,$A14) -> 0 | AO14: =SUMIFS('Trade Details'!$R$3:$R$5000,'Trade Details'!$D$3:$D$5000,AO$2,'Trade Details'!$T$3:$T$5000,$A14) -> 0 | AP14: =SUMIFS('Trade Details'!$R$3:$R$5000,'Trade Details'!$D$3:$D$5000,AP$2,'Trade Details'!$T$3:$T$5000,$A14) -> 0 | AQ14: =SUMIFS('Trade Details'!$R$3:$R$5000,'Trade Details'!$D$3:$D$5000,AQ$2,'Trade Details'!$T$3:$T$5000,$A14) -> 0 | AR14: =SUMIFS('Trade Details'!$R$3:$R$5000,'Trade Details'!$D$3:$D$5000,AR$2,'Trade Details'!$T$3:$T$5000,$A14) -> 0 | AS14: =SUMIFS('Trade Details'!$R$3:$R$5000,'Trade Details'!$D$3:$D$5000,AS$2,'Trade Details'!$T$3:$T$5000,$A14) -> 0 | AT14: =IF(AN14=0,0,AN14/AH14) -> 0 | AU14: =IF(AO14=0,0,AO14/AI14) -> 0 | AV14: =IF(AP14=0,0,AP14/AJ14) -> 0 | AW14: =IF(AQ14=0,0,AQ14/AK14) -> 0 | AX14: =IF(AR14=0,0,AR14/AL14) -> 0 | AY14: =IF(AS14=0,0,AS14/AM14) -> 0 | AZ14: =IF(AH14=0,0,SUM(AN14:AS14)/SUM(AH14:AM14)) -> 0 | BL14: =EOMONTH(BL13,1) -> 42369 | BZ14: =BL14 -> 42369 | CA14: =IF(D14=0," ",Z14) | CB14: =IF(D14=0," ",AC14)
A15: =A14+1 -> 13 | B15: =B14+1 -> 2017 | C15: Jan | D15: =COUNTIF('Trade Details'!T$3:T$5000,A15) -> 0 | E15: =SUMIF('Trade Details'!T$3:T$5000,A15,'Trade Details'!Z$3:Z$5000) -> 0 | F15: =IF(D15=0,0,E15/D15) -> 0 | G15: =SUMIF('Trade Details'!T$3:T$5000,A15,'Trade Details'!AA$3:AA$5000) -> 0 | H15: =IF(D15=0,0,G15/D15) -> 0 | I15: =SUMIF('Trade Details'!T$3:T$5000,A15,'Trade Details'!V$3:V$5000) -> 0 | J15: =IF($D15=0,0,I15/$D15) -> 0 | K15: =SUMIF('Trade Details'!$T$3:$T$5000,$A15,'Trade Details'!W$3:W$5000) -> 0 | L15: =IF($D15=0,0,K15/$D15) -> 0 | M15: =SUMIF('Trade Details'!$T$3:$T$5000,$A15,'Trade Details'!X$3:X$5000) -> 0 | N15: =IF($D15=0,0,M15/$D15) -> 0 | O15: =SUMIF('Trade Details'!$T$3:$T$5000,$A15,'Trade Details'!Y$3:Y$5000) -> 0 | P15: =IF($D15=0,0,O15/$D15) -> 0 | Q15: =SUMIF('Trade Details'!$T$3:$T$5000,$A15,'Trade Details'!AB$3:AB$5000) -> 0 | R15: =SUMIF('Trade Details'!$T$3:$T$5000,$A15,'Trade Details'!AD$3:AD$5000) -> 0 | S15: =Q15+R15 -> 0 | T15: =IF(D15=0,0,SUMIF('Trade Details'!T$3:T$5000,A15,'Trade Details'!AB$3:AB$5000)) -> 0 | U15: =IF(D15=0,0,SUMIF('Trade Details'!T$3:T$5000,A15,'Trade Details'!AD$3:AD$5000)) -> 0 | V15: =IF(D15=0,0,SUMIF('Trade Details'!T$3:T$5000,A15,'Trade Details'!O$3:O$5000)) -> 0 | W15: =IF(D15=0,0,T15/E15) -> 0 | X15: =IF(G15=0,0,U15/G15) -> 0 | Y15: =IF(D15=0,0,V15/D15) -> 0 | Z15: =S15+Z14 -> 206679.28 | AA15: =(Z15-Z14)/Z14 -> 0 | AB15: =MAX(Z$2:Z15) -> 206698.22 | AC15: =(AB15-Z15)/Z15 -> 9.1639568e-05 | AD15: {=MAX(IF('Trade Details'!T$3:T$5000=A15,'Trade Details'!AB$3:AB$5000))} -> 0 | AE15: =IF(AD15=0,0,INDEX('Trade Details'!AC$3:AC$5000,(MATCH(AD15,'Trade Details'!AB$3:AB$5000,0)))) -> 0 | AF15: {=MIN(IF('Trade Details'!T$3:T$5000=A15,'Trade Details'!AD$3:AD$5000))} -> 0 | AG15: =IF(AF15=0,0,INDEX('Trade Details'!AC$3:AC$5000,(MATCH(AF15,'Trade Details'!AD$3:AD$5000,0)))) -> 0 | AH15: =COUNTIFS('Trade Details'!$D$3:$D$5000,AH$2,'Trade Details'!$T$3:$T$5000,$A15) -> 0 | AI15: =COUNTIFS('Trade Details'!$D$3:$D$5000,AI$2,'Trade Details'!$T$3:$T$5000,$A15) -> 0 | AJ15: =COUNTIFS('Trade Details'!$D$3:$D$5000,AJ$2,'Trade Details'!$T$3:$T$5000,$A15) -> 0 | AK15: =COUNTIFS('Trade Details'!$D$3:$D$5000,AK$2,'Trade Details'!$T$3:$T$5000,$A15) -> 0 | AL15: =COUNTIFS('Trade Details'!$D$3:$D$5000,AL$2,'Trade Details'!$T$3:$T$5000,$A15) -> 0 | AM15: =COUNTIFS('Trade Details'!$D$3:$D$5000,AM$2,'Trade Details'!$T$3:$T$5000,$A15) -> 0 | AN15: =SUMIFS('Trade Details'!$R$3:$R$5000,'Trade Details'!$D$3:$D$5000,AN$2,'Trade Details'!$T$3:$T$5000,$A15) -> 0 | AO15: =SUMIFS('Trade Details'!$R$3:$R$5000,'Trade Details'!$D$3:$D$5000,AO$2,'Trade Details'!$T$3:$T$5000,$A15) -> 0 | AP15: =SUMIFS('Trade Details'!$R$3:$R$5000,'Trade Details'!$D$3:$D$5000,AP$2,'Trade Details'!$T$3:$T$5000,$A15) -> 0 | AQ15: =SUMIFS('Trade Details'!$R$3:$R$5000,'Trade Details'!$D$3:$D$5000,AQ$2,'Trade Details'!$T$3:$T$5000,$A15) -> 0 | AR15: =SUMIFS('Trade Details'!$R$3:$R$5000,'Trade Details'!$D$3:$D$5000,AR$2,'Trade Details'!$T$3:$T$5000,$A15) -> 0 | AS15: =SUMIFS('Trade Details'!$R$3:$R$5000,'Trade Details'!$D$3:$D$5000,AS$2,'Trade Details'!$T$3:$T$5000,$A15) -> 0 | AT15: =IF(AN15=0,0,AN15/AH15) -> 0 | AU15: =IF(AO15=0,0,AO15/AI15) -> 0 | AV15: =IF(AP15=0,0,AP15/AJ15) -> 0 | AW15: =IF(AQ15=0,0,AQ15/AK15) -> 0 | AX15: =IF(AR15=0,0,AR15/AL15) -> 0 | AY15: =IF(AS15=0,0,AS15/AM15) -> 0 | AZ15: =IF(AH15=0,0,SUM(AN15:AS15)/SUM(AH15:AM15)) -> 0 | BL15: =EOMONTH(BL14,1) -> 42400 | BZ15: =BL15 -> 42400 | CA15: =IF(D15=0," ",Z15) | CB15: =IF(D15=0," ",AC15)
A16: =A15+1 -> 14 | B16: =B15 -> 2017 | C16: Feb | D16: =COUNTIF('Trade Details'!T$3:T$5000,A16) -> 0 | E16: =SUMIF('Trade Details'!T$3:T$5000,A16,'Trade Details'!Z$3:Z$5000) -> 0 | F16: =IF(D16=0,0,E16/D16) -> 0 | G16: =SUMIF('Trade Details'!T$3:T$5000,A16,'Trade Details'!AA$3:AA$5000) -> 0 | H16: =IF(D16=0,0,G16/D16) -> 0 | I16: =SUMIF('Trade Details'!T$3:T$5000,A16,'Trade Details'!V$3:V$5000) -> 0 | J16: =IF($D16=0,0,I16/$D16) -> 0 | K16: =SUMIF('Trade Details'!$T$3:$T$5000,$A16,'Trade Details'!W$3:W$5000) -> 0 | L16: =IF($D16=0,0,K16/$D16) -> 0 | M16: =SUMIF('Trade Details'!$T$3:$T$5000,$A16,'Trade Details'!X$3:X$5000) -> 0 | N16: =IF($D16=0,0,M16/$D16) -> 0 | O16: =SUMIF('Trade Details'!$T$3:$T$5000,$A16,'Trade Details'!Y$3:Y$5000) -> 0 | P16: =IF($D16=0,0,O16/$D16) -> 0 | Q16: =SUMIF('Trade Details'!$T$3:$T$5000,$A16,'Trade Details'!AB$3:AB$5000) -> 0 | R16: =SUMIF('Trade Details'!$T$3:$T$5000,$A16,'Trade Details'!AD$3:AD$5000) -> 0 | S16: =Q16+R16 -> 0 | T16: =IF(D16=0,0,SUMIF('Trade Details'!T$3:T$5000,A16,'Trade Details'!AB$3:AB$5000)) -> 0 | U16: =IF(D16=0,0,SUMIF('Trade Details'!T$3:T$5000,A16,'Trade Details'!AD$3:AD$5000)) -> 0 | V16: =IF(D16=0,0,SUMIF('Trade Details'!T$3:T$5000,A16,'Trade Details'!O$3:O$5000)) -> 0 | W16: =IF(D16=0,0,T16/E16) -> 0 | X16: =IF(G16=0,0,U16/G16) -> 0 | Y16: =IF(D16=0,0,V16/D16) -> 0 | Z16: =S16+Z15 -> 206679.28 | AA16: =(Z16-Z15)/Z15 -> 0 | AB16: =MAX(Z$2:Z16) -> 206698.22 | AC16: =(AB16-Z16)/Z16 -> 9.1639568e-05 | AD16: {=MAX(IF('Trade Details'!T$3:T$5000=A16,'Trade Details'!AB$3:AB$5000))} -> 0 | AE16: =IF(AD16=0,0,INDEX('Trade Details'!AC$3:AC$5000,(MATCH(AD16,'Trade Details'!AB$3:AB$5000,0)))) -> 0 | AF16: {=MIN(IF('Trade Details'!T$3:T$5000=A16,'Trade Details'!AD$3:AD$5000))} -> 0 | AG16: =IF(AF16=0,0,INDEX('Trade Details'!AC$3:AC$5000,(MATCH(AF16,'Trade Details'!AD$3:AD$5000,0)))) -> 0 | AH16: =COUNTIFS('Trade Details'!$D$3:$D$5000,AH$2,'Trade Details'!$T$3:$T$5000,$A16) -> 0 | AI16: =COUNTIFS('Trade Details'!$D$3:$D$5000,AI$2,'Trade Details'!$T$3:$T$5000,$A16) -> 0 | AJ16: =COUNTIFS('Trade Details'!$D$3:$D$5000,AJ$2,'Trade Details'!$T$3:$T$5000,$A16) -> 0 | AK16: =COUNTIFS('Trade Details'!$D$3:$D$5000,AK$2,'Trade Details'!$T$3:$T$5000,$A16) -> 0 | AL16: =COUNTIFS('Trade Details'!$D$3:$D$5000,AL$2,'Trade Details'!$T$3:$T$5000,$A16) -> 0 | AM16: =COUNTIFS('Trade Details'!$D$3:$D$5000,AM$2,'Trade Details'!$T$3:$T$5000,$A16) -> 0 | AN16: =SUMIFS('Trade Details'!$R$3:$R$5000,'Trade Details'!$D$3:$D$5000,AN$2,'Trade Details'!$T$3:$T$5000,$A16) -> 0 | AO16: =SUMIFS('Trade Details'!$R$3:$R$5000,'Trade Details'!$D$3:$D$5000,AO$2,'Trade Details'!$T$3:$T$5000,$A16) -> 0 | AP16: =SUMIFS('Trade Details'!$R$3:$R$5000,'Trade Details'!$D$3:$D$5000,AP$2,'Trade Details'!$T$3:$T$5000,$A16) -> 0 | AQ16: =SUMIFS('Trade Details'!$R$3:$R$5000,'Trade Details'!$D$3:$D$5000,AQ$2,'Trade Details'!$T$3:$T$5000,$A16) -> 0 | AR16: =SUMIFS('Trade Details'!$R$3:$R$5000,'Trade Details'!$D$3:$D$5000,AR$2,'Trade Details'!$T$3:$T$5000,$A16) -> 0 | AS16: =SUMIFS('Trade Details'!$R$3:$R$5000,'Trade Details'!$D$3:$D$5000,AS$2,'Trade Details'!$T$3:$T$5000,$A16) -> 0 | AT16: =IF(AN16=0,0,AN16/AH16) -> 0 | AU16: =IF(AO16=0,0,AO16/AI16) -> 0 | AV16: =IF(AP16=0,0,AP16/AJ16) -> 0 | AW16: =IF(AQ16=0,0,AQ16/AK16) -> 0 | AX16: =IF(AR16=0,0,AR16/AL16) -> 0 | AY16: =IF(AS16=0,0,AS16/AM16) -> 0 | AZ16: =IF(AH16=0,0,SUM(AN16:AS16)/SUM(AH16:AM16)) -> 0 | BL16: =EOMONTH(BL15,1) -> 42429 | BZ16: =BL16 -> 42429 | CA16: =IF(D16=0," ",Z16) | CB16: =IF(D16=0," ",AC16)
A17: =A16+1 -> 15 | B17: =B16 -> 2017 | C17: Mar | D17: =COUNTIF('Trade Details'!T$3:T$5000,A17) -> 0 | E17: =SUMIF('Trade Details'!T$3:T$5000,A17,'Trade Details'!Z$3:Z$5000) -> 0 | F17: =IF(D17=0,0,E17/D17) -> 0 | G17: =SUMIF('Trade Details'!T$3:T$5000,A17,'Trade Details'!AA$3:AA$5000) -> 0 | H17: =IF(D17=0,0,G17/D17) -> 0 | I17: =SUMIF('Trade Details'!T$3:T$5000,A17,'Trade Details'!V$3:V$5000) -> 0 | J17: =IF($D17=0,0,I17/$D17) -> 0 | K17: =SUMIF('Trade Details'!$T$3:$T$5000,$A17,'Trade Details'!W$3:W$5000) -> 0 | L17: =IF($D17=0,0,K17/$D17) -> 0 | M17: =SUMIF('Trade Details'!$T$3:$T$5000,$A17,'Trade Details'!X$3:X$5000) -> 0 | N17: =IF($D17=0,0,M17/$D17) -> 0 | O17: =SUMIF('Trade Details'!$T$3:$T$5000,$A17,'Trade Details'!Y$3:Y$5000) -> 0 | P17: =IF($D17=0,0,O17/$D17) -> 0 | Q17: =SUMIF('Trade Details'!$T$3:$T$5000,$A17,'Trade Details'!AB$3:AB$5000) -> 0 | R17: =SUMIF('Trade Details'!$T$3:$T$5000,$A17,'Trade Details'!AD$3:AD$5000) -> 0 | S17: =Q17+R17 -> 0 | T17: =IF(D17=0,0,SUMIF('Trade Details'!T$3:T$5000,A17,'Trade Details'!AB$3:AB$5000)) -> 0 | U17: =IF(D17=0,0,SUMIF('Trade Details'!T$3:T$5000,A17,'Trade Details'!AD$3:AD$5000)) -> 0 | V17: =IF(D17=0,0,SUMIF('Trade Details'!T$3:T$5000,A17,'Trade Details'!O$3:O$5000)) -> 0 | W17: =IF(D17=0,0,T17/E17) -> 0 | X17: =IF(G17=0,0,U17/G17) -> 0 | Y17: =IF(D17=0,0,V17/D17) -> 0 | Z17: =S17+Z16 -> 206679.28 | AA17: =(Z17-Z16)/Z16 -> 0 | AB17: =MAX(Z$2:Z17) -> 206698.22 | AC17: =(AB17-Z17)/Z17 -> 9.1639568e-05 | AD17: {=MAX(IF('Trade Details'!T$3:T$5000=A17,'Trade Details'!AB$3:AB$5000))} -> 0 | AE17: =IF(AD17=0,0,INDEX('Trade Details'!AC$3:AC$5000,(MATCH(AD17,'Trade Details'!AB$3:AB$5000,0)))) -> 0 | AF17: {=MIN(IF('Trade Details'!T$3:T$5000=A17,'Trade Details'!AD$3:AD$5000))} -> 0 | AG17: =IF(AF17=0,0,INDEX('Trade Details'!AC$3:AC$5000,(MATCH(AF17,'Trade Details'!AD$3:AD$5000,0)))) -> 0 | AH17: =COUNTIFS('Trade Details'!$D$3:$D$5000,AH$2,'Trade Details'!$T$3:$T$5000,$A17) -> 0 | AI17: =COUNTIFS('Trade Details'!$D$3:$D$5000,AI$2,'Trade Details'!$T$3:$T$5000,$A17) -> 0 | AJ17: =COUNTIFS('Trade Details'!$D$3:$D$5000,AJ$2,'Trade Details'!$T$3:$T$5000,$A17) -> 0 | AK17: =COUNTIFS('Trade Details'!$D$3:$D$5000,AK$2,'Trade Details'!$T$3:$T$5000,$A17) -> 0 | AL17: =COUNTIFS('Trade Details'!$D$3:$D$5000,AL$2,'Trade Details'!$T$3:$T$5000,$A17) -> 0 | AM17: =COUNTIFS('Trade Details'!$D$3:$D$5000,AM$2,'Trade Details'!$T$3:$T$5000,$A17) -> 0 | AN17: =SUMIFS('Trade Details'!$R$3:$R$5000,'Trade Details'!$D$3:$D$5000,AN$2,'Trade Details'!$T$3:$T$5000,$A17) -> 0 | AO17: =SUMIFS('Trade Details'!$R$3:$R$5000,'Trade Details'!$D$3:$D$5000,AO$2,'Trade Details'!$T$3:$T$5000,$A17) -> 0 | AP17: =SUMIFS('Trade Details'!$R$3:$R$5000,'Trade Details'!$D$3:$D$5000,AP$2,'Trade Details'!$T$3:$T$5000,$A17) -> 0 | AQ17: =SUMIFS('Trade Details'!$R$3:$R$5000,'Trade Details'!$D$3:$D$5000,AQ$2,'Trade Details'!$T$3:$T$5000,$A17) -> 0 | AR17: =SUMIFS('Trade Details'!$R$3:$R$5000,'Trade Details'!$D$3:$D$5000,AR$2,'Trade Details'!$T$3:$T$5000,$A17) -> 0 | AS17: =SUMIFS('Trade Details'!$R$3:$R$5000,'Trade Details'!$D$3:$D$5000,AS$2,'Trade Details'!$T$3:$T$5000,$A17) -> 0 | AT17: =IF(AN17=0,0,AN17/AH17) -> 0 | AU17: =IF(AO17=0,0,AO17/AI17) -> 0 | AV17: =IF(AP17=0,0,AP17/AJ17) -> 0 | AW17: =IF(AQ17=0,0,AQ17/AK17) -> 0 | AX17: =IF(AR17=0,0,AR17/AL17) -> 0 | AY17: =IF(AS17=0,0,AS17/AM17) -> 0 | AZ17: =IF(AH17=0,0,SUM(AN17:AS17)/SUM(AH17:AM17)) -> 0 | BL17: =EOMONTH(BL16,1) -> 42460 | BZ17: =BL17 -> 42460 | CA17: =IF(D17=0," ",Z17) | CB17: =IF(D17=0," ",AC17)
