Workbook

Sheet EURUSD_Daily
A1: Date | B1: Date | C1: Open | D1: High | E1: Low | F1: Close | H1: Current Daily Candle Color | I1: Previous Day Daily Candle Color | J1: Current Weekly Candle Color | K1: Previous Day Weekly Candle Color | L1: Current Monthly Candle Color | M1: Previous Day Monthly Candle Color | N1: Case Study 1 | O1: case 1 pips | P1: Case Study 2 | Q1: case 2 pips | R1: Case Study 3 | S1: case 3 pips | T1: Case Study 4 | U1: case 4 pips | V1: Case Study 5 | W1: case 5 pips | X1: Case Study 6 | Y1: case 6 pips
A2: 42580 | B2: 2016.07.29 | C2: 1.10742 | D2: 1.11974 | E2: 1.10702 | F2: 1.11737 | H2: =F2-C2 -> 0.00995 | I2: =H3 -> 0.00179 | J2: =F2-$C$6 -> 0.01999 | K2: =J3 -> 0.01011 | L2: =F2-$C$22 -> 0.0072 | M2: =L3 -> -0.00268 | N2: WIN | O2: =(F2-C2)*10000 -> 99.5 | P2: WIN | Q2: =O2 -> 99.5 | R2: - | T2: WIN | U2: =O2 -> 99.5 | V2: - | X2: LOSS | Y2: =O2*(-1) -> -99.5
A3: 42579 | B3: 2016.07.28 | C3: 1.1057 | D3: 1.11194 | E3: 1.10519 | F3: 1.10749 | H3: =F3-C3 -> 0.00179 | I3: =H4 -> 0.00746 | J3: =F3-$C$6 -> 0.01011 | K3: =J4 -> 0.00836 | L3: =F3-$C$22 -> -0.00268 | M3: =L4 -> -0.00443 | N3: WIN | O3: =(F3-C3)*10000 -> 17.9 | P3: WIN | Q3: =O3 -> 17.9 | R3: - | T3: WIN | U3: =O3 -> 17.9 | V3: - | X3: LOSS | Y3: =O3*(-1) -> -17.9
A4: 42578 | B4: 2016.07.27 | C4: 1.09828 | D4: 1.10649 | E4: 1.09616 | F4: 1.10574 | H4: =F4-C4 -> 0.00746 | I4: =H5 -> -0.00069 | J4: =F4-$C$6 -> 0.00836 | K4: =J5 -> 0.00127 | L4: =F4-$C$22 -> -0.00443 | M4: =L5 -> -0.01152 | N4: LOSS | O4: =(C4-F4)*10000 -> -74.6 | P4: - | R4: - | T4: WIN | U4: =O4*(-1) -> 74.6 | V4: - | X4: LOSS | Y4: =O4*(1) -> -74.6
A5: 42577 | B5: 2016.07.26 | C5: 1.09934 | D5: 1.10296 | E5: 1.09783 | F5: 1.09865 | H5: =F5-C5 -> -0.00069 | I5: =H6 -> 0.00206 | J5: =F5-$C$6 -> 0.00127 | K5: =J6 -> 0.00206 | L5: =F5-$C$22 -> -0.01152 | M5: =L6 -> -0.01073 | N5: LOSS | O5: =(F5-C5)*10000 -> -6.9 | P5: LOSS | Q5: =O5 -> -6.9 | R5: - | T5: LOSS | U5: =O5 -> -6.9 | V5: - | X5: WIN | Y5: =O5*(-1) -> 6.9
A6: 42576 | B6: 2016.07.25 | C6: 1.09738 | D6: 1.09987 | E6: 1.09519 | F6: 1.09944 | H6: =F6-C6 -> 0.00206 | I6: =H7 -> -0.00485 | J6: =F6-$C$6 -> 0.00206 | K6: =J7 -> -0.00747 | L6: =F6-$C$22 -> -0.01073 | M6: =L7 -> -0.01269 | N6: LOSS | O6: =(C6-F6)*10000 -> -20.6 | P6: LOSS | Q6: =O6 -> -20.6 | R6: LOSS | S6: =Q6 -> -20.6 | T6: LOSS | U6: =O6 -> -20.6 | V6: LOSS | W6: =O6 -> -20.6 | X6: LOSS | Y6: =O6*(1) -> -20.6
A7: 42573 | B7: 2016.07.22 | C7: 1.10233 | D7: 1.10409 | E7: 1.09553 | F7: 1.09748 | H7: =F7-C7 -> -0.00485 | I7: =H8 -> 0.00094 | J7: =F7-$C$11 -> -0.00747 | K7: =J8 -> -0.00252 | L7: =F7-$C$22 -> -0.01269 | M7: =L8 -> -0.00774 | N7: LOSS | O7: =(F7-C7)*10000 -> -48.5 | P7: - | R7: - | T7: WIN | U7: =O7 -> -48.5 | V7: WIN | W7: =O7 -> -48.5 | X7: WIN | Y7: =O7*(-1) -> 48.5
A8: 42572 | B8: 2016.07.21 | C8: 1.10149 | D8: 1.10595 | E8: 1.09797 | F8: 1.10243 | H8: =F8-C8 -> 0.00094 | I8: =H9 -> -0.00048 | J8: =F8-$C$11 -> -0.00252 | K8: =J9 -> -0.00359 | L8: =F8-$C$22 -> -0.00774 | M8: =L9 -> -0.00881 | N8: LOSS | O8: =(C8-F8)*10000 -> -9.4 | P8: LOSS | Q8: =O8 -> -9.4 | R8: LOSS | S8: =Q8 -> -9.4 | T8: LOSS | U8: =O8 -> -9.4 | V8: LOSS | W8: =O8 -> -9.4 | X8: LOSS | Y8: =O8*(1) -> -9.4
A9: 42571 | B9: 2016.07.20 | C9: 1.10184 | D9: 1.10298 | E9: 1.09812 | F9: 1.10136 | H9: =F9-C9 -> -0.00048 | I9: =H10 -> -0.00534 | J9: =F9-$C$11 -> -0.00359 | K9: =J10 -> -0.00287 | L9: =F9-$C$22 -> -0.00881 | M9: =L10 -> -0.00809 | N9: WIN | O9: =(C9-F9)*10000 -> 4.8 | P9: WIN | Q9: =O9 -> 4.8 | R9: WIN | S9: =Q9 -> 4.8 | T9: WIN | U9: =O9 -> 4.8 | V9: WIN | W9: =O9 -> 4.8 | X9: WIN | Y9: =O9*(1) -> 4.8
A10: 42570 | B10: 2016.07.19 | C10: 1.10742 | D10: 1.10803 | E10: 1.09999 | F10: 1.10208 | H10: =F10-C10 -> -0.00534 | I10: =H11 -> 0.00257 | J10: =F10-$C$11 -> -0.00287 | K10: =J11 -> 0.00257 | L10: =F10-$C$22 -> -0.00809 | M10: =L11 -> -0.00265 | N10: LOSS | O10: =(F10-C10)*10000 -> -53.4 | P10: LOSS | Q10: =O10 -> -53.4 | R10: - | T10: LOSS | U10: =O10 -> -53.4 | V10: - | X10: WIN | Y10: =O10*(-1) -> 53.4
A11: 42569 | B11: 2016.07.18 | C11: 1.10495 | D11: 1.1084 | E11: 1.10375 | F11: 1.10752 | H11: =F11-C11 -> 0.00257 | I11: =H12 -> -0.0085 | J11: =F11-$C$11 -> 0.00257 | K11: =J12 -> -0.00143 | L11: =F11-$C$22 -> -0.00265 | M11: =L12 -> -0.00693 | N11: LOSS | O11: =(C11-F11)*10000 -> -25.7 | P11: LOSS | Q11: =O11 -> -25.7 | R11: LOSS | S11: =Q11 -> -25.7 | T11: LOSS | U11: =O11 -> -25.7 | V11: LOSS | W11: =O11 -> -25.7 | X11: LOSS | Y11: =O11*(1) -> -25.7
A12: 42566 | B12: 2016.07.15 | C12: 1.11174 | D12: 1.11488 | E12: 1.10247 | F12: 1.10324 | H12: =F12-C12 -> -0.0085 | I12: =H13 -> 0.00285 | J12: =F12-$C$16 -> -0.00143 | K12: =J13 -> 0.00702 | L12: =F12-$C$22 -> -0.00693 | M12: =L13 -> 0.00152 | N12: LOSS | O12: =(F12-C12)*10000 -> -85 | P12: LOSS | Q12: =O12 -> -85 | R12: LOSS | S12: =Q12 -> -85 | T12: LOSS | U12: =O12 -> -85 | V12: LOSS | W12: =O12 -> -85 | X12: LOSS | Y12: =O12*(1) -> -85
A13: 42565 | B13: 2016.07.14 | C13: 1.10884 | D13: 1.11648 | E13: 1.10873 | F13: 1.11169 | H13: =F13-C13 -> 0.00285 | I13: =H14 -> 0.00316 | J13: =F13-$C$16 -> 0.00702 | K13: =J14 -> 0.00426 | L13: =F13-$C$22 -> 0.00152 | M13: =L14 -> -0.00124 | N13: WIN | O13: =(F13-C13)*10000 -> 28.5 | P13: WIN | Q13: =O13 -> 28.5 | R13: - | T13: WIN | U13: =O13 -> 28.5 | V13: - | X13: LOSS | Y13: =O13*(-1) -> -28.5
A14: 42564 | B14: 2016.07.13 | C14: 1.10577 | D14: 1.11197 | E14: 1.10419 | F14: 1.10893 | H14: =F14-C14 -> 0.00316 | I14: =H15 -> 0.00035 | J14: =F14-$C$16 -> 0.00426 | K14: =J15 -> 0.00131 | L14: =F14-$C$22 -> -0.00124 | M14: =L15 -> -0.00419 | N14: WIN | O14: =(F14-C14)*10000 -> 31.6 | P14: WIN | Q14: =O14 -> 31.6 | R14: - | T14: WIN | U14: =O14 -> 31.6 | V14: - | X14: LOSS | Y14: =O14*(-1) -> -31.6
A15: 42563 | B15: 2016.07.12 | C15: 1.10563 | D15: 1.11259 | E15: 1.10521 | F15: 1.10598 | H15: =F15-C15 -> 0.00035 | I15: =H16 -> 0.00102 | J15: =F15-$C$16 -> 0.00131 | K15: =J16 -> 0.00102 | L15: =F15-$C$22 -> -0.00419 | M15: =L16 -> -0.00448 | N15: WIN | O15: =(F15-C15)*10000 -> 3.5 | P15: WIN | Q15: =O15 -> 3.5 | R15: - | T15: WIN | U15: =O15 -> 3.5 | V15: - | X15: LOSS | Y15: =O15*(-1) -> -3.5
A16: 42562 | B16: 2016.07.11 | C16: 1.10467 | D16: 1.10745 | E16: 1.10156 | F16: 1.10569 | H16: =F16-C16 -> 0.00102 | I16: =H17 -> -0.00113 | J16: =F16-$C$16 -> 0.00102 | K16: =J17 -> -0.00799 | L16: =F16-$C$22 -> -0.00448 | M16: =L17 -> -0.00526 | N16: LOSS | O16: =(C16-F16)*10000 -> -10.2 | P16: LOSS | Q16: =O16 -> -10.2 | R16: LOSS | S16: =Q16 -> -10.2 | T16: LOSS | U16: =O16 -> -10.2 | V16: LOSS | W16: =O16 -> -10.2 | X16: LOSS | Y16: =O16*(1) -> -10.2
A17: 42559 | B17: 2016.07.08 | C17: 1.10604 | D17: 1.11201 | E17: 1.10019 | F17: 1.10491 | H17: =F17-C17 -> -0.00113 | I17: =H18 -> -0.00357 | J17: =F17-$C$21 -> -0.00799 | K17: =J18 -> -0.00675 | L17: =F17-$C$22 -> -0.00526 | M17: =L18 -> -0.00402 | N17: WIN | O17: =(C17-F17)*10000 -> 11.3 | P17: WIN | Q17: =O17 -> 11.3 | R17: WIN | S17: =Q17 -> 11.3 | T17: WIN | U17: =O17 -> 11.3 | V17: WIN | W17: =O17 -> 11.3 | X17: WIN | Y17: =O17*(1) -> 11.3
A18: 42558 | B18: 2016.07.07 | C18: 1.10972 | D18: 1.11073 | E18: 1.10525 | F18: 1.10615 | H18: =F18-C18 -> -0.00357 | I18: =H19 -> 0.00263 | J18: =F18-$C$21 -> -0.00675 | K18: =J19 -> -0.00292 | L18: =F18-$C$22 -> -0.00402 | M18: =L19 -> -0.00019 | N18: LOSS | O18: =(F18-C18)*10000 -> -35.7 | P18: - | R18: - | T18: WIN | U18: =O18 -> -35.7 | V18: WIN | W18: =O18*(-1) -> 35.7 | X18: WIN | Y18: =O18*(-1) -> 35.7
A19: 42557 | B19: 2016.07.06 | C19: 1.10735 | D19: 1.11115 | E19: 1.10292 | F19: 1.10998 | H19: =F19-C19 -> 0.00263 | I19: =H20 -> -0.00773 | J19: =F19-$C$21 -> -0.00292 | K19: =J20 -> -0.00539 | L19: =F19-$C$22 -> -0.00019 | M19: =L20 -> -0.00266 | N19: LOSS | O19: =(C19-F19)*10000 -> -26.3 | P19: LOSS | Q19: =O19 -> -26.3 | R19: LOSS | S19: =Q19 -> -26.3 | T19: LOSS | U19: =O19 -> -26.3 | V19: LOSS | W19: =O19 -> -26.3 | X19: LOSS | Y19: =O19*(1) -> -26.3
A20: 42556 | B20: 2016.07.05 | C20: 1.11524 | D20: 1.11859 | E20: 1.10622 | F20: 1.10751 | H20: =F20-C20 -> -0.00773 | I20: =H21 -> 0.00233 | J20: =F20-$C$21 -> -0.00539 | K20: =J21 -> 0.00233 | L20: =F20-$C$22 -> -0.00266 | M20: =L21 -> 0.00506 | N20: LOSS | O20: =(F20-C20)*10000 -> -77.3 | P20: LOSS | Q20: =O20 -> -77.3 | R20: LOSS | S20: =Q20 -> -77.3 | T20: LOSS | U20: =O20 -> -77.3 | V20: LOSS | W20: =O20 -> -77.3 | X20: LOSS | Y20: =O20*(1) -> -77.3
A21: 42555 | B21: 2016.07.04 | C21: 1.1129 | D21: 1.11594 | E21: 1.10977 | F21: 1.11523 | H21: =F21-C21 -> 0.00233 | I21: =H22 -> 0.00364 | J21: =F21-$C$21 -> 0.00233 | K21: =J22 -> 0.01294 | L21: =F21-$C$22 -> 0.00506 | M21: =L22 -> 0.00364 | N21: WIN | O21: =(F21-C21)*10000 -> 23.3 | P21: WIN | Q21: =O21 -> 23.3 | R21: WIN | S21: =Q21 -> 23.3 | T21: WIN | U21: =O21 -> 23.3 | V21: WIN | W21: =O21 -> 23.3 | X21: WIN | Y21: =O21*(1) -> 23.3
A22: 42552 | B22: 2016.07.01 | C22: 1.11017 | D22: 1.11693 | E22: 1.1072 | F22: 1.11381 | H22: =F22-C22 -> 0.00364 | I22: =H23 -> -0.00167 | J22: =F22-$C$26 -> 0.01294 | K22: =J23 -> 0.00973 | L22: =F22-$C$22 -> 0.00364 | M22: =L23 -> -0.00253 | N22: LOSS | O22: =(C22-F22)*10000 -> -36.4 | P22: - | R22: - | T22: WIN | U22: =O22 -> -36.4 | V22: - | X22: LOSS | Y22: =O22*(1) -> -36.4
A23: 42551 | B23: 2016.06.30 | C23: 1.11227 | D23: 1.11545 | E23: 1.1024 | F23: 1.1106 | H23: =F23-C23 -> -0.00167 | I23: =H24 -> 0.00603 | J23: =F23-$C$26 -> 0.00973 | K23: =J24 -> 0.01143 | L23: =F23-$C$44 -> -0.00253 | M23: =L24 -> -0.00083 | N23: LOSS | O23: =(F23-C23)*10000 -> -16.7 | P23: LOSS | Q23: =O23 -> -16.7 | R23: - | T23: LOSS | U23: =O23 -> -16.7 | V23: - | X23: WIN | Y23: =O23*(-1) -> 16.7
A24: 42550 | B24: 2016.06.29 | C24: 1.10627 | D24: 1.11304 | E24: 1.10493 | F24: 1.1123 | H24: =F24-C24 -> 0.00603 | I24: =H25 -> 0.00413 | J24: =F24-$C$26 -> 0.01143 | K24: =J25 -> 0.00542 | L24: =F24-$C$44 -> -0.00083 | M24: =L25 -> -0.00684 | N24: WIN | O24: =(F24-C24)*10000 -> 60.3 | P24: WIN | Q24: =O24 -> 60.3 | R24: - | T24: WIN | U24: =O24 -> 60.3 | V24: - | X24: LOSS | Y24: =O24*(-1) -> -60.3
A25: 42549 | B25: 2016.06.28 | C25: 1.10216 | D25: 1.11114 | E25: 1.10101 | F25: 1.10629 | H25: =F25-C25 -> 0.00413 | I25: =H26 -> 0.00152 | J25: =F25-$C$26 -> 0.00542 | K25: =J26 -> 0.00152 | L25: =F25-$C$44 -> -0.00684 | M25: =L26 -> -0.01074 | N25: WIN | O25: =(F25-C25)*10000 -> 41.3 | P25: WIN | Q25: =O25 -> 41.3 | R25: - | T25: WIN | U25: =O25 -> 41.3 | V25: - | X25: LOSS | Y25: =O25*(-1) -> -41.3
A26: 42548 | B26: 2016.06.27 | C26: 1.10087 | D26: 1.10837 | E26: 1.09706 | F26: 1.10239 | H26: =F26-C26 -> 0.00152 | I26: =H27 -> -0.02889 | J26: =F26-$C$26 -> 0.00152 | K26: =J27 -> -0.02436 | L26: =F26-$C$44 -> -0.01074 | M26: =L27 -> -0.00428 | N26: LOSS | O26: =(C26-F26)*10000 -> -15.2 | P26: LOSS | Q26: =O26 -> -15.2 | R26: LOSS | S26: =Q26 -> -15.2 | T26: LOSS | U26: =O26 -> -15.2 | V26: LOSS | W26: =O26 -> -15.2 | X26: LOSS | Y26: =O26*(1) -> -15.2
A27: 42545 | B27: 2016.06.24 | C27: 1.13774 | D27: 1.14275 | E27: 1.09118 | F27: 1.10885 | H27: =F27-C27 -> -0.02889 | I27: =H28 -> 0.00832 | J27: =F27-$C$31 -> -0.02436 | K27: =J28 -> 0.00471 | L27: =F27-$C$44 -> -0.00428 | M27: =L28 -> 0.02479 | N27: LOSS | O27: =(F27-C27)*10000 -> -288.9 | P27: LOSS | Q27: =O27 -> -288.9 | R27: LOSS | S27: =Q27 -> -288.9 | T27: LOSS | U27: =(C27-F27)*10000 -> 288.9 | V27: LOSS | W27: =O27 -> -288.9 | X27: LOSS | Y27: =O27*(1) -> -288.9
A28: 42544 | B28: 2016.06.23 | C28: 1.1296 | D28: 1.1421 | E28: 1.12938 | F28: 1.13792 | H28: =F28-C28 -> 0.00832 | I28: =H29 -> 0.00572 | J28: =F28-$C$31 -> 0.00471 | K28: =J29 -> -0.00362 | L28: =F28-$C$44 -> 0.02479 | M28: =L29 -> 0.01646 | N28: WIN | O28: =(F28-C28)*10000 -> 83.2 | P28: - | R28: - | T28: LOSS | U28: =O28 -> 83.2 | V28: - | X28: WIN | Y28: =O28*(1) -> 83.2
A29: 42543 | B29: 2016.06.22 | C29: 1.12387 | D29: 1.13376 | E29: 1.12367 | F29: 1.12959 | H29: =F29-C29 -> 0.00572 | I29: =H30 -> -0.00686 | J29: =F29-$C$31 -> -0.00362 | K29: =J30 -> -0.00902 | L29: =F29-$C$44 -> 0.01646 | M29: =L30 -> 0.01106 | N29: LOSS | O29: =(C29-F29)*10000 -> -57.2 | P29: LOSS | Q29: =O29 -> -57.2 | R29: - | T29: LOSS | U29: =O29 -> -57.2 | V29: - | X29: WIN | Y29: =O29*(-1) -> 57.2
A30: 42542 | B30: 2016.06.21 | C30: 1.13105 | D30: 1.13495 | E30: 1.12412 | F30: 1.12419 | H30: =F30-C30 -> -0.00686 | I30: =H31 -> -0.00217 | J30: =F30-$C$31 -> -0.00902 | K30: =J31 -> -0.00217 | L30: =F30-$C$44 -> 0.01106 | M30: =L31 -> 0.01791 | N30: WIN | O30: =(C30-F30)*10000 -> 68.6 | P30: WIN | Q30: =O30 -> 68.6 | R30: - | T30: WIN | U30: =O30 -> 68.6 | V30: - | X30: LOSS | Y30: =O30*(-1) -> -68.6
A31: 42541 | B31: 2016.06.20 | C31: 1.13321 | D31: 1.13822 | E31: 1.13019 | F31: 1.13104 | H31: =F31-C31 -> -0.00217 | I31: =H32 -> 0.00497 | J31: =F31-$C$31 -> -0.00217 | K31: =J32 -> 0.00259 | L31: =F31-$C$44 -> 0.01791 | M31: =L32 -> 0.01424 | N31: LOSS | O31: =(F31-C31)*10000 -> -21.7 | P31: LOSS | Q31: =O31 -> -21.7 | R31: LOSS | S31: =Q31 -> -21.7 | T31: LOSS | U31: =O31 -> -21.7 | V31: LOSS | W31: =O31 -> -21.7 | X31: LOSS | Y31: =O31*(1) -> -21.7
A32: 42538 | B32: 2016.06.17 | C32: 1.1224 | D32: 1.12962 | E32: 1.12228 | F32: 1.12737 | H32: =F32-C32 -> 0.00497 | I32: =H33 -> -0.00353 | J32: =F32-$C$36 -> 0.00259 | K32: =J33 -> -0.00237 | L32: =F32-$C$44 -> 0.01424 | M32: =L33 -> 0.00928 | N32: LOSS | O32: =(C32-F32)*10000 -> -49.7 | P32: LOSS | Q32: =O32 -> -49.7 | R32: - | T32: LOSS | U32: =O32 -> -49.7 | V32: - | X32: WIN | Y32: =O32*(-1) -> 49.7
A33: 42537 | B33: 2016.06.16 | C33: 1.12594 | D33: 1.12948 | E33: 1.11309 | F33: 1.12241 | H33: =F33-C33 -> -0.00353 | I33: =H34 -> 0.00555 | J33: =F33-$C$36 -> -0.00237 | K33: =J34 -> 0.0012 | L33: =F33-$C$44 -> 0.00928 | M33: =L34 -> 0.01285 | N33: LOSS | O33: =(F33-C33)*10000 -> -35.3 | P33: LOSS | Q33: =O33 -> -35.3 | R33: LOSS | S33: =Q33 -> -35.3 | T33: LOSS | U33: =O33*(-1) -> 35.3 | V33: LOSS | W33: =O33 -> -35.3 | X33: LOSS | Y33: =O33*(1) -> -35.3
A34: 42536 | B34: 2016.06.15 | C34: 1.12043 | D34: 1.12977 | E34: 1.11898 | F34: 1.12598 | H34: =F34-C34 -> 0.00555 | I34: =H35 -> -0.00832 | J34: =F34-$C$36 -> 0.0012 | K34: =J35 -> -0.00409 | L34: =F34-$C$44 -> 0.01285 | M34: =L35 -> 0.00756 | N34: LOSS | O34: =(C34-F34)*10000 -> -55.5 | P34: LOSS | Q34: =O34 -> -55.5 | R34: - | T34: LOSS | U34: =O34*(-1) -> 55.5 | V34: - | X34: WIN | Y34: =O34*(-1) -> 55.5
A35: 42535 | B35: 2016.06.14 | C35: 1.12901 | D35: 1.12983 | E35: 1.11889 | F35: 1.12069 | H35: =F35-C35 -> -0.00832 | I35: =H36 -> 0.0043 | J35: =F35-$C$36 -> -0.00409 | K35: =J36 -> 0.0043 | L35: =F35-$C$44 -> 0.00756 | M35: =L36 -> 0.01595 | N35: LOSS | O35: =(F35-C35)*10000 -> -83.2 | P35: LOSS | Q35: =O35 -> -83.2 | R35: LOSS | S35: =Q35 -> -83.2 | T35: LOSS | U35: =O35 -> -83.2 | V35: LOSS | W35: =O35 -> -83.2 | X35: LOSS | Y35: =O35*(1) -> -83.2
A36: 42534 | B36: 2016.06.13 | C36: 1.12478 | D36: 1.13028 | E36: 1.12321 | F36: 1.12908 | H36: =F36-C36 -> 0.0043 | I36: =H37 -> -0.00645 | J36: =F36-$C$36 -> 0.0043 | K36: =J37 -> -0.01025 | L36: =F36-$C$44 -> 0.01595 | M36: =L37 -> 0.01194 | N36: LOSS | O36: =(C36-F36)*10000 -> -43 | P36: LOSS | Q36: =O36 -> -43 | R36: - | T36: LOSS | U36: =O36 -> -43 | V36: - | X36: WIN | Y36: =O36*(-1) -> 43
A37: 42531 | B37: 2016.06.10 | C37: 1.13152 | D37: 1.13214 | E37: 1.12453 | F37: 1.12507 | H37: =F37-C37 -> -0.00645 | I37: =H38 -> -0.00769 | J37: =F37-$C$41 -> -0.01025 | K37: =J38 -> -0.00392 | L37: =F37-$C$44 -> 0.01194 | M37: =L38 -> 0.01827 | N37: WIN | O37: =(C37-F37)*10000 -> 64.5 | P37: WIN | Q37: =O37 -> 64.5 | R37: - | T37: WIN | U37: =(C37-F37)*10000 -> 64.5 | V37: - | X37: LOSS | Y37: =O37*(-1) -> -64.5
A38: 42530 | B38: 2016.06.09 | C38: 1.13909 | D38: 1.14154 | E38: 1.13056 | F38: 1.1314 | H38: =F38-C38 -> -0.00769 | I38: =H39 -> 0.00368 | J38: =F38-$C$41 -> -0.00392 | K38: =J39 -> 0.00403 | L38: =F38-$C$44 -> 0.01827 | M38: =L39 -> 0.02622 | N38: LOSS | O38: =(F38-C38)*10000 -> -76.9 | P38: LOSS | Q38: =O38 -> -76.9 | R38: LOSS | S38: =Q38 -> -76.9 | T38: LOSS | U38: =O38*(-1) -> 76.9 | V38: LOSS | W38: =O38 -> -76.9 | X38: LOSS | Y38: =O38*(1) -> -76.9
A39: 42529 | B39: 2016.06.08 | C39: 1.13567 | D39: 1.14105 | E39: 1.13541 | F39: 1.13935 | H39: =F39-C39 -> 0.00368 | I39: =H40 -> 0.00026 | J39: =F39-$C$41 -> 0.00403 | K39: =J40 -> 0.00028 | L39: =F39-$C$44 -> 0.02622 | M39: =L40 -> 0.02247 | N39: WIN | O39: =(F39-C39)*10000 -> 36.8 | P39: WIN | Q39: =O39 -> 36.8 | R39: WIN | S39: =Q39 -> 36.8 | T39: WIN | U39: =O39 -> 36.8 | V39: WIN | W39: =O39 -> 36.8 | X39: WIN | Y39: =O39*(1) -> 36.8
A40: 42528 | B40: 2016.06.07 | C40: 1.13534 | D40: 1.13803 | E40: 1.13385 | F40: 1.1356 | H40: =F40-C40 -> 0.00026 | I40: =H41 -> 2e-05 | J40: =F40-$C$41 -> 0.00028 | K40: =J41 -> 2e-05 | L40: =F40-$C$44 -> 0.02247 | M40: =L41 -> 0.02221 | N40: WIN | O40: =(F40-C40)*10000 -> 2.6 | P40: WIN | Q40: =O40 -> 2.6 | R40: WIN | S40: =Q40 -> 2.6 | T40: WIN | U40: =O40 -> 2.6 | V40: WIN | W40: =O40 -> 2.6 | X40: WIN | Y40: =O40*(1) -> 2.6
A41: 42527 | B41: 2016.06.06 | C41: 1.13532 | D41: 1.13927 | E41: 1.13256 | F41: 1.13534 | H41: =F41-C41 -> 2e-05 | I41: =H42 -> 0.02163 | J41: =F41-$C$41 -> 2e-05 | K41: =J42 -> 0.02549 | L41: =F41-$C$44 -> 0.02221 | M41: =L42 -> 0.02353 | N41: WIN | O41: =(F41-C41)*10000 -> 0.2 | P41: WIN | Q41: =O41 -> 0.2 | R41: WIN | S41: =Q41 -> 0.2 | T41: WIN | U41: =O41*(1) -> 0.2 | V41: WIN | W41: =O41 -> 0.2 | X41: WIN | Y41: =O41*(1) -> 0.2
A42: 42524 | B42: 2016.06.03 | C42: 1.11503 | D42: 1.13735 | E42: 1.11368 | F42: 1.13666 | H42: =F42-C42 -> 0.02163 | I42: =H43 -> -0.00374 | J42: =F42-$C$46 -> 0.02549 | K42: =J43 -> 0.00387 | L42: =F42-$C$44 -> 0.02353 | M42: =L43 -> 0.00191 | N42: LOSS | O42: =(C42-F42)*10000 -> -216.3 | P42: - | R42: - | T42: WIN | U42: =(F42-C42)*10000 -> 216.3 | V42: WIN | W42: =O42 -> -216.3 | X42: WIN | Y42: =O42*(-1) -> 216.3
A43: 42523 | B43: 2016.06.02 | C43: 1.11878 | D43: 1.12198 | E43: 1.11453 | F43: 1.11504 | H43: =F43-C43 -> -0.00374 | I43: =H44 -> 0.00567 | J43: =F43-$C$46 -> 0.00387 | K43: =J44 -> 0.00763 | L43: =F43-$C$44 -> 0.00191 | M43: =L44 -> 0.00567 | N43: LOSS | O43: =(F43-C43)*10000 -> -37.4 | P43: LOSS | Q43: =O43 -> -37.4 | R43: LOSS | S43: =Q43 -> -37.4 | T43: LOSS | U43: =O43 -> -37.4 | V43: LOSS | W43: =O43 -> -37.4 | X43: LOSS | Y43: =O43*(1) -> -37.4
A44: 42522 | B44: 2016.06.01 | C44: 1.11313 | D44: 1.11939 | E44: 1.11141 | F44: 1.1188 | H44: =F44-C44 -> 0.00567 | I44: =H45 -> -0.00057 | J44: =F44-$C$46 -> 0.00763 | K44: =J45 -> 0.00197 | L44: =F44-$C$44 -> 0.00567 | M44: =L45 -> -0.03276 | N44: LOSS | O44: =(C44-F44)*10000 -> -56.7 | P44: - | R44: - | T44: WIN | U44: =O44*(-1) -> 56.7 | V44: - | X44: LOSS | Y44: =O44*(1) -> -56.7
A45: 42521 | B45: 2016.05.31 | C45: 1.11371 | D45: 1.11733 | E45: 1.11222 | F45: 1.11314 | H45: =F45-C45 -> -0.00057 | I45: =H46 -> 0.00249 | J45: =F45-$C$46 -> 0.00197 | K45: =J46 -> 0.00249 | L45: =F45-$C$66 -> -0.03276 | O45: =SUM(O2:O44) -> -985.8 | Q45: =SUM(Q2:Q44) -> -600.8 | S45: =SUM(S2:S44) -> -734.1 | U45: =SUM(U2:U44) -> 622.6 | W45: =SUM(W2:W44) -> -963.2 | Y45: =SUM(Y2:Y44) -> -651.4
A46: 42520 | B46: 2016.05.30 | C46: 1.11117 | D46: 1.11447 | E46: 1.10979 | F46: 1.11366 | H46: =F46-C46 -> 0.00249 | I46: =H47 -> -0.00815 | J46: =F46-$C$46 -> 0.00249
A47: 42517 | B47: 2016.05.27 | C47: 1.11933 | D47: 1.12006 | E47: 1.11106 | F47: 1.11118 | H47: =F47-C47 -> -0.00815 | I47: =H48 -> 0.00395
A48: 42516 | B48: 2016.05.26 | C48: 1.11539 | D48: 1.12168 | E48: 1.11494 | F48: 1.11934 | H48: =F48-C48 -> 0.00395 | I48: =H49 -> 0.00143
A49: 42515 | B49: 2016.05.25 | C49: 1.11403 | D49: 1.11669 | E49: 1.11288 | F49: 1.11546 | H49: =F49-C49 -> 0.00143 | I49: =H50 -> -0.00796
A50: 42514 | B50: 2016.05.24 | C50: 1.122 | D50: 1.12268 | E50: 1.11323 | F50: 1.11404 | H50: =F50-C50 -> -0.00796 | I50: =H51 -> 0.00117
A51: 42513 | B51: 2016.05.23 | C51: 1.12081 | D51: 1.12428 | E51: 1.11875 | F51: 1.12198 | H51: =F51-C51 -> 0.00117 | I51: =H52 -> 0.00204
A52: 42510 | B52: 2016.05.20 | C52: 1.12023 | D52: 1.12374 | E52: 1.11963 | F52: 1.12227 | H52: =F52-C52 -> 0.00204 | I52: =H53 -> -0.00129
A53: 42509 | B53: 2016.05.19 | C53: 1.12151 | D53: 1.12298 | E53: 1.118 | F53: 1.12022 | H53: =F53-C53 -> -0.00129 | I53: =H54 -> -0.0096
A54: 42508 | B54: 2016.05.18 | C54: 1.13124 | D54: 1.1316 | E54: 1.12141 | F54: 1.12164 | H54: =F54-C54 -> -0.0096 | I54: =H55 -> -0.00075
A55: 42507 | B55: 2016.05.17 | C55: 1.13199 | D55: 1.13487 | E55: 1.13016 | F55: 1.13124 | H55: =F55-C55 -> -0.00075 | I55: =H56 -> 0.0009
A56: 42506 | B56: 2016.05.16 | C56: 1.13101 | D56: 1.13423 | E56: 1.13018 | F56: 1.13191 | H56: =F56-C56 -> 0.0009 | I56: =H57 -> -0.00685
A57: 42503 | B57: 2016.05.13 | C57: 1.13737 | D57: 1.13795 | E57: 1.12829 | F57: 1.13052 | H57: =F57-C57 -> -0.00685 | I57: =H58 -> -0.00503
A58: 42502 | B58: 2016.05.12 | C58: 1.14254 | D58: 1.14291 | E58: 1.13706 | F58: 1.13751 | H58: =F58-C58 -> -0.00503 | I58: =H59 -> 0.00562
... A73: 42481 | B73: 2016.04.21 | C73: 1.12962 | D73: 1.13978 | E73: 1.12698 | F73: 1.12869 | H73: =F73-C73 -> -0.00093 | I73: =H74 -> -0.00612
B74: 2016.04.20 | C74: 1.13574 | D74: 1.13878 | E74: 1.12905 | F74: 1.12962 | H74: =F74-C74 -> -0.00612 | I74: =H75 -> 0.00468
B75: 2016.04.19 | C75: 1.13103 | D75: 1.13845 | E75: 1.13034 | F75: 1.13571 | H75: =F75-C75 -> 0.00468 | I75: =H76 -> 0.00155
B76: 2016.04.18 | C76: 1.1296 | D76: 1.13321 | E76: 1.12737 | F76: 1.13115 | H76: =F76-C76 -> 0.00155 | I76: =H77 -> 0.00205
B77: 2016.04.15 | C77: 1.12623 | D77: 1.13169 | E77: 1.12458 | F77: 1.12828 | H77: =F77-C77 -> 0.00205 | I77: =H78 -> -0.00059
B78: 2016.04.14 | C78: 1.12734 | D78: 1.12946 | E78: 1.12339 | F78: 1.12675 | H78: =F78-C78 -> -0.00059 | I78: =H79 -> -0.01105
B79: 2016.04.13 | C79: 1.13838 | D79: 1.13911 | E79: 1.12683 | F79: 1.12733 | H79: =F79-C79 -> -0.01105 | I79: =H80 -> -0.00204
B80: 2016.04.12 | C80: 1.14044 | D80: 1.14648 | E80: 1.13456 | F80: 1.1384 | H80: =F80-C80 -> -0.00204 | I80: =H81 -> -0.00081
B81: 2016.04.11 | C81: 1.14139 | D81: 1.14474 | E81: 1.13725 | F81: 1.14058 | H81: =F81-C81 -> -0.00081 | I81: =H82 -> 0.00183
B82: 2016.04.08 | C82: 1.13757 | D82: 1.14192 | E82: 1.13491 | F82: 1.1394 | H82: =F82-C82 -> 0.00183 | I82: =H83 -> -0.00211
B83: 2016.04.07 | C83: 1.13981 | D83: 1.1454 | E83: 1.13375 | F83: 1.1377 | H83: =F83-C83 -> -0.00211 | I83: =H84 -> 0.00165
B84: 2016.04.06 | C84: 1.13824 | D84: 1.14316 | E84: 1.13266 | F84: 1.13989 | H84: =F84-C84 -> 0.00165 | I84: =H85 -> -0.00026
B85: 2016.04.05 | C85: 1.13856 | D85: 1.1405 | E85: 1.1336 | F85: 1.1383 | H85: =F85-C85 -> -0.00026 | I85: =H86 -> -0.00109
... B2042: 2009.05.19 | C2042: 1.3561 | D2042: 1.3667 | E2042: 1.3531 | F2042: 1.3631 | H2042: =F2042-C2042 -> 0.007 | I2042: =H2043 -> 0.0078
A2043: 39933 | B2043: 2009.05.18 | C2043: 1.3482 | D2043: 1.3562 | E2043: 1.3423 | F2043: 1.356 | H2043: =F2043-C2043 -> 0.0078 | I2043: =H2044 -> -0.0148
A2044: 39934 | B2044: 2009.05.15 | C2044: 1.3638 | D2044: 1.3649 | E2044: 1.3462 | F2044: 1.349 | H2044: =F2044-C2044 -> -0.0148 | I2044: =H2045 -> 0.0041
A2045: 39935 | B2045: 2009.05.14 | C2045: 1.3598 | D2045: 1.3664 | E2045: 1.3525 | F2045: 1.3639 | H2045: =F2045-C2045 -> 0.0041 | I2045: =H2046 -> -0.005
A2046: 39936 | B2046: 2009.05.13 | C2046: 1.3649 | D2046: 1.3721 | E2046: 1.3566 | F2046: 1.3599 | H2046: =F2046-C2046 -> -0.005 | I2046: =H2047 -> 0.0068
A2047: 39937 | B2047: 2009.05.12 | C2047: 1.358 | D2047: 1.3706 | E2047: 1.3563 | F2047: 1.3648 | H2047: =F2047-C2047 -> 0.0068 | I2047: =H2048 -> -0.0043
A2048: 39938 | B2048: 2009.05.11 | C2048: 1.3624 | D2048: 1.3666 | E2048: 1.3557 | F2048: 1.3581 | H2048: =F2048-C2048 -> -0.0043 | I2048: =H2049 -> 0.0171
A2049: 39939 | B2049: 2009.05.08 | C2049: 1.339 | D2049: 1.3569 | E2049: 1.3342 | F2049: 1.3561 | H2049: =F2049-C2049 -> 0.0171 | I2049: =H2050 -> 0.0056
A2050: 39940 | B2050: 2009.05.07 | C2050: 1.3333 | D2050: 1.3468 | E2050: 1.3252 | F2050: 1.3389 | H2050: =F2050-C2050 -> 0.0056

Sheet Results
C2: Winning Trades | E2: Losing Trades | G2: Total trades | I2: Total pips
C3: [Number] | D3: [%] | E3: [Number] | F3: [%] | G3: [Number] | H3: [%]
B4: Case Study 1 | C4: 16 | D4: =(C4*100)/G4 -> 37.209302 | E4: 27 | F4: =(E4*100)/G4 -> 62.790698 | G4: 43 | H4: =D4+F4 -> 100 | I4: =EURUSD_Daily!O45 -> -985.8
B5: Case Study 2 | C5: 15 | D5: =(C5*100)/G5 -> 41.666667 | E5: 21 | F5: =(E5*100)/G5 -> 58.333333 | G5: 36 | H5: =D5+F5 -> 100 | I5: =EURUSD_Daily!Q45 -> -600.8
B6: Case Study 3 | C6: 6 | D6: =(C6*100)/G6 -> 30 | E6: 14 | F6: =(E6*100)/G6 -> 70 | G6: =C6+E6 -> 20 | H6: =D6+F6 -> 100 | I6: =EURUSD_Daily!S45 -> -734.1
B7: Case Study 4 | C7: 21 | D7: =(C7*100)/G7 -> 48.837209 | E7: 22 | F7: =(E7*100)/G7 -> 51.162791 | G7: =C7+E7 -> 43 | H7: =D7+F7 -> 100 | I7: =EURUSD_Daily!U45 -> 622.6
B8: Case Study 5 | C8: 9 | D8: =(C8*100)/G8 -> 39.130435 | E8: 14 | F8: =(E8*100)/G8 -> 60.869565 | G8: =C8+E8 -> 23 | H8: =D8+F8 -> 100 | I8: =EURUSD_Daily!W45 -> -963.2
B9: Case Study 6 | C9: 17 | D9: =(C9*100)/G9 -> 39.534884 | E9: 26 | F9: =(E9*100)/G9 -> 60.465116 | G9: =C9+E9 -> 43 | H9: =D9+F9 -> 100 | I9: =EURUSD_Daily!Y45 -> -651.4
B14: Frequency distribution for case 4
B16: -80/-99.9 | C16: II | D16: 2
B17: -60/-79.9 | C17: I | D17: 1
B18: -40/-59.9 | C18: IIIII | D18: 5 | E18: =SUM(D18:D24) -> 36 | F18: =E18/G7 -> 0.8372093
B19: -20/-39.9 | C19: IIIIIII | D19: 7
B20: 0/-19.9 | C20: IIIII | D20: 5
B21: 0.1/20 | C21: IIIIII | D21: 6
B22: 20.1/40 | C22: IIIII | D22: 5
B23: 40.1/60 | C23: III | D23: 3
B24: 60.1/80 | C24: IIIII | D24: 5
B25: 80.1/100 | C25: II | D25: 2
B26: 100.1/120
B27: 120.1/140
B28: 140.1/160
B29: 160.1/180
B30: 180.1/200
B31: 200.1/220 | C31: I | D31: 1
B32: 220.1/240
B33: 240.1/260
B34: 260.1/280
B35: 280.1/300 | C35: I | D35: 1

Sheet rules and explanation
A1: Rules and explanation
A3: The question is: Is there any edge following just the "candle color"?
A4: I did some analysis some weeks ago and posted the results in another forum.
A6: Below what I wrote explaining the rules and how to read the excel file:
A8: I'd like to understand which "edge" is more successful between the following ones.
A9: The strategy is to place 1 order per day per instrument. The order will be placed at the opening of the Asian session (22:00 UK time) and after that close the pc for the next 24 hours. Every order will be closed at the end of the trading day (this mean every order will last circa 24 hours).
A11: 1)I will place buy/sell order based on "previous day" candle color (If it was red than sell order. If it was green than buy order).
A12: 2)I will place buy/sell order based on "previous day+weekly" candle color (If previous day is red and weekly is red than sell order. If previous day is green and weekly is green than buy order. No order for all others combinations).
A13: 3)I will place buy/sell order based on "previous day+weekly+monthly" candle color (Order will be placed ONLY when all TFs are the same color. Green for buy and red for sell).
A14: 4)I will place buy/sell order ONLY accordingly to the weekly candle color.
A15: 5)I will place buy/sell order ONLY accordingly to the candle color of "weekly+monthly" (no order in case weekly and monthly candle have different colors).
A16: 6) I will place buy/sell order ONLY accordingly to the monthly candle color.
... A24: Feel free to comment and analyse.
