Workbook
Name Array_getValues: getValues!$A$7:$AE$34
Name arrayHeatMap: getValues!$A$7:$G$34
Name AUDx: #REF!
Name bSR_GAP: GAP_test!$A$8:$I$35
Name bSR_GAP2: GAP_test!$B$8:$I$35
Name CADx: #REF!
Name CHFx: #REF!
Name CurrArray: Strength28!$E$24:$H$51
Name daily: [1]main!$B$4:$E$33
Name dayx: #REF!
Name EURx: #REF!
Name EUx: #REF!
Name GAP: Strength28!$L$24:$L$51
Name gapHM: Strength28!$D$24:$L$51
Name GAPs: Strength28!$E$24:$L$51
Name gapsHM: Strength28!$E$24:$L$51
Name GBPx: #REF!
Name heatmap: #REF!
Name HM_Calc: HeatMapM30_Mn!$K$3:$P$30
Name HM_Calc_Array: HeatMapM30_Mn!$A$3:$P$30
Name JPYx: #REF!
Name lastdata: [1]main!$B$4:$G$33
Name month: [1]week!$B$5:$E$34
Name montin: #REF!
Name montinx: #REF!
Name NZDx: #REF!
Name openorders: OpenOrder!$A$1:$I$52
Name openorders.txt: OpenOrder!$A$1:$I$52
Name openorders_1: OpenOrder!$A$1:$I$52
Name openorders_10: OpenOrder!$A$1:$I$31
Name openorders_11: OpenOrder!$A$1:$I$31
Name openorders_12: OpenOrder!$A$1:$I$30
Name openorders_13: OpenOrder!$A$1:$I$30
Name openorders_14: OpenOrder!$A$1:$I$31
Name openorders_15: OpenOrder!$A$1:$I$32
Name openorders_16: OpenOrder!$A$1:$I$35
Name openorders_17: OpenOrder!$A$1:$I$36
Name openorders_18: OpenOrder!$A$1:$I$37
Name openorders_19: OpenOrder!$A$1:$I$38
Name openorders_2: OpenOrder!$A$1:$I$52
Name openorders_20: OpenOrder!$A$1:$I$39
Name openorders_21: OpenOrder!$A$1:$I$40
Name openorders_22: OpenOrder!$A$1:$I$41
Name openorders_23: OpenOrder!$A$1:$I$42
Name openorders_24: OpenOrder!$A$1:$I$43
Name openorders_25: OpenOrder!$A$1:$I$44
Name openorders_26: OpenOrder!$A$1:$I$45
Name openorders_3: OpenOrder!$A$1:$I$32
Name openorders_4: OpenOrder!$A$1:$I$31
Name openorders_5: OpenOrder!$A$1:$I$31
Name openorders_6: OpenOrder!$A$1:$I$31
Name openorders_7: OpenOrder!$A$1:$I$30
Name openorders_8: OpenOrder!$A$1:$I$30
Name openorders_9: OpenOrder!$A$1:$I$30
Name pArray: Strength28!$B$3:$AD$16
Name RS_Array: Strength28!$AK$6:$AL$9678
Name smArray: Strength28!$N$25:$U$28
Name sYNC: Strength28!$V$27:$AC$28
Name sYNC2: Strength28!$V$19:$AC$28
Name USDx: #REF!

Sheet Arkusz1
D3: =[2]!i -> N\A | E3: =[3]!i -> N\A | F3: =[4]!i -> N\A | G3: =[5]!i -> N\A
D4: =[2]!i -> N\A | E4: =[3]!i -> N\A | F4: =[4]!i -> N\A | G4: =[5]!i -> N\A
D5: =[2]!i -> N\A | E5: =[3]!i -> N\A | F5: =[4]!i -> N\A | G5: =[5]!i -> N\A
D6: =[2]!i -> N\A | E6: =[3]!i -> N\A | F6: =[4]!i -> N\A | G6: =[5]!i -> N\A
D7: =[2]!i -> N\A | E7: =[3]!i -> N\A | F7: =[4]!i -> N\A | G7: =[5]!i -> N\A
D8: =[2]!i -> N\A | E8: =[3]!i -> N\A | F8: =[4]!i -> N\A | G8: =[5]!i -> N\A | S8: =Strength28!N25 -> USD | T8: =Strength28!O25 -> JPY | U8: =Strength28!P25 -> GBP | V8: =Strength28!Q25 -> EUR | W8: =Strength28!R25 -> AUD | X8: =Strength28!S25 -> NZD | Y8: =Strength28!T25 -> CAD | Z8: =Strength28!U25 -> CHF
D9: =[2]!i -> N\A | E9: =[3]!i -> N\A | F9: =[4]!i -> N\A | G9: =[5]!i -> N\A | H9: =Strength28!G23 -> Sell | S9: =Strength28!N26 -> 2.7142857 | T9: =Strength28!O26 -> 5.1428571 | U9: =Strength28!P26 -> 2.1428571 | V9: =Strength28!Q26 -> 3.2857143 | W9: =Strength28!R26 -> 6.4285714 | X9: =Strength28!S26 -> 8.2857143 | Y9: =Strength28!T26 -> 3 | Z9: =Strength28!U26 -> 5
B10: =$W$11 -> WAIT | C10: =$Y$11 -> WAIT | D10: =[2]!WAITi -> N\A | E10: =[3]!WAITi -> N\A | F10: =[4]!WAITi -> N\A | G10: =[5]!WAITi -> N\A | H10: =Strength28!G24 -> 3 | I10: =GAP_test!G8 -> 0 | J10: =Strength28!H24*10 -> 34.285714 | K10: =GAP_test!C8 -> 0.93957115 | L10: =GAP_test!D8 -> 7 | M10: =GAP_test!E8 -> 3.4285714 | N10: =GAP_test!H8 -> 3.6374322 | S10: =Strength28!N27 -> -5 | T10: =Strength28!O27 -> 3 | U10: =Strength28!P27 -> -7 | V10: =Strength28!Q27 -> -1 | W10: =Strength28!R27 -> 5 | X10: =Strength28!S27 -> 7 | Y10: =Strength28!T27 -> -3 | Z10: =Strength28!U27 -> 1
B11: =$W$11 -> WAIT | C11: =$Z$11 -> WAIT | D11: =[2]!WAITi -> N\A | E11: =[3]!WAITi -> N\A | F11: =[4]!WAITi -> N\A | G11: =[5]!WAITi -> N\A | H11: =Strength28!G25 -> 5 | I11: =GAP_test!G9 -> -2.1428571 | J11: =Strength28!H25*10 -> 14.285714 | K11: =GAP_test!C9 -> 0.62935323 | L11: =GAP_test!D9 -> 3 | M11: =GAP_test!E9 -> 1.4285714 | N11: =GAP_test!H9 -> 4.4542992 | S11: =GAP_SYNC!$V$20 -> SELL | T11: =GAP_SYNC!$J$20 -> WAIT | U11: =GAP_SYNC!$D$20 -> SELL | V11: =GAP_SYNC!$V$4 -> WAIT | W11: =GAP_SYNC!$D$4 -> WAIT | X11: =GAP_SYNC!$P$20 -> BUY | Y11: =GAP_SYNC!$J$4 -> WAIT | Z11: =GAP_SYNC!$P$4 -> WAIT
B12: =$W$11 -> WAIT | C12: =$T$11 -> WAIT | D12: =[2]!WAITi -> N\A | E12: =[3]!WAITi -> N\A | F12: =[4]!WAITi -> N\A | G12: =[5]!WAITi -> N\A | H12: =Strength28!G26 -> 5.1428571 | I12: =GAP_test!G10 -> 0.71428571 | J12: =Strength28!H26*10 -> 12.857143 | K12: =GAP_test!C10 -> 0.4867052 | L12: =GAP_test!D10 -> -1 | M12: =GAP_test!E10 -> 1.2857143 | N12: =GAP_test!H10 -> -11.091607 | S12: =GAP_SYNC!$X$20 -> -5 | T12: =GAP_SYNC!$L$20 -> -2 | U12: =GAP_SYNC!$F$20 -> -6 | V12: =GAP_SYNC!$X$4 -> 2 | W12: =GAP_SYNC!$F$4 -> 2 | X12: =GAP_SYNC!$R$20 -> 5 | Y12: =GAP_SYNC!$L$4 -> 2 | Z12: =GAP_SYNC!$R$4 -> 3
B13: =$W$11 -> WAIT | C13: =$X$11 -> BUY | D13: =[2]!WAITi -> N\A | E13: =[3]!WAITi -> N\A | F13: =[4]!WAITi -> N\A | G13: =[5]!WAITi -> N\A | H13: =Strength28!G27 -> 8.2857143 | I13: =GAP_test!G11 -> -2.5714286 | J13: =Strength28!H27*10 -> -18.571429 | K13: =GAP_test!C11 -> 0.14773777 | L13: =GAP_test!D11 -> -5 | M13: =GAP_test!E11 -> -1.8571429 | N13: =GAP_test!H11 -> -3.7939974 | S13: =CRS!T2 -> -3.5714286 | T13: =CRS!T5 -> 1.5714286 | U13: =CRS!T4 -> -2 | V13: =CRS!T3 -> -0.57142857 | W13: =CRS!T7 -> 1.5714286 | X13: =CRS!T9 -> 4.5714286 | Y13: =CRS!T8 -> -1.4285714 | Z13: =CRS!T6 -> -0.14285714
B14: =$W$11 -> WAIT | C14: =$S$11 -> SELL | D14: =[2]!WAITi -> N\A | E14: =[3]!WAITi -> N\A | F14: =[4]!WAITi -> N\A | G14: =[5]!WAITi -> N\A | H14: =Strength28!G28 -> 2.7142857 | I14: =GAP_test!G12 -> 2.8571429 | J14: =Strength28!H28*10 -> 37.142857 | K14: =GAP_test!C12 -> 0.97587131 | L14: =GAP_test!D12 -> 9 | M14: =GAP_test!E12 -> 3.7142857 | N14: =GAP_test!H12 -> 6.0080806
B15: =$Y$11 -> WAIT | C15: =$Z$11 -> WAIT | D15: =[2]!WAITi -> N\A | E15: =[3]!WAITi -> N\A | F15: =[4]!WAITi -> N\A | G15: =[5]!WAITi -> N\A | H15: =Strength28!G29 -> 5 | I15: =GAP_test!G13 -> -2.1428571 | J15: =Strength28!H29*10 -> -20 | K15: =GAP_test!C13 -> 0.19130435 | L15: =GAP_test!D13 -> -5 | M15: =GAP_test!E13 -> -2 | N15: =GAP_test!H13 -> 0.78901266
B16: =$Y$11 -> WAIT | C16: =$T$11 -> WAIT | D16: =[2]!WAITi -> N\A | E16: =[3]!WAITi -> N\A | F16: =[4]!WAITi -> N\A | G16: =[5]!WAITi -> N\A | H16: =Strength28!G30 -> 5.1428571 | I16: =GAP_test!G14 -> 0.71428571 | J16: =Strength28!H30*10 -> -21.428571 | K16: =GAP_test!C14 -> 0.32503458 | L16: =GAP_test!D14 -> -3 | M16: =GAP_test!E14 -> -2.1428571 | N16: =GAP_test!H14 -> -14.207971
B17: =$Y$11 -> WAIT | C17: =$T$11 -> WAIT | D17: =[2]!WAITi -> N\A | E17: =[3]!WAITi -> N\A | F17: =[4]!WAITi -> N\A | G17: =[5]!WAITi -> N\A | H17: =Strength28!G31 -> 5.1428571 | I17: =GAP_test!G15 -> 2.8571429 | J17: =Strength28!H31*10 -> -1.4285714 | K17: =GAP_test!C15 -> 0.49464668 | L17: =GAP_test!D15 -> -1 | M17: =GAP_test!E15 -> -0.14285714 | N17: =GAP_test!H15 -> -14.866358
B18: =$V$11 -> WAIT | C18: =$W$11 -> WAIT | D18: =[2]!WAITi -> N\A | E18: =[3]!WAITi -> N\A | F18: =[4]!WAITi -> N\A | G18: =[5]!WAITi -> N\A | H18: =Strength28!G32 -> 6.4285714 | I18: =GAP_test!G16 -> 0.14285714 | J18: =Strength28!H32*10 -> -31.428571 | K18: =GAP_test!C16 -> 0.033873343 | L18: =GAP_test!D16 -> -7 | M18: =GAP_test!E16 -> -3.1428571 | N18: =GAP_test!H16 -> -3.9824141
B19: =$V$11 -> WAIT | C19: =$Y$11 -> WAIT | D19: =[2]!WAITi -> N\A | E19: =[3]!WAITi -> N\A | F19: =[4]!WAITi -> N\A | G19: =[5]!WAITi -> N\A | H19: =Strength28!G33 -> 3 | I19: =GAP_test!G17 -> 0.14285714 | J19: =Strength28!H33*10 -> 2.8571429 | K19: =GAP_test!C17 -> 0.66772152 | L19: =GAP_test!D17 -> 3 | M19: =GAP_test!E17 -> 0.28571429 | N19: =GAP_test!H17 -> -0.49507677
B20: =$V$11 -> WAIT | C20: =$Z$11 -> WAIT | D20: =[2]!WAITi -> N\A | E20: =[3]!WAITi -> N\A | F20: =[4]!WAITi -> N\A | G20: =[5]!WAITi -> N\A | H20: =Strength28!G34 -> 5 | I20: =GAP_test!G18 -> -2 | J20: =Strength28!H34*10 -> -17.142857 | K20: =GAP_test!C18 -> 0.13289037 | L20: =GAP_test!D18 -> -5 | M20: =GAP_test!E18 -> -1.7142857 | N20: =GAP_test!H18 -> 0.27342527
B21: =$V$11 -> WAIT | C21: =$U$11 -> SELL | D21: =[2]!WAITi -> N\A | E21: =[3]!WAITi -> N\A | F21: =[4]!WAITi -> N\A | G21: =[5]!WAITi -> N\A | H21: =Strength28!G35 -> 2.1428571 | I21: =GAP_test!G19 -> 3.7142857 | J21: =Strength28!H35*10 -> 11.428571 | K21: =GAP_test!C19 -> 0.7364532 | L21: =GAP_test!D19 -> 3 | M21: =GAP_test!E19 -> 1.1428571 | N21: =GAP_test!H19 -> 16.826302
B22: =$V$11 -> WAIT | C22: =$T$11 -> WAIT | D22: =[2]!WAITi -> N\A | E22: =[3]!WAITi -> N\A | F22: =[4]!WAITi -> N\A | G22: =[5]!WAITi -> N\A | H22: =Strength28!G36 -> 5.1428571 | I22: =GAP_test!G20 -> 0.85714286 | J22: =Strength28!H36*10 -> -18.571429 | K22: =GAP_test!C20 -> 0.3009434 | L22: =GAP_test!D20 -> -3 | M22: =GAP_test!E20 -> -1.8571429 | N22: =GAP_test!H20 -> -14.646676
B23: =$V$11 -> WAIT | C23: =$X$11 -> BUY | D23: =[2]!WAITi -> N\A | E23: =[3]!WAITi -> N\A | F23: =[4]!WAITi -> N\A | G23: =[5]!WAITi -> N\A | H23: =Strength28!G37 -> 8.2857143 | I23: =GAP_test!G21 -> -2.4285714 | J23: =Strength28!H37*10 -> -50 | K23: =GAP_test!C21 -> 0.016066838 | L23: =GAP_test!D21 -> -9 | M23: =GAP_test!E21 -> -5 | N23: =GAP_test!H21 -> -7.6366204
B24: =$V$11 -> WAIT | C24: =$S$11 -> SELL | D24: =[2]!WAITi -> N\A | E24: =[3]!WAITi -> N\A | F24: =[4]!WAITi -> N\A | G24: =[5]!WAITi -> N\A | H24: =Strength28!G38 -> 2.7142857 | I24: =GAP_test!G22 -> 3 | J24: =Strength28!H38*10 -> 5.7142857 | K24: =GAP_test!C22 -> 0.56056338 | L24: =GAP_test!D22 -> 1 | M24: =GAP_test!E22 -> 0.57142857 | N24: =GAP_test!H22 -> 1.782386
B25: =$U$11 -> SELL | C25: =$W$11 -> WAIT | D25: =[2]!WAITi -> N\A | E25: =[3]!WAITi -> N\A | F25: =[4]!WAITi -> N\A | G25: =[5]!WAITi -> N\A | H25: =Strength28!G39 -> 6.4285714 | I25: =GAP_test!G23 -> -3.5714286 | J25: =Strength28!H39*10 -> -42.857143 | K25: =GAP_test!C23 -> 0.05090312 | L25: =GAP_test!D23 -> -7 | M25: =GAP_test!E23 -> -4.2857143 | N25: =GAP_test!H23 -> -17.807456
B26: =$U$11 -> SELL | C26: =$Y$11 -> WAIT | D26: =[2]!WAITi -> N\A | E26: =[3]!WAITi -> N\A | F26: =[4]!WAITi -> N\A | G26: =[5]!WAITi -> N\A | H26: =Strength28!G40 -> 3 | I26: =GAP_test!G24 -> -3.5714286 | J26: =Strength28!H40*10 -> -8.5714286 | K26: =GAP_test!C24 -> 0.36329234 | L26: =GAP_test!D24 -> -3 | M26: =GAP_test!E24 -> -0.85714286 | N26: =GAP_test!H24 -> -14.82008
B27: =$U$11 -> SELL | C27: =$Z$11 -> WAIT | D27: =[2]!WAITi -> N\A | E27: =[3]!WAITi -> N\A | F27: =[4]!WAITi -> N\A | G27: =[5]!WAITi -> N\A | H27: =Strength28!G41 -> 5 | I27: =GAP_test!G25 -> -5.7142857 | J27: =Strength28!H41*10 -> -28.571429 | K27: =GAP_test!C25 -> 0.21743929 | L27: =GAP_test!D25 -> -5 | M27: =GAP_test!E25 -> -2.8571429 | N27: =GAP_test!H25 -> -14.166402
B28: =$U$11 -> SELL | C28: =$T$11 -> WAIT | D28: =[2]!WAITi -> N\A | E28: =[3]!WAITi -> N\A | F28: =[4]!WAITi -> N\A | G28: =[5]!WAITi -> N\A | H28: =Strength28!G42 -> 5.1428571 | I28: =GAP_test!G26 -> -2.8571429 | J28: =Strength28!H42*10 -> -30 | K28: =GAP_test!C26 -> 0.11397558 | L28: =GAP_test!D26 -> -5 | M28: =GAP_test!E26 -> -3 | N28: =GAP_test!H26 -> -26.933257
B29: =$U$11 -> SELL | C29: =$X$11 -> BUY | D29: =[2]!WAITi -> N\A | E29: =[3]!WAITi -> N\A | F29: =[4]!WAITi -> N\A | G29: =[5]!WAITi -> N\A | H29: =Strength28!G43 -> 8.2857143 | I29: =GAP_test!G27 -> -6.1428571 | J29: =Strength28!H43*10 -> -61.428571 | K29: =GAP_test!C27 -> 0.082593593 | L29: =GAP_test!D27 -> -7 | M29: =GAP_test!E27 -> -6.1428571 | N29: =GAP_test!H27 -> -22.798225
B30: =$U$11 -> SELL | C30: =$S$11 -> SELL | D30: =[2]!WAITi -> N\A | E30: =[3]!WAITi -> N\A | F30: =[4]!WAITi -> N\A | G30: =[5]!WAITi -> N\A | H30: =Strength28!G44 -> 2.7142857 | I30: =GAP_test!G28 -> -0.71428571 | J30: =Strength28!H44*10 -> -5.7142857 | K30: =GAP_test!C28 -> 0.32916145 | L30: =GAP_test!D28 -> -3 | M30: =GAP_test!E28 -> -0.57142857 | N30: =GAP_test!H28 -> -12.875321
B31: =$X$11 -> BUY | C31: =$Y$11 -> WAIT | D31: =[2]!WAITi -> N\A | E31: =[3]!WAITi -> N\A | F31: =[4]!WAITi -> N\A | G31: =[5]!WAITi -> N\A | H31: =Strength28!G45 -> 3 | I31: =GAP_test!G29 -> 2.5714286 | J31: =Strength28!H45*10 -> 52.857143 | K31: =GAP_test!C29 -> 0.96923077 | L31: =GAP_test!D29 -> 7 | M31: =GAP_test!E29 -> 5.2857143 | N31: =GAP_test!H29 -> 7.759965
B32: =$X$11 -> BUY | C32: =$Z$11 -> WAIT | D32: =$X$12 -> 5 | E32: =$Z$12 -> 3 | F32: =Strength28!E46 -> NZDCHF | G32: =Strength28!F46 -> 8.2857143 | H32: =Strength28!G46 -> 5 | I32: =GAP_test!G30 -> 0.42857143 | J32: =Strength28!H46*10 -> 32.857143 | K32: =GAP_test!C30 -> 0.97630332 | L32: =GAP_test!D30 -> 9 | M32: =GAP_test!E30 -> 3.2857143 | N32: =GAP_test!H30 -> 8.5971018 | R32: i
B33: =$X$11 -> BUY | C33: =$T$11 -> WAIT | D33: =$X$12 -> 5 | E33: =$T$12 -> -2 | F33: =Strength28!E47 -> NZDJPY | G33: =Strength28!F47 -> 8.2857143 | H33: =Strength28!G47 -> 5.1428571 | I33: =GAP_test!G31 -> 3.2857143 | J33: =Strength28!H47*10 -> 31.428571 | K33: =GAP_test!C31 -> 0.90518192 | L33: =GAP_test!D31 -> 7 | M33: =GAP_test!E31 -> 3.1428571 | N33: =GAP_test!H31 -> -7.5569636
B34: =$X$11 -> BUY | C34: =$S$11 -> SELL | D34: =$X$12 -> 5 | E34: =$S$12 -> -5 | F34: =Strength28!E48 -> NZDUSD | G34: =Strength28!F48 -> 8.2857143 | H34: =Strength28!G48 -> 2.7142857 | I34: =GAP_test!G32 -> 5.4285714 | J34: =Strength28!H48*10 -> 55.714286 | K34: =GAP_test!C32 -> 0.97934386 | L34: =GAP_test!D32 -> 9 | M34: =GAP_test!E32 -> 5.5714286 | N34: =GAP_test!H32 -> 10.222583 | S34: Lot Size
B35: =$S$11 -> SELL | C35: =$Y$11 -> WAIT | D35: =$S$12 -> -5 | E35: =$Y$12 -> 2 | F35: =Strength28!E49 -> USDCAD | G35: =Strength28!F49 -> 2.7142857 | H35: =Strength28!G49 -> 3 | I35: =GAP_test!G33 -> -2.8571429 | J35: =Strength28!H49*10 -> -2.8571429 | K35: =GAP_test!C33 -> 0.48051948 | L35: =GAP_test!D33 -> -1 | M35: =GAP_test!E33 -> -0.28571429 | N35: =GAP_test!H33 -> -2.2337567 | S35: 0.02
B36: =$S$11 -> SELL | C36: =$Z$11 -> WAIT | D36: =$S$12 -> -5 | E36: =$Z$12 -> 3 | F36: =Strength28!E50 -> USDCHF | G36: =Strength28!F50 -> 2.7142857 | H36: =Strength28!G50 -> 5 | I36: =GAP_test!G34 -> -5 | J36: =Strength28!H50*10 -> -22.857143 | K36: =GAP_test!C34 -> 0.14826498 | L36: =GAP_test!D34 -> -5 | M36: =GAP_test!E34 -> -2.2857143 | N36: =GAP_test!H34 -> -1.4775317
B37: =$S$11 -> SELL | C37: =$T$11 -> WAIT | D37: =$S$12 -> -5 | E37: =$T$12 -> -2 | F37: =Strength28!E51 -> USDJPY | G37: =Strength28!F51 -> 2.7142857 | H37: =Strength28!G51 -> 5.1428571
R38: GAP | S38: =Strength28!N25 -> USD | T38: =Strength28!O25 -> JPY | U38: =Strength28!P25 -> GBP | V38: =Strength28!Q25 -> EUR | W38: =Strength28!R25 -> AUD | X38: =Strength28!S25 -> NZD | Y38: =Strength28!T25 -> CAD | Z38: =Strength28!U25 -> CHF
R39: D1 | S39: =CRS!W2 -> 2.7142857 | T39: =CRS!W5 -> 5.1428571 | U39: =CRS!W4 -> 2.1428571 | V39: =CRS!W3 -> 3.2857143 | W39: =CRS!W7 -> 6.4285714 | X39: =CRS!W9 -> 8.2857143 | Y39: =CRS!W8 -> 3 | Z39: =CRS!W6 -> 5
R40: H4 | S40: =CRS!V2 -> 2.7142857 | T40: =CRS!V5 -> 5.1428571 | U40: =CRS!V4 -> 2.1428571 | V40: =CRS!V3 -> 3.2857143 | W40: =CRS!V7 -> 6.4285714 | X40: =CRS!V9 -> 8.2857143 | Y40: =CRS!V8 -> 3 | Z40: =CRS!V6 -> 5
R41: H1 | S41: =CRS!U2 -> -2.1428571 | T41: =CRS!U5 -> -0.14285714 | U41: =CRS!U4 -> -2.8571429 | V41: =CRS!U3 -> 0.28571429 | W41: =CRS!U7 -> -0.14285714 | X41: =CRS!U9 -> 2.2857143 | Y41: =CRS!U8 -> 0.57142857 | Z41: =CRS!U6 -> 2.1428571
R42: M30 | S42: =CRS!T2 -> -3.5714286 | T42: =CRS!T5 -> 1.5714286 | U42: =CRS!T4 -> -2 | V42: =CRS!T3 -> -0.57142857 | W42: =CRS!T7 -> 1.5714286 | X42: =CRS!T9 -> 4.5714286 | Y42: =CRS!T8 -> -1.4285714 | Z42: =CRS!T6 -> -0.14285714
R43: M15 | S43: =CRS!S2 -> -3.5714286 | T43: =CRS!S5 -> 1.5714286 | U43: =CRS!S4 -> -2 | V43: =CRS!S3 -> -0.57142857 | W43: =CRS!S7 -> 1.5714286 | X43: =CRS!S9 -> 4.5714286 | Y43: =CRS!S8 -> -1.4285714 | Z43: =CRS!S6 -> -0.14285714

Sheet OpenOrder
A1: OrderOpenTime | B1: OrderComment | C1: OrderMagicNumber | D1: OrderSymbol | E1: OrderType | F1: OrderLots | G1: OrderOpenPrice | H1: OrderStopLoss | I1: OrderTakeProfit
A2: 2015.12.11 20:00 | B2: CliveH | C2: 5678765 | D2: AUDCHF | E2: OP_SELL | F2: 0.01 | G2: 0.70659 | H2: 0.71131 | I2: 0.70541
A3: 2015.12.11 20:35 | B3: OrderFromExcel_19:35:26 | C3: 9991 | D3: AUDCHF | E3: OP_SELL | F3: 0.02 | G3: 0.70695 | H3: 0 | I3: 0
A4: 2015.12.10 17:57 | B4: Order2 | C4: 9998 | D4: AUDJPY | E4: OP_BUY | F4: 0.01 | G4: 88.796 | H4: 0 | I4: 0
A5: 2015.12.11 18:02 | B5: OrderFromExcel_17:02:07 | C5: 9991 | D5: AUDJPY | E5: OP_SELL | F5: 0.02 | G5: 87.208 | H5: 0 | I5: 0
A6: 2015.12.11 18:57 | B6: OrderFromExcel_17:57:23 | C6: 9991 | D6: AUDJPY | E6: OP_SELL | F6: 0.02 | G6: 87.264 | H6: 0 | I6: 0
A7: 2015.12.11 20:35 | B7: OrderFromExcel_19:35:02 | C7: 9991 | D7: AUDJPY | E7: OP_SELL | F7: 0.02 | G7: 86.861 | H7: 0 | I7: 0
A8: 2015.12.11 20:38 | B8: OrderFromExcel_19:38:39 | C8: 9991 | D8: AUDJPY | E8: OP_SELL | F8: 0.02 | G8: 86.888 | H8: 0 | I8: 0
A9: 2015.12.11 01:52 | B9: OrderFromExcel_00:52:08 | C9: 9991 | D9: AUDNZD | E9: OP_SELL | F9: 0.02 | G9: 1.0753 | H9: 0 | I9: 0
A10: 2015.12.11 02:10 | B10: OrderFromExcel_01:10:11 | C10: 9991 | D10: AUDNZD | E10: OP_SELL | F10: 0.02 | G10: 1.07492 | H10: 0 | I10: 0
A11: 2015.12.10 18:13 | B11: OrderFromExcel17:13:46 | C11: 9999 | D11: AUDUSD | E11: OP_BUY | F11: 0.01 | G11: 0.7306 | H11: 0 | I11: 0
A12: 2015.12.11 01:39 | B12: OrderFromExcel_00:39:47 | C12: 9991 | D12: AUDUSD | E12: OP_SELL | F12: 0.02 | G12: 0.72667 | H12: 0 | I12: 0
A13: 2015.12.11 02:09 | B13: OrderFromExcel_01:09:11 | C13: 9991 | D13: AUDUSD | E13: OP_SELL | F13: 0.02 | G13: 0.7263 | H13: 0 | I13: 0
... A52: 2015.12.11 02:11 | B52: OrderFromExcel_01:11:30 | C52: 9991 | D52: USDJPY | E52: OP_BUY | F52: 0.02 | G52: 121.843 | H52: 0 | I52: 0

Sheet Strength28
B1: BROKERS SUFFIX | C1: X: | Q1: =CORREL(Q5:Q7,R5:R7) -> 0.96867499 | R1: =CORREL(Q4:Q6, R4:R6) -> 0.99993874
B3: Pair | C3: AUDCAD | D3: AUDCHF | E3: AUDJPY | F3: AUDNZD | G3: AUDUSD | H3: CADCHF | I3: CADJPY | J3: CHFJPY | K3: EURAUD | L3: EURCAD | M3: EURCHF | N3: EURGBP | O3: EURJPY | P3: EURNZD | Q3: EURUSD | R3: GBPAUD | S3: GBPCAD | T3: GBPCHF | U3: GBPJPY | V3: GBPNZD | W3: GBPUSD | X3: NZDCAD | Y3: NZDCHF | Z3: NZDJPY | AA3: NZDUSD | AB3: USDCAD | AC3: USDCHF | AD3: USDJPY
B4: High | C4: =[2]!AUDCAD -> 0.98784 | D4: =[2]!AUDCHF -> 0.7458 | E4: =[2]!AUDJPY -> 78.446 | F4: =[2]!AUDNZD -> 1.03722 | G4: =[2]!AUDUSD -> 0.76885 | H4: =[2]!CADCHF -> 0.75553 | I4: =[2]!CADJPY -> 79.469 | J4: =[2]!CHFJPY -> 105.263 | K4: =[2]!EURAUD -> 1.46982 | L4: =[2]!EURCAD -> 1.44616 | M4: =[2]!EURCHF -> 1.0918 | N4: =[2]!EURGBP -> 0.84146 | O4: =[2]!EURJPY -> 114.884 | P4: =[2]!EURNZD -> 1.51954 | Q4: =[2]!EURUSD -> 1.12652 | R4: =[2]!GBPAUD -> 1.75262 | S4: =[2]!GBPCAD -> 1.72624 | T4: =[2]!GBPCHF -> 1.30304 | U4: =[2]!GBPJPY -> 137.121 | V4: =[2]!GBPNZD -> 1.81367 | W4: =[2]!GBPUSD -> 1.3439 | X4: =[2]!NZDCAD -> 0.96084 | Y4: =[2]!NZDCHF -> 0.72408 | Z4: =[2]!NZDJPY -> 75.954 | AA4: =[2]!NZDUSD -> 0.74792 | AB4: =[2]!USDCAD -> 1.28618 | AC4: =[2]!USDCHF -> 0.9709 | AD4: =[2]!USDJPY -> 102.128 | AE4: =[2]!i -> N\A | AF4: 0 | AG4: 0
B5: Ask | C5: =[3]!AUDCAD -> 0.98762 | D5: =[3]!AUDCHF -> 0.74441 | E5: =[3]!AUDJPY -> 78.009 | F5: =[3]!AUDNZD -> 1.02815 | G5: =[3]!AUDUSD -> 0.76878 | H5: =[3]!CADCHF -> 0.75379 | I5: =[3]!CADJPY -> 78.987 | J5: =[3]!CHFJPY -> 104.803 | K5: =[3]!EURAUD -> 1.46337 | L5: =[3]!EURCAD -> 1.44518 | M5: =[3]!EURCHF -> 1.08927 | N5: =[3]!EURGBP -> 0.84043 | O5: =[3]!EURJPY -> 114.149 | P5: =[3]!EURNZD -> 1.50454 | Q5: =[3]!EURUSD -> 1.12497 | R5: =[3]!GBPAUD -> 1.74128 | S5: =[3]!GBPCAD -> 1.71964 | T5: =[3]!GBPCHF -> 1.29615 | U5: =[3]!GBPJPY -> 135.824 | V5: =[3]!GBPNZD -> 1.79022 | W5: =[3]!GBPUSD -> 1.33859 | X5: =[3]!NZDCAD -> 0.96067 | Y5: =[3]!NZDCHF -> 0.72411 | Z5: =[3]!NZDJPY -> 75.88 | AA5: =[3]!NZDUSD -> 0.74783 | AB5: =[3]!USDCAD -> 1.28463 | AC5: =[3]!USDCHF -> 0.96827 | AD5: =[3]!USDJPY -> 101.469 | AE5: =[3]!i -> N\A | AF5: 3 | AG5: 1 | AK5: T | AL5: S
B6: Bid | C6: =[4]!AUDCAD -> 0.98753 | D6: =[4]!AUDCHF -> 0.74431 | E6: =[4]!AUDJPY -> 78.002 | F6: =[4]!AUDNZD -> 1.02799 | G6: =[4]!AUDUSD -> 0.76876 | H6: =[4]!CADCHF -> 0.75367 | I6: =[4]!CADJPY -> 78.981 | J6: =[4]!CHFJPY -> 104.791 | K6: =[4]!EURAUD -> 1.46326 | L6: =[4]!EURCAD -> 1.44511 | M6: =[4]!EURCHF -> 1.08919 | N6: =[4]!EURGBP -> 0.84039 | O6: =[4]!EURJPY -> 114.143 | P6: =[4]!EURNZD -> 1.50423 | Q6: =[4]!EURUSD -> 1.12496 | R6: =[4]!GBPAUD -> 1.74106 | S6: =[4]!GBPCAD -> 1.71951 | T6: =[4]!GBPCHF -> 1.29595 | U6: =[4]!GBPJPY -> 135.815 | V6: =[4]!GBPNZD -> 1.7899 | W6: =[4]!GBPUSD -> 1.33854 | X6: =[4]!NZDCAD -> 0.96054 | Y6: =[4]!NZDCHF -> 0.72393 | Z6: =[4]!NZDJPY -> 75.868 | AA6: =[4]!NZDUSD -> 0.74775 | AB6: =[4]!USDCAD -> 1.28458 | AC6: =[4]!USDCHF -> 0.9682 | AD6: =[4]!USDJPY -> 101.465 | AE6: =[4]!i -> N\A | AF6: 10 | AG6: 2 | AK6: 0 | AL6: 0.09065
B7: Low | C7: =[5]!AUDCAD -> 0.98271 | D7: =[5]!AUDCHF -> 0.74178 | E7: =[5]!AUDJPY -> 77.581 | F7: =[5]!AUDNZD -> 1.02639 | G7: =[5]!AUDUSD -> 0.76512 | H7: =[5]!CADCHF -> 0.75323 | I7: =[5]!CADJPY -> 78.746 | J7: =[5]!CHFJPY -> 104.329 | K7: =[5]!EURAUD -> 1.46303 | L7: =[5]!EURCAD -> 1.443 | M7: =[5]!EURCHF -> 1.08879 | N7: =[5]!EURGBP -> 0.8374 | O7: =[5]!EURJPY -> 113.824 | P7: =[5]!EURNZD -> 1.50398 | Q7: =[5]!EURUSD -> 1.12297 | R7: =[5]!GBPAUD -> 1.74044 | S7: =[5]!GBPCAD -> 1.71567 | T7: =[5]!GBPCHF -> 1.29398 | U7: =[5]!GBPJPY -> 135.647 | V7: =[5]!GBPNZD -> 1.78776 | W7: =[5]!GBPUSD -> 1.33591 | X7: =[5]!NZDCAD -> 0.95109 | Y7: =[5]!NZDCHF -> 0.71775 | Z7: =[5]!NZDJPY -> 75.047 | AA7: =[5]!NZDUSD -> 0.73969 | AB7: =[5]!USDCAD -> 1.2831 | AC7: =[5]!USDCHF -> 0.96773 | AD7: =[5]!USDJPY -> 101.209 | AE7: =[5]!i -> N\A | AF7: 25 | AG7: 3 | AK7: 1 | AL7: 0.093597725
B8: Spread | C8: =(C5-C6)*IF(RIGHT(C$3,3)="JPY",100,10000) -> 0.9 | D8: =(D5-D6)*IF(RIGHT(D$3,3)="JPY",100,10000) -> 1 | E8: =(E5-E6)*IF(RIGHT(E$3,3)="JPY",100,10000) -> 0.7 | F8: =(F5-F6)*IF(RIGHT(F$3,3)="JPY",100,10000) -> 1.6 | G8: =(G5-G6)*IF(RIGHT(G$3,3)="JPY",100,10000) -> 0.2 | H8: =(H5-H6)*IF(RIGHT(H$3,3)="JPY",100,10000) -> 1.2 | I8: =(I5-I6)*IF(RIGHT(I$3,3)="JPY",100,10000) -> 0.6 | J8: =(J5-J6)*IF(RIGHT(J$3,3)="JPY",100,10000) -> 1.2 | ... AD8: =(AD5-AD6)*IF(RIGHT(AD$3,3)="JPY",100,10000) -> 0.4 | AF8: 40 | AG8: 4 | AK8: 2 | AL8: 0.096542703
AF9: 50 | AG9: 5 | AK9: 3 | AL9: 0.099484934
B10: Point Range | C10: =($C4:$AD4-$C7:$AD7)*IF(RIGHT(C$3,3)="JPY",100,10000) -> 51.3 | D10: =($C4:$AD4-$C7:$AD7)*IF(RIGHT(D$3,3)="JPY",100,10000) -> 40.2 | E10: =($C4:$AD4-$C7:$AD7)*IF(RIGHT(E$3,3)="JPY",100,10000) -> 86.5 | F10: =($C4:$AD4-$C7:$AD7)*IF(RIGHT(F$3,3)="JPY",100,10000) -> 108.3 | G10: =($C4:$AD4-$C7:$AD7)*IF(RIGHT(G$3,3)="JPY",100,10000) -> 37.3 | H10: =($C4:$AD4-$C7:$AD7)*IF(RIGHT(H$3,3)="JPY",100,10000) -> 23 | I10: =($C4:$AD4-$C7:$AD7)*IF(RIGHT(I$3,3)="JPY",100,10000) -> 72.3 | J10: =($C4:$AD4-$C7:$AD7)*IF(RIGHT(J$3,3)="JPY",100,10000) -> 93.4 | ... AD10: =($C4:$AD4-$C7:$AD7)*IF(RIGHT(AD$3,3)="JPY",100,10000) -> 91.9 | AF10: 60 | AG10: 6 | AK10: 4 | AL10: 0.10242442
B11: Bid Ratio | C11: =($C6:$AD6-$C7:$AD7)/$C10:$AD10*IF(RIGHT(C$3,3)="JPY",100,10000) -> 0.93957115 | D11: =($C6:$AD6-$C7:$AD7)/$C10:$AD10*IF(RIGHT(D$3,3)="JPY",100,10000) -> 0.62935323 | E11: =($C6:$AD6-$C7:$AD7)/$C10:$AD10*IF(RIGHT(E$3,3)="JPY",100,10000) -> 0.4867052 | F11: =($C6:$AD6-$C7:$AD7)/$C10:$AD10*IF(RIGHT(F$3,3)="JPY",100,10000) -> 0.14773777 | G11: =($C6:$AD6-$C7:$AD7)/$C10:$AD10*IF(RIGHT(G$3,3)="JPY",100,10000) -> 0.97587131 | H11: =($C6:$AD6-$C7:$AD7)/$C10:$AD10*IF(RIGHT(H$3,3)="JPY",100,10000) -> 0.19130435 | I11: =($C6:$AD6-$C7:$AD7)/$C10:$AD10*IF(RIGHT(I$3,3)="JPY",100,10000) -> 0.32503458 | J11: =($C6:$AD6-$C7:$AD7)/$C10:$AD10*IF(RIGHT(J$3,3)="JPY",100,10000) -> 0.49464668 | ... AD11: =($C6:$AD6-$C7:$AD7)/$C10:$AD10*IF(RIGHT(AD$3,3)="JPY",100,10000) -> 0.27856366 | AF11: 75 | AG11: 7 | AK11: 5 | AL11: 0.10536117
AF12: 90 | AG12: 8 | AK12: 6 | AL12: 0.10829518
B13: Relative | C13: =LEFT(C3,3) -> AUD | D13: =LEFT(D3,3) -> AUD | E13: =LEFT(E3,3) -> AUD | F13: =LEFT(F3,3) -> AUD | G13: =LEFT(G3,3) -> AUD | H13: =LEFT(H3,3) -> CAD | I13: =LEFT(I3,3) -> CAD | J13: =LEFT(J3,3) -> CHF | ... AD13: =LEFT(AD3,3) -> USD | AF13: 97 | AG13: 9 | AK13: 7 | AL13: 0.11122645
C14: =LOOKUP(100*C11,$AF4:$AF13,$AG4:$AG13) -> 8 | D14: =LOOKUP(100*D11,$AF4:$AF13,$AG4:$AG13) -> 6 | E14: =LOOKUP(100*E11,$AF4:$AF13,$AG4:$AG13) -> 4 | F14: =LOOKUP(100*F11,$AF4:$AF13,$AG4:$AG13) -> 2 | G14: =LOOKUP(100*G11,$AF4:$AF13,$AG4:$AG13) -> 9 | H14: =LOOKUP(100*H11,$AF4:$AF13,$AG4:$AG13) -> 2 | I14: =LOOKUP(100*I11,$AF4:$AF13,$AG4:$AG13) -> 3 | J14: =LOOKUP(100*J11,$AF4:$AF13,$AG4:$AG13) -> 4 | ... AD14: =LOOKUP(100*AD11,$AF4:$AF13,$AG4:$AG13) -> 3 | AK14: 8 | AL14: 0.11415498
B15: Strength | C15: =RIGHT(C3,3) -> CAD | D15: =RIGHT(D3,3) -> CHF | E15: =RIGHT(E3,3) -> JPY | F15: =RIGHT(F3,3) -> NZD | G15: =RIGHT(G3,3) -> USD | H15: =RIGHT(H3,3) -> CHF | I15: =RIGHT(I3,3) -> JPY | J15: =RIGHT(J3,3) -> JPY | ... AD15: =RIGHT(AD3,3) -> JPY | AK15: 9 | AL15: 0.11708078
C16: =9-C14 -> 1 | D16: =9-D14 -> 3 | E16: =9-E14 -> 5 | F16: =9-F14 -> 7 | G16: =9-G14 -> 0 | H16: =9-H14 -> 7 | I16: =9-I14 -> 6 | J16: =9-J14 -> 5 | ... AD16: =9-AD14 -> 6 | AK16: 10 | AL16: 0.12000385
AK17: 11 | AL17: 0.12292419
B18: Total Strength | D18: USD | E18: EUR | F18: GBP | G18: CHF | H18: CAD | I18: AUD | J18: NZD | K18: JPY | AB18: cad | AK18: 12 | AL18: 0.12584181
D19: =(G16+Q16+W16+AA16+AB14+AC14+AD14)/7 -> 2.7142857 | E19: =(K14+L14+M14+N14+O14+P14+Q14)/7 -> 3.2857143 | F19: =(N16+R14+S14+T14+U14+V14+W14)/7 -> 2.1428571 | G19: =(D16+H16+J14+M16+T16+Y16+AC16)/7 -> 5 | H19: =(C16+H14+I14+L16+S16+X16+AB16)/7 -> 3 | I19: =(C14+D14+E14+F14+G14+K16+R16)/7 -> 6.4285714 | J19: =(F16+P16+V16+X14+Y14+Z14+AA14)/7 -> 8.2857143 | K19: =(E16+I16+J16+O16+U16+Z16+AD16)/7 -> 5.1428571 | V19: usd | W19: jpy | X19: gbp | Y19: eur | Z19: aud | AA19: nzd | AB19: cad | AC19: chf | AK19: 13 | AL19: 0.1287567
C20: # of evaluation points | D20: =COUNTIF($C$13:$AD$16,"=USD") -> 7 | E20: =COUNTIF($C$13:$AD$16,"=EUR") -> 7 | F20: 7 | G20: =COUNTIF($C$13:$AD$16,"=CHF") -> 7 | H20: =COUNTIF($C$13:$AD$16,"=CAD") -> 7 | I20: =COUNTIF($C$13:$AD$16,"=AUD") -> 7 | J20: 7 | K20: =COUNTIF($C$13:$AD$16,"=JPY") -> 7 | V20: =(H28*-1) -> -3.7142857 | W20: =(H26*-1) -> -1.2857143 | X20: =(H35*-1) -> -1.1428571 | Y20: =H32 -> -3.1428571 | Z20: =H24 -> 3.4285714 | AA20: =(H27*-1) -> 1.8571429 | AB20: =(H24*-1) -> -3.4285714 | AC20: =(H25*-1) -> -1.4285714 | AK20: 14 | AL20: 0.13166886
V21: =(H38*-1) -> -0.57142857 | W21: =(H30*-1) -> 2.1428571 | X21: =H39 -> -4.2857143 | Y21: =H33 -> 0.28571429 | Z21: =H25 -> 1.4285714 | AA21: =(H37*-1) -> 5 | AB21: =H29 -> -2 | AC21: =(H29*-1) -> 2 | AK21: 15 | AL21: 0.13457831
H22: Current | V22: =(H44*-1) -> 0.57142857 | W22: =(H31*-1) -> 0.14285714 | X22: =H40 -> -0.85714286 | Y22: =H34 -> -1.7142857 | Z22: =H26 -> 1.2857143 | AA22: =(H43*-1) -> 6.1428571 | AB22: =H30 -> -2.1428571 | AC22: =H31 -> -0.14285714 | AK22: 16 | AL22: 0.13748504
D23: Spread | E23: Pair | F23: Buy | G23: Sell | H23: δ | V23: =H49 -> -0.28571429 | W23: =(H36*-1) -> 1.8571429 | X23: =H41 -> -2.8571429 | Y23: =H35 -> 1.1428571 | Z23: =H27 -> -1.8571429 | AA23: =H45 -> 5.2857143 | AB23: =(H33*-1) -> -0.28571429 | AC23: =(H34*-1) -> 1.7142857 | AK23: 17 | AL23: 0.14038905
D24: =$C$8 -> 0.9 | E24: AUDCAD | F24: =HLOOKUP(LEFT(E24,3),$D$18:$K$19,2,FALSE) -> 6.4285714 | G24: =HLOOKUP(RIGHT(E24,3),$D$18:$K$19,2,FALSE) -> 3 | H24: =+F24-G24 -> 3.4285714 | I24: -1.5714286 | J24: =IF(E24="","",IF((H24-I24)>1,"Buy",IF((H24-I24)<-1,"Sell",IF((H24-I24)=0,"",IF((H24-I24)<1,""))))) -> Buy | K24: =IF(E24="","",IF((B24-C24)>0.1,"Buy",IF((B24-C24)<-0.1,"Sell",IF((B24-C24)=0,"",IF((B24-C24)<0.1,""))))) | V24: =H50 -> -2.2857143 | W24: =(H42*-1) -> 3 | X24: =H42 -> -3 | Y24: =H36 -> -1.8571429 | Z24: =H28 -> 3.7142857 | AA24: =H46 -> 3.2857143 | AB24: =(H40*-1) -> 0.85714286 | AC24: =(H41*-1) -> 2.8571429 | AK24: 18 | AL24: 0.14329034
D25: =$D$8 -> 1 | E25: AUDCHF | F25: =HLOOKUP(LEFT(E25,3),$D$18:$K$19,2,FALSE) -> 6.4285714 | G25: =HLOOKUP(RIGHT(E25,3),$D$18:$K$19,2,FALSE) -> 5 | H25: =+F25-G25 -> 1.4285714 | I25: -5 | J25: =IF(E25="","",IF((H25-I25)>1,"Buy",IF((H25-I25)<-1,"Sell",IF((H25-I25)=0,"",IF((H25-I25)<1,""))))) -> Buy | K25: =IF(E25="","",IF((B25-C25)>0.1,"Buy",IF((B25-C25)<-0.1,"Sell",IF((B25-C25)=0,"",IF((B25-C25)<0.1,""))))) | N25: USD | O25: JPY | P25: GBP | Q25: EUR | R25: AUD | S25: NZD | T25: CAD | U25: CHF | V25: =H51 -> -2.4285714 | W25: =(H47*-1) -> -3.1428571 | X25: =H43 -> -6.1428571 | Y25: =H37 -> -5 | Z25: =(H32*-1) -> 3.1428571 | AA25: =H47 -> 3.1428571 | AB25: =(H45*-1) -> -5.2857143 | AC25: =(H46*-1) -> -3.2857143 | AF25: 95 | AG25: 9 | AK25: 19 | AL25: 0.14618893
D26: =$E$8 -> 0.7 | E26: AUDJPY | F26: =HLOOKUP(LEFT(E26,3),$D$18:$K$19,2,FALSE) -> 6.4285714 | G26: =HLOOKUP(RIGHT(E26,3),$D$18:$K$19,2,FALSE) -> 5.1428571 | H26: =+F26-G26 -> 1.2857143 | I26: 1.1428571 | J26: =IF(E26="","",IF((H26-I26)>1,"Buy",IF((H26-I26)<-1,"Sell",IF((H26-I26)=0,"",IF((H26-I26)<1,""))))) | K26: =IF(E26="","",IF((B26-C26)>0.1,"Buy",IF((B26-C26)<-0.1,"Sell",IF((B26-C26)=0,"",IF((B26-C26)<0.1,""))))) | M26: SM | N26: =(G16+Q16+W16+AA16+AB14+AC14+AD14)/7 -> 2.7142857 | O26: =(E16+I16+J16+O16+U16+Z16+AD16)/7 -> 5.1428571 | P26: =(N16+R14+S14+T14+U14+V14+W14)/7 -> 2.1428571 | Q26: =(K14+L14+M14+N14+O14+P14+Q14)/7 -> 3.2857143 | R26: =(C14+D14+E14+F14+G14+K16+R16)/7 -> 6.4285714 | S26: =(F16+P16+V16+X14+Y14+Z14+AA14)/7 -> 8.2857143 | T26: =(C16+H14+I14+L16+S16+X16+AB16)/7 -> 3 | U26: =(D16+H16+J14+M16+T16+Y16+AC16)/7 -> 5 | V26: =(H48*-1) -> -5.5714286 | W26: =(H51*-1) -> 2.4285714 | X26: =H44 -> -0.57142857 | Y26: =H38 -> 0.57142857 | Z26: =(H39*-1) -> 4.2857143 | AA26: =H48 -> 5.5714286 | AB26: =(H49*-1) -> 0.28571429 | AC26: =(H50*-1) -> 2.2857143 | AF26: 90 | AG26: 8 | AK26: 20 | AL26: 0.1490848
D27: =$F$8 -> 1.6 | E27: AUDNZD | F27: =HLOOKUP(LEFT(E27,3),$D$18:$K$19,2,FALSE) -> 6.4285714 | G27: =HLOOKUP(RIGHT(E27,3),$D$18:$K$19,2,FALSE) -> 8.2857143 | H27: =+F27-G27 -> -1.8571429 | I27: -1.8571429 | J27: =IF(E27="","",IF((H27-I27)>1,"Buy",IF((H27-I27)<-1,"Sell",IF((H27-I27)=0,"",IF((H27-I27)<1,""))))) | K27: =IF(E27="","",IF((B27-C27)>0.1,"Buy",IF((B27-C27)<-0.1,"Sell",IF((B27-C27)=0,"",IF((B27-C27)<0.1,""))))) | M27: BIAS | N27: =V27-V28 -> -5 | O27: =W27-W28 -> 3 | P27: =X27-X28 -> -7 | Q27: =Y27-Y28 -> -1 | R27: =Z27-Z28 -> 5 | S27: =AA27-AA28 -> 7 | T27: =AB27-AB28 -> -3 | U27: =AC27-AC28 -> 1 | V27: =COUNTIF(V20:V26,">0") -> 1 | W27: =COUNTIF(W20:W26,">0") -> 5 | X27: =COUNTIF(X20:X26,">0") -> 0 | Y27: =COUNTIF(Y20:Y26,">0") -> 3 | Z27: =COUNTIF(Z20:Z26,">0") -> 6 | AA27: =COUNTIF(AA20:AA26,">0") -> 7 | AB27: =COUNTIF(AB20:AB26,">0") -> 2 | AC27: =COUNTIF(AC20:AC26,">0") -> 4 | AF27: 85 | AG27: 7 | AK27: 21 | AL27: 0.15197797
D28: =$G$8 -> 0.2 | E28: AUDUSD | F28: =HLOOKUP(LEFT(E28,3),$D$18:$K$19,2,FALSE) -> 6.4285714 | G28: =HLOOKUP(RIGHT(E28,3),$D$18:$K$19,2,FALSE) -> 2.7142857 | H28: =+F28-G28 -> 3.7142857 | I28: -1.1428571 | J28: =IF(E28="","",IF((H28-I28)>1,"Buy",IF((H28-I28)<-1,"Sell",IF((H28-I28)=0,"",IF((H28-I28)<1,""))))) -> Buy | K28: =IF(E28="","",IF((B28-C28)>0.1,"Buy",IF((B28-C28)<-0.1,"Sell",IF((B28-C28)=0,"",IF((B28-C28)<0.1,""))))) | M28: CRS | N28: =(G16-G14)+(Q16-Q14)+(W16-W14)+(AA16-AA14)+(AB14-AB16)+(AC14-AC16)+(AD14-AD16) -> -25 | O28: =(E16-E14)+(I16-I14)+(J16-J14)+(O16-O14)+(U16-U14)+(Z16-Z14)+(AD16-AD14) -> 9 | P28: =(N16-N14)+(R14-R16)+(S14-S16)+(T14-T16)+(U14-U16)+(V14-V16)+(W14-W16) -> -33 | Q28: =(K14-K16)+(L14-L16)+(M14-M16)+(N14-N16)+(O14-O16)+(P14-P16)+(Q14-Q16) -> -17 | R28: =(C14-C16)+(D14-D16)+(E14-E16)+(F14-F16)+(G14-G16)+(K16-K14)+(R16-R14) -> 27 | S28: =(F16-F14)+(P16-P14)+(V16-V14)+(X14-X16)+(Y14-Y16)+(Z14-Z16)+(AA14-AA16) -> 53 | T28: =(C16-C14)+(H14-H16)+(I14-I16)+(L16-L14)+(S16-S14)+(X16-X14)+(AB16-AB14) -> -21 | U28: =(D16-D14)+(H16-H14)+(J14-J16)+(M16-M14)+(T16-T14)+(Y16-Y14)+(AC16-AC14) -> 7 | V28: =COUNTIF(V20:V26,"<0") -> 6 | W28: =COUNTIF(W20:W26,"<0") -> 2 | X28: =COUNTIF(X20:X26,"<0") -> 7 | Y28: =COUNTIF(Y20:Y26,"<0") -> 4 | Z28: =COUNTIF(Z20:Z26,"<0") -> 1 | AA28: =COUNTIF(AA20:AA26,"<0") -> 0 | AB28: =COUNTIF(AB20:AB26,"<0") -> 5 | AC28: =COUNTIF(AC20:AC26,"<0") -> 3 | AF28: 80 | AG28: 6 | AK28: 22 | AL28: 0.15486843
D29: =$H$8 -> 1.2 | E29: CADCHF | F29: =HLOOKUP(LEFT(E29,3),$D$18:$K$19,2,FALSE) -> 3 | G29: =HLOOKUP(RIGHT(E29,3),$D$18:$K$19,2,FALSE) -> 5 | H29: =+F29-G29 -> -2 | I29: -3.4285714 | J29: =IF(E29="","",IF((H29-I29)>1,"Buy",IF((H29-I29)<-1,"Sell",IF((H29-I29)=0,"",IF((H29-I29)<1,""))))) -> Buy | K29: =IF(E29="","",IF((B29-C29)>0.1,"Buy",IF((B29-C29)<-0.1,"Sell",IF((B29-C29)=0,"",IF((B29-C29)<0.1,""))))) | AF29: 75 | AG29: 5 | AK29: 23 | AL29: 0.15775619
D30: =$I$8 -> 0.6 | E30: CADJPY | F30: =HLOOKUP(LEFT(E30,3),$D$18:$K$19,2,FALSE) -> 3 | G30: =HLOOKUP(RIGHT(E30,3),$D$18:$K$19,2,FALSE) -> 5.1428571 | H30: =+F30-G30 -> -2.1428571 | I30: 2.7142857 | J30: =IF(E30="","",IF((H30-I30)>1,"Buy",IF((H30-I30)<-1,"Sell",IF((H30-I30)=0,"",IF((H30-I30)<1,""))))) -> Sell | K30: =IF(E30="","",IF((B30-C30)>0.1,"Buy",IF((B30-C30)<-0.1,"Sell",IF((B30-C30)=0,"",IF((B30-C30)<0.1,""))))) | AF30: 70 | AG30: 4 | AK30: 24 | AL30: 0.16064124
D31: =$J$8 -> 1.2 | E31: CHFJPY | F31: =HLOOKUP(LEFT(E31,3),$D$18:$K$19,2,FALSE) -> 5 | G31: =HLOOKUP(RIGHT(E31,3),$D$18:$K$19,2,FALSE) -> 5.1428571 | H31: =+F31-G31 -> -0.14285714 | I31: 6.1428571 | J31: =IF(E31="","",IF((H31-I31)>1,"Buy",IF((H31-I31)<-1,"Sell",IF((H31-I31)=0,"",IF((H31-I31)<1,""))))) -> Sell | K31: =IF(E31="","",IF((B31-C31)>0.1,"Buy",IF((B31-C31)<-0.1,"Sell",IF((B31-C31)=0,"",IF((B31-C31)<0.1,""))))) | AF31: 65 | AG31: 3 | AK31: 25 | AL31: 0.1635236
D32: =$K$8 -> 1.1 | E32: EURAUD | F32: =HLOOKUP(LEFT(E32,3),$D$18:$K$19,2,FALSE) -> 3.2857143 | G32: =HLOOKUP(RIGHT(E32,3),$D$18:$K$19,2,FALSE) -> 6.4285714 | H32: =+F32-G32 -> -3.1428571 | I32: 3.5714286 | J32: =IF(E32="","",IF((H32-I32)>1,"Buy",IF((H32-I32)<-1,"Sell",IF((H32-I32)=0,"",IF((H32-I32)<1,""))))) -> Sell | K32: =IF(E32="","",IF((B32-C32)>0.1,"Buy",IF((B32-C32)<-0.1,"Sell",IF((B32-C32)=0,"",IF((B32-C32)<0.1,""))))) | Q32: =(D19+E19+F19+G19+H19+I19+J19+K19)/8 -> 4.5 | R32: =SUM((N26+O26+P26+Q26+R26+S26+T26+U26)/8) -> 4.5 | AF32: 60 | AG32: 2 | AK32: 26 | AL32: 0.16640326
D33: =$L$8 -> 0.7 | E33: EURCAD | F33: =HLOOKUP(LEFT(E33,3),$D$18:$K$19,2,FALSE) -> 3.2857143 | G33: =HLOOKUP(RIGHT(E33,3),$D$18:$K$19,2,FALSE) -> 3 | H33: =+F33-G33 -> 0.28571429 | I33: 2 | J33: =IF(E33="","",IF((H33-I33)>1,"Buy",IF((H33-I33)<-1,"Sell",IF((H33-I33)=0,"",IF((H33-I33)<1,""))))) -> Sell | K33: =IF(E33="","",IF((B33-C33)>0.1,"Buy",IF((B33-C33)<-0.1,"Sell",IF((B33-C33)=0,"",IF((B33-C33)<0.1,""))))) | AF33: 55 | AG33: 1 | AK33: 27 | AL33: 0.16928022
D34: =$M$8 -> 0.8 | E34: EURCHF | F34: =HLOOKUP(LEFT(E34,3),$D$18:$K$19,2,FALSE) -> 3.2857143 | G34: =HLOOKUP(RIGHT(E34,3),$D$18:$K$19,2,FALSE) -> 5 | H34: =+F34-G34 -> -1.7142857 | I34: -1.4285714 | J34: =IF(E34="","",IF((H34-I34)>1,"Buy",IF((H34-I34)<-1,"Sell",IF((H34-I34)=0,"",IF((H34-I34)<1,""))))) | K34: =IF(E34="","",IF((B34-C34)>0.1,"Buy",IF((B34-C34)<-0.1,"Sell",IF((B34-C34)=0,"",IF((B34-C34)<0.1,""))))) | N34: =(G16+Q16+W16+AA16+AB14+AC14+AD14) -> 19 | O34: =(E16+I16+J16+O16+U16+Z16+AD16) -> 36 | AF34: 50 | AG34: 0 | AK34: 28 | AL34: 0.17215449
D35: =$N$8 -> 0.4 | E35: EURGBP | F35: =HLOOKUP(LEFT(E35,3),$D$18:$K$19,2,FALSE) -> 3.2857143 | G35: =HLOOKUP(RIGHT(E35,3),$D$18:$K$19,2,FALSE) -> 2.1428571 | H35: =+F35-G35 -> 1.1428571 | I35: 0.14285714 | J35: =IF(E35="","",IF((H35-I35)>1,"Buy",IF((H35-I35)<-1,"Sell",IF((H35-I35)=0,"",IF((H35-I35)<1,""))))) -> FALSE | K35: =IF(E35="","",IF((B35-C35)>0.1,"Buy",IF((B35-C35)<-0.1,"Sell",IF((B35-C35)=0,"",IF((B35-C35)<0.1,""))))) | AF35: 45 | AG35: -1 | AK35: 29 | AL35: 0.17502607
D36: =$O$8 -> 0.6 | E36: EURJPY | F36: =HLOOKUP(LEFT(E36,3),$D$18:$K$19,2,FALSE) -> 3.2857143 | G36: =HLOOKUP(RIGHT(E36,3),$D$18:$K$19,2,FALSE) -> 5.1428571 | H36: =+F36-G36 -> -1.8571429 | I36: 4.7142857 | J36: =IF(E36="","",IF((H36-I36)>1,"Buy",IF((H36-I36)<-1,"Sell",IF((H36-I36)=0,"",IF((H36-I36)<1,""))))) -> Sell | K36: =IF(E36="","",IF((B36-C36)>0.1,"Buy",IF((B36-C36)<-0.1,"Sell",IF((B36-C36)=0,"",IF((B36-C36)<0.1,""))))) | AF36: 40 | AG36: -2 | AK36: 30 | AL36: 0.17789495
D37: =$P$8 -> 3.1 | E37: EURNZD | F37: =HLOOKUP(LEFT(E37,3),$D$18:$K$19,2,FALSE) -> 3.2857143 | G37: =HLOOKUP(RIGHT(E37,3),$D$18:$K$19,2,FALSE) -> 8.2857143 | H37: =+F37-G37 -> -5 | I37: 1.7142857 | J37: =IF(E37="","",IF((H37-I37)>1,"Buy",IF((H37-I37)<-1,"Sell",IF((H37-I37)=0,"",IF((H37-I37)<1,""))))) -> Sell | K37: =IF(E37="","",IF((B37-C37)>0.1,"Buy",IF((B37-C37)<-0.1,"Sell",IF((B37-C37)=0,"",IF((B37-C37)<0.1,""))))) | AF37: 35 | AG37: -3 | AK37: 31 | AL37: 0.18076116
D38: =$Q$8 -> 0.1 | E38: EURUSD | F38: =HLOOKUP(LEFT(E38,3),$D$18:$K$19,2,FALSE) -> 3.2857143 | G38: =HLOOKUP(RIGHT(E38,3),$D$18:$K$19,2,FALSE) -> 2.7142857 | H38: =+F38-G38 -> 0.57142857 | I38: 2.4285714 | J38: =IF(E38="","",IF((H38-I38)>1,"Buy",IF((H38-I38)<-1,"Sell",IF((H38-I38)=0,"",IF((H38-I38)<1,""))))) -> Sell | K38: =IF(E38="","",IF((B38-C38)>0.1,"Buy",IF((B38-C38)<-0.1,"Sell",IF((B38-C38)=0,"",IF((B38-C38)<0.1,""))))) | AF38: 30 | AG38: -4 | AK38: 32 | AL38: 0.18362467
D39: =$R$8 -> 2.2 | E39: GBPAUD | F39: =HLOOKUP(LEFT(E39,3),$D$18:$K$19,2,FALSE) -> 2.1428571 | G39: =HLOOKUP(RIGHT(E39,3),$D$18:$K$19,2,FALSE) -> 6.4285714 | H39: =+F39-G39 -> -4.2857143 | I39: 3.4285714 | J39: =IF(E39="","",IF((H39-I39)>1,"Buy",IF((H39-I39)<-1,"Sell",IF((H39-I39)=0,"",IF((H39-I39)<1,""))))) -> Sell | K39: =IF(E39="","",IF((B39-C39)>0.1,"Buy",IF((B39-C39)<-0.1,"Sell",IF((B39-C39)=0,"",IF((B39-C39)<0.1,""))))) | AF39: 25 | AG39: -5 | AK39: 33 | AL39: 0.1864855
D40: =$S$8 -> 1.3 | E40: GBPCAD | F40: =HLOOKUP(LEFT(E40,3),$D$18:$K$19,2,FALSE) -> 2.1428571 | G40: =HLOOKUP(RIGHT(E40,3),$D$18:$K$19,2,FALSE) -> 3 | H40: =+F40-G40 -> -0.85714286 | I40: 1.8571429 | J40: =IF(E40="","",IF((H40-I40)>1,"Buy",IF((H40-I40)<-1,"Sell",IF((H40-I40)=0,"",IF((H40-I40)<1,""))))) -> Sell | K40: =IF(E40="","",IF((B40-C40)>0.1,"Buy",IF((B40-C40)<-0.1,"Sell",IF((B40-C40)=0,"",IF((B40-C40)<0.1,""))))) | AF40: 20 | AG40: -6 | AK40: 34 | AL40: 0.18934366
D41: =$T$8 -> 2 | E41: GBPCHF | F41: =HLOOKUP(LEFT(E41,3),$D$18:$K$19,2,FALSE) -> 2.1428571 | G41: =HLOOKUP(RIGHT(E41,3),$D$18:$K$19,2,FALSE) -> 5 | H41: =+F41-G41 -> -2.8571429 | I41: -1.5714286 | J41: =IF(E41="","",IF((H41-I41)>1,"Buy",IF((H41-I41)<-1,"Sell",IF((H41-I41)=0,"",IF((H41-I41)<1,""))))) -> Sell | K41: =IF(E41="","",IF((B41-C41)>0.1,"Buy",IF((B41-C41)<-0.1,"Sell",IF((B41-C41)=0,"",IF((B41-C41)<0.1,""))))) | AF41: 15 | AG41: -7 | AK41: 35 | AL41: 0.19219913
D42: =$U$8 -> 0.9 | E42: GBPJPY | F42: =HLOOKUP(LEFT(E42,3),$D$18:$K$19,2,FALSE) -> 2.1428571 | G42: =HLOOKUP(RIGHT(E42,3),$D$18:$K$19,2,FALSE) -> 5.1428571 | H42: =+F42-G42 -> -3 | I42: 4.5714286 | J42: =IF(E42="","",IF((H42-I42)>1,"Buy",IF((H42-I42)<-1,"Sell",IF((H42-I42)=0,"",IF((H42-I42)<1,""))))) -> Sell | K42: =IF(E42="","",IF((B42-C42)>0.1,"Buy",IF((B42-C42)<-0.1,"Sell",IF((B42-C42)=0,"",IF((B42-C42)<0.1,""))))) | AF42: 10 | AG42: -8 | AK42: 36 | AL42: 0.19505193
D43: =$V$8 -> 3.2 | E43: GBPNZD | F43: =HLOOKUP(LEFT(E43,3),$D$18:$K$19,2,FALSE) -> 2.1428571 | G43: =HLOOKUP(RIGHT(E43,3),$D$18:$K$19,2,FALSE) -> 8.2857143 | H43: =+F43-G43 -> -6.1428571 | I43: 1.5714286 | J43: =IF(E43="","",IF((H43-I43)>1,"Buy",IF((H43-I43)<-1,"Sell",IF((H43-I43)=0,"",IF((H43-I43)<1,""))))) -> Sell | K43: =IF(E43="","",IF((B43-C43)>0.1,"Buy",IF((B43-C43)<-0.1,"Sell",IF((B43-C43)=0,"",IF((B43-C43)<0.1,""))))) | AF43: 5 | AG43: -9 | AK43: 37 | AL43: 0.19790205
D44: =$W$8 -> 0.5 | E44: GBPUSD | F44: =HLOOKUP(LEFT(E44,3),$D$18:$K$19,2,FALSE) -> 2.1428571 | G44: =HLOOKUP(RIGHT(E44,3),$D$18:$K$19,2,FALSE) -> 2.7142857 | H44: =+F44-G44 -> -0.57142857 | I44: 2.2857143 | J44: =IF(E44="","",IF((H44-I44)>1,"Buy",IF((H44-I44)<-1,"Sell",IF((H44-I44)=0,"",IF((H44-I44)<1,""))))) -> Sell | K44: =IF(E44="","",IF((B44-C44)>0.1,"Buy",IF((B44-C44)<-0.1,"Sell",IF((B44-C44)=0,"",IF((B44-C44)<0.1,""))))) | AK44: 38 | AL44: 0.2007495
D45: =$X$8 -> 1.3 | E45: NZDCAD | F45: =HLOOKUP(LEFT(E45,3),$D$18:$K$19,2,FALSE) -> 8.2857143 | G45: =HLOOKUP(RIGHT(E45,3),$D$18:$K$19,2,FALSE) -> 3 | H45: =+F45-G45 -> 5.2857143 | I45: 0.28571429 | J45: =IF(E45="","",IF((H45-I45)>1,"Buy",IF((H45-I45)<-1,"Sell",IF((H45-I45)=0,"",IF((H45-I45)<1,""))))) -> Buy | K45: =IF(E45="","",IF((B45-C45)>0.1,"Buy",IF((B45-C45)<-0.1,"Sell",IF((B45-C45)=0,"",IF((B45-C45)<0.1,""))))) | AK45: 39 | AL45: 0.20359428
D46: =$Y$8 -> 1.8 | E46: NZDCHF | F46: =HLOOKUP(LEFT(E46,3),$D$18:$K$19,2,FALSE) -> 8.2857143 | G46: =HLOOKUP(RIGHT(E46,3),$D$18:$K$19,2,FALSE) -> 5 | H46: =+F46-G46 -> 3.2857143 | I46: -3.1428571 | J46: =IF(E46="","",IF((H46-I46)>1,"Buy",IF((H46-I46)<-1,"Sell",IF((H46-I46)=0,"",IF((H46-I46)<1,""))))) -> Buy | K46: =IF(E46="","",IF((B46-C46)>0.1,"Buy",IF((B46-C46)<-0.1,"Sell",IF((B46-C46)=0,"",IF((B46-C46)<0.1,""))))) | AK46: 40 | AL46: 0.20643639
D47: =$Z$8 -> 1.2 | E47: NZDJPY | F47: =HLOOKUP(LEFT(E47,3),$D$18:$K$19,2,FALSE) -> 8.2857143 | G47: =HLOOKUP(RIGHT(E47,3),$D$18:$K$19,2,FALSE) -> 5.1428571 | H47: =+F47-G47 -> 3.1428571 | I47: 3 | J47: =IF(E47="","",IF((H47-I47)>1,"Buy",IF((H47-I47)<-1,"Sell",IF((H47-I47)=0,"",IF((H47-I47)<1,""))))) | K47: =IF(E47="","",IF((B47-C47)>0.1,"Buy",IF((B47-C47)<-0.1,"Sell",IF((B47-C47)=0,"",IF((B47-C47)<0.1,""))))) | AK47: 41 | AL47: 0.20927583
D48: =$AA$8 -> 0.8 | E48: NZDUSD | F48: =HLOOKUP(LEFT(E48,3),$D$18:$K$19,2,FALSE) -> 8.2857143 | G48: =HLOOKUP(RIGHT(E48,3),$D$18:$K$19,2,FALSE) -> 2.7142857 | H48: =+F48-G48 -> 5.5714286 | I48: 0.71428571 | J48: =IF(E48="","",IF((H48-I48)>1,"Buy",IF((H48-I48)<-1,"Sell",IF((H48-I48)=0,"",IF((H48-I48)<1,""))))) -> Buy | K48: =IF(E48="","",IF((B48-C48)>0.1,"Buy",IF((B48-C48)<-0.1,"Sell",IF((B48-C48)=0,"",IF((B48-C48)<0.1,""))))) | AK48: 42 | AL48: 0.21211261
D49: =$AB$8 -> 0.5 | E49: USDCAD | F49: =HLOOKUP(LEFT(E49,3),$D$18:$K$19,2,FALSE) -> 2.7142857 | G49: =HLOOKUP(RIGHT(E49,3),$D$18:$K$19,2,FALSE) -> 3 | H49: =+F49-G49 -> -0.28571429 | I49: -0.42857143 | J49: =IF(E49="","",IF((H49-I49)>1,"Buy",IF((H49-I49)<-1,"Sell",IF((H49-I49)=0,"",IF((H49-I49)<1,""))))) | K49: =IF(E49="","",IF((B49-C49)>0.1,"Buy",IF((B49-C49)<-0.1,"Sell",IF((B49-C49)=0,"",IF((B49-C49)<0.1,""))))) | AK49: 43 | AL49: 0.21494673
D50: =$AC$8 -> 0.7 | E50: USDCHF | F50: =HLOOKUP(LEFT(E50,3),$D$18:$K$19,2,FALSE) -> 2.7142857 | G50: =HLOOKUP(RIGHT(E50,3),$D$18:$K$19,2,FALSE) -> 5 | H50: =+F50-G50 -> -2.2857143 | I50: -3.8571429 | J50: =IF(E50="","",IF((H50-I50)>1,"Buy",IF((H50-I50)<-1,"Sell",IF((H50-I50)=0,"",IF((H50-I50)<1,""))))) -> Buy | K50: =IF(E50="","",IF((B50-C50)>0.1,"Buy",IF((B50-C50)<-0.1,"Sell",IF((B50-C50)=0,"",IF((B50-C50)<0.1,""))))) | AK50: 44 | AL50: 0.21777818
D51: =$AD$8 -> 0.4 | E51: USDJPY | F51: =HLOOKUP(LEFT(E51,3),$D$18:$K$19,2,FALSE) -> 2.7142857 | G51: =HLOOKUP(RIGHT(E51,3),$D$18:$K$19,2,FALSE) -> 5.1428571 | H51: =+F51-G51 -> -2.4285714 | I51: 2.2857143 | J51: =IF(E51="","",IF((H51-I51)>1,"Buy",IF((H51-I51)<-1,"Sell",IF((H51-I51)=0,"",IF((H51-I51)<1,""))))) -> Sell | K51: =IF(E51="","",IF((B51-C51)>0.1,"Buy",IF((B51-C51)<-0.1,"Sell",IF((B51-C51)=0,"",IF((B51-C51)<0.1,""))))) | AK51: 45 | AL51: 0.22060698
AK52: 46 | AL52: 0.22343312
AK53: 47 | AL53: 0.22625661
AK54: 48 | AL54: 0.22907745
AK55: 49 | AL55: 0.23189563
AK56: 50 | AL56: 0.23471117
AK57: 51 | AL57: 0.23752407
AK58: 52 | AL58: 0.24033432
AK59: 53 | AL59: 0.24314192
AK60: 54 | AL60: 0.24594689
AK61: 55 | AL61: 0.24874922
AK62: 56 | AL62: 0.25154892
AK63: 57 | AL63: 0.25434598
... AK9678: 9672 | AL9678: 9.0001906

Sheet CRS
A1: 0 | C1: =B14*0.66 -> 15.84 | D1: =-B14*0.66 -> -15.84 | E1: CRS | F1: Current | G1: New=30MIN | H1: Old=1HOUR | I1: DIRECTION | K1: Strength | L1: Current_S | M1: 15Min | N1: 30Min | O1: 1Hour | P1: 4Hour | Q1: D1 | S1: 15_GAP | T1: 30_GAP | U1: H1_GAP | V1: H4_GAP | W1: D1_GAP
A2: USD | B2: =IF(A2="","",HLOOKUP(A2,smArray,4,FALSE)) -> -25 | C2: =B2+C1 -> -9.16 | D2: =C2+D1 -> -25 | F2: =B2 -> -25 | G2: -31 | H2: -17 | I2: =IF(A2="","",IF(G2>H2,"Buy",IF(G2<H2,"Sell",IF(G2=H2,"Wait")))) -> Sell | J2: =IF(A2="","",IF(F2>G2,"Buy",IF(F2<G2,"Sell",IF(F2=G2,"Wait")))) -> Buy | K2: =A2 -> USD | L2: =IF(A2="","",HLOOKUP(A2,smArray,2,FALSE)) -> 2.7142857 | M2: 6.2857143 | N2: 6.2857143 | O2: 4.8571429 | S2: =L2-M2 -> -3.5714286 | T2: =L2-N2 -> -3.5714286 | U2: =L2-O2 -> -2.1428571 | V2: =L2-P2 -> 2.7142857 | W2: =L2-Q2 -> 2.7142857
A3: EUR | B3: =IF(A3="","",HLOOKUP(A3,smArray,4,FALSE)) -> -17 | C3: =B3+C1 -> -1.16 | D3: =C3+D1 -> -17 | F3: =B3 -> -17 | G3: 31 | H3: 27 | I3: =IF(A3="","",IF(G3>H3,"Buy",IF(G3<H3,"Sell",IF(G3=H3,"Wait")))) -> Buy | J3: =IF(A3="","",IF(F3>G3,"Buy",IF(F3<G3,"Sell",IF(F3=G3,"Wait")))) -> Sell | K3: =A3 -> EUR | L3: =IF(A3="","",HLOOKUP(A3,smArray,2,FALSE)) -> 3.2857143 | M3: 3.8571429 | N3: 3.8571429 | O3: 3 | S3: =L3-M3 -> -0.57142857 | T3: =L3-N3 -> -0.57142857 | U3: =L3-O3 -> 0.28571429 | V3: =L3-P3 -> 3.2857143 | W3: =L3-Q3 -> 3.2857143
A4: GBP | B4: =IF(A4="","",HLOOKUP(A4,smArray,4,FALSE)) -> -33 | C4: =B4+C1 -> -17.16 | D4: =C4+D1 -> -33 | F4: =B4 -> -33 | G4: 1 | H4: 15 | I4: =IF(A4="","",IF(G4>H4,"Buy",IF(G4<H4,"Sell",IF(G4=H4,"Wait")))) -> Sell | J4: =IF(A4="","",IF(F4>G4,"Buy",IF(F4<G4,"Sell",IF(F4=G4,"Wait")))) -> Sell | K4: =A4 -> GBP | L4: =IF(A4="","",HLOOKUP(A4,smArray,2,FALSE)) -> 2.1428571 | M4: 4.1428571 | N4: 4.1428571 | O4: 5 | S4: =L4-M4 -> -2 | T4: =L4-N4 -> -2 | U4: =L4-O4 -> -2.8571429 | V4: =L4-P4 -> 2.1428571 | W4: =L4-Q4 -> 2.1428571
A5: JPY | B5: =IF(A5="","",HLOOKUP(A5,smArray,4,FALSE)) -> 9 | C5: =B5+C1 -> 24.84 | D5: =C5+D1 -> 9 | F5: =B5 -> 9 | G5: -9 | H5: 1 | I5: =IF(A5="","",IF(G5>H5,"Buy",IF(G5<H5,"Sell",IF(G5=H5,"Wait")))) -> Sell | J5: =IF(A5="","",IF(F5>G5,"Buy",IF(F5<G5,"Sell",IF(F5=G5,"Wait")))) -> Buy | K5: =A5 -> JPY | L5: =IF(A5="","",HLOOKUP(A5,smArray,2,FALSE)) -> 5.1428571 | M5: 3.5714286 | N5: 3.5714286 | O5: 5.2857143 | S5: =L5-M5 -> 1.5714286 | T5: =L5-N5 -> 1.5714286 | U5: =L5-O5 -> -0.14285714 | V5: =L5-P5 -> 5.1428571 | W5: =L5-Q5 -> 5.1428571
A6: CHF | B6: =IF(A6="","",HLOOKUP(A6,smArray,4,FALSE)) -> 7 | C6: =B6+C1 -> 22.84 | D6: =C6+D1 -> 7 | F6: =B6 -> 7 | G6: 29 | H6: 11 | I6: =IF(A6="","",IF(G6>H6,"Buy",IF(G6<H6,"Sell",IF(G6=H6,"Wait")))) -> Buy | J6: =IF(A6="","",IF(F6>G6,"Buy",IF(F6<G6,"Sell",IF(F6=G6,"Wait")))) -> Sell | K6: =A6 -> CHF | L6: =IF(A6="","",HLOOKUP(A6,smArray,2,FALSE)) -> 5 | M6: 5.1428571 | N6: 5.1428571 | O6: 2.8571429 | S6: =L6-M6 -> -0.14285714 | T6: =L6-N6 -> -0.14285714 | U6: =L6-O6 -> 2.1428571 | V6: =L6-P6 -> 5 | W6: =L6-Q6 -> 5
A7: AUD | B7: =IF(A7="","",HLOOKUP(A7,smArray,4,FALSE)) -> 27 | C7: =B7+C1 -> 42.84 | D7: =C7+D1 -> 27 | F7: =B7 -> 27 | G7: -31 | H7: -27 | I7: =IF(A7="","",IF(G7>H7,"Buy",IF(G7<H7,"Sell",IF(G7=H7,"Wait")))) -> Sell | J7: =IF(A7="","",IF(F7>G7,"Buy",IF(F7<G7,"Sell",IF(F7=G7,"Wait")))) -> Buy | K7: =A7 -> AUD | L7: =IF(A7="","",HLOOKUP(A7,smArray,2,FALSE)) -> 6.4285714 | M7: 4.8571429 | N7: 4.8571429 | O7: 6.5714286 | S7: =L7-M7 -> 1.5714286 | T7: =L7-N7 -> 1.5714286 | U7: =L7-O7 -> -0.14285714 | V7: =L7-P7 -> 6.4285714 | W7: =L7-Q7 -> 6.4285714
A8: CAD | B8: =IF(A8="","",HLOOKUP(A8,smArray,4,FALSE)) -> -21 | C8: =B8+C1 -> -5.16 | D8: =C8+D1 -> -21 | F8: =B8 -> -21 | G8: 11 | H8: 9 | I8: =IF(A8="","",IF(G8>H8,"Buy",IF(G8<H8,"Sell",IF(G8=H8,"Wait")))) -> Buy | J8: =IF(A8="","",IF(F8>G8,"Buy",IF(F8<G8,"Sell",IF(F8=G8,"Wait")))) -> Sell | K8: =A8 -> CAD | L8: =IF(A8="","",HLOOKUP(A8,smArray,2,FALSE)) -> 3 | M8: 4.4285714 | N8: 4.4285714 | O8: 2.4285714 | S8: =L8-M8 -> -1.4285714 | T8: =L8-N8 -> -1.4285714 | U8: =L8-O8 -> 0.57142857 | V8: =L8-P8 -> 3 | W8: =L8-Q8 -> 3
A9: NZD | B9: =IF(A9="","",HLOOKUP(A9,smArray,4,FALSE)) -> 53 | C9: =B9+C1 -> 68.84 | D9: =C9+D1 -> 53 | F9: =B9 -> 53 | G9: -1 | H9: -19 | I9: =IF(A9="","",IF(G9>H9,"Buy",IF(G9<H9,"Sell",IF(G9=H9,"Wait")))) -> Buy | J9: =IF(A9="","",IF(F9>G9,"Buy",IF(F9<G9,"Sell",IF(F9=G9,"Wait")))) -> Buy | K9: =A9 -> NZD | L9: =IF(A9="","",HLOOKUP(A9,smArray,2,FALSE)) -> 8.2857143 | M9: 3.7142857 | N9: 3.7142857 | O9: 6 | S9: =L9-M9 -> 4.5714286 | T9: =L9-N9 -> 4.5714286 | U9: =L9-O9 -> 2.2857143 | V9: =L9-P9 -> 8.2857143 | W9: =L9-Q9 -> 8.2857143
A11: sell | B11: =SUMIF(B2:B9,"<0") -> -96 | C11: =SUMIF(C2:C9,"<0") -> -32.64 | D11: =SUMIF(D2:D9,"<0") -> -96
A12: buy | B12: =SUMIF(B2:B9,">0") -> 96 | C12: =SUMIF(C2:C9,">0") -> 159.36 | D12: =SUMIF(D2:D9,">0") -> 96
A13: sell+buy | B13: =B11*-1+B12 -> 192 | C13: =C11*-1+C12 -> 192 | D13: =D11*-1+D12 -> 192
A14: Avarage | B14: =B13/8 -> 24 | C14: =C13/8 -> 24 | D14: =D13/8 -> 24 | F14: USD | G14: JPY | H14: GBP | I14: EUR | J14: AUD | K14: NZD | L14: CAD | M14: CHF
F15: =IF(F14="","",HLOOKUP(F14,sYNC2,2,FALSE)) -> -3.7142857 | G15: =IF(G14="","",HLOOKUP(G14,sYNC2,2,FALSE)) -> -1.2857143 | H15: =IF(H14="","",HLOOKUP(H14,sYNC2,2,FALSE)) -> -1.1428571 | I15: =IF(I14="","",HLOOKUP(I14,sYNC2,2,FALSE)) -> -3.1428571 | J15: =IF(J14="","",HLOOKUP(J14,sYNC2,2,FALSE)) -> 3.4285714 | K15: =IF(K14="","",HLOOKUP(K14,sYNC2,2,FALSE)) -> 1.8571429 | L15: =IF(L14="","",HLOOKUP(L14,sYNC2,2,FALSE)) -> -3.4285714 | M15: =IF(M14="","",HLOOKUP(M14,sYNC2,2,FALSE)) -> -1.4285714
A16: Data RSI | C16: Market RSI | F16: =IF(F14="","",HLOOKUP(F14,sYNC2,3,FALSE)) -> -0.57142857 | G16: =IF(G14="","",HLOOKUP(G14,sYNC2,3,FALSE)) -> 2.1428571 | H16: =IF(H14="","",HLOOKUP(H14,sYNC2,3,FALSE)) -> -4.2857143 | I16: =IF(I14="","",HLOOKUP(I14,sYNC2,3,FALSE)) -> 0.28571429 | J16: =IF(J14="","",HLOOKUP(J14,sYNC2,3,FALSE)) -> 1.4285714 | K16: =IF(K14="","",HLOOKUP(K14,sYNC2,3,FALSE)) -> 5 | L16: =IF(L14="","",HLOOKUP(L14,sYNC2,3,FALSE)) -> -2 | M16: =IF(M14="","",HLOOKUP(M14,sYNC2,3,FALSE)) -> 2
A17: MAX | B17: 0.6 | C17: MAX | D17: =E32 -> 0.8 | F17: =IF(F14="","",HLOOKUP(F14,sYNC2,4,FALSE)) -> 0.57142857 | G17: =IF(G14="","",HLOOKUP(G14,sYNC2,4,FALSE)) -> 0.14285714 | H17: =IF(H14="","",HLOOKUP(H14,sYNC2,4,FALSE)) -> -0.85714286 | I17: =IF(I14="","",HLOOKUP(I14,sYNC2,4,FALSE)) -> -1.7142857 | J17: =IF(J14="","",HLOOKUP(J14,sYNC2,4,FALSE)) -> 1.2857143 | K17: =IF(K14="","",HLOOKUP(K14,sYNC2,4,FALSE)) -> 6.1428571 | L17: =IF(L14="","",HLOOKUP(L14,sYNC2,4,FALSE)) -> -2.1428571 | M17: =IF(M14="","",HLOOKUP(M14,sYNC2,4,FALSE)) -> -0.14285714
A18: MIN | B18: 0.4 | C18: MIN | D18: =E33 -> 0.3 | F18: =IF(F14="","",HLOOKUP(F14,sYNC2,5,FALSE)) -> -0.28571429 | G18: =IF(G14="","",HLOOKUP(G14,sYNC2,5,FALSE)) -> 1.8571429 | H18: =IF(H14="","",HLOOKUP(H14,sYNC2,5,FALSE)) -> -2.8571429 | I18: =IF(I14="","",HLOOKUP(I14,sYNC2,5,FALSE)) -> 1.1428571 | J18: =IF(J14="","",HLOOKUP(J14,sYNC2,5,FALSE)) -> -1.8571429 | K18: =IF(K14="","",HLOOKUP(K14,sYNC2,5,FALSE)) -> 5.2857143 | L18: =IF(L14="","",HLOOKUP(L14,sYNC2,5,FALSE)) -> -0.28571429 | M18: =IF(M14="","",HLOOKUP(M14,sYNC2,5,FALSE)) -> 1.7142857
A19: CRS Work | C19: short | D19: long | F19: =IF(F14="","",HLOOKUP(F14,sYNC2,6,FALSE)) -> -2.2857143 | G19: =IF(G14="","",HLOOKUP(G14,sYNC2,6,FALSE)) -> 3 | H19: =IF(H14="","",HLOOKUP(H14,sYNC2,6,FALSE)) -> -3 | I19: =IF(I14="","",HLOOKUP(I14,sYNC2,6,FALSE)) -> -1.8571429 | J19: =IF(J14="","",HLOOKUP(J14,sYNC2,6,FALSE)) -> 3.7142857 | K19: =IF(K14="","",HLOOKUP(K14,sYNC2,6,FALSE)) -> 3.2857143 | L19: =IF(L14="","",HLOOKUP(L14,sYNC2,6,FALSE)) -> 0.85714286 | M19: =IF(M14="","",HLOOKUP(M14,sYNC2,6,FALSE)) -> 2.8571429
A20: Zero | B20: =(B11+B12)/8 -> 0 | C20: =C1 -> 15.84 | D20: =D1 -> -15.84 | E20: CRS_tradzone midpoint | F20: =IF(F14="","",HLOOKUP(F14,sYNC2,7,FALSE)) -> -2.4285714 | G20: =IF(G14="","",HLOOKUP(G14,sYNC2,7,FALSE)) -> -3.1428571 | H20: =IF(H14="","",HLOOKUP(H14,sYNC2,7,FALSE)) -> -6.1428571 | I20: =IF(I14="","",HLOOKUP(I14,sYNC2,7,FALSE)) -> -5 | J20: =IF(J14="","",HLOOKUP(J14,sYNC2,7,FALSE)) -> 3.1428571 | K20: =IF(K14="","",HLOOKUP(K14,sYNC2,7,FALSE)) -> 3.1428571 | L20: =IF(L14="","",HLOOKUP(L14,sYNC2,7,FALSE)) -> -5.2857143 | M20: =IF(M14="","",HLOOKUP(M14,sYNC2,7,FALSE)) -> -3.2857143
A21: Avarage | B21: =B14 -> 24 | C21: =C14 -> 24 | D21: =D14 -> 24 | E21: CRS_traderoom | F21: =IF(F14="","",HLOOKUP(F14,sYNC2,8,FALSE)) -> -5.5714286 | G21: =IF(G14="","",HLOOKUP(G14,sYNC2,8,FALSE)) -> 2.4285714 | H21: =IF(H14="","",HLOOKUP(H14,sYNC2,8,FALSE)) -> -0.57142857 | I21: =IF(I14="","",HLOOKUP(I14,sYNC2,8,FALSE)) -> 0.57142857 | J21: =IF(J14="","",HLOOKUP(J14,sYNC2,8,FALSE)) -> 4.2857143 | K21: =IF(K14="","",HLOOKUP(K14,sYNC2,8,FALSE)) -> 5.5714286 | L21: =IF(L14="","",HLOOKUP(L14,sYNC2,8,FALSE)) -> 0.28571429 | M21: =IF(M14="","",HLOOKUP(M14,sYNC2,8,FALSE)) -> 2.2857143
A22: MAX | B22: =B20+B21*B25 -> 19.2 | C22: =C20+C21*B25 -> 35.04 | D22: =D20+D21*B25 -> 3.36 | E22: CRS_min (minmax) | F22: =IF(F14="","",HLOOKUP(F14,sYNC2,9,FALSE)) -> 1 | G22: =IF(G14="","",HLOOKUP(G14,sYNC2,9,FALSE)) -> 5 | H22: =IF(H14="","",HLOOKUP(H14,sYNC2,9,FALSE)) -> 0 | I22: =IF(I14="","",HLOOKUP(I14,sYNC2,9,FALSE)) -> 3 | J22: =IF(J14="","",HLOOKUP(J14,sYNC2,9,FALSE)) -> 6 | K22: =IF(K14="","",HLOOKUP(K14,sYNC2,9,FALSE)) -> 7 | L22: =IF(L14="","",HLOOKUP(L14,sYNC2,9,FALSE)) -> 2 | M22: =IF(M14="","",HLOOKUP(M14,sYNC2,9,FALSE)) -> 4
A23: MIN | B23: =B20-B14*(1-B26) -> -16.8 | C23: =C20-C14*(1-B26) -> -0.96 | D23: =D20-D14*(1-B26) -> -32.64 | E23: CRS max (minmax) | F23: =IF(F14="","",HLOOKUP(F14,sYNC2,10,FALSE))*-1 -> -6 | G23: =IF(G14="","",HLOOKUP(G14,sYNC2,10,FALSE))*-1 -> -2 | H23: =IF(H14="","",HLOOKUP(H14,sYNC2,10,FALSE))*-1 -> -7 | I23: =IF(I14="","",HLOOKUP(I14,sYNC2,10,FALSE))*-1 -> -4 | J23: =IF(J14="","",HLOOKUP(J14,sYNC2,10,FALSE))*-1 -> -1 | K23: =IF(K14="","",HLOOKUP(K14,sYNC2,10,FALSE))*-1 -> 0 | L23: =IF(L14="","",HLOOKUP(L14,sYNC2,10,FALSE))*-1 -> -5 | M23: =IF(M14="","",HLOOKUP(M14,sYNC2,10,FALSE))*-1 -> -3
A24: CRS level | F24: =I2 -> Sell | G24: =I5 -> Sell | H24: =I4 -> Sell | I24: =I3 -> Buy | J24: =I7 -> Sell | K24: =I9 -> Buy | L24: =I8 -> Buy | M24: =I6 -> Buy
A25: Buy | B25: =E32 -> 0.8 | C25: =B20+B21*B25 -> 19.2
A26: Sell | B26: =E33 -> 0.3 | C26: =B20-B21*(1-B26) -> -16.8
A27: Correlation
A28: Corel D1 | B28: 25
A29: Corel H1 | B29: 25
A30: RSI Work
A31: % | B31: цена пая | C31: доля | D31: вес доли | E31: RSI
A32: =B12/B13 -> 0.5 | B32: =A32/0.5 -> 1 | C32: =1-B17 -> 0.4 | D32: =B12*B32*C32 -> 38.4 | E32: =1-D32/B13 -> 0.8
A33: =B11/B13 -> -0.5 | B33: =A33/0.5 -> -1 | C33: =B18 -> 0.4 | D33: =B11*B33*C33 -> 38.4 | E33: =0.5-D33/B13 -> 0.3

Sheet GAP_test
C1: =[6]!AUDCAD -> 42620.651 | D1: =NOW() -> 42622.496 | E1: =C1 -> 42620.651
M2: Curr | N2: USD | O2: JPY | P2: GBP | Q2: EUR | R2: AUD | S2: NZD | T2: CAD | U2: CHF
M3: SM | N3: =IF(N2="","",HLOOKUP(N2,smArray,2,FALSE)) -> 2.7142857 | O3: =IF(O2="","",HLOOKUP(O2,smArray,2,FALSE)) -> 5.1428571 | P3: =IF(P2="","",HLOOKUP(P2,smArray,2,FALSE)) -> 2.1428571 | Q3: =IF(Q2="","",HLOOKUP(Q2,smArray,2,FALSE)) -> 3.2857143 | R3: =IF(R2="","",HLOOKUP(R2,smArray,2,FALSE)) -> 6.4285714 | S3: =IF(S2="","",HLOOKUP(S2,smArray,2,FALSE)) -> 8.2857143 | T3: =IF(T2="","",HLOOKUP(T2,smArray,2,FALSE)) -> 3 | U3: =IF(U2="","",HLOOKUP(U2,smArray,2,FALSE)) -> 5
M4: BIAS | N4: =IF(N2="","",HLOOKUP(N2,smArray,3,FALSE)) -> -5 | O4: =IF(O2="","",HLOOKUP(O2,smArray,3,FALSE)) -> 3 | P4: =IF(P2="","",HLOOKUP(P2,smArray,3,FALSE)) -> -7 | Q4: =IF(Q2="","",HLOOKUP(Q2,smArray,3,FALSE)) -> -1 | R4: =IF(R2="","",HLOOKUP(R2,smArray,3,FALSE)) -> 5 | S4: =IF(S2="","",HLOOKUP(S2,smArray,3,FALSE)) -> 7 | T4: =IF(T2="","",HLOOKUP(T2,smArray,3,FALSE)) -> -3 | U4: =IF(U2="","",HLOOKUP(U2,smArray,3,FALSE)) -> 1
M5: CRS | N5: =IF(N2="","",HLOOKUP(N2,smArray,4,FALSE)) -> -25 | O5: =IF(O2="","",HLOOKUP(O2,smArray,4,FALSE)) -> 9 | P5: =IF(P2="","",HLOOKUP(P2,smArray,4,FALSE)) -> -33 | Q5: =IF(Q2="","",HLOOKUP(Q2,smArray,4,FALSE)) -> -17 | R5: =IF(R2="","",HLOOKUP(R2,smArray,4,FALSE)) -> 27 | S5: =IF(S2="","",HLOOKUP(S2,smArray,4,FALSE)) -> 53 | T5: =IF(T2="","",HLOOKUP(T2,smArray,4,FALSE)) -> -21 | U5: =IF(U2="","",HLOOKUP(U2,smArray,4,FALSE)) -> 7
A7: Spread | B7: Pair | C7: BidRatio | D7: Rstrength | E7: BS Ratio | F7: Previous | G7: <> | H7: =Stren_Dir!D7 -> HeatMapH4 | I7: Sync/Bias | K7: CRS | M7: HM_M30 | N7: HM_H1 | O7: HM_H4 | P7: HM_D1 | Q7: HM_W1 | R7: HM_Mn | S7: m30RSI2 | AL7: RS_BASE | AM7: RS_QUOTE
A8: =IF(B8="","",HLOOKUP(B8,pArray,6,FALSE)) -> 0.9 | B8: AUDCAD | C8: =IF(B8="","",HLOOKUP(B8,pArray,9,FALSE)) -> 0.93957115 | D8: =SUM(IF(B8="","",HLOOKUP(B8,pArray,12,FALSE))-IF(B8="","",HLOOKUP(B8,pArray,14,FALSE))) -> 7 | E8: =IF(B8="","",VLOOKUP(B8,CurrArray,4,FALSE)) -> 3.4285714 | F8: 3.4285714 | G8: =SUM(E8-F8) -> 0 | H8: =Stren_Dir!D8 -> 3.6374322 | I8: =R4 -> 5 | J8: =T4 -> -3 | K8: =R5 -> 27 | L8: =T5 -> -21 | M8: =IF(B8="","",VLOOKUP(B8,HM_Calc_Array,11,FALSE)) -> 3.4886402 | N8: =IF(B8="","",VLOOKUP(B8,HM_Calc_Array,12,FALSE)) -> 3.51359 | O8: =IF(B8="","",VLOOKUP(B8,HM_Calc_Array,13,FALSE)) -> 3.6374322 | P8: =IF(B8="","",VLOOKUP(B8,HM_Calc_Array,14,FALSE)) -> 4.0534845 | Q8: =IF(B8="","",VLOOKUP(B8,HM_Calc_Array,15,FALSE)) -> 4.0534845 | R8: =IF(B8="","",VLOOKUP(B8,HM_Calc_Array,16,FALSE)) -> 5.7550413 | S8: =IF(B8="","",VLOOKUP(B8,Array_getValues,26,FALSE)) -> 91.23087 | AL8: =IF(B8="","",HLOOKUP(B8,pArray,12,FALSE)) -> 8 | AM8: =IF(B8="","",HLOOKUP(B8,pArray,14,FALSE)) -> 1
A9: =IF(B9="","",HLOOKUP(B9,pArray,6,FALSE)) -> 1 | B9: AUDCHF | C9: =IF(B9="","",HLOOKUP(B9,pArray,9,FALSE)) -> 0.62935323 | D9: =SUM(IF(B9="","",HLOOKUP(B9,pArray,12,FALSE))-IF(B9="","",HLOOKUP(B9,pArray,14,FALSE))) -> 3 | E9: =IF(B9="","",VLOOKUP(B9,CurrArray,4,FALSE)) -> 1.4285714 | F9: 3.5714286 | G9: =SUM(E9-F9) -> -2.1428571 | H9: =Stren_Dir!D9 -> 4.4542992 | I9: =R4 -> 5 | J9: =U4 -> 1 | K9: =R5 -> 27 | L9: =U5 -> 7 | M9: =IF(B9="","",VLOOKUP(B9,HM_Calc_Array,11,FALSE)) -> 4.4645614 | N9: =IF(B9="","",VLOOKUP(B9,HM_Calc_Array,12,FALSE)) -> 4.4015541 | O9: =IF(B9="","",VLOOKUP(B9,HM_Calc_Array,13,FALSE)) -> 4.4542992 | P9: =IF(B9="","",VLOOKUP(B9,HM_Calc_Array,14,FALSE)) -> 5.4816263 | Q9: =IF(B9="","",VLOOKUP(B9,HM_Calc_Array,15,FALSE)) -> 5.4816263 | R9: =IF(B9="","",VLOOKUP(B9,HM_Calc_Array,16,FALSE)) -> 9.0436286 | S9: =IF(B9="","",VLOOKUP(B9,Array_getValues,26,FALSE)) -> 18.562145 | AL9: =IF(B9="","",HLOOKUP(B9,pArray,12,FALSE)) -> 6 | AM9: =IF(B9="","",HLOOKUP(B9,pArray,14,FALSE)) -> 3
A10: =IF(B10="","",HLOOKUP(B10,pArray,6,FALSE)) -> 0.7 | B10: AUDJPY | C10: =IF(B10="","",HLOOKUP(B10,pArray,9,FALSE)) -> 0.4867052 | D10: =SUM(IF(B10="","",HLOOKUP(B10,pArray,12,FALSE))-IF(B10="","",HLOOKUP(B10,pArray,14,FALSE))) -> -1 | E10: =IF(B10="","",VLOOKUP(B10,CurrArray,4,FALSE)) -> 1.2857143 | F10: 0.57142857 | G10: =SUM(E10-F10) -> 0.71428571 | H10: =Stren_Dir!D10 -> -11.091607 | I10: =R4 -> 5 | J10: =O4 -> 3 | K10: =R5 -> 27 | L10: =O5 -> 9 | M10: =IF(B10="","",VLOOKUP(B10,HM_Calc_Array,11,FALSE)) -> -11.079445 | N10: =IF(B10="","",VLOOKUP(B10,HM_Calc_Array,12,FALSE)) -> -11.10478 | O10: =IF(B10="","",VLOOKUP(B10,HM_Calc_Array,13,FALSE)) -> -11.091607 | P10: =IF(B10="","",VLOOKUP(B10,HM_Calc_Array,14,FALSE)) -> -10.918995 | Q10: =IF(B10="","",VLOOKUP(B10,HM_Calc_Array,15,FALSE)) -> -10.918995 | R10: =IF(B10="","",VLOOKUP(B10,HM_Calc_Array,16,FALSE)) -> -7.2431713 | S10: =IF(B10="","",VLOOKUP(B10,Array_getValues,26,FALSE)) -> 18.362585 | AL10: =IF(B10="","",HLOOKUP(B10,pArray,12,FALSE)) -> 4 | AM10: =IF(B10="","",HLOOKUP(B10,pArray,14,FALSE)) -> 5
A11: =IF(B11="","",HLOOKUP(B11,pArray,6,FALSE)) -> 1.6 | B11: AUDNZD | C11: =IF(B11="","",HLOOKUP(B11,pArray,9,FALSE)) -> 0.14773777 | D11: =SUM(IF(B11="","",HLOOKUP(B11,pArray,12,FALSE))-IF(B11="","",HLOOKUP(B11,pArray,14,FALSE))) -> -5 | E11: =IF(B11="","",VLOOKUP(B11,CurrArray,4,FALSE)) -> -1.8571429 | F11: 0.71428571 | G11: =SUM(E11-F11) -> -2.5714286 | H11: =Stren_Dir!D11 -> -3.7939974 | I11: =R4 -> 5 | J11: =S4 -> 7 | K11: =R5 -> 27 | L11: =S5 -> 53 | M11: =IF(B11="","",VLOOKUP(B11,HM_Calc_Array,11,FALSE)) -> -3.7390441 | N11: =IF(B11="","",VLOOKUP(B11,HM_Calc_Array,12,FALSE)) -> -3.7246198 | O11: =IF(B11="","",VLOOKUP(B11,HM_Calc_Array,13,FALSE)) -> -3.7939974 | P11: =IF(B11="","",VLOOKUP(B11,HM_Calc_Array,14,FALSE)) -> -3.7399455 | Q11: =IF(B11="","",VLOOKUP(B11,HM_Calc_Array,15,FALSE)) -> -3.7399455 | R11: =IF(B11="","",VLOOKUP(B11,HM_Calc_Array,16,FALSE)) -> -6.2181271 | S11: =IF(B11="","",VLOOKUP(B11,Array_getValues,26,FALSE)) -> 42.143911 | AL11: =IF(B11="","",HLOOKUP(B11,pArray,12,FALSE)) -> 2 | AM11: =IF(B11="","",HLOOKUP(B11,pArray,14,FALSE)) -> 7
A12: =IF(B12="","",HLOOKUP(B12,pArray,6,FALSE)) -> 0.2 | B12: AUDUSD | C12: =IF(B12="","",HLOOKUP(B12,pArray,9,FALSE)) -> 0.97587131 | D12: =SUM(IF(B12="","",HLOOKUP(B12,pArray,12,FALSE))-IF(B12="","",HLOOKUP(B12,pArray,14,FALSE))) -> 9 | E12: =IF(B12="","",VLOOKUP(B12,CurrArray,4,FALSE)) -> 3.7142857 | F12: 0.85714286 | G12: =SUM(E12-F12) -> 2.8571429 | H12: =Stren_Dir!D12 -> 6.0080806 | I12: =R4 -> 5 | J12: =N4 -> -5 | K12: =R5 -> 27 | L12: =N5 -> -25 | M12: =IF(B12="","",VLOOKUP(B12,HM_Calc_Array,11,FALSE)) -> 6.0504897 | N12: =IF(B12="","",VLOOKUP(B12,HM_Calc_Array,12,FALSE)) -> 6.0563419 | O12: =IF(B12="","",VLOOKUP(B12,HM_Calc_Array,13,FALSE)) -> 6.0080806 | P12: =IF(B12="","",VLOOKUP(B12,HM_Calc_Array,14,FALSE)) -> 6.6492793 | Q12: =IF(B12="","",VLOOKUP(B12,HM_Calc_Array,15,FALSE)) -> 6.6492793 | R12: =IF(B12="","",VLOOKUP(B12,HM_Calc_Array,16,FALSE)) -> 9.6364751 | S12: =IF(B12="","",VLOOKUP(B12,Array_getValues,26,FALSE)) -> 22.573398 | AL12: =IF(B12="","",HLOOKUP(B12,pArray,12,FALSE)) -> 9 | AM12: =IF(B12="","",HLOOKUP(B12,pArray,14,FALSE)) -> 0
A13: =IF(B13="","",HLOOKUP(B13,pArray,6,FALSE)) -> 1.2 | B13: CADCHF | C13: =IF(B13="","",HLOOKUP(B13,pArray,9,FALSE)) -> 0.19130435 | D13: =SUM(IF(B13="","",HLOOKUP(B13,pArray,12,FALSE))-IF(B13="","",HLOOKUP(B13,pArray,14,FALSE))) -> -5 | E13: =IF(B13="","",VLOOKUP(B13,CurrArray,4,FALSE)) -> -2 | F13: 0.14285714 | G13: =SUM(E13-F13) -> -2.1428571 | H13: =Stren_Dir!D13 -> 0.78901266 | I13: =T4 -> -3 | J13: =U4 -> 1 | K13: =T5 -> -21 | L13: =U5 -> 7 | M13: =IF(B13="","",VLOOKUP(B13,HM_Calc_Array,11,FALSE)) -> 0.9523682 | N13: =IF(B13="","",VLOOKUP(B13,HM_Calc_Array,12,FALSE)) -> 0.86724929 | O13: =IF(B13="","",VLOOKUP(B13,HM_Calc_Array,13,FALSE)) -> 0.78901266 | P13: =IF(B13="","",VLOOKUP(B13,HM_Calc_Array,14,FALSE)) -> 1.4620159 | Q13: =IF(B13="","",VLOOKUP(B13,HM_Calc_Array,15,FALSE)) -> 1.4620159 | R13: =IF(B13="","",VLOOKUP(B13,HM_Calc_Array,16,FALSE)) -> 3.1407379 | S13: =IF(B13="","",VLOOKUP(B13,Array_getValues,26,FALSE)) -> 3.9409824 | AL13: =IF(B13="","",HLOOKUP(B13,pArray,12,FALSE)) -> 2 | AM13: =IF(B13="","",HLOOKUP(B13,pArray,14,FALSE)) -> 7
A14: =IF(B14="","",HLOOKUP(B14,pArray,6,FALSE)) -> 0.6 | B14: CADJPY | C14: =IF(B14="","",HLOOKUP(B14,pArray,9,FALSE)) -> 0.32503458 | D14: =SUM(IF(B14="","",HLOOKUP(B14,pArray,12,FALSE))-IF(B14="","",HLOOKUP(B14,pArray,14,FALSE))) -> -3 | E14: =IF(B14="","",VLOOKUP(B14,CurrArray,4,FALSE)) -> -2.1428571 | F14: -2.8571429 | G14: =SUM(E14-F14) -> 0.71428571 | H14: =Stren_Dir!D14 -> -14.207971 | I14: =T4 -> -3 | J14: =O4 -> 3 | K14: =T5 -> -21 | L14: =O5 -> 9 | M14: =IF(B14="","",VLOOKUP(B14,HM_Calc_Array,11,FALSE)) -> -14.070762 | N14: =IF(B14="","",VLOOKUP(B14,HM_Calc_Array,12,FALSE)) -> -14.115613 | O14: =IF(B14="","",VLOOKUP(B14,HM_Calc_Array,13,FALSE)) -> -14.207971 | P14: =IF(B14="","",VLOOKUP(B14,HM_Calc_Array,14,FALSE)) -> -14.780967 | Q14: =IF(B14="","",VLOOKUP(B14,HM_Calc_Array,15,FALSE)) -> -14.329877 | R14: =IF(B14="","",VLOOKUP(B14,HM_Calc_Array,16,FALSE)) -> -12.274525 | S14: =IF(B14="","",VLOOKUP(B14,Array_getValues,26,FALSE)) -> 2.9810706 | AL14: =IF(B14="","",HLOOKUP(B14,pArray,12,FALSE)) -> 3 | AM14: =IF(B14="","",HLOOKUP(B14,pArray,14,FALSE)) -> 6
A15: =IF(B15="","",HLOOKUP(B15,pArray,6,FALSE)) -> 1.2 | B15: CHFJPY | C15: =IF(B15="","",HLOOKUP(B15,pArray,9,FALSE)) -> 0.49464668 | D15: =SUM(IF(B15="","",HLOOKUP(B15,pArray,12,FALSE))-IF(B15="","",HLOOKUP(B15,pArray,14,FALSE))) -> -1 | E15: =IF(B15="","",VLOOKUP(B15,CurrArray,4,FALSE)) -> -0.14285714 | F15: -3 | G15: =SUM(E15-F15) -> 2.8571429 | H15: =Stren_Dir!D15 -> -14.866358 | I15: =U4 -> 1 | J15: =O4 -> 3 | K15: =U5 -> 7 | L15: =O5 -> 9 | M15: =IF(B15="","",VLOOKUP(B15,HM_Calc_Array,11,FALSE)) -> -14.862208 | N15: =IF(B15="","",VLOOKUP(B15,HM_Calc_Array,12,FALSE)) -> -14.835915 | O15: =IF(B15="","",VLOOKUP(B15,HM_Calc_Array,13,FALSE)) -> -14.866358 | P15: =IF(B15="","",VLOOKUP(B15,HM_Calc_Array,14,FALSE)) -> -15.539489 | Q15: =IF(B15="","",VLOOKUP(B15,HM_Calc_Array,15,FALSE)) -> -15.539489 | R15: =IF(B15="","",VLOOKUP(B15,HM_Calc_Array,16,FALSE)) -> -14.907836 | S15: =IF(B15="","",VLOOKUP(B15,Array_getValues,26,FALSE)) -> 65.392048 | AL15: =IF(B15="","",HLOOKUP(B15,pArray,12,FALSE)) -> 4 | AM15: =IF(B15="","",HLOOKUP(B15,pArray,14,FALSE)) -> 5
A16: =IF(B16="","",HLOOKUP(B16,pArray,6,FALSE)) -> 1.1 | B16: EURAUD | C16: =IF(B16="","",HLOOKUP(B16,pArray,9,FALSE)) -> 0.033873343 | D16: =SUM(IF(B16="","",HLOOKUP(B16,pArray,12,FALSE))-IF(B16="","",HLOOKUP(B16,pArray,14,FALSE))) -> -7 | E16: =IF(B16="","",VLOOKUP(B16,CurrArray,4,FALSE)) -> -3.1428571 | F16: -3.2857143 | G16: =SUM(E16-F16) -> 0.14285714 | H16: =Stren_Dir!D16 -> -3.9824141 | I16: =Q4 -> -1 | J16: =R4 -> 5 | K16: =Q5 -> -17 | L16: =R5 -> 27 | M16: =IF(B16="","",VLOOKUP(B16,HM_Calc_Array,11,FALSE)) -> -3.9792637 | N16: =IF(B16="","",VLOOKUP(B16,HM_Calc_Array,12,FALSE)) -> -3.9427041 | O16: =IF(B16="","",VLOOKUP(B16,HM_Calc_Array,13,FALSE)) -> -3.9824141 | P16: =IF(B16="","",VLOOKUP(B16,HM_Calc_Array,14,FALSE)) -> -4.1296215 | Q16: =IF(B16="","",VLOOKUP(B16,HM_Calc_Array,15,FALSE)) -> -4.1296215 | R16: =IF(B16="","",VLOOKUP(B16,HM_Calc_Array,16,FALSE)) -> -8.0884154 | S16: =IF(B16="","",VLOOKUP(B16,Array_getValues,26,FALSE)) -> 71.627062 | AL16: =IF(B16="","",HLOOKUP(B16,pArray,12,FALSE)) -> 1 | AM16: =IF(B16="","",HLOOKUP(B16,pArray,14,FALSE)) -> 8
A17: =IF(B17="","",HLOOKUP(B17,pArray,6,FALSE)) -> 0.7 | B17: EURCAD | C17: =IF(B17="","",HLOOKUP(B17,pArray,9,FALSE)) -> 0.66772152 | D17: =SUM(IF(B17="","",HLOOKUP(B17,pArray,12,FALSE))-IF(B17="","",HLOOKUP(B17,pArray,14,FALSE))) -> 3 | E17: =IF(B17="","",VLOOKUP(B17,CurrArray,4,FALSE)) -> 0.28571429 | F17: 0.14285714 | G17: =SUM(E17-F17) -> 0.14285714 | H17: =Stren_Dir!D17 -> -0.49507677 | I17: =Q4 -> -1 | J17: =T4 -> -3 | K17: =Q5 -> -17 | L17: =T5 -> -21 | M17: =IF(B17="","",VLOOKUP(B17,HM_Calc_Array,11,FALSE)) -> -0.63875138 | N17: =IF(B17="","",VLOOKUP(B17,HM_Calc_Array,12,FALSE)) -> -0.57312307 | O17: =IF(B17="","",VLOOKUP(B17,HM_Calc_Array,13,FALSE)) -> -0.49507677 | P17: =IF(B17="","",VLOOKUP(B17,HM_Calc_Array,14,FALSE)) -> -0.28704106 | Q17: =IF(B17="","",VLOOKUP(B17,HM_Calc_Array,15,FALSE)) -> -0.28704106 | R17: =IF(B17="","",VLOOKUP(B17,HM_Calc_Array,16,FALSE)) -> -2.8549725 | S17: =IF(B17="","",VLOOKUP(B17,Array_getValues,26,FALSE)) -> 98.764473 | AL17: =IF(B17="","",HLOOKUP(B17,pArray,12,FALSE)) -> 6 | AM17: =IF(B17="","",HLOOKUP(B17,pArray,14,FALSE)) -> 3
A18: =IF(B18="","",HLOOKUP(B18,pArray,6,FALSE)) -> 0.8 | B18: EURCHF | C18: =IF(B18="","",HLOOKUP(B18,pArray,9,FALSE)) -> 0.13289037 | D18: =SUM(IF(B18="","",HLOOKUP(B18,pArray,12,FALSE))-IF(B18="","",HLOOKUP(B18,pArray,14,FALSE))) -> -5 | E18: =IF(B18="","",VLOOKUP(B18,CurrArray,4,FALSE)) -> -1.7142857 | F18: 0.28571429 | G18: =SUM(E18-F18) -> -2 | H18: =Stren_Dir!D18 -> 0.27342527 | I18: =Q4 -> -1 | J18: =U4 -> 1 | K18: =Q5 -> -17 | L18: =U5 -> 7 | M18: =IF(B18="","",VLOOKUP(B18,HM_Calc_Array,11,FALSE)) -> 0.29373849 | N18: =IF(B18="","",VLOOKUP(B18,HM_Calc_Array,12,FALSE)) -> 0.2669637 | O18: =IF(B18="","",VLOOKUP(B18,HM_Calc_Array,13,FALSE)) -> 0.27342527 | P18: =IF(B18="","",VLOOKUP(B18,HM_Calc_Array,14,FALSE)) -> 0.30666937 | Q18: =IF(B18="","",VLOOKUP(B18,HM_Calc_Array,15,FALSE)) -> 1.0839807 | R18: =IF(B18="","",VLOOKUP(B18,HM_Calc_Array,16,FALSE)) -> 0.16737633 | S18: =IF(B18="","",VLOOKUP(B18,Array_getValues,26,FALSE)) -> 28.962407 | AL18: =IF(B18="","",HLOOKUP(B18,pArray,12,FALSE)) -> 2 | AM18: =IF(B18="","",HLOOKUP(B18,pArray,14,FALSE)) -> 7
A19: =IF(B19="","",HLOOKUP(B19,pArray,6,FALSE)) -> 0.4 | B19: EURGBP | C19: =IF(B19="","",HLOOKUP(B19,pArray,9,FALSE)) -> 0.7364532 | D19: =SUM(IF(B19="","",HLOOKUP(B19,pArray,12,FALSE))-IF(B19="","",HLOOKUP(B19,pArray,14,FALSE))) -> 3 | E19: =IF(B19="","",VLOOKUP(B19,CurrArray,4,FALSE)) -> 1.1428571 | F19: -2.5714286 | G19: =SUM(E19-F19) -> 3.7142857 | H19: =Stren_Dir!D19 -> 16.826302 | I19: =Q4 -> -1 | J19: =P4 -> -7 | K19: =Q5 -> -17 | L19: =P5 -> -33 | M19: =IF(B19="","",VLOOKUP(B19,HM_Calc_Array,11,FALSE)) -> 16.774355 | N19: =IF(B19="","",VLOOKUP(B19,HM_Calc_Array,12,FALSE)) -> 16.805193 | O19: =IF(B19="","",VLOOKUP(B19,HM_Calc_Array,13,FALSE)) -> 16.826302 | P19: =IF(B19="","",VLOOKUP(B19,HM_Calc_Array,14,FALSE)) -> 18.216602 | Q19: =IF(B19="","",VLOOKUP(B19,HM_Calc_Array,15,FALSE)) -> 16.907561 | R19: =IF(B19="","",VLOOKUP(B19,HM_Calc_Array,16,FALSE)) -> 13.755296 | S19: =IF(B19="","",VLOOKUP(B19,Array_getValues,26,FALSE)) -> 83.922608 | AL19: =IF(B19="","",HLOOKUP(B19,pArray,12,FALSE)) -> 6 | AM19: =IF(B19="","",HLOOKUP(B19,pArray,14,FALSE)) -> 3
A20: =IF(B20="","",HLOOKUP(B20,pArray,6,FALSE)) -> 0.6 | B20: EURJPY | C20: =IF(B20="","",HLOOKUP(B20,pArray,9,FALSE)) -> 0.3009434 | D20: =SUM(IF(B20="","",HLOOKUP(B20,pArray,12,FALSE))-IF(B20="","",HLOOKUP(B20,pArray,14,FALSE))) -> -3 | E20: =IF(B20="","",VLOOKUP(B20,CurrArray,4,FALSE)) -> -1.8571429 | F20: -2.7142857 | G20: =SUM(E20-F20) -> 0.85714286 | H20: =Stren_Dir!D20 -> -14.646676 | I20: =Q4 -> -1 | J20: =O4 -> 3 | K20: =Q5 -> -17 | L20: =O5 -> 9 | M20: =IF(B20="","",VLOOKUP(B20,HM_Calc_Array,11,FALSE)) -> -14.628801 | N20: =IF(B20="","",VLOOKUP(B20,HM_Calc_Array,12,FALSE)) -> -13.778204 | O20: =IF(B20="","",VLOOKUP(B20,HM_Calc_Array,13,FALSE)) -> -14.646676 | P20: =IF(B20="","",VLOOKUP(B20,HM_Calc_Array,14,FALSE)) -> -14.002321 | Q20: =IF(B20="","",VLOOKUP(B20,HM_Calc_Array,15,FALSE)) -> -14.6205 | R20: =IF(B20="","",VLOOKUP(B20,HM_Calc_Array,16,FALSE)) -> -14.80149 | S20: =IF(B20="","",VLOOKUP(B20,Array_getValues,26,FALSE)) -> 39.838149 | AL20: =IF(B20="","",HLOOKUP(B20,pArray,12,FALSE)) -> 3 | AM20: =IF(B20="","",HLOOKUP(B20,pArray,14,FALSE)) -> 6
A21: =IF(B21="","",HLOOKUP(B21,pArray,6,FALSE)) -> 3.1 | B21: EURNZD | C21: =IF(B21="","",HLOOKUP(B21,pArray,9,FALSE)) -> 0.016066838 | D21: =SUM(IF(B21="","",HLOOKUP(B21,pArray,12,FALSE))-IF(B21="","",HLOOKUP(B21,pArray,14,FALSE))) -> -9 | E21: =IF(B21="","",VLOOKUP(B21,CurrArray,4,FALSE)) -> -5 | F21: -2.5714286 | G21: =SUM(E21-F21) -> -2.4285714 | H21: =Stren_Dir!D21 -> -7.6366204 | I21: =Q4 -> -1 | J21: =S4 -> 7 | K21: =Q5 -> -17 | L21: =S5 -> 53 | M21: =IF(B21="","",VLOOKUP(B21,HM_Calc_Array,11,FALSE)) -> -7.5832791 | N21: =IF(B21="","",VLOOKUP(B21,HM_Calc_Array,12,FALSE)) -> -7.5332866 | O21: =IF(B21="","",VLOOKUP(B21,HM_Calc_Array,13,FALSE)) -> -7.6366204 | P21: =IF(B21="","",VLOOKUP(B21,HM_Calc_Array,14,FALSE)) -> -8.5407673 | Q21: =IF(B21="","",VLOOKUP(B21,HM_Calc_Array,15,FALSE)) -> -7.7725322 | R21: =IF(B21="","",VLOOKUP(B21,HM_Calc_Array,16,FALSE)) -> -13.853493 | S21: =IF(B21="","",VLOOKUP(B21,Array_getValues,26,FALSE)) -> 61.957722 | AL21: =IF(B21="","",HLOOKUP(B21,pArray,12,FALSE)) -> 0 | AM21: =IF(B21="","",HLOOKUP(B21,pArray,14,FALSE)) -> 9
A22: =IF(B22="","",HLOOKUP(B22,pArray,6,FALSE)) -> 0.1 | B22: EURUSD | C22: =IF(B22="","",HLOOKUP(B22,pArray,9,FALSE)) -> 0.56056338 | D22: =SUM(IF(B22="","",HLOOKUP(B22,pArray,12,FALSE))-IF(B22="","",HLOOKUP(B22,pArray,14,FALSE))) -> 1 | E22: =IF(B22="","",VLOOKUP(B22,CurrArray,4,FALSE)) -> 0.57142857 | F22: -2.4285714 | G22: =SUM(E22-F22) -> 3 | H22: =Stren_Dir!D22 -> 1.782386 | I22: =Q4 -> -1 | J22: =N4 -> -5 | K22: =Q5 -> -17 | L22: =N5 -> -25 | M22: =IF(B22="","",VLOOKUP(B22,HM_Calc_Array,11,FALSE)) -> 2.9702245 | N22: =IF(B22="","",VLOOKUP(B22,HM_Calc_Array,12,FALSE)) -> 1.8616443 | O22: =IF(B22="","",VLOOKUP(B22,HM_Calc_Array,13,FALSE)) -> 1.782386 | P22: =IF(B22="","",VLOOKUP(B22,HM_Calc_Array,14,FALSE)) -> 2.6236088 | Q22: =IF(B22="","",VLOOKUP(B22,HM_Calc_Array,15,FALSE)) -> 2.2086949 | R22: =IF(B22="","",VLOOKUP(B22,HM_Calc_Array,16,FALSE)) -> 0.7126231 | S22: =IF(B22="","",VLOOKUP(B22,Array_getValues,26,FALSE)) -> 58.938002 | AL22: =IF(B22="","",HLOOKUP(B22,pArray,12,FALSE)) -> 5 | AM22: =IF(B22="","",HLOOKUP(B22,pArray,14,FALSE)) -> 4
A23: =IF(B23="","",HLOOKUP(B23,pArray,6,FALSE)) -> 2.2 | B23: GBPAUD | C23: =IF(B23="","",HLOOKUP(B23,pArray,9,FALSE)) -> 0.05090312 | D23: =SUM(IF(B23="","",HLOOKUP(B23,pArray,12,FALSE))-IF(B23="","",HLOOKUP(B23,pArray,14,FALSE))) -> -7 | E23: =IF(B23="","",VLOOKUP(B23,CurrArray,4,FALSE)) -> -4.2857143 | F23: -0.71428571 | G23: =SUM(E23-F23) -> -3.5714286 | H23: =Stren_Dir!D23 -> -17.807456 | I23: =P4 -> -7 | J23: =R4 -> 5 | K23: =P5 -> -33 | L23: =R5 -> 27 | M23: =IF(B23="","",VLOOKUP(B23,HM_Calc_Array,11,FALSE)) -> -17.772131 | N23: =IF(B23="","",VLOOKUP(B23,HM_Calc_Array,12,FALSE)) -> -18.803311 | O23: =IF(B23="","",VLOOKUP(B23,HM_Calc_Array,13,FALSE)) -> -17.807456 | P23: =IF(B23="","",VLOOKUP(B23,HM_Calc_Array,14,FALSE)) -> -18.841917 | Q23: =IF(B23="","",VLOOKUP(B23,HM_Calc_Array,15,FALSE)) -> -17.977443 | R23: =IF(B23="","",VLOOKUP(B23,HM_Calc_Array,16,FALSE)) -> -19.199354 | S23: =IF(B23="","",VLOOKUP(B23,Array_getValues,26,FALSE)) -> 44.299993 | AL23: =IF(B23="","",HLOOKUP(B23,pArray,12,FALSE)) -> 1 | AM23: =IF(B23="","",HLOOKUP(B23,pArray,14,FALSE)) -> 8
A24: =IF(B24="","",HLOOKUP(B24,pArray,6,FALSE)) -> 1.3 | B24: GBPCAD | C24: =IF(B24="","",HLOOKUP(B24,pArray,9,FALSE)) -> 0.36329234 | D24: =SUM(IF(B24="","",HLOOKUP(B24,pArray,12,FALSE))-IF(B24="","",HLOOKUP(B24,pArray,14,FALSE))) -> -3 | E24: =IF(B24="","",VLOOKUP(B24,CurrArray,4,FALSE)) -> -0.85714286 | F24: 2.7142857 | G24: =SUM(E24-F24) -> -3.5714286 | H24: =Stren_Dir!D24 -> -14.82008 | I24: =P4 -> -7 | J24: =T4 -> -3 | K24: =P5 -> -33 | L24: =T5 -> -21 | M24: =IF(B24="","",VLOOKUP(B24,HM_Calc_Array,11,FALSE)) -> -14.911126 | N24: =IF(B24="","",VLOOKUP(B24,HM_Calc_Array,12,FALSE)) -> -14.619177 | O24: =IF(B24="","",VLOOKUP(B24,HM_Calc_Array,13,FALSE)) -> -14.82008 | P24: =IF(B24="","",VLOOKUP(B24,HM_Calc_Array,14,FALSE)) -> -14.583975 | Q24: =IF(B24="","",VLOOKUP(B24,HM_Calc_Array,15,FALSE)) -> -14.670868 | R24: =IF(B24="","",VLOOKUP(B24,HM_Calc_Array,16,FALSE)) -> -14.594581 | S24: =IF(B24="","",VLOOKUP(B24,Array_getValues,26,FALSE)) -> 82.509975 | AL24: =IF(B24="","",HLOOKUP(B24,pArray,12,FALSE)) -> 3 | AM24: =IF(B24="","",HLOOKUP(B24,pArray,14,FALSE)) -> 6
A25: =IF(B25="","",HLOOKUP(B25,pArray,6,FALSE)) -> 2 | B25: GBPCHF | C25: =IF(B25="","",HLOOKUP(B25,pArray,9,FALSE)) -> 0.21743929 | D25: =SUM(IF(B25="","",HLOOKUP(B25,pArray,12,FALSE))-IF(B25="","",HLOOKUP(B25,pArray,14,FALSE))) -> -5 | E25: =IF(B25="","",VLOOKUP(B25,CurrArray,4,FALSE)) -> -2.8571429 | F25: 2.8571429 | G25: =SUM(E25-F25) -> -5.7142857 | H25: =Stren_Dir!D25 -> -14.166402 | I25: =P4 -> -7 | J25: =U4 -> 1 | K25: =P5 -> -33 | L25: =U5 -> 7 | M25: =IF(B25="","",VLOOKUP(B25,HM_Calc_Array,11,FALSE)) -> -14.117483 | N25: =IF(B25="","",VLOOKUP(B25,HM_Calc_Array,12,FALSE)) -> -14.159011 | O25: =IF(B25="","",VLOOKUP(B25,HM_Calc_Array,13,FALSE)) -> -14.166402 | P25: =IF(B25="","",VLOOKUP(B25,HM_Calc_Array,14,FALSE)) -> -15.174305 | Q25: =IF(B25="","",VLOOKUP(B25,HM_Calc_Array,15,FALSE)) -> -13.512233 | R25: =IF(B25="","",VLOOKUP(B25,HM_Calc_Array,16,FALSE)) -> -11.955133 | S25: =IF(B25="","",VLOOKUP(B25,Array_getValues,26,FALSE)) -> 21.33768 | AL25: =IF(B25="","",HLOOKUP(B25,pArray,12,FALSE)) -> 2 | AM25: =IF(B25="","",HLOOKUP(B25,pArray,14,FALSE)) -> 7
A26: =IF(B26="","",HLOOKUP(B26,pArray,6,FALSE)) -> 0.9 | B26: GBPJPY | C26: =IF(B26="","",HLOOKUP(B26,pArray,9,FALSE)) -> 0.11397558 | D26: =SUM(IF(B26="","",HLOOKUP(B26,pArray,12,FALSE))-IF(B26="","",HLOOKUP(B26,pArray,14,FALSE))) -> -5 | E26: =IF(B26="","",VLOOKUP(B26,CurrArray,4,FALSE)) -> -3 | F26: -0.14285714 | G26: =SUM(E26-F26) -> -2.8571429 | H26: =Stren_Dir!D26 -> -26.933257 | I26: =P4 -> -7 | J26: =O4 -> 3 | K26: =P5 -> -33 | L26: =O5 -> 9 | M26: =IF(B26="","",VLOOKUP(B26,HM_Calc_Array,11,FALSE)) -> -26.89196 | N26: =IF(B26="","",VLOOKUP(B26,HM_Calc_Array,12,FALSE)) -> -26.901403 | O26: =IF(B26="","",VLOOKUP(B26,HM_Calc_Array,13,FALSE)) -> -26.933257 | P26: =IF(B26="","",VLOOKUP(B26,HM_Calc_Array,14,FALSE)) -> -27.245992 | Q26: =IF(B26="","",VLOOKUP(B26,HM_Calc_Array,15,FALSE)) -> -26.955657 | R26: =IF(B26="","",VLOOKUP(B26,HM_Calc_Array,16,FALSE)) -> -25.095275 | S26: =IF(B26="","",VLOOKUP(B26,Array_getValues,26,FALSE)) -> 18.198376 | AL26: =IF(B26="","",HLOOKUP(B26,pArray,12,FALSE)) -> 2 | AM26: =IF(B26="","",HLOOKUP(B26,pArray,14,FALSE)) -> 7
A27: =IF(B27="","",HLOOKUP(B27,pArray,6,FALSE)) -> 3.2 | B27: GBPNZD | C27: =IF(B27="","",HLOOKUP(B27,pArray,9,FALSE)) -> 0.082593593 | D27: =SUM(IF(B27="","",HLOOKUP(B27,pArray,12,FALSE))-IF(B27="","",HLOOKUP(B27,pArray,14,FALSE))) -> -7 | E27: =IF(B27="","",VLOOKUP(B27,CurrArray,4,FALSE)) -> -6.1428571 | F27: 0 | G27: =SUM(E27-F27) -> -6.1428571 | H27: =Stren_Dir!D27 -> -22.798225 | I27: =P4 -> -7 | J27: =S4 -> 7 | K27: =P5 -> -33 | L27: =S5 -> 53 | M27: =IF(B27="","",VLOOKUP(B27,HM_Calc_Array,11,FALSE)) -> -20.856566 | N27: =IF(B27="","",VLOOKUP(B27,HM_Calc_Array,12,FALSE)) -> -22.870747 | O27: =IF(B27="","",VLOOKUP(B27,HM_Calc_Array,13,FALSE)) -> -22.798225 | P27: =IF(B27="","",VLOOKUP(B27,HM_Calc_Array,14,FALSE)) -> -22.592559 | Q27: =IF(B27="","",VLOOKUP(B27,HM_Calc_Array,15,FALSE)) -> -21.073983 | R27: =IF(B27="","",VLOOKUP(B27,HM_Calc_Array,16,FALSE)) -> -24.270374 | S27: =IF(B27="","",VLOOKUP(B27,Array_getValues,26,FALSE)) -> 31.306251 | AL27: =IF(B27="","",HLOOKUP(B27,pArray,12,FALSE)) -> 1 | AM27: =IF(B27="","",HLOOKUP(B27,pArray,14,FALSE)) -> 8
A28: =IF(B28="","",HLOOKUP(B28,pArray,6,FALSE)) -> 0.5 | B28: GBPUSD | C28: =IF(B28="","",HLOOKUP(B28,pArray,9,FALSE)) -> 0.32916145 | D28: =SUM(IF(B28="","",HLOOKUP(B28,pArray,12,FALSE))-IF(B28="","",HLOOKUP(B28,pArray,14,FALSE))) -> -3 | E28: =IF(B28="","",VLOOKUP(B28,CurrArray,4,FALSE)) -> -0.57142857 | F28: 0.14285714 | G28: =SUM(E28-F28) -> -0.71428571 | H28: =Stren_Dir!D28 -> -12.875321 | I28: =P4 -> -7 | J28: =N4 -> -5 | K28: =P5 -> -33 | L28: =N5 -> -25 | M28: =IF(B28="","",VLOOKUP(B28,HM_Calc_Array,11,FALSE)) -> -12.806082 | N28: =IF(B28="","",VLOOKUP(B28,HM_Calc_Array,12,FALSE)) -> -12.791879 | O28: =IF(B28="","",VLOOKUP(B28,HM_Calc_Array,13,FALSE)) -> -12.875321 | P28: =IF(B28="","",VLOOKUP(B28,HM_Calc_Array,14,FALSE)) -> -13.193427 | Q28: =IF(B28="","",VLOOKUP(B28,HM_Calc_Array,15,FALSE)) -> -13.135403 | R28: =IF(B28="","",VLOOKUP(B28,HM_Calc_Array,16,FALSE)) -> -11.476321 | S28: =IF(B28="","",VLOOKUP(B28,Array_getValues,26,FALSE)) -> 25.838638 | AL28: =IF(B28="","",HLOOKUP(B28,pArray,12,FALSE)) -> 3 | AM28: =IF(B28="","",HLOOKUP(B28,pArray,14,FALSE)) -> 6
A29: =IF(B29="","",HLOOKUP(B29,pArray,6,FALSE)) -> 1.3 | B29: NZDCAD | C29: =IF(B29="","",HLOOKUP(B29,pArray,9,FALSE)) -> 0.96923077 | D29: =SUM(IF(B29="","",HLOOKUP(B29,pArray,12,FALSE))-IF(B29="","",HLOOKUP(B29,pArray,14,FALSE))) -> 7 | E29: =IF(B29="","",VLOOKUP(B29,CurrArray,4,FALSE)) -> 5.2857143 | F29: 2.7142857 | G29: =SUM(E29-F29) -> 2.5714286 | H29: =Stren_Dir!D29 -> 7.759965 | I29: =S4 -> 7 | J29: =T4 -> -3 | K29: =S5 -> 53 | L29: =T5 -> -21 | M29: =IF(B29="","",VLOOKUP(B29,HM_Calc_Array,11,FALSE)) -> 7.5440011 | N29: =IF(B29="","",VLOOKUP(B29,HM_Calc_Array,12,FALSE)) -> 10.703378 | O29: =IF(B29="","",VLOOKUP(B29,HM_Calc_Array,13,FALSE)) -> 7.759965 | P29: =IF(B29="","",VLOOKUP(B29,HM_Calc_Array,14,FALSE)) -> 10.389133 | Q29: =IF(B29="","",VLOOKUP(B29,HM_Calc_Array,15,FALSE)) -> 8.1750099 | R29: =IF(B29="","",VLOOKUP(B29,HM_Calc_Array,16,FALSE)) -> 12.804312 | S29: =IF(B29="","",VLOOKUP(B29,Array_getValues,26,FALSE)) -> 94.710306 | AL29: =IF(B29="","",HLOOKUP(B29,pArray,12,FALSE)) -> 8 | AM29: =IF(B29="","",HLOOKUP(B29,pArray,14,FALSE)) -> 1
A30: =IF(B30="","",HLOOKUP(B30,pArray,6,FALSE)) -> 1.8 | B30: NZDCHF | C30: =IF(B30="","",HLOOKUP(B30,pArray,9,FALSE)) -> 0.97630332 | D30: =SUM(IF(B30="","",HLOOKUP(B30,pArray,12,FALSE))-IF(B30="","",HLOOKUP(B30,pArray,14,FALSE))) -> 9 | E30: =IF(B30="","",VLOOKUP(B30,CurrArray,4,FALSE)) -> 3.2857143 | F30: 2.8571429 | G30: =SUM(E30-F30) -> 0.42857143 | H30: =Stren_Dir!D30 -> 8.5971018 | I30: =S4 -> 7 | J30: =U4 -> 1 | K30: =S5 -> 53 | L30: =U5 -> 7 | M30: =IF(B30="","",VLOOKUP(B30,HM_Calc_Array,11,FALSE)) -> 8.5580182 | N30: =IF(B30="","",VLOOKUP(B30,HM_Calc_Array,12,FALSE)) -> 8.4734334 | O30: =IF(B30="","",VLOOKUP(B30,HM_Calc_Array,13,FALSE)) -> 8.5971018 | P30: =IF(B30="","",VLOOKUP(B30,HM_Calc_Array,14,FALSE)) -> 9.7312537 | Q30: =IF(B30="","",VLOOKUP(B30,HM_Calc_Array,15,FALSE)) -> 9.6249072 | R30: =IF(B30="","",VLOOKUP(B30,HM_Calc_Array,16,FALSE)) -> 16.355658 | S30: =IF(B30="","",VLOOKUP(B30,Array_getValues,26,FALSE)) -> 38.602598 | AL30: =IF(B30="","",HLOOKUP(B30,pArray,12,FALSE)) -> 9 | AM30: =IF(B30="","",HLOOKUP(B30,pArray,14,FALSE)) -> 0
A31: =IF(B31="","",HLOOKUP(B31,pArray,6,FALSE)) -> 1.2 | B31: NZDJPY | C31: =IF(B31="","",HLOOKUP(B31,pArray,9,FALSE)) -> 0.90518192 | D31: =SUM(IF(B31="","",HLOOKUP(B31,pArray,12,FALSE))-IF(B31="","",HLOOKUP(B31,pArray,14,FALSE))) -> 7 | E31: =IF(B31="","",VLOOKUP(B31,CurrArray,4,FALSE)) -> 3.1428571 | F31: -0.14285714 | G31: =SUM(E31-F31) -> 3.2857143 | H31: =Stren_Dir!D31 -> -7.5569636 | I31: =S4 -> 7 | J31: =O4 -> 3 | K31: =S5 -> 53 | L31: =O5 -> 9 | M31: =IF(B31="","",VLOOKUP(B31,HM_Calc_Array,11,FALSE)) -> -7.5918686 | N31: =IF(B31="","",VLOOKUP(B31,HM_Calc_Array,12,FALSE)) -> -5.7271022 | O31: =IF(B31="","",VLOOKUP(B31,HM_Calc_Array,13,FALSE)) -> -7.5569636 | P31: =IF(B31="","",VLOOKUP(B31,HM_Calc_Array,14,FALSE)) -> -5.943319 | Q31: =IF(B31="","",VLOOKUP(B31,HM_Calc_Array,15,FALSE)) -> -7.4215985 | R31: =IF(B31="","",VLOOKUP(B31,HM_Calc_Array,16,FALSE)) -> -1.0550752 | S31: =IF(B31="","",VLOOKUP(B31,Array_getValues,26,FALSE)) -> 54.523117 | AL31: =IF(B31="","",HLOOKUP(B31,pArray,12,FALSE)) -> 8 | AM31: =IF(B31="","",HLOOKUP(B31,pArray,14,FALSE)) -> 1
A32: =IF(B32="","",HLOOKUP(B32,pArray,6,FALSE)) -> 0.8 | B32: NZDUSD | C32: =IF(B32="","",HLOOKUP(B32,pArray,9,FALSE)) -> 0.97934386 | D32: =SUM(IF(B32="","",HLOOKUP(B32,pArray,12,FALSE))-IF(B32="","",HLOOKUP(B32,pArray,14,FALSE))) -> 9 | E32: =IF(B32="","",VLOOKUP(B32,CurrArray,4,FALSE)) -> 5.5714286 | F32: 0.14285714 | G32: =SUM(E32-F32) -> 5.4285714 | H32: =Stren_Dir!D32 -> 10.222583 | I32: =S4 -> 7 | J32: =N4 -> -5 | K32: =S5 -> 53 | L32: =N5 -> -25 | M32: =IF(B32="","",VLOOKUP(B32,HM_Calc_Array,11,FALSE)) -> 10.199841 | N32: =IF(B32="","",VLOOKUP(B32,HM_Calc_Array,12,FALSE)) -> 10.180355 | O32: =IF(B32="","",VLOOKUP(B32,HM_Calc_Array,13,FALSE)) -> 10.222583 | P32: =IF(B32="","",VLOOKUP(B32,HM_Calc_Array,14,FALSE)) -> 12.219171 | Q32: =IF(B32="","",VLOOKUP(B32,HM_Calc_Array,15,FALSE)) -> 10.845106 | R32: =IF(B32="","",VLOOKUP(B32,HM_Calc_Array,16,FALSE)) -> 16.892557 | S32: =IF(B32="","",VLOOKUP(B32,Array_getValues,26,FALSE)) -> 30.983711 | AL32: =IF(B32="","",HLOOKUP(B32,pArray,12,FALSE)) -> 9 | AM32: =IF(B32="","",HLOOKUP(B32,pArray,14,FALSE)) -> 0
A33: =IF(B33="","",HLOOKUP(B33,pArray,6,FALSE)) -> 0.5 | B33: USDCAD | C33: =IF(B33="","",HLOOKUP(B33,pArray,9,FALSE)) -> 0.48051948 | D33: =SUM(IF(B33="","",HLOOKUP(B33,pArray,12,FALSE))-IF(B33="","",HLOOKUP(B33,pArray,14,FALSE))) -> -1 | E33: =IF(B33="","",VLOOKUP(B33,CurrArray,4,FALSE)) -> -0.28571429 | F33: 2.5714286 | G33: =SUM(E33-F33) -> -2.8571429 | H33: =Stren_Dir!D33 -> -2.2337567 | I33: =N4 -> -5 | J33: =T4 -> -3 | K33: =N5 -> -25 | L33: =T5 -> -21 | M33: =IF(B33="","",VLOOKUP(B33,HM_Calc_Array,11,FALSE)) -> -2.4127505 | N33: =IF(B33="","",VLOOKUP(B33,HM_Calc_Array,12,FALSE)) -> -1.6747547 | O33: =IF(B33="","",VLOOKUP(B33,HM_Calc_Array,13,FALSE)) -> -2.2337567 | P33: =IF(B33="","",VLOOKUP(B33,HM_Calc_Array,14,FALSE)) -> -1.6250574 | Q33: =IF(B33="","",VLOOKUP(B33,HM_Calc_Array,15,FALSE)) -> -2.433504 | R33: =IF(B33="","",VLOOKUP(B33,HM_Calc_Array,16,FALSE)) -> -3.4607667 | S33: =IF(B33="","",VLOOKUP(B33,Array_getValues,26,FALSE)) -> 97.81345 | AL33: =IF(B33="","",HLOOKUP(B33,pArray,12,FALSE)) -> 4 | AM33: =IF(B33="","",HLOOKUP(B33,pArray,14,FALSE)) -> 5
A34: =IF(B34="","",HLOOKUP(B34,pArray,6,FALSE)) -> 0.7 | B34: USDCHF | C34: =IF(B34="","",HLOOKUP(B34,pArray,9,FALSE)) -> 0.14826498 | D34: =SUM(IF(B34="","",HLOOKUP(B34,pArray,12,FALSE))-IF(B34="","",HLOOKUP(B34,pArray,14,FALSE))) -> -5 | E34: =IF(B34="","",VLOOKUP(B34,CurrArray,4,FALSE)) -> -2.2857143 | F34: 2.7142857 | G34: =SUM(E34-F34) -> -5 | H34: =Stren_Dir!D34 -> -1.4775317 | I34: =N4 -> -5 | J34: =U4 -> 1 | K34: =N5 -> -25 | L34: =U5 -> 7 | M34: =IF(B34="","",VLOOKUP(B34,HM_Calc_Array,11,FALSE)) -> -1.4955743 | N34: =IF(B34="","",VLOOKUP(B34,HM_Calc_Array,12,FALSE)) -> -2.2188109 | O34: =IF(B34="","",VLOOKUP(B34,HM_Calc_Array,13,FALSE)) -> -1.4775317 | P34: =IF(B34="","",VLOOKUP(B34,HM_Calc_Array,14,FALSE)) -> -2.257309 | Q34: =IF(B34="","",VLOOKUP(B34,HM_Calc_Array,15,FALSE)) -> -1.0859904 | R34: =IF(B34="","",VLOOKUP(B34,HM_Calc_Array,16,FALSE)) -> -0.48820597 | S34: =IF(B34="","",VLOOKUP(B34,Array_getValues,26,FALSE)) -> 31.956142 | AL34: =IF(B34="","",HLOOKUP(B34,pArray,12,FALSE)) -> 2 | AM34: =IF(B34="","",HLOOKUP(B34,pArray,14,FALSE)) -> 7
A35: =IF(B35="","",HLOOKUP(B35,pArray,6,FALSE)) -> 0.4 | B35: USDJPY | C35: =IF(B35="","",HLOOKUP(B35,pArray,9,FALSE)) -> 0.27856366 | D35: =SUM(IF(B35="","",HLOOKUP(B35,pArray,12,FALSE))-IF(B35="","",HLOOKUP(B35,pArray,14,FALSE))) -> -3 | E35: =IF(B35="","",VLOOKUP(B35,CurrArray,4,FALSE)) -> -2.4285714 | F35: -0.28571429 | G35: =SUM(E35-F35) -> -2.1428571 | H35: =Stren_Dir!D35 -> -16.134925 | I35: =N4 -> -5 | J35: =O4 -> 3 | K35: =N5 -> -25 | L35: =O5 -> 9 | M35: =IF(B35="","",VLOOKUP(B35,HM_Calc_Array,11,FALSE)) -> -16.150865 | N35: =IF(B35="","",VLOOKUP(B35,HM_Calc_Array,12,FALSE)) -> -16.276095 | O35: =IF(B35="","",VLOOKUP(B35,HM_Calc_Array,13,FALSE)) -> -16.134925 | P35: =IF(B35="","",VLOOKUP(B35,HM_Calc_Array,14,FALSE)) -> -16.181342 | Q35: =IF(B35="","",VLOOKUP(B35,HM_Calc_Array,15,FALSE)) -> -16.462898 | R35: =IF(B35="","",VLOOKUP(B35,HM_Calc_Array,16,FALSE)) -> -15.315278 | S35: =IF(B35="","",VLOOKUP(B35,Array_getValues,26,FALSE)) -> 35.241548 | AL35: =IF(B35="","",HLOOKUP(B35,pArray,12,FALSE)) -> 3 | AM35: =IF(B35="","",HLOOKUP(B35,pArray,14,FALSE)) -> 6
AK37: AVM | AL37: =SUM(AL8:AL35)/28 -> 4.1428571 | AM37: =SUM(AM8:AM35)/28 -> 4.8571429 | AN37: =AL37-AM37 -> -0.71428571
C44: =SUM(C8:C35)/28 -> 0.44762535 | D44: =SUM(D8:D35)/28 -> -0.71428571 | E44: =SUM(E8:E35)/28 -> -0.40816327 | F44: =SUM(F8:F35)/28 -> 0.20408163 | G44: =SUM(G8:G35)/28 -> -0.6122449 | L44: Conditions | M44: BUY | N44: SELL | P44: Here set your parameter | T44: For calculation purpose only
E45: =ABS(E44)+ABS(G44) -> 1.0204082 | F45: =ABS(G44)+ABS(F44) -> 0.81632653 | L45: GAP | M45: =G49 -> 2.5204082 | N45: =-G49 -> -2.5204082 | P45: absolute | T45: Abso | U45: =(P46/Q46) -> #DIV/0! | V45: =(ABS(P46)+ABS(P47))/(ABS(Q46)+ABS(Q47)) -> #DIV/0!
F46: =E45-ABS(F44) -> 0.81632653 | L46: Absolute | M46: =U45 -> #DIV/0! | N46: =U46 -> #DIV/0! | P46: =SUMIF(E8:E35,">2.25") -> 0 | Q46: =COUNTIF(E8:E35,">2.25") -> 0 | U46: =(P47/Q47) -> #DIV/0!
G47: =SUMIF(G8:G35,">0") -> 26.714286 | L47: Relative | M47: =U47 -> #DIV/0! | N47: =U48 -> #DIV/0! | P47: =SUMIF(E8:E35,"<-2.25") -> 0 | Q47: =COUNTIF(E8:E35,"<-2.25") -> 0 | T47: Rela | U47: =(P49/Q49) -> #DIV/0! | V47: =(ABS(P49)+ABS(P50))/(ABS(Q49)+ABS(Q50)) -> #DIV/0!
G48: =SUMIF(G8:G35,"<0") -> -43.857143 | L48: Bid Ratio | M48: =P52/Q52 -> #DIV/0! | N48: =P53/Q53 -> #DIV/0! | P48: relative | U48: =(P50/Q50) -> #DIV/0!
G49: =(ABS(G47)+ABS(G48))/28 -> 2.5204082 | L49: AVM | M49: =AL37 -> 4.1428571 | P49: =SUMIF(D8:D35,">4.9") -> 0 | Q49: =COUNTIF(D8:D35,">4.9") -> 0
G50: =(P46-P47)/28 -> 0 | P50: =SUMIF(D8:D35,"<-4.9") -> 0 | Q50: =COUNTIF(D8:D35,"<-4.9") -> 0
G51: =(U45-U46)/8 -> #DIV/0! | M51: =CRS!C20 -> 15.84 | P51: bid ratio
F52: =(P46-P47)/(Q46+Q47) -> #DIV/0! | G52: =(P46-P47)/28 -> 0 | P52: =SUMIF(C8:C35,">0.6") -> 0 | Q52: =COUNTIF(C8:C35,">0.6") -> 0
P53: =SUMIF(C8:C35,"<0.3") -> 0 | Q53: =COUNTIF(C8:C35,"<0.3") -> 0
N56: =SUMIF(M8:M35,">0") -> 61.296238 | O56: =SUMIF(N8:N35,">0") -> 63.129703 | P56: =SUMIF(O8:O35,">0") -> 60.350587 | Q56: =SUMIF(P8:P35,">0") -> 71.132843 | R56: =SUMIF(Q8:Q35,">0") -> 66.491665 | S56: =SUMIF(R8:R35,">0") -> 88.263706
N57: =SUMIF(M8:M35,"<0") -> -205.58796 | O57: =SUMIF(N8:N35,"<0") -> -205.65054 | P57: =SUMIF(O8:O35,"<0") -> -207.52464 | Q57: =SUMIF(P8:P35,"<0") -> -209.57835 | R57: =SUMIF(Q8:Q35,"<0") -> -206.06758 | S57: =SUMIF(R8:R35,"<0") -> -207.15239
N58: =(ABS(N56)+ABS(N57))/28 -> 9.5315785 | O58: =(ABS(O56)+ABS(O57))/28 -> 9.5992943 | P58: =(ABS(P56)+ABS(P57))/28 -> 9.5669724 | Q58: =(ABS(Q56)+ABS(Q57))/28 -> 10.0254 | R58: =(ABS(R56)+ABS(R57))/28 -> 9.7342587 | S58: =(ABS(S56)+ABS(S57))/28 -> 10.550575

Sheet GAP_SYNC
A1: 4 | C1: =ROUNDUP(GAP_test!$M$46,2) -> #DIV/0! | D1: =ROUNDUP(GAP_test!$M$45,2) -> 2.53 | E1: =ROUNDUP(GAP_test!$M$49,2) -> 4.15
A2: 1
B4: AUD | D4: =F7 -> WAIT | F4: =IF(B8="","",IF(COUNTIF(F8:F14,">0")>COUNTIF(F8:F14,"<0"),COUNTIF(F8:F14,">0"),IF(COUNTIF(F8:F14,"<0")>COUNTIF(F8:F14,">0"),-COUNTIF(F8:F14,"<0"),IF(COUNTIF(F8:F14,"<0")=COUNTIF(F8:F14,">0"),0)))) -> 2 | H4: CAD | J4: =L7 -> WAIT | L4: =IF(H8="","",IF(COUNTIF(L8:L14,">0")>COUNTIF(L8:L14,"<0"),COUNTIF(L8:L14,">0"),IF(COUNTIF(L8:L14,"<0")>COUNTIF(L8:L14,">0"),-COUNTIF(L8:L14,"<0"),IF(COUNTIF(L8:L14,"<0")=COUNTIF(L8:L14,">0"),0)))) -> 2 | N4: CHF | P4: =R7 -> WAIT | R4: =IF(N8="","",IF(COUNTIF(R8:R14,">0")>COUNTIF(R8:R14,"<0"),COUNTIF(R8:R14,">0"),IF(COUNTIF(R8:R14,"<0")>COUNTIF(R8:R14,">0"),-COUNTIF(R8:R14,"<0"),IF(COUNTIF(R8:R14,"<0")=COUNTIF(R8:R14,">0"),0)))) -> 3 | T4: EUR | V4: =X7 -> WAIT | X4: =IF(T8="","",IF(COUNTIF(X8:X14,">0")>COUNTIF(X8:X14,"<0"),COUNTIF(X8:X14,">0"),IF(COUNTIF(X8:X14,"<0")>COUNTIF(X8:X14,">0"),-COUNTIF(X8:X14,"<0"),IF(COUNTIF(X8:X14,"<0")=COUNTIF(X8:X14,">0"),0)))) -> 2
F6: =IF(B4="","",HLOOKUP(B4,smArray,2,FALSE)) -> 6.4285714 | L6: =IF(H4="","",HLOOKUP(H4,smArray,2,FALSE)) -> 3 | R6: =IF(N4="","",HLOOKUP(N4,smArray,2,FALSE)) -> 5 | X6: =IF(T4="","",HLOOKUP(T4,smArray,2,FALSE)) -> 3.2857143
C7: =CONCATENATE("BS"," ",ROUNDUP(C1,2)) -> #DIV/0! | D7: LBS | E7: =CONCATENATE("<>"," ",ROUNDUP(D1,2)) -> <> 2,53 | F7: =IF(B8="","",IF(F4>=5,"BUY",IF(F4<-4.9,"SELL",IF(F4<5,"WAIT")))) -> WAIT | I7: =CONCATENATE("BS"," ",ROUNDUP(C1,2)) -> #DIV/0! | J7: LBS | K7: =CONCATENATE("<>"," ",ROUNDUP(D1,2)) -> <> 2,53 | L7: =IF(H8="","",IF(L4>=5,"BUY",IF(L4<-4.9,"SELL",IF(L4<5,"WAIT")))) -> WAIT | O7: =CONCATENATE("BS"," ",ROUNDUP(C1,2)) -> #DIV/0! | P7: LBS | Q7: =CONCATENATE("<>"," ",ROUNDUP(D1,2)) -> <> 2,53 | R7: =IF(N8="","",IF(R4>=5,"BUY",IF(R4<-4.9,"SELL",IF(R4<5,"WAIT")))) -> WAIT | U7: =CONCATENATE("BS"," ",ROUNDUP(C1,2)) -> #DIV/0! | V7: LBS | W7: =CONCATENATE("<>"," ",ROUNDUP(D1,2)) -> <> 2,53 | X7: =IF(T8="","",IF(X4>=5,"BUY",IF(X4<-4.9,"SELL",IF(X4<5,"WAIT")))) -> WAIT
B8: AUDUSD | C8: =IF(B8="","",VLOOKUP(B8,bSR_GAP2,4,FALSE)) -> 3.7142857 | D8: =IF(B8="","",VLOOKUP(B8,bSR_GAP2,5,FALSE)) -> 0.85714286 | E8: =IF(B8="","",VLOOKUP(B8,bSR_GAP2,6,FALSE)) -> 2.8571429 | F8: =IF(B8="","",IF(E8>=D1,1,IF(E8<=-D1,-1,IF(E8<D1,0)))) -> 1 | H8: USDCAD | I8: =IF(H8="","",VLOOKUP(H8,bSR_GAP2,4,FALSE)) -> -0.28571429 | J8: =IF(H8="","",VLOOKUP(H8,bSR_GAP2,5,FALSE)) -> 2.5714286 | K8: =IF(H8="","",VLOOKUP(H8,bSR_GAP2,6,FALSE)) -> -2.8571429 | L8: =IF(H8="","",IF(K8>=D1,-1,IF(K8<=-D1,1,IF(K8<D1,0)))) -> 1 | N8: AUDCHF | O8: =IF(N8="","",VLOOKUP(N8,bSR_GAP2,4,FALSE)) -> 1.4285714 | P8: =IF(N8="","",VLOOKUP(N8,bSR_GAP2,5,FALSE)) -> 3.5714286 | Q8: =IF(N8="","",VLOOKUP(N8,bSR_GAP2,6,FALSE)) -> -2.1428571 | R8: =IF(N8="","",IF(Q8>=D1,-1,IF(Q8<=-D1,1,IF(Q8<D1,0)))) -> 0 | T8: EURUSD | U8: =IF(T8="","",VLOOKUP(T8,bSR_GAP2,4,FALSE)) -> 0.57142857 | V8: =IF(T8="","",VLOOKUP(T8,bSR_GAP2,5,FALSE)) -> -2.4285714 | W8: =IF(T8="","",VLOOKUP(T8,bSR_GAP2,6,FALSE)) -> 3 | X8: =IF(T8="","",IF(W8>=D1,1,IF(W8<=-D1,-1,IF(W8<D1,0)))) -> 1
B9: AUDCHF | C9: =IF(B9="","",VLOOKUP(B9,bSR_GAP2,4,FALSE)) -> 1.4285714 | D9: =IF(B9="","",VLOOKUP(B9,bSR_GAP2,5,FALSE)) -> 3.5714286 | E9: =IF(B9="","",VLOOKUP(B9,bSR_GAP2,6,FALSE)) -> -2.1428571 | F9: =IF(B9="","",IF(E9>=D1,1,IF(E9<=-D1,-1,IF(E9<D1,0)))) -> 0 | H9: NZDCAD | I9: =IF(H9="","",VLOOKUP(H9,bSR_GAP2,4,FALSE)) -> 5.2857143 | J9: =IF(H9="","",VLOOKUP(H9,bSR_GAP2,5,FALSE)) -> 2.7142857 | K9: =IF(H9="","",VLOOKUP(H9,bSR_GAP2,6,FALSE)) -> 2.5714286 | L9: =IF(H9="","",IF(K9>=D1,-1,IF(K9<=-D1,1,IF(K9<D1,0)))) -> -1 | N9: CADCHF | O9: =IF(N9="","",VLOOKUP(N9,bSR_GAP2,4,FALSE)) -> -2 | P9: =IF(N9="","",VLOOKUP(N9,bSR_GAP2,5,FALSE)) -> 0.14285714 | Q9: =IF(N9="","",VLOOKUP(N9,bSR_GAP2,6,FALSE)) -> -2.1428571 | R9: =IF(N9="","",IF(Q9>=D1,-1,IF(Q9<=-D1,1,IF(Q9<D1,0)))) -> 0 | T9: EURGBP | U9: =IF(T9="","",VLOOKUP(T9,bSR_GAP2,4,FALSE)) -> 1.1428571 | V9: =IF(T9="","",VLOOKUP(T9,bSR_GAP2,5,FALSE)) -> -2.5714286 | W9: =IF(T9="","",VLOOKUP(T9,bSR_GAP2,6,FALSE)) -> 3.7142857 | X9: =IF(T9="","",IF(W9>=D1,1,IF(W9<=-D1,-1,IF(W9<D1,0)))) -> 1
B10: AUDCAD | C10: =IF(B10="","",VLOOKUP(B10,bSR_GAP2,4,FALSE)) -> 3.4285714 | D10: =IF(B10="","",VLOOKUP(B10,bSR_GAP2,5,FALSE)) -> 3.4285714 | E10: =IF(B10="","",VLOOKUP(B10,bSR_GAP2,6,FALSE)) -> 0 | F10: =IF(B10="","",IF(E10>=D1,1,IF(E10<=-D1,-1,IF(E10<D1,0)))) -> 0 | H10: GBPCAD | I10: =IF(H10="","",VLOOKUP(H10,bSR_GAP2,4,FALSE)) -> -0.85714286 | J10: =IF(H10="","",VLOOKUP(H10,bSR_GAP2,5,FALSE)) -> 2.7142857 | K10: =IF(H10="","",VLOOKUP(H10,bSR_GAP2,6,FALSE)) -> -3.5714286 | L10: =IF(H10="","",IF(K10>=D1,-1,IF(K10<=-D1,1,IF(K10<D1,0)))) -> 1 | N10: NZDCHF | O10: =IF(N10="","",VLOOKUP(N10,bSR_GAP2,4,FALSE)) -> 3.2857143 | P10: =IF(N10="","",VLOOKUP(N10,bSR_GAP2,5,FALSE)) -> 2.8571429 | Q10: =IF(N10="","",VLOOKUP(N10,bSR_GAP2,6,FALSE)) -> 0.42857143 | R10: =IF(N10="","",IF(Q10>=D1,-1,IF(Q10<=-D1,1,IF(Q10<D1,0)))) -> 0 | T10: EURJPY | U10: =IF(T10="","",VLOOKUP(T10,bSR_GAP2,4,FALSE)) -> -1.8571429 | V10: =IF(T10="","",VLOOKUP(T10,bSR_GAP2,5,FALSE)) -> -2.7142857 | W10: =IF(T10="","",VLOOKUP(T10,bSR_GAP2,6,FALSE)) -> 0.85714286 | X10: =IF(T10="","",IF(W10>=D1,1,IF(W10<=-D1,-1,IF(W10<D1,0)))) -> 0
B11: AUDJPY | C11: =IF(B11="","",VLOOKUP(B11,bSR_GAP2,4,FALSE)) -> 1.2857143 | D11: =IF(B11="","",VLOOKUP(B11,bSR_GAP2,5,FALSE)) -> 0.57142857 | E11: =IF(B11="","",VLOOKUP(B11,bSR_GAP2,6,FALSE)) -> 0.71428571 | F11: =IF(B11="","",IF(E11>=D1,1,IF(E11<=-D1,-1,IF(E11<D1,0)))) -> 0 | H11: EURCAD | I11: =IF(H11="","",VLOOKUP(H11,bSR_GAP2,4,FALSE)) -> 0.28571429 | J11: =IF(H11="","",VLOOKUP(H11,bSR_GAP2,5,FALSE)) -> 0.14285714 | K11: =IF(H11="","",VLOOKUP(H11,bSR_GAP2,6,FALSE)) -> 0.14285714 | L11: =IF(H11="","",IF(K11>=D1,-1,IF(K11<=-D1,1,IF(K11<D1,0)))) -> 0 | N11: EURCHF | O11: =IF(N11="","",VLOOKUP(N11,bSR_GAP2,4,FALSE)) -> -1.7142857 | P11: =IF(N11="","",VLOOKUP(N11,bSR_GAP2,5,FALSE)) -> 0.28571429 | Q11: =IF(N11="","",VLOOKUP(N11,bSR_GAP2,6,FALSE)) -> -2 | R11: =IF(N11="","",IF(Q11>=D1,-1,IF(Q11<=-D1,1,IF(Q11<D1,0)))) -> 0 | T11: EURCHF | U11: =IF(T11="","",VLOOKUP(T11,bSR_GAP2,4,FALSE)) -> -1.7142857 | V11: =IF(T11="","",VLOOKUP(T11,bSR_GAP2,5,FALSE)) -> 0.28571429 | W11: =IF(T11="","",VLOOKUP(T11,bSR_GAP2,6,FALSE)) -> -2 | X11: =IF(T11="","",IF(W11>=D1,1,IF(W11<=-D1,-1,IF(W11<D1,0)))) -> 0
B12: AUDNZD | C12: =IF(B12="","",VLOOKUP(B12,bSR_GAP2,4,FALSE)) -> -1.8571429 | D12: =IF(B12="","",VLOOKUP(B12,bSR_GAP2,5,FALSE)) -> 0.71428571 | E12: =IF(B12="","",VLOOKUP(B12,bSR_GAP2,6,FALSE)) -> -2.5714286 | F12: =IF(B12="","",IF(E12>=D1,1,IF(E12<=-D1,-1,IF(E12<D1,0)))) -> -1 | H12: AUDCAD | I12: =IF(H12="","",VLOOKUP(H12,bSR_GAP2,4,FALSE)) -> 3.4285714 | J12: =IF(H12="","",VLOOKUP(H12,bSR_GAP2,5,FALSE)) -> 3.4285714 | K12: =IF(H12="","",VLOOKUP(H12,bSR_GAP2,6,FALSE)) -> 0 | L12: =IF(H12="","",IF(K12>=D1,-1,IF(K12<=-D1,1,IF(K12<D1,0)))) -> 0 | N12: GBPCHF | O12: =IF(N12="","",VLOOKUP(N12,bSR_GAP2,4,FALSE)) -> -2.8571429 | P12: =IF(N12="","",VLOOKUP(N12,bSR_GAP2,5,FALSE)) -> 2.8571429 | Q12: =IF(N12="","",VLOOKUP(N12,bSR_GAP2,6,FALSE)) -> -5.7142857 | R12: =IF(N12="","",IF(Q12>=D1,-1,IF(Q12<=-D1,1,IF(Q12<D1,0)))) -> 1 | T12: EURCAD | U12: =IF(T12="","",VLOOKUP(T12,bSR_GAP2,4,FALSE)) -> 0.28571429 | V12: =IF(T12="","",VLOOKUP(T12,bSR_GAP2,5,FALSE)) -> 0.14285714 | W12: =IF(T12="","",VLOOKUP(T12,bSR_GAP2,6,FALSE)) -> 0.14285714 | X12: =IF(T12="","",IF(W12>=D1,1,IF(W12<=-D1,-1,IF(W12<D1,0)))) -> 0
B13: EURAUD | C13: =IF(B13="","",VLOOKUP(B13,bSR_GAP2,4,FALSE)) -> -3.1428571 | D13: =IF(B13="","",VLOOKUP(B13,bSR_GAP2,5,FALSE)) -> -3.2857143 | E13: =IF(B13="","",VLOOKUP(B13,bSR_GAP2,6,FALSE)) -> 0.14285714 | F13: =IF(B13="","",IF(E13>=D1,-1,IF(E13<=-D1,1,IF(E13<D1,0)))) -> 0 | H13: CADCHF | I13: =IF(H13="","",VLOOKUP(H13,bSR_GAP2,4,FALSE)) -> -2 | J13: =IF(H13="","",VLOOKUP(H13,bSR_GAP2,5,FALSE)) -> 0.14285714 | K13: =IF(H13="","",VLOOKUP(H13,bSR_GAP2,6,FALSE)) -> -2.1428571 | L13: =IF(H13="","",IF(K13>=D1,1,IF(K13<=-D1,-1,IF(K13<D1,0)))) -> 0 | N13: USDCHF | O13: =IF(N13="","",VLOOKUP(N13,bSR_GAP2,4,FALSE)) -> -2.2857143 | P13: =IF(N13="","",VLOOKUP(N13,bSR_GAP2,5,FALSE)) -> 2.7142857 | Q13: =IF(N13="","",VLOOKUP(N13,bSR_GAP2,6,FALSE)) -> -5 | R13: =IF(N13="","",IF(Q13>=D1,-1,IF(Q13<=-D1,1,IF(Q13<D1,0)))) -> 1 | T13: EURAUD | U13: =IF(T13="","",VLOOKUP(T13,bSR_GAP2,4,FALSE)) -> -3.1428571 | V13: =IF(T13="","",VLOOKUP(T13,bSR_GAP2,5,FALSE)) -> -3.2857143 | W13: =IF(T13="","",VLOOKUP(T13,bSR_GAP2,6,FALSE)) -> 0.14285714 | X13: =IF(T13="","",IF(W13>=D1,1,IF(W13<=-D1,-1,IF(W13<D1,0)))) -> 0
B14: GBPAUD | C14: =IF(B14="","",VLOOKUP(B14,bSR_GAP2,4,FALSE)) -> -4.2857143 | D14: =IF(B14="","",VLOOKUP(B14,bSR_GAP2,5,FALSE)) -> -0.71428571 | E14: =IF(B14="","",VLOOKUP(B14,bSR_GAP2,6,FALSE)) -> -3.5714286 | F14: =IF(B14="","",IF(E14>=D1,-1,IF(E14<=-D1,1,IF(E14<D1,0)))) -> 1 | H14: CADJPY | I14: =IF(H14="","",VLOOKUP(H14,bSR_GAP2,4,FALSE)) -> -2.1428571 | J14: =IF(H14="","",VLOOKUP(H14,bSR_GAP2,5,FALSE)) -> -2.8571429 | K14: =IF(H14="","",VLOOKUP(H14,bSR_GAP2,6,FALSE)) -> 0.71428571 | L14: =IF(H14="","",IF(K14>=D1,1,IF(K14<=-D1,-1,IF(K14<D1,0)))) -> 0 | N14: CHFJPY | O14: =IF(N14="","",VLOOKUP(N14,bSR_GAP2,4,FALSE)) -> -0.14285714 | P14: =IF(N14="","",VLOOKUP(N14,bSR_GAP2,5,FALSE)) -> -3 | Q14: =IF(N14="","",VLOOKUP(N14,bSR_GAP2,6,FALSE)) -> 2.8571429 | R14: =IF(N14="","",IF(Q14>=D1,1,IF(Q14<=-D1,-1,IF(Q14<D1,0)))) -> 1 | T14: EURNZD | U14: =IF(T14="","",VLOOKUP(T14,bSR_GAP2,4,FALSE)) -> -5 | V14: =IF(T14="","",VLOOKUP(T14,bSR_GAP2,5,FALSE)) -> -2.5714286 | W14: =IF(T14="","",VLOOKUP(T14,bSR_GAP2,6,FALSE)) -> -2.4285714 | X14: =IF(T14="","",IF(W14>=D1,1,IF(W14<=-D1,-1,IF(W14<D1,0)))) -> 0
L17: =E1 -> 4.15
B20: GBP | D20: =F23 -> SELL | F20: =IF(B24="","",IF(COUNTIF(F24:F30,">0")>COUNTIF(F24:F30,"<0"),COUNTIF(F24:F30,">0"),IF(COUNTIF(F24:F30,"<0")>COUNTIF(F24:F30,">0"),-COUNTIF(F24:F30,"<0"),IF(COUNTIF(F24:F30,"<0")=COUNTIF(F24:F30,">0"),0)))) -> -6 | H20: JPY | J20: =L23 -> WAIT | L20: =IF(H24="","",IF(COUNTIF(L24:L30,">0")>COUNTIF(L24:L30,"<0"),COUNTIF(L24:L30,">0"),IF(COUNTIF(L24:L30,"<0")>COUNTIF(L24:L30,">0"),-COUNTIF(L24:L30,"<0"),IF(COUNTIF(L24:L30,"<0")=COUNTIF(L24:L30,">0"),0)))) -> -2 | N20: NZD | P20: =R23 -> BUY | R20: =IF(N24="","",IF(COUNTIF(R24:R30,">0")>COUNTIF(R24:R30,"<0"),COUNTIF(R24:R30,">0"),IF(COUNTIF(R24:R30,"<0")>COUNTIF(R24:R30,">0"),-COUNTIF(R24:R30,"<0"),IF(COUNTIF(R24:R30,"<0")=COUNTIF(R24:R30,">0"),0)))) -> 5 | T20: USD | V20: =X23 -> SELL | X20: =IF(T24="","",IF(COUNTIF(X24:X30,">0")>COUNTIF(X24:X30,"<0"),COUNTIF(X24:X30,">0"),IF(COUNTIF(X24:X30,"<0")>COUNTIF(X24:X30,">0"),-COUNTIF(X24:X30,"<0"),IF(COUNTIF(X24:X30,"<0")=COUNTIF(X24:X30,">0"),0)))) -> -5
F22: =IF(B20="","",HLOOKUP(B20,smArray,2,FALSE)) -> 2.1428571 | L22: =IF(H20="","",HLOOKUP(H20,smArray,2,FALSE)) -> 5.1428571 | R22: =IF(N20="","",HLOOKUP(N20,smArray,2,FALSE)) -> 8.2857143 | X22: =IF(T20="","",HLOOKUP(T20,smArray,2,FALSE)) -> 2.7142857
C23: =CONCATENATE("BS"," ",C1) -> #DIV/0! | D23: LBS | E23: =CONCATENATE("<>"," ",ROUNDUP(D1,2)) -> <> 2,53 | F23: =IF(B24="","",IF(F20>=5,"BUY",IF(F20<-4.9,"SELL",IF(F20<5,"WAIT")))) -> SELL | I23: =CONCATENATE("BS"," ",C1) -> #DIV/0! | J23: LBS | K23: =CONCATENATE("<>"," ",ROUNDUP(D1,2)) -> <> 2,53 | L23: =IF(H24="","",IF(L20>=5,"BUY",IF(L20<-4.9,"SELL",IF(L20<5,"WAIT")))) -> WAIT | O23: =CONCATENATE("BS"," ",C1) -> #DIV/0! | P23: LBS | Q23: =CONCATENATE("<>"," ",ROUNDUP(D1,2)) -> <> 2,53 | R23: =IF(N24="","",IF(R20>=5,"BUY",IF(R20<-4.9,"SELL",IF(R20<5,"WAIT")))) -> BUY | U23: =CONCATENATE("BS"," ",C1) -> #DIV/0! | V23: LBS | W23: =CONCATENATE("<>"," ",ROUNDUP(D1,2)) -> <> 2,53 | X23: =IF(T24="","",IF(X20>=5,"BUY",IF(X20<-4.9,"SELL",IF(X20<5,"WAIT")))) -> SELL
B24: GBPUSD | C24: =IF(B24="","",VLOOKUP(B24,bSR_GAP2,4,FALSE)) -> -0.57142857 | D24: =IF(B24="","",VLOOKUP(B24,bSR_GAP2,5,FALSE)) -> 0.14285714 | E24: =IF(B24="","",VLOOKUP(B24,bSR_GAP2,6,FALSE)) -> -0.71428571 | F24: =IF(B24="","",IF(E24>=D1,1,IF(E24<=-D1,-1,IF(E24<D1,0)))) -> 0 | H24: USDJPY | I24: =IF(H24="","",VLOOKUP(H24,bSR_GAP2,4,FALSE)) -> -2.4285714 | J24: =IF(H24="","",VLOOKUP(H24,bSR_GAP2,5,FALSE)) -> -0.28571429 | K24: =IF(H24="","",VLOOKUP(H24,bSR_GAP2,6,FALSE)) -> -2.1428571 | L24: =IF(H24="","",IF(K24>=D1,-1,IF(K24<=-D1,1,IF(K24<D1,0)))) -> 0 | N24: NZDUSD | O24: =IF(N24="","",VLOOKUP(N24,bSR_GAP2,4,FALSE)) -> 5.5714286 | P24: =IF(N24="","",VLOOKUP(N24,bSR_GAP2,5,FALSE)) -> 0.14285714 | Q24: =IF(N24="","",VLOOKUP(N24,bSR_GAP2,6,FALSE)) -> 5.4285714 | R24: =IF(N24="","",IF(Q24>=D1,1,IF(Q24<=-D1,-1,IF(Q24<D1,0)))) -> 1 | T24: EURUSD | U24: =IF(T24="","",VLOOKUP(T24,bSR_GAP2,4,FALSE)) -> 0.57142857 | V24: =IF(T24="","",VLOOKUP(T24,bSR_GAP2,5,FALSE)) -> -2.4285714 | W24: =IF(T24="","",VLOOKUP(T24,bSR_GAP2,6,FALSE)) -> 3 | X24: =IF(T24="","",IF(W24>=D1,-1,IF(W24<=-D1,1,IF(W24<D1,0)))) -> -1
B25: GBPNZD | C25: =IF(B25="","",VLOOKUP(B25,bSR_GAP2,4,FALSE)) -> -6.1428571 | D25: =IF(B25="","",VLOOKUP(B25,bSR_GAP2,5,FALSE)) -> 0 | E25: =IF(B25="","",VLOOKUP(B25,bSR_GAP2,6,FALSE)) -> -6.1428571 | F25: =IF(B25="","",IF(E25>=D1,1,IF(E25<=-D1,-1,IF(E25<D1,0)))) -> -1 | H25: EURJPY | I25: =IF(H25="","",VLOOKUP(H25,bSR_GAP2,4,FALSE)) -> -1.8571429 | J25: =IF(H25="","",VLOOKUP(H25,bSR_GAP2,5,FALSE)) -> -2.7142857 | K25: =IF(H25="","",VLOOKUP(H25,bSR_GAP2,6,FALSE)) -> 0.85714286 | L25: =IF(H25="","",IF(K25>=D1,-1,IF(K25<=-D1,1,IF(K25<D1,0)))) -> 0 | N25: NZDCHF | O25: =IF(N25="","",VLOOKUP(N25,bSR_GAP2,4,FALSE)) -> 3.2857143 | P25: =IF(N25="","",VLOOKUP(N25,bSR_GAP2,5,FALSE)) -> 2.8571429 | Q25: =IF(N25="","",VLOOKUP(N25,bSR_GAP2,6,FALSE)) -> 0.42857143 | R25: =IF(N25="","",IF(Q25>=D1,1,IF(Q25<=-D1,-1,IF(Q25<D1,0)))) -> 0 | T25: GBPUSD | U25: =IF(T25="","",VLOOKUP(T25,bSR_GAP2,4,FALSE)) -> -0.57142857 | V25: =IF(T25="","",VLOOKUP(T25,bSR_GAP2,5,FALSE)) -> 0.14285714 | W25: =IF(T25="","",VLOOKUP(T25,bSR_GAP2,6,FALSE)) -> -0.71428571 | X25: =IF(T25="","",IF(W25>=D1,-1,IF(W25<=-D1,1,IF(W25<D1,0)))) -> 0
B26: GBPCAD | C26: =IF(B26="","",VLOOKUP(B26,bSR_GAP2,4,FALSE)) -> -0.85714286 | D26: =IF(B26="","",VLOOKUP(B26,bSR_GAP2,5,FALSE)) -> 2.7142857 | E26: =IF(B26="","",VLOOKUP(B26,bSR_GAP2,6,FALSE)) -> -3.5714286 | F26: =IF(B26="","",IF(E26>=D1,1,IF(E26<=-D1,-1,IF(E26<D1,0)))) -> -1 | H26: GBPJPY | I26: =IF(H26="","",VLOOKUP(H26,bSR_GAP2,4,FALSE)) -> -3 | J26: =IF(H26="","",VLOOKUP(H26,bSR_GAP2,5,FALSE)) -> -0.14285714 | K26: =IF(H26="","",VLOOKUP(H26,bSR_GAP2,6,FALSE)) -> -2.8571429 | L26: =IF(H26="","",IF(K26>=D1,-1,IF(K26<=-D1,1,IF(K26<D1,0)))) -> 1 | N26: NZDCAD | O26: =IF(N26="","",VLOOKUP(N26,bSR_GAP2,4,FALSE)) -> 5.2857143 | P26: =IF(N26="","",VLOOKUP(N26,bSR_GAP2,5,FALSE)) -> 2.7142857 | Q26: =IF(N26="","",VLOOKUP(N26,bSR_GAP2,6,FALSE)) -> 2.5714286 | R26: =IF(N26="","",IF(Q26>=D1,1,IF(Q26<=-D1,-1,IF(Q26<D1,0)))) -> 1 | T26: AUDUSD | U26: =IF(T26="","",VLOOKUP(T26,bSR_GAP2,4,FALSE)) -> 3.7142857 | V26: =IF(T26="","",VLOOKUP(T26,bSR_GAP2,5,FALSE)) -> 0.85714286 | W26: =IF(T26="","",VLOOKUP(T26,bSR_GAP2,6,FALSE)) -> 2.8571429 | X26: =IF(T26="","",IF(W26>=D1,-1,IF(W26<=-D1,1,IF(W26<D1,0)))) -> -1
B27: GBPAUD | C27: =IF(B27="","",VLOOKUP(B27,bSR_GAP2,4,FALSE)) -> -4.2857143 | D27: =IF(B27="","",VLOOKUP(B27,bSR_GAP2,5,FALSE)) -> -0.71428571 | E27: =IF(B27="","",VLOOKUP(B27,bSR_GAP2,6,FALSE)) -> -3.5714286 | F27: =IF(B27="","",IF(E27>=D1,1,IF(E27<=-D1,-1,IF(E27<D1,0)))) -> -1 | H27: AUDJPY | I27: =IF(H27="","",VLOOKUP(H27,bSR_GAP2,4,FALSE)) -> 1.2857143 | J27: =IF(H27="","",VLOOKUP(H27,bSR_GAP2,5,FALSE)) -> 0.57142857 | K27: =IF(H27="","",VLOOKUP(H27,bSR_GAP2,6,FALSE)) -> 0.71428571 | L27: =IF(H27="","",IF(K27>=D1,-1,IF(K27<=-D1,1,IF(K27<D1,0)))) -> 0 | N27: NZDJPY | O27: =IF(N27="","",VLOOKUP(N27,bSR_GAP2,4,FALSE)) -> 3.1428571 | P27: =IF(N27="","",VLOOKUP(N27,bSR_GAP2,5,FALSE)) -> -0.14285714 | Q27: =IF(N27="","",VLOOKUP(N27,bSR_GAP2,6,FALSE)) -> 3.2857143 | R27: =IF(N27="","",IF(Q27>=D1,1,IF(Q27<=-D1,-1,IF(Q27<D1,0)))) -> 1 | T27: NZDUSD | U27: =IF(T27="","",VLOOKUP(T27,bSR_GAP2,4,FALSE)) -> 5.5714286 | V27: =IF(T27="","",VLOOKUP(T27,bSR_GAP2,5,FALSE)) -> 0.14285714 | W27: =IF(T27="","",VLOOKUP(T27,bSR_GAP2,6,FALSE)) -> 5.4285714 | X27: =IF(T27="","",IF(W27>=D1,-1,IF(W27<=-D1,1,IF(W27<D1,0)))) -> -1
B28: GBPCHF | C28: =IF(B28="","",VLOOKUP(B28,bSR_GAP2,4,FALSE)) -> -2.8571429 | D28: =IF(B28="","",VLOOKUP(B28,bSR_GAP2,5,FALSE)) -> 2.8571429 | E28: =IF(B28="","",VLOOKUP(B28,bSR_GAP2,6,FALSE)) -> -5.7142857 | F28: =IF(B28="","",IF(E28>=D1,1,IF(E28<=-D1,-1,IF(E28<D1,0)))) -> -1 | H28: CHFJPY | I28: =IF(H28="","",VLOOKUP(H28,bSR_GAP2,4,FALSE)) -> -0.14285714 | J28: =IF(H28="","",VLOOKUP(H28,bSR_GAP2,5,FALSE)) -> -3 | K28: =IF(H28="","",VLOOKUP(H28,bSR_GAP2,6,FALSE)) -> 2.8571429 | L28: =IF(H28="","",IF(K28>=D1,-1,IF(K28<=-D1,1,IF(K28<D1,0)))) -> -1 | N28: AUDNZD | O28: =IF(N28="","",VLOOKUP(N28,bSR_GAP2,4,FALSE)) -> -1.8571429 | P28: =IF(N28="","",VLOOKUP(N28,bSR_GAP2,5,FALSE)) -> 0.71428571 | Q28: =IF(N28="","",VLOOKUP(N28,bSR_GAP2,6,FALSE)) -> -2.5714286 | R28: =IF(N28="","",IF(Q28>=D1,-1,IF(Q28<=-D1,1,IF(Q28<D1,0)))) -> 1 | T28: USDCHF | U28: =IF(T28="","",VLOOKUP(T28,bSR_GAP2,4,FALSE)) -> -2.2857143 | V28: =IF(T28="","",VLOOKUP(T28,bSR_GAP2,5,FALSE)) -> 2.7142857 | W28: =IF(T28="","",VLOOKUP(T28,bSR_GAP2,6,FALSE)) -> -5 | X28: =IF(T28="","",IF(W28>=D1,1,IF(W28<=-D1,-1,IF(W28<D1,0)))) -> -1
B29: GBPJPY | C29: =IF(B29="","",VLOOKUP(B29,bSR_GAP2,4,FALSE)) -> -3 | D29: =IF(B29="","",VLOOKUP(B29,bSR_GAP2,5,FALSE)) -> -0.14285714 | E29: =IF(B29="","",VLOOKUP(B29,bSR_GAP2,6,FALSE)) -> -2.8571429 | F29: =IF(B29="","",IF(E29>=D1,1,IF(E29<=-D1,-1,IF(E29<D1,0)))) -> -1 | H29: NZDJPY | I29: =IF(H29="","",VLOOKUP(H29,bSR_GAP2,4,FALSE)) -> 3.1428571 | J29: =IF(H29="","",VLOOKUP(H29,bSR_GAP2,5,FALSE)) -> -0.14285714 | K29: =IF(H29="","",VLOOKUP(H29,bSR_GAP2,6,FALSE)) -> 3.2857143 | L29: =IF(H29="","",IF(K29>=D1,-1,IF(K29<=-D1,1,IF(K29<D1,0)))) -> -1 | N29: GBPNZD | O29: =IF(N29="","",VLOOKUP(N29,bSR_GAP2,4,FALSE)) -> -6.1428571 | P29: =IF(N29="","",VLOOKUP(N29,bSR_GAP2,5,FALSE)) -> 0 | Q29: =IF(N29="","",VLOOKUP(N29,bSR_GAP2,6,FALSE)) -> -6.1428571 | R29: =IF(N29="","",IF(Q29>=D1,-1,IF(Q29<=-D1,1,IF(Q29<D1,0)))) -> 1 | T29: USDJPY | U29: =IF(T29="","",VLOOKUP(T29,bSR_GAP2,4,FALSE)) -> -2.4285714 | V29: =IF(T29="","",VLOOKUP(T29,bSR_GAP2,5,FALSE)) -> -0.28571429 | W29: =IF(T29="","",VLOOKUP(T29,bSR_GAP2,6,FALSE)) -> -2.1428571 | X29: =IF(T29="","",IF(W29>=D1,1,IF(W29<=-D1,-1,IF(W29<D1,0)))) -> 0
B30: EURGBP | C30: =IF(B30="","",VLOOKUP(B30,bSR_GAP2,4,FALSE)) -> 1.1428571 | D30: =IF(B30="","",VLOOKUP(B30,bSR_GAP2,5,FALSE)) -> -2.5714286 | E30: =IF(B30="","",VLOOKUP(B30,bSR_GAP2,6,FALSE)) -> 3.7142857 | F30: =IF(B30="","",IF(E30>=D1,-1,IF(E30<=-D1,1,IF(E30<D1,0)))) -> -1 | H30: CADJPY | I30: =IF(H30="","",VLOOKUP(H30,bSR_GAP2,4,FALSE)) -> -2.1428571 | J30: =IF(H30="","",VLOOKUP(H30,bSR_GAP2,5,FALSE)) -> -2.8571429 | K30: =IF(H30="","",VLOOKUP(H30,bSR_GAP2,6,FALSE)) -> 0.71428571 | L30: =IF(H30="","",IF(K30>=D1,-1,IF(K30<=-D1,1,IF(K30<D1,0)))) -> 0 | N30: EURNZD | O30: =IF(N30="","",VLOOKUP(N30,bSR_GAP2,4,FALSE)) -> -5 | P30: =IF(N30="","",VLOOKUP(N30,bSR_GAP2,5,FALSE)) -> -2.5714286 | Q30: =IF(N30="","",VLOOKUP(N30,bSR_GAP2,6,FALSE)) -> -2.4285714 | R30: =IF(N30="","",IF(Q30>=D1,-1,IF(Q30<=-D1,1,IF(Q30<D1,0)))) -> 0 | T30: USDCAD | U30: =IF(T30="","",VLOOKUP(T30,bSR_GAP2,4,FALSE)) -> -0.28571429 | V30: =IF(T30="","",VLOOKUP(T30,bSR_GAP2,5,FALSE)) -> 2.5714286 | W30: =IF(T30="","",VLOOKUP(T30,bSR_GAP2,6,FALSE)) -> -2.8571429 | X30: =IF(T30="","",IF(W30>=D1,1,IF(W30<=-D1,-1,IF(W30<D1,0)))) -> -1

Sheet Speedometer2
E1: Current | F1: Prev=M30 | G1: <> | J1: Current | K1: Prev=M30 | L1: <> | O1: Current | P1: Prev=M30 | Q1: <> | T1: Current | U1: Prev=M30 | V1: <>
A2: Speedometer | E2: =B11 -> 64.285714 | F2: 61.428571 | G2: =E2-F2 -> 2.8571429 | J2: =B16 -> 30 | K2: 27.142857 | L2: =J2-K2 -> 2.8571429 | O2: =B21 -> 50 | P2: 25.714286 | Q2: =O2-P2 -> 24.285714 | T2: =B26 -> 32.857143 | U2: 28.571429 | V2: =T2-U2 -> 4.2857143
A3: Start | B3: 0
A4: Strong_Sell | B4: 10
A5: Sell | B5: 15
A6: Neutral | B6: 50
A7: Buy | B7: 15
A8: Strong_Buy | B8: 10
A9: Max | B9: 100
A10: Pointer | B10: AUD
A11: Value | B11: =IF(B10="","",HLOOKUP(B10,smArray,2,FALSE))*10 -> 64.285714
A12: Pointer | B12: 1
A13: End | B13: =200-(B11+B12) -> 134.71429
E14: =B31 -> 21.428571 | F14: 54.285714 | G14: =E14-F14 -> -32.857143 | J14: =B36 -> 51.428571 | K14: 55.714286 | L14: =J14-K14 -> -4.2857143 | O14: =B41 -> 82.857143 | P14: 54.285714 | Q14: =O14-P14 -> 28.571429 | T14: =B46 -> 27.142857 | U14: 52.857143 | V14: =T14-U14 -> -25.714286
A15: Pointer | B15: CAD
A16: Value | B16: =IF(B15="","",HLOOKUP(B15,smArray,2,FALSE))*10 -> 30
A17: Pointer | B17: 1
A18: End | B18: =200-(B16+B17) -> 169
A20: Pointer | B20: CHF
A21: Value | B21: =IF(B20="","",HLOOKUP(B20,smArray,2,FALSE))*10 -> 50
A22: Pointer | B22: 1
A23: End | B23: =200-(B21+B22) -> 149
A25: Pointer | B25: EUR
A26: Value | B26: =IF(B25="","",HLOOKUP(B25,smArray,2,FALSE))*10 -> 32.857143
A27: Pointer | B27: 1
A28: End | B28: =200-(B26+B27) -> 166.14286
A30: Pointer | B30: GBP
A31: Value | B31: =IF(B30="","",HLOOKUP(B30,smArray,2,FALSE))*10 -> 21.428571
A32: Pointer | B32: 1
A33: End | B33: =200-(B31+B32) -> 177.57143
A35: Pointer | B35: JPY
A36: Value | B36: =IF(B35="","",HLOOKUP(B35,smArray,2,FALSE))*10 -> 51.428571
A37: Pointer | B37: 1
A38: End | B38: =200-(B36+B37) -> 147.57143
A40: Pointer | B40: NZD
A41: Value | B41: =IF(B40="","",HLOOKUP(B40,smArray,2,FALSE))*10 -> 82.857143
A42: Pointer | B42: 1
A43: End | B43: =200-(B41+B42) -> 116.14286
A45: Pointer | B45: USD
A46: Value | B46: =IF(B45="","",HLOOKUP(B45,smArray,2,FALSE))*10 -> 27.142857
A47: Pointer | B47: 1
A48: End | B48: =200-(B46+B47) -> 171.85714

Sheet getValues
C1: SetUp Path
C2: C:\Program Files (x86)\Traders Way Develop\MQL4\Files
C3: C:\Program Files (x86)\Traders Way Develop\MQL4\Files\DWM.csv
C4: C:\Users\KjellRune\AppData\Roaming\MetaQuotes\Terminal\EC995AE331B545142198039AA7DFF030
A6: Symb | B6: M30Open | C6: H1Open | D6: H4Open | E6: DOpen | F6: WOpen | G6: MOpen | H6: PrevM30 | I6: PrevH1 | J6: PrevH4 | K6: PrevD | L6: PrevW | M6: PrevM | N6: m30EMA8 | O6: m30EMA21 | P6: h1EMA8 | Q6: h1EMA21 | R6: h4EMA8 | S6: h4EMA21 | T6: dEMA8 | U6: dEMA21 | V6: wEMA8 | W6: wEMA21 | X6: mEMA8 | Y6: mEMA21 | Z6: m30RSI2 | AA6: h1RSI2 | AB6: h4RSI2 | AC6: dRSI2 | AD6: wRSI2 | AE6: mRSI2 | AF6: PrevOpenD | AG6: PrevHighD | AH6: PrevLowD | AI6: PrevCloseD
A7: AUDCAD | B7: 0.95424 | C7: 0.95401 | D7: 0.95287 | E7: 0.94906 | F7: 0.94906 | G7: 0.93379 | H7: 1 | I7: 1 | J7: 0 | K7: 1 | L7: 1 | M7: 0 | N7: 0.95363405 | O7: 0.95354206 | P7: 0.9535343 | Q7: 0.95295794 | R7: 0.95206027 | S7: 0.94916804 | T7: 0.94440985 | U7: 0.94220796 | V7: 0.94245163 | W7: 0.94731791 | X7: 0.95228623 | Y7: 0.96977225 | Z7: 91.23087 | AA7: 77.202894 | AB7: 37.29304 | AC7: 76.756365 | AD7: 70.817463 | AE7: 10.082947 | AF7: 0.94309 | AG7: 0.95369 | AH7: 0.9428 | AI7: 0.94309
A8: AUDCHF | B8: 0.7125 | C8: 0.71293 | D8: 0.71257 | E8: 0.70563 | F8: 0.70563 | G8: 0.68258 | H8: 0 | I8: 1 | J8: 1 | K8: 1 | L8: 1 | M8: 0 | N8: 0.71259706 | O8: 0.71179813 | P8: 0.71212036 | Q8: 0.71026415 | R8: 0.70886077 | S8: 0.70364474 | T8: 0.69767093 | U8: 0.69477676 | V8: 0.6959441 | W8: 0.70464071 | X8: 0.71042168 | Y8: 0.72732809 | Z8: 18.562145 | AA8: 71.787941 | AB8: 98.987523 | AC8: 93.0785 | AD8: 71.17963 | AE8: 2.3279546 | AF8: 0.70121 | AG8: 0.71191 | AH8: 0.70045 | AI8: 0.70121
A9: AUDJPY | B9: 87.721 | C9: 87.746 | D9: 87.733 | E9: 87.563 | F9: 87.563 | G9: 84.093 | H9: 0 | I9: 1 | J9: 1 | K9: 1 | L9: 1 | M9: 0 | N9: 87.746269 | O9: 87.751702 | P9: 87.756027 | Q9: 87.717482 | R9: 87.62883 | S9: 87.331826 | T9: 86.933933 | U9: 86.482538 | V9: 86.86607 | W9: 88.761008 | X9: 89.895278 | Y9: 91.874174 | Z9: 18.362585 | AA9: 41.748666 | AB9: 54.727018 | AC9: 85.848209 | AD9: 67.789095 | AE9: 3.9748715 | AF9: 86.967 | AG9: 88.096 | AH9: 86.898 | AI9: 86.967
A10: AUDNZD | B10: 1.06792 | C10: 1.06776 | D10: 1.06853 | E10: 1.06793 | F10: 1.06793 | G10: 1.09615 | H10: 1 | I10: 0 | J10: 0 | K10: 1 | L10: 1 | M10: 0 | N10: 1.0683447 | O10: 1.0691582 | P10: 1.0690356 | Q10: 1.0692348 | R10: 1.068806 | S10: 1.0685004 | T10: 1.0717102 | U10: 1.0835279 | V10: 1.0890617 | W10: 1.092905 | X10: 1.0933187 | Y10: 1.1002848 | Z10: 42.143911 | AA10: 5.746309 | AB10: 30.728019 | AC10: 51.901582 | AD10: 17.738885 | AE10: 35.264692 | AF10: 1.06045 | AG10: 1.07136 | AH10: 1.05705 | AI10: 1.06045
A11: AUDUSD | B11: 0.7249 | C11: 0.72486 | D11: 0.72519 | E11: 0.72083 | F11: 0.72083 | G11: 0.70119 | H11: 0 | I11: 1 | J11: 1 | K11: 1 | L11: 0 | M11: 0 | N11: 0.72519687 | O11: 0.72527343 | P11: 0.72535385 | Q11: 0.72490137 | R11: 0.72443333 | S11: 0.72405288 | T11: 0.72304123 | U11: 0.7202306 | V11: 0.71994604 | W11: 0.73348268 | X11: 0.75142958 | Y11: 0.81840306 | Z11: 22.573398 | AA11: 9.6173949 | AB11: 52.679679 | AC11: 55.772419 | AD11: 47.414842 | AE11: 5.0908518 | AF11: 0.72075 | AG11: 0.72961 | AH11: 0.71967 | AI11: 0.72075
A12: CADCHF | B12: 0.74656 | C12: 0.74719 | D12: 0.74777 | E12: 0.74281 | F12: 0.74281 | G12: 0.73072 | H12: 0 | I12: 0 | J12: 1 | K12: 1 | L12: 1 | M12: 0 | N12: 0.74715185 | O12: 0.74637687 | P12: 0.74672625 | Q12: 0.74521397 | R12: 0.74440777 | S12: 0.74115604 | T12: 0.73832474 | U12: 0.73701115 | V12: 0.73767947 | W12: 0.74309642 | X12: 0.75368136 | Y12: 0.79280029 | Z12: 3.9409824 | AA12: 36.539535 | AB12: 97.080174 | AC12: 75.715695 | AD12: 74.675118 | AE12: 4.8448162 | AF12: 0.74329 | AG12: 0.74808 | AH12: 0.73931 | AI12: 0.74329
A13: CADJPY | B13: 91.914 | C13: 91.962 | D13: 92.061 | E13: 92.68 | F13: 92.192 | G13: 90.032 | H13: 0 | I13: 0 | J13: 1 | K13: 1 | L13: 0 | M13: 0 | N13: 91.998541 | O13: 92.012529 | P13: 92.018643 | Q13: 92.032353 | R13: 92.023571 | S13: 91.989631 | T13: 92.081106 | U13: 91.856862 | V13: 92.089009 | W13: 93.609698 | X13: 94.649439 | Y13: 94.98278 | Z13: 2.9810706 | AA13: 23.509997 | AB13: 59.90713 | AC13: 93.619259 | AD13: 53.510907 | AE13: 4.5392644 | AF13: 92.206 | AG13: 92.907 | AH13: 91.919 | AI13: 92.206
A14: CHFJPY | B14: 123.084 | C14: 123.046 | D14: 123.09 | E14: 124.071 | F14: 124.071 | G14: 123.15 | H14: 1 | I14: 0 | J14: 1 | K14: 0 | L14: 0 | M14: 0 | N14: 123.10567 | O14: 123.25388 | P14: 123.20407 | Q14: 123.47232 | R14: 123.59323 | S14: 124.09032 | T14: 124.54862 | U14: 124.39555 | V14: 124.65178 | W14: 125.80521 | X14: 125.55585 | Y14: 120.35888 | Z14: 65.392048 | AA14: 13.208059 | AB14: 11.696258 | AC14: 24.27834 | AD14: 30.691148 | AE14: 8.6905598 | AF14: 123.992 | AG14: 124.229 | AH14: 123.443 | AI14: 123.992
A15: EURAUD | B15: 1.5239 | C15: 1.52332 | D15: 1.52395 | E15: 1.52629 | F15: 1.52629 | G15: 1.59203 | H15: 1 | I15: 0 | J15: 1 | K15: 0 | L15: 0 | M15: 1 | N15: 1.522991 | O15: 1.5220056 | P15: 1.5220311 | Q15: 1.5227912 | R15: 1.5252985 | S15: 1.5373668 | T15: 1.552179 | U15: 1.559243 | V15: 1.5477914 | W15: 1.5261633 | X15: 1.5078464 | Y15: 1.4708114 | Z15: 71.627062 | AA15: 77.755462 | AB15: 79.111053 | AC15: 7.8808181 | AD15: 15.854513 | AE15: 33.79116 | AF15: 1.54056 | AG15: 1.54193 | AH15: 1.51883 | AI15: 1.54056
A16: EURCAD | B16: 1.4544 | C16: 1.45344 | D16: 1.4523 | E16: 1.44927 | F16: 1.44927 | G16: 1.48758 | H16: 1 | I16: 1 | J16: 1 | K16: 0 | L16: 1 | M16: 1 | N16: 1.4525756 | O16: 1.4514965 | P16: 1.4515034 | Q16: 1.4513587 | R16: 1.4523978 | S16: 1.4594304 | T16: 1.4465367 | U16: 1.4595365 | V16: 1.4672969 | W16: 1.4469947 | X16: 1.4326867 | Y16: 1.4207088 | Z16: 98.764473 | AA16: 92.624975 | AB16: 74.787592 | AC16: 16.104766 | AD16: 2.6069168 | AE16: 97.70193 | AF16: 1.45373 | AG16: 1.4582 | AH16: 1.44425 | AI16: 1.45373
A17: EURCHF | B17: 1.086 | C17: 1.08629 | D17: 1.08622 | E17: 1.08586 | F17: 1.07751 | G17: 1.08737 | H17: 0 | I17: 1 | J17: 1 | K17: 0 | L17: 1 | M17: 1 | N17: 1.0855266 | O17: 1.083593 | P17: 1.0841183 | Q17: 1.0818149 | R17: 1.0814836 | S17: 1.0819182 | T17: 1.0859575 | U17: 1.0865727 | V17: 1.0832706 | W17: 1.0755768 | X17: 1.0652228 | Y17: 1.0628726 | Z17: 28.962407 | AA17: 97.012432 | AB17: 98.566134 | AC17: 31.230461 | AD17: 7.8017485 | AE17: 95.84199 | AF17: 1.08607 | AG17: 1.08752 | AH17: 1.08437 | AI17: 1.08607
A18: EURGBP | B18: 0.71967 | C18: 0.71948 | D18: 0.71935 | E18: 0.71089 | F18: 0.71885 | G18: 0.73877 | H18: 1 | I18: 0 | J18: 0 | K18: 0 | L18: 0 | M18: 1 | N18: 0.71933805 | O18: 0.71919727 | P18: 0.71920004 | Q18: 0.71934983 | R18: 0.71981056 | S18: 0.72379603 | T18: 0.71731546 | U18: 0.72465317 | V18: 0.72958595 | W18: 0.72652396 | X18: 0.72389682 | Y18: 0.72363906 | Z18: 83.922608 | AA18: 82.964771 | AB18: 62.955322 | AC18: 11.640717 | AD18: 8.8759506 | AE18: 86.613016 | AF18: 0.71431 | AG18: 0.71473 | AH18: 0.70994 | AI18: 0.71431
... A34: USDJPY | B34: 121.009 | C34: 121.19 | D34: 120.986 | E34: 121.053 | F34: 121.461 | G34: 119.815 | H34: 0 | I34: 0 | J34: 1 | K34: 1 | L34: 1 | M34: 0 | N34: 120.99317 | O34: 120.98777 | P34: 121.19161 | Q34: 121.11004 | R34: 120.95941 | S34: 120.61268 | T34: 120.72162 | U34: 120.43246 | V34: 120.64655 | W34: 121.02995 | X34: 120.22261 | Y34: 113.72416 | Z34: 35.241548 | AA34: 35.64957 | AB34: 52.657259 | AC34: 75.192623 | AD34: 80.028664 | AE34: 18.829072 | AF34: 120.742 | AG34: 121.226 | AH34: 120.591 | AI34: 120.742

Sheet HeatMapM30_Mn
L1: HeatMap % Change
A2: Symbol | B2: Bid | C2: m30 | D2: h1 | E2: h4 | F2: d1 | G2: w1 | H2: mn | K2: HMm30 | L2: HMh1 | M2: HMh4 | N2: HMd1 | O2: HMw1 | P2: HMmn
A3: AUDCAD | B3: =IF(A3="","",HLOOKUP(A3,pArray,4,FALSE)) -> 0.98753 | C3: =IF(A3="","",VLOOKUP(A3,arrayHeatMap,2,FALSE)) -> 0.95424 | D3: =IF(A3="","",VLOOKUP(A3,arrayHeatMap,3,FALSE)) -> 0.95401 | E3: =IF(A3="","",VLOOKUP(A3,arrayHeatMap,4,FALSE)) -> 0.95287 | F3: =IF(A3="","",VLOOKUP(A3,arrayHeatMap,5,FALSE)) -> 0.94906 | G3: =IF(A3="","",VLOOKUP(A3,arrayHeatMap,6,FALSE)) -> 0.94906 | H3: =IF(A3="","",VLOOKUP(A3,arrayHeatMap,7,FALSE)) -> 0.93379 | K3: =((SUM(B3-C3)*10000)/C3)*1/100 -> 3.4886402 | L3: =((SUM(B3-D3)*10000)/D3)*1/100 -> 3.51359 | M3: =((SUM(B3-E3)*10000)/E3)*1/100 -> 3.6374322 | N3: =((SUM(B3-F3)*10000)/F3)*1/100 -> 4.0534845 | O3: =((SUM(B3-G3)*10000)/G3)*1/100 -> 4.0534845 | P3: =((SUM(B3-H3)*10000)/H3)*1/100 -> 5.7550413
A4: AUDCHF | B4: =IF(A4="","",HLOOKUP(A4,pArray,4,FALSE)) -> 0.74431 | C4: =IF(A4="","",VLOOKUP(A4,arrayHeatMap,2,FALSE)) -> 0.7125 | D4: =IF(A4="","",VLOOKUP(A4,arrayHeatMap,3,FALSE)) -> 0.71293 | E4: =IF(A4="","",VLOOKUP(A4,arrayHeatMap,4,FALSE)) -> 0.71257 | F4: =IF(A4="","",VLOOKUP(A4,arrayHeatMap,5,FALSE)) -> 0.70563 | G4: =IF(A4="","",VLOOKUP(A4,arrayHeatMap,6,FALSE)) -> 0.70563 | H4: =IF(A4="","",VLOOKUP(A4,arrayHeatMap,7,FALSE)) -> 0.68258 | K4: =((SUM(B4-C4)*10000)/C4)*1/100 -> 4.4645614 | L4: =((SUM(B4-D4)*10000)/D4)*1/100 -> 4.4015541 | M4: =((SUM(B4-E4)*10000)/E4)*1/100 -> 4.4542992 | N4: =((SUM(B4-F4)*10000)/F4)*1/100 -> 5.4816263 | O4: =((SUM(B4-G4)*10000)/G4)*1/100 -> 5.4816263 | P4: =((SUM(B4-H4)*10000)/H4)*1/100 -> 9.0436286
A5: AUDJPY | B5: =IF(A5="","",HLOOKUP(A5,pArray,4,FALSE)) -> 78.002 | C5: =IF(A5="","",VLOOKUP(A5,arrayHeatMap,2,FALSE)) -> 87.721 | D5: =IF(A5="","",VLOOKUP(A5,arrayHeatMap,3,FALSE)) -> 87.746 | E5: =IF(A5="","",VLOOKUP(A5,arrayHeatMap,4,FALSE)) -> 87.733 | F5: =IF(A5="","",VLOOKUP(A5,arrayHeatMap,5,FALSE)) -> 87.563 | G5: =IF(A5="","",VLOOKUP(A5,arrayHeatMap,6,FALSE)) -> 87.563 | H5: =IF(A5="","",VLOOKUP(A5,arrayHeatMap,7,FALSE)) -> 84.093 | K5: =((SUM(B5-C5)*10000)/C5)*1/100 -> -11.079445 | L5: =((SUM(B5-D5)*10000)/D5)*1/100 -> -11.10478 | M5: =((SUM(B5-E5)*10000)/E5)*1/100 -> -11.091607 | N5: =((SUM(B5-F5)*10000)/F5)*1/100 -> -10.918995 | O5: =((SUM(B5-G5)*10000)/G5)*1/100 -> -10.918995 | P5: =((SUM(B5-H5)*10000)/H5)*1/100 -> -7.2431713
A6: AUDNZD | B6: =IF(A6="","",HLOOKUP(A6,pArray,4,FALSE)) -> 1.02799 | C6: =IF(A6="","",VLOOKUP(A6,arrayHeatMap,2,FALSE)) -> 1.06792 | D6: =IF(A6="","",VLOOKUP(A6,arrayHeatMap,3,FALSE)) -> 1.06776 | E6: =IF(A6="","",VLOOKUP(A6,arrayHeatMap,4,FALSE)) -> 1.06853 | F6: =IF(A6="","",VLOOKUP(A6,arrayHeatMap,5,FALSE)) -> 1.06793 | G6: =IF(A6="","",VLOOKUP(A6,arrayHeatMap,6,FALSE)) -> 1.06793 | H6: =IF(A6="","",VLOOKUP(A6,arrayHeatMap,7,FALSE)) -> 1.09615 | K6: =((SUM(B6-C6)*10000)/C6)*1/100 -> -3.7390441 | L6: =((SUM(B6-D6)*10000)/D6)*1/100 -> -3.7246198 | M6: =((SUM(B6-E6)*10000)/E6)*1/100 -> -3.7939974 | N6: =((SUM(B6-F6)*10000)/F6)*1/100 -> -3.7399455 | O6: =((SUM(B6-G6)*10000)/G6)*1/100 -> -3.7399455 | P6: =((SUM(B6-H6)*10000)/H6)*1/100 -> -6.2181271
A7: AUDUSD | B7: =IF(A7="","",HLOOKUP(A7,pArray,4,FALSE)) -> 0.76876 | C7: =IF(A7="","",VLOOKUP(A7,arrayHeatMap,2,FALSE)) -> 0.7249 | D7: =IF(A7="","",VLOOKUP(A7,arrayHeatMap,3,FALSE)) -> 0.72486 | E7: =IF(A7="","",VLOOKUP(A7,arrayHeatMap,4,FALSE)) -> 0.72519 | F7: =IF(A7="","",VLOOKUP(A7,arrayHeatMap,5,FALSE)) -> 0.72083 | G7: =IF(A7="","",VLOOKUP(A7,arrayHeatMap,6,FALSE)) -> 0.72083 | H7: =IF(A7="","",VLOOKUP(A7,arrayHeatMap,7,FALSE)) -> 0.70119 | K7: =((SUM(B7-C7)*10000)/C7)*1/100 -> 6.0504897 | L7: =((SUM(B7-D7)*10000)/D7)*1/100 -> 6.0563419 | M7: =((SUM(B7-E7)*10000)/E7)*1/100 -> 6.0080806 | N7: =((SUM(B7-F7)*10000)/F7)*1/100 -> 6.6492793 | O7: =((SUM(B7-G7)*10000)/G7)*1/100 -> 6.6492793 | P7: =((SUM(B7-H7)*10000)/H7)*1/100 -> 9.6364751
A8: CADCHF | B8: =IF(A8="","",HLOOKUP(A8,pArray,4,FALSE)) -> 0.75367 | C8: =IF(A8="","",VLOOKUP(A8,arrayHeatMap,2,FALSE)) -> 0.74656 | D8: =IF(A8="","",VLOOKUP(A8,arrayHeatMap,3,FALSE)) -> 0.74719 | E8: =IF(A8="","",VLOOKUP(A8,arrayHeatMap,4,FALSE)) -> 0.74777 | F8: =IF(A8="","",VLOOKUP(A8,arrayHeatMap,5,FALSE)) -> 0.74281 | G8: =IF(A8="","",VLOOKUP(A8,arrayHeatMap,6,FALSE)) -> 0.74281 | H8: =IF(A8="","",VLOOKUP(A8,arrayHeatMap,7,FALSE)) -> 0.73072 | K8: =((SUM(B8-C8)*10000)/C8)*1/100 -> 0.9523682 | L8: =((SUM(B8-D8)*10000)/D8)*1/100 -> 0.86724929 | M8: =((SUM(B8-E8)*10000)/E8)*1/100 -> 0.78901266 | N8: =((SUM(B8-F8)*10000)/F8)*1/100 -> 1.4620159 | O8: =((SUM(B8-G8)*10000)/G8)*1/100 -> 1.4620159 | P8: =((SUM(B8-H8)*10000)/H8)*1/100 -> 3.1407379
A9: CADJPY | B9: =IF(A9="","",HLOOKUP(A9,pArray,4,FALSE)) -> 78.981 | C9: =IF(A9="","",VLOOKUP(A9,arrayHeatMap,2,FALSE)) -> 91.914 | D9: =IF(A9="","",VLOOKUP(A9,arrayHeatMap,3,FALSE)) -> 91.962 | E9: =IF(A9="","",VLOOKUP(A9,arrayHeatMap,4,FALSE)) -> 92.061 | F9: =IF(A9="","",VLOOKUP(A9,arrayHeatMap,5,FALSE)) -> 92.68 | G9: =IF(A9="","",VLOOKUP(A9,arrayHeatMap,6,FALSE)) -> 92.192 | H9: =IF(A9="","",VLOOKUP(A9,arrayHeatMap,7,FALSE)) -> 90.032 | K9: =((SUM(B9-C9)*10000)/C9)*1/100 -> -14.070762 | L9: =((SUM(B9-D9)*10000)/D9)*1/100 -> -14.115613 | M9: =((SUM(B9-E9)*10000)/E9)*1/100 -> -14.207971 | N9: =((SUM(B9-F9)*10000)/F9)*1/100 -> -14.780967 | O9: =((SUM(B9-G9)*10000)/G9)*1/100 -> -14.329877 | P9: =((SUM(B9-H9)*10000)/H9)*1/100 -> -12.274525
A10: CHFJPY | B10: =IF(A10="","",HLOOKUP(A10,pArray,4,FALSE)) -> 104.791 | C10: =IF(A10="","",VLOOKUP(A10,arrayHeatMap,2,FALSE)) -> 123.084 | D10: =IF(A10="","",VLOOKUP(A10,arrayHeatMap,3,FALSE)) -> 123.046 | E10: =IF(A10="","",VLOOKUP(A10,arrayHeatMap,4,FALSE)) -> 123.09 | F10: =IF(A10="","",VLOOKUP(A10,arrayHeatMap,5,FALSE)) -> 124.071 | G10: =IF(A10="","",VLOOKUP(A10,arrayHeatMap,6,FALSE)) -> 124.071 | H10: =IF(A10="","",VLOOKUP(A10,arrayHeatMap,7,FALSE)) -> 123.15 | K10: =((SUM(B10-C10)*10000)/C10)*1/100 -> -14.862208 | L10: =((SUM(B10-D10)*10000)/D10)*1/100 -> -14.835915 | M10: =((SUM(B10-E10)*10000)/E10)*1/100 -> -14.866358 | N10: =((SUM(B10-F10)*10000)/F10)*1/100 -> -15.539489 | O10: =((SUM(B10-G10)*10000)/G10)*1/100 -> -15.539489 | P10: =((SUM(B10-H10)*10000)/H10)*1/100 -> -14.907836
A11: EURAUD | B11: =IF(A11="","",HLOOKUP(A11,pArray,4,FALSE)) -> 1.46326 | C11: =IF(A11="","",VLOOKUP(A11,arrayHeatMap,2,FALSE)) -> 1.5239 | D11: =IF(A11="","",VLOOKUP(A11,arrayHeatMap,3,FALSE)) -> 1.52332 | E11: =IF(A11="","",VLOOKUP(A11,arrayHeatMap,4,FALSE)) -> 1.52395 | F11: =IF(A11="","",VLOOKUP(A11,arrayHeatMap,5,FALSE)) -> 1.52629 | G11: =IF(A11="","",VLOOKUP(A11,arrayHeatMap,6,FALSE)) -> 1.52629 | H11: =IF(A11="","",VLOOKUP(A11,arrayHeatMap,7,FALSE)) -> 1.59203 | K11: =((SUM(B11-C11)*10000)/C11)*1/100 -> -3.9792637 | L11: =((SUM(B11-D11)*10000)/D11)*1/100 -> -3.9427041 | M11: =((SUM(B11-E11)*10000)/E11)*1/100 -> -3.9824141 | N11: =((SUM(B11-F11)*10000)/F11)*1/100 -> -4.1296215 | O11: =((SUM(B11-G11)*10000)/G11)*1/100 -> -4.1296215 | P11: =((SUM(B11-H11)*10000)/H11)*1/100 -> -8.0884154
A12: EURCAD | B12: =IF(A12="","",HLOOKUP(A12,pArray,4,FALSE)) -> 1.44511 | C12: =IF(A12="","",VLOOKUP(A12,arrayHeatMap,2,FALSE)) -> 1.4544 | D12: =IF(A12="","",VLOOKUP(A12,arrayHeatMap,3,FALSE)) -> 1.45344 | E12: =IF(A12="","",VLOOKUP(A12,arrayHeatMap,4,FALSE)) -> 1.4523 | F12: =IF(A12="","",VLOOKUP(A12,arrayHeatMap,5,FALSE)) -> 1.44927 | G12: =IF(A12="","",VLOOKUP(A12,arrayHeatMap,6,FALSE)) -> 1.44927 | H12: =IF(A12="","",VLOOKUP(A12,arrayHeatMap,7,FALSE)) -> 1.48758 | K12: =((SUM(B12-C12)*10000)/C12)*1/100 -> -0.63875138 | L12: =((SUM(B12-D12)*10000)/D12)*1/100 -> -0.57312307 | M12: =((SUM(B12-E12)*10000)/E12)*1/100 -> -0.49507677 | N12: =((SUM(B12-F12)*10000)/F12)*1/100 -> -0.28704106 | O12: =((SUM(B12-G12)*10000)/G12)*1/100 -> -0.28704106 | P12: =((SUM(B12-H12)*10000)/H12)*1/100 -> -2.8549725
A13: EURCHF | B13: =IF(A13="","",HLOOKUP(A13,pArray,4,FALSE)) -> 1.08919 | C13: =IF(A13="","",VLOOKUP(A13,arrayHeatMap,2,FALSE)) -> 1.086 | D13: =IF(A13="","",VLOOKUP(A13,arrayHeatMap,3,FALSE)) -> 1.08629 | E13: =IF(A13="","",VLOOKUP(A13,arrayHeatMap,4,FALSE)) -> 1.08622 | F13: =IF(A13="","",VLOOKUP(A13,arrayHeatMap,5,FALSE)) -> 1.08586 | G13: =IF(A13="","",VLOOKUP(A13,arrayHeatMap,6,FALSE)) -> 1.07751 | H13: =IF(A13="","",VLOOKUP(A13,arrayHeatMap,7,FALSE)) -> 1.08737 | K13: =((SUM(B13-C13)*10000)/C13)*1/100 -> 0.29373849 | L13: =((SUM(B13-D13)*10000)/D13)*1/100 -> 0.2669637 | M13: =((SUM(B13-E13)*10000)/E13)*1/100 -> 0.27342527 | N13: =((SUM(B13-F13)*10000)/F13)*1/100 -> 0.30666937 | O13: =((SUM(B13-G13)*10000)/G13)*1/100 -> 1.0839807 | P13: =((SUM(B13-H13)*10000)/H13)*1/100 -> 0.16737633
A14: EURGBP | B14: =IF(A14="","",HLOOKUP(A14,pArray,4,FALSE)) -> 0.84039 | C14: =IF(A14="","",VLOOKUP(A14,arrayHeatMap,2,FALSE)) -> 0.71967 | D14: =IF(A14="","",VLOOKUP(A14,arrayHeatMap,3,FALSE)) -> 0.71948 | E14: =IF(A14="","",VLOOKUP(A14,arrayHeatMap,4,FALSE)) -> 0.71935 | F14: =IF(A14="","",VLOOKUP(A14,arrayHeatMap,5,FALSE)) -> 0.71089 | G14: =IF(A14="","",VLOOKUP(A14,arrayHeatMap,6,FALSE)) -> 0.71885 | H14: =IF(A14="","",VLOOKUP(A14,arrayHeatMap,7,FALSE)) -> 0.73877 | K14: =((SUM(B14-C14)*10000)/C14)*1/100 -> 16.774355 | L14: =((SUM(B14-D14)*10000)/D14)*1/100 -> 16.805193 | M14: =((SUM(B14-E14)*10000)/E14)*1/100 -> 16.826302 | N14: =((SUM(B14-F14)*10000)/F14)*1/100 -> 18.216602 | O14: =((SUM(B14-G14)*10000)/G14)*1/100 -> 16.907561 | P14: =((SUM(B14-H14)*10000)/H14)*1/100 -> 13.755296
... A30: USDJPY | B30: =IF(A30="","",HLOOKUP(A30,pArray,4,FALSE)) -> 101.465 | C30: =IF(A30="","",VLOOKUP(A30,arrayHeatMap,2,FALSE)) -> 121.009 | D30: =IF(A30="","",VLOOKUP(A30,arrayHeatMap,3,FALSE)) -> 121.19 | E30: =IF(A30="","",VLOOKUP(A30,arrayHeatMap,4,FALSE)) -> 120.986 | F30: =IF(A30="","",VLOOKUP(A30,arrayHeatMap,5,FALSE)) -> 121.053 | G30: =IF(A30="","",VLOOKUP(A30,arrayHeatMap,6,FALSE)) -> 121.461 | H30: =IF(A30="","",VLOOKUP(A30,arrayHeatMap,7,FALSE)) -> 119.815 | K30: =((SUM(B30-C30)*10000)/C30)*1/100 -> -16.150865 | L30: =((SUM(B30-D30)*10000)/D30)*1/100 -> -16.276095 | M30: =((SUM(B30-E30)*10000)/E30)*1/100 -> -16.134925 | N30: =((SUM(B30-F30)*10000)/F30)*1/100 -> -16.181342 | O30: =((SUM(B30-G30)*10000)/G30)*1/100 -> -16.462898 | P30: =((SUM(B30-H30)*10000)/H30)*1/100 -> -15.315278

Sheet RSI_M30_Mn
A3: Symbol | B3: m30RSI2 | C3: h1RSI2 | D3: h4RSI2 | E3: dRSI2 | F3: wRSI2 | G3: mRSI2
A4: AUDCAD | B4: =IF(A4="","",VLOOKUP(A4,Array_getValues,26,FALSE)) -> 91.23087 | C4: =IF(A4="","",VLOOKUP(A4,Array_getValues,27,FALSE)) -> 77.202894 | D4: =IF(A4="","",VLOOKUP(A4,Array_getValues,28,FALSE)) -> 37.29304 | E4: =IF(A4="","",VLOOKUP(A4,Array_getValues,29,FALSE)) -> 76.756365 | F4: =IF(A4="","",VLOOKUP(A4,Array_getValues,30,FALSE)) -> 70.817463 | G4: =IF(A4="","",VLOOKUP(A4,Array_getValues,31,FALSE)) -> 10.082947
A5: AUDCHF | B5: =IF(A5="","",VLOOKUP(A5,Array_getValues,26,FALSE)) -> 18.562145 | C5: =IF(A5="","",VLOOKUP(A5,Array_getValues,27,FALSE)) -> 71.787941 | D5: =IF(A5="","",VLOOKUP(A5,Array_getValues,28,FALSE)) -> 98.987523 | E5: =IF(A5="","",VLOOKUP(A5,Array_getValues,29,FALSE)) -> 93.0785 | F5: =IF(A5="","",VLOOKUP(A5,Array_getValues,30,FALSE)) -> 71.17963 | G5: =IF(A5="","",VLOOKUP(A5,Array_getValues,31,FALSE)) -> 2.3279546
A6: AUDJPY | B6: =IF(A6="","",VLOOKUP(A6,Array_getValues,26,FALSE)) -> 18.362585 | C6: =IF(A6="","",VLOOKUP(A6,Array_getValues,27,FALSE)) -> 41.748666 | D6: =IF(A6="","",VLOOKUP(A6,Array_getValues,28,FALSE)) -> 54.727018 | E6: =IF(A6="","",VLOOKUP(A6,Array_getValues,29,FALSE)) -> 85.848209 | F6: =IF(A6="","",VLOOKUP(A6,Array_getValues,30,FALSE)) -> 67.789095 | G6: =IF(A6="","",VLOOKUP(A6,Array_getValues,31,FALSE)) -> 3.9748715
A7: AUDNZD | B7: =IF(A7="","",VLOOKUP(A7,Array_getValues,26,FALSE)) -> 42.143911 | C7: =IF(A7="","",VLOOKUP(A7,Array_getValues,27,FALSE)) -> 5.746309 | D7: =IF(A7="","",VLOOKUP(A7,Array_getValues,28,FALSE)) -> 30.728019 | E7: =IF(A7="","",VLOOKUP(A7,Array_getValues,29,FALSE)) -> 51.901582 | F7: =IF(A7="","",VLOOKUP(A7,Array_getValues,30,FALSE)) -> 17.738885 | G7: =IF(A7="","",VLOOKUP(A7,Array_getValues,31,FALSE)) -> 35.264692
A8: AUDUSD | B8: =IF(A8="","",VLOOKUP(A8,Array_getValues,26,FALSE)) -> 22.573398 | C8: =IF(A8="","",VLOOKUP(A8,Array_getValues,27,FALSE)) -> 9.6173949 | D8: =IF(A8="","",VLOOKUP(A8,Array_getValues,28,FALSE)) -> 52.679679 | E8: =IF(A8="","",VLOOKUP(A8,Array_getValues,29,FALSE)) -> 55.772419 | F8: =IF(A8="","",VLOOKUP(A8,Array_getValues,30,FALSE)) -> 47.414842 | G8: =IF(A8="","",VLOOKUP(A8,Array_getValues,31,FALSE)) -> 5.0908518
A9: CADCHF | B9: =IF(A9="","",VLOOKUP(A9,Array_getValues,26,FALSE)) -> 3.9409824 | C9: =IF(A9="","",VLOOKUP(A9,Array_getValues,27,FALSE)) -> 36.539535 | D9: =IF(A9="","",VLOOKUP(A9,Array_getValues,28,FALSE)) -> 97.080174 | E9: =IF(A9="","",VLOOKUP(A9,Array_getValues,29,FALSE)) -> 75.715695 | F9: =IF(A9="","",VLOOKUP(A9,Array_getValues,30,FALSE)) -> 74.675118 | G9: =IF(A9="","",VLOOKUP(A9,Array_getValues,31,FALSE)) -> 4.8448162
A10: CADJPY | B10: =IF(A10="","",VLOOKUP(A10,Array_getValues,26,FALSE)) -> 2.9810706 | C10: =IF(A10="","",VLOOKUP(A10,Array_getValues,27,FALSE)) -> 23.509997 | D10: =IF(A10="","",VLOOKUP(A10,Array_getValues,28,FALSE)) -> 59.90713 | E10: =IF(A10="","",VLOOKUP(A10,Array_getValues,29,FALSE)) -> 93.619259 | F10: =IF(A10="","",VLOOKUP(A10,Array_getValues,30,FALSE)) -> 53.510907 | G10: =IF(A10="","",VLOOKUP(A10,Array_getValues,31,FALSE)) -> 4.5392644
A11: CHFJPY | B11: =IF(A11="","",VLOOKUP(A11,Array_getValues,26,FALSE)) -> 65.392048 | C11: =IF(A11="","",VLOOKUP(A11,Array_getValues,27,FALSE)) -> 13.208059 | D11: =IF(A11="","",VLOOKUP(A11,Array_getValues,28,FALSE)) -> 11.696258 | E11: =IF(A11="","",VLOOKUP(A11,Array_getValues,29,FALSE)) -> 24.27834 | F11: =IF(A11="","",VLOOKUP(A11,Array_getValues,30,FALSE)) -> 30.691148 | G11: =IF(A11="","",VLOOKUP(A11,Array_getValues,31,FALSE)) -> 8.6905598
A12: EURAUD | B12: =IF(A12="","",VLOOKUP(A12,Array_getValues,26,FALSE)) -> 71.627062 | C12: =IF(A12="","",VLOOKUP(A12,Array_getValues,27,FALSE)) -> 77.755462 | D12: =IF(A12="","",VLOOKUP(A12,Array_getValues,28,FALSE)) -> 79.111053 | E12: =IF(A12="","",VLOOKUP(A12,Array_getValues,29,FALSE)) -> 7.8808181 | F12: =IF(A12="","",VLOOKUP(A12,Array_getValues,30,FALSE)) -> 15.854513 | G12: =IF(A12="","",VLOOKUP(A12,Array_getValues,31,FALSE)) -> 33.79116
A13: EURCAD | B13: =IF(A13="","",VLOOKUP(A13,Array_getValues,26,FALSE)) -> 98.764473 | C13: =IF(A13="","",VLOOKUP(A13,Array_getValues,27,FALSE)) -> 92.624975 | D13: =IF(A13="","",VLOOKUP(A13,Array_getValues,28,FALSE)) -> 74.787592 | E13: =IF(A13="","",VLOOKUP(A13,Array_getValues,29,FALSE)) -> 16.104766 | F13: =IF(A13="","",VLOOKUP(A13,Array_getValues,30,FALSE)) -> 2.6069168 | G13: =IF(A13="","",VLOOKUP(A13,Array_getValues,31,FALSE)) -> 97.70193
A14: EURCHF | B14: =IF(A14="","",VLOOKUP(A14,Array_getValues,26,FALSE)) -> 28.962407 | C14: =IF(A14="","",VLOOKUP(A14,Array_getValues,27,FALSE)) -> 97.012432 | D14: =IF(A14="","",VLOOKUP(A14,Array_getValues,28,FALSE)) -> 98.566134 | E14: =IF(A14="","",VLOOKUP(A14,Array_getValues,29,FALSE)) -> 31.230461 | F14: =IF(A14="","",VLOOKUP(A14,Array_getValues,30,FALSE)) -> 7.8017485 | G14: =IF(A14="","",VLOOKUP(A14,Array_getValues,31,FALSE)) -> 95.84199
A15: EURGBP | B15: =IF(A15="","",VLOOKUP(A15,Array_getValues,26,FALSE)) -> 83.922608 | C15: =IF(A15="","",VLOOKUP(A15,Array_getValues,27,FALSE)) -> 82.964771 | D15: =IF(A15="","",VLOOKUP(A15,Array_getValues,28,FALSE)) -> 62.955322 | E15: =IF(A15="","",VLOOKUP(A15,Array_getValues,29,FALSE)) -> 11.640717 | F15: =IF(A15="","",VLOOKUP(A15,Array_getValues,30,FALSE)) -> 8.8759506 | G15: =IF(A15="","",VLOOKUP(A15,Array_getValues,31,FALSE)) -> 86.613016
... A31: USDJPY | B31: =IF(A31="","",VLOOKUP(A31,Array_getValues,26,FALSE)) -> 35.241548 | C31: =IF(A31="","",VLOOKUP(A31,Array_getValues,27,FALSE)) -> 35.64957 | D31: =IF(A31="","",VLOOKUP(A31,Array_getValues,28,FALSE)) -> 52.657259 | E31: =IF(A31="","",VLOOKUP(A31,Array_getValues,29,FALSE)) -> 75.192623 | F31: =IF(A31="","",VLOOKUP(A31,Array_getValues,30,FALSE)) -> 80.028664 | G31: =IF(A31="","",VLOOKUP(A31,Array_getValues,31,FALSE)) -> 18.829072

Sheet Trend_M30_Mn
A3: Symbol | B3: Bid | C3: m30EMA8 | D3: m30EMA21 | E3: Trend
A4: AUDCAD | B4: =IF(A4="","",HLOOKUP(A4,pArray,4,FALSE)) -> 0.98753 | C4: =IF(A4="","",VLOOKUP(A4,Array_getValues,14,FALSE)) -> 0.95363405 | D4: =IF(A4="","",VLOOKUP(A4,Array_getValues,15,FALSE)) -> 0.95354206 | E4: =IF(A4="","",IF(D4>C4,IF(C4>B4,"Down",IF(D4<C4,IF(C4<B4,"Up",IF(D4=C4,IF(C4=B4,""))))))) -> FALSE
A5: AUDCHF | B5: =IF(A5="","",HLOOKUP(A5,pArray,4,FALSE)) -> 0.74431 | C5: =IF(A5="","",VLOOKUP(A5,Array_getValues,14,FALSE)) -> 0.71259706 | D5: =IF(A5="","",VLOOKUP(A5,Array_getValues,15,FALSE)) -> 0.71179813 | E5: =IF(A5="","",IF(D5>C5,IF(C5>B5,"Down",IF(D5<C5,IF(C5<B5,"Up",IF(D5=C5,IF(C5=B5,""))))))) -> FALSE
A6: AUDJPY | B6: =IF(A6="","",HLOOKUP(A6,pArray,4,FALSE)) -> 78.002 | C6: =IF(A6="","",VLOOKUP(A6,Array_getValues,14,FALSE)) -> 87.746269 | D6: =IF(A6="","",VLOOKUP(A6,Array_getValues,15,FALSE)) -> 87.751702 | E6: =IF(A6="","",IF(D6>C6,IF(C6>B6,"Down",IF(D6<C6,IF(C6<B6,"Up",IF(D6=C6,IF(C6=B6,""))))))) -> Down
A7: AUDNZD | B7: =IF(A7="","",HLOOKUP(A7,pArray,4,FALSE)) -> 1.02799 | C7: =IF(A7="","",VLOOKUP(A7,Array_getValues,14,FALSE)) -> 1.0683447 | D7: =IF(A7="","",VLOOKUP(A7,Array_getValues,15,FALSE)) -> 1.0691582 | E7: =IF(A7="","",IF(D7>C7,IF(C7>B7,"Down",IF(D7<C7,IF(C7<B7,"Up",IF(D7=C7,IF(C7=B7,""))))))) -> Down
A8: AUDUSD | B8: =IF(A8="","",HLOOKUP(A8,pArray,4,FALSE)) -> 0.76876 | C8: =IF(A8="","",VLOOKUP(A8,Array_getValues,14,FALSE)) -> 0.72519687 | D8: =IF(A8="","",VLOOKUP(A8,Array_getValues,15,FALSE)) -> 0.72527343 | E8: =IF(A8="","",IF(D8>C8,IF(C8>B8,"Down",IF(D8<C8,IF(C8<B8,"Up",IF(D8=C8,IF(C8=B8,""))))))) -> FALSE
A9: CADCHF | B9: =IF(A9="","",HLOOKUP(A9,pArray,4,FALSE)) -> 0.75367 | C9: =IF(A9="","",VLOOKUP(A9,Array_getValues,14,FALSE)) -> 0.74715185 | D9: =IF(A9="","",VLOOKUP(A9,Array_getValues,15,FALSE)) -> 0.74637687 | E9: =IF(A9="","",IF(D9>C9,IF(C9>B9,"Down",IF(D9<C9,IF(C9<B9,"Up",IF(D9=C9,IF(C9=B9,""))))))) -> FALSE
A10: CADJPY | B10: =IF(A10="","",HLOOKUP(A10,pArray,4,FALSE)) -> 78.981 | C10: =IF(A10="","",VLOOKUP(A10,Array_getValues,14,FALSE)) -> 91.998541 | D10: =IF(A10="","",VLOOKUP(A10,Array_getValues,15,FALSE)) -> 92.012529 | E10: =IF(A10="","",IF(D10>C10,IF(C10>B10,"Down",IF(D10<C10,IF(C10<B10,"Up",IF(D10=C10,IF(C10=B10,""))))))) -> Down
A11: CHFJPY | B11: =IF(A11="","",HLOOKUP(A11,pArray,4,FALSE)) -> 104.791 | C11: =IF(A11="","",VLOOKUP(A11,Array_getValues,14,FALSE)) -> 123.10567 | D11: =IF(A11="","",VLOOKUP(A11,Array_getValues,15,FALSE)) -> 123.25388 | E11: =IF(A11="","",IF(D11>C11,IF(C11>B11,"Down",IF(D11<C11,IF(C11<B11,"Up",IF(D11=C11,IF(C11=B11,""))))))) -> Down
A12: EURAUD | B12: =IF(A12="","",HLOOKUP(A12,pArray,4,FALSE)) -> 1.46326 | C12: =IF(A12="","",VLOOKUP(A12,Array_getValues,14,FALSE)) -> 1.522991 | D12: =IF(A12="","",VLOOKUP(A12,Array_getValues,15,FALSE)) -> 1.5220056 | E12: =IF(A12="","",IF(D12>C12,IF(C12>B12,"Down",IF(D12<C12,IF(C12<B12,"Up",IF(D12=C12,IF(C12=B12,""))))))) -> FALSE
A13: EURCAD | B13: =IF(A13="","",HLOOKUP(A13,pArray,4,FALSE)) -> 1.44511 | C13: =IF(A13="","",VLOOKUP(A13,Array_getValues,14,FALSE)) -> 1.4525756 | D13: =IF(A13="","",VLOOKUP(A13,Array_getValues,15,FALSE)) -> 1.4514965 | E13: =IF(A13="","",IF(D13>C13,IF(C13>B13,"Down",IF(D13<C13,IF(C13<B13,"Up",IF(D13=C13,IF(C13=B13,""))))))) -> FALSE
A14: EURCHF | B14: =IF(A14="","",HLOOKUP(A14,pArray,4,FALSE)) -> 1.08919 | C14: =IF(A14="","",VLOOKUP(A14,Array_getValues,14,FALSE)) -> 1.0855266 | D14: =IF(A14="","",VLOOKUP(A14,Array_getValues,15,FALSE)) -> 1.083593 | E14: =IF(A14="","",IF(D14>C14,IF(C14>B14,"Down",IF(D14<C14,IF(C14<B14,"Up",IF(D14=C14,IF(C14=B14,""))))))) -> FALSE
A15: EURGBP | B15: =IF(A15="","",HLOOKUP(A15,pArray,4,FALSE)) -> 0.84039 | C15: =IF(A15="","",VLOOKUP(A15,Array_getValues,14,FALSE)) -> 0.71933805 | D15: =IF(A15="","",VLOOKUP(A15,Array_getValues,15,FALSE)) -> 0.71919727 | E15: =IF(A15="","",IF(D15>C15,IF(C15>B15,"Down",IF(D15<C15,IF(C15<B15,"Up",IF(D15=C15,IF(C15=B15,""))))))) -> FALSE
... A31: USDJPY | B31: =IF(A31="","",HLOOKUP(A31,pArray,4,FALSE)) -> 101.465 | C31: =IF(A31="","",VLOOKUP(A31,Array_getValues,14,FALSE)) -> 120.99317 | D31: =IF(A31="","",VLOOKUP(A31,Array_getValues,15,FALSE)) -> 120.98777 | E31: =IF(A31="","",IF(D31>C31,IF(C31>B31,"Down",IF(D31<C31,IF(C31<B31,"Up",IF(D31=C31,IF(C31=B31,""))))))) -> FALSE

Sheet HM
E1: ↑↑
B3: USD | O3: GBP
C4: EURUSD | D4: =IF(C4="","",VLOOKUP(C4,HM_Calc_Array,13,FALSE)) -> 1.782386 | E4: % | K4: =IF(C4="","",IF(D4>0.25,"Buy",IF(D4<-0.25,"Sell",IF(D4=0,"",IF(D4<0.25,""))))) -> Buy | P4: GBPUSD | Q4: =IF(P4="","",VLOOKUP(P4,HM_Calc_Array,13,FALSE)) -> -12.875321 | R4: % | X4: =IF(P4="","",IF(Q4>0.25,"Buy",IF(Q4<-0.25,"Sell",IF(Q4=0,"",IF(Q4<0.25,""))))) -> Sell
C5: GBPUSD | D5: =IF(C5="","",VLOOKUP(C5,HM_Calc_Array,13,FALSE)) -> -12.875321 | E5: % | K5: =IF(C5="","",IF(D5>0.25,"Buy",IF(D5<-0.25,"Sell",IF(D5=0,"",IF(D5<0.25,""))))) -> Sell | P5: GBPNZD | Q5: =IF(P5="","",VLOOKUP(P5,HM_Calc_Array,13,FALSE)) -> -22.798225 | R5: % | X5: =IF(P5="","",IF(Q5>0.25,"Buy",IF(Q5<-0.25,"Sell",IF(Q5=0,"",IF(Q5<0.25,""))))) -> Sell
C6: AUDUSD | D6: =IF(C6="","",VLOOKUP(C6,HM_Calc_Array,13,FALSE)) -> 6.0080806 | E6: % | K6: =IF(C6="","",IF(D6>0.25,"Buy",IF(D6<-0.25,"Sell",IF(D6=0,"",IF(D6<0.25,""))))) -> Buy | P6: GBPCAD | Q6: =IF(P6="","",VLOOKUP(P6,HM_Calc_Array,13,FALSE)) -> -14.82008 | R6: % | X6: =IF(P6="","",IF(Q6>0.25,"Buy",IF(Q6<-0.25,"Sell",IF(Q6=0,"",IF(Q6<0.25,""))))) -> Sell
C7: NZDUSD | D7: =IF(C7="","",VLOOKUP(C7,HM_Calc_Array,13,FALSE)) -> 10.222583 | E7: % | K7: =IF(C7="","",IF(D7>0.25,"Buy",IF(D7<-0.25,"Sell",IF(D7=0,"",IF(D7<0.25,""))))) -> Buy | P7: GBPAUD | Q7: =IF(P7="","",VLOOKUP(P7,HM_Calc_Array,13,FALSE)) -> -17.807456 | R7: % | X7: =IF(P7="","",IF(Q7>0.25,"Buy",IF(Q7<-0.25,"Sell",IF(Q7=0,"",IF(Q7<0.25,""))))) -> Sell
C8: USDCHF | D8: =IF(C8="","",VLOOKUP(C8,HM_Calc_Array,13,FALSE)) -> -1.4775317 | E8: % | K8: =IF(C8="","",IF(D8>0.25,"Buy",IF(D8<-0.25,"Sell",IF(D8=0,"",IF(D8<0.25,""))))) -> Sell | P8: GBPCHF | Q8: =IF(P8="","",VLOOKUP(P8,HM_Calc_Array,13,FALSE)) -> -14.166402 | R8: % | X8: =IF(P8="","",IF(Q8>0.25,"Buy",IF(Q8<-0.25,"Sell",IF(Q8=0,"",IF(Q8<0.25,""))))) -> Sell
C9: USDJPY | D9: =IF(C9="","",VLOOKUP(C9,HM_Calc_Array,13,FALSE)) -> -16.134925 | E9: % | K9: =IF(C9="","",IF(D9>0.25,"Buy",IF(D9<-0.25,"Sell",IF(D9=0,"",IF(D9<0.25,""))))) -> Sell | P9: GBPJPY | Q9: =IF(P9="","",VLOOKUP(P9,HM_Calc_Array,13,FALSE)) -> -26.933257 | R9: % | X9: =IF(P9="","",IF(Q9>0.25,"Buy",IF(Q9<-0.25,"Sell",IF(Q9=0,"",IF(Q9<0.25,""))))) -> Sell
C10: USDCAD | D10: =IF(C10="","",VLOOKUP(C10,HM_Calc_Array,13,FALSE)) -> -2.2337567 | E10: % | K10: =IF(C10="","",IF(D10>0.25,"Buy",IF(D10<-0.25,"Sell",IF(D10=0,"",IF(D10<0.25,""))))) -> Sell | P10: EURGBP | Q10: =IF(P10="","",VLOOKUP(P10,HM_Calc_Array,13,FALSE)) -> 16.826302 | R10: % | X10: =IF(P10="","",IF(Q10>0.25,"Buy",IF(Q10<-0.25,"Sell",IF(Q10=0,"",IF(Q10<0.25,""))))) -> Buy
D11: =SUM(D4:D10) -> -14.708485 | Q11: =SUM(Q4:Q10) -> -92.57444
B13: CHF | O13: AUD
C14: AUDCHF | D14: =IF(C14="","",VLOOKUP(C14,HM_Calc_Array,13,FALSE)) -> 4.4542992 | E14: % | K14: =IF(C14="","",IF(D14>0.25,"Buy",IF(D14<-0.25,"Sell",IF(D14=0,"",IF(D14<0.25,""))))) -> Buy | P14: AUDUSD | Q14: =IF(P14="","",VLOOKUP(P14,HM_Calc_Array,13,FALSE)) -> 6.0080806 | R14: % | X14: =IF(P14="","",IF(Q14>0.25,"Buy",IF(Q14<-0.25,"Sell",IF(Q14=0,"",IF(Q14<0.25,""))))) -> Buy
C15: CADCHF | D15: =IF(C15="","",VLOOKUP(C15,HM_Calc_Array,13,FALSE)) -> 0.78901266 | E15: % | K15: =IF(C15="","",IF(D15>0.25,"Buy",IF(D15<-0.25,"Sell",IF(D15=0,"",IF(D15<0.25,""))))) -> Buy | P15: AUDCHF | Q15: =IF(P15="","",VLOOKUP(P15,HM_Calc_Array,13,FALSE)) -> 4.4542992 | R15: % | X15: =IF(P15="","",IF(Q15>0.25,"Buy",IF(Q15<-0.25,"Sell",IF(Q15=0,"",IF(Q15<0.25,""))))) -> Buy
C16: NZDCHF | D16: =IF(C16="","",VLOOKUP(C16,HM_Calc_Array,13,FALSE)) -> 8.5971018 | E16: % | K16: =IF(C16="","",IF(D16>0.25,"Buy",IF(D16<-0.25,"Sell",IF(D16=0,"",IF(D16<0.25,""))))) -> Buy | P16: AUDCAD | Q16: =IF(P16="","",VLOOKUP(P16,HM_Calc_Array,13,FALSE)) -> 3.6374322 | R16: % | X16: =IF(P16="","",IF(Q16>0.25,"Buy",IF(Q16<-0.25,"Sell",IF(Q16=0,"",IF(Q16<0.25,""))))) -> Buy
C17: EURCHF | D17: =IF(C17="","",VLOOKUP(C17,HM_Calc_Array,13,FALSE)) -> 0.27342527 | E17: % | K17: =IF(C17="","",IF(D17>0.25,"Buy",IF(D17<-0.25,"Sell",IF(D17=0,"",IF(D17<0.25,""))))) -> Buy | P17: AUDJPY | Q17: =IF(P17="","",VLOOKUP(P17,HM_Calc_Array,13,FALSE)) -> -11.091607 | R17: % | X17: =IF(P17="","",IF(Q17>0.25,"Buy",IF(Q17<-0.25,"Sell",IF(Q17=0,"",IF(Q17<0.25,""))))) -> Sell
C18: GBPCHF | D18: =IF(C18="","",VLOOKUP(C18,HM_Calc_Array,13,FALSE)) -> -14.166402 | E18: % | K18: =IF(C18="","",IF(D18>0.25,"Buy",IF(D18<-0.25,"Sell",IF(D18=0,"",IF(D18<0.25,""))))) -> Sell | P18: AUDNZD | Q18: =IF(P18="","",VLOOKUP(P18,HM_Calc_Array,13,FALSE)) -> -3.7939974 | R18: % | X18: =IF(P18="","",IF(Q18>0.25,"Buy",IF(Q18<-0.25,"Sell",IF(Q18=0,"",IF(Q18<0.25,""))))) -> Sell
C19: USDCHF | D19: =IF(C19="","",VLOOKUP(C19,HM_Calc_Array,13,FALSE)) -> -1.4775317 | E19: % | K19: =IF(C19="","",IF(D19>0.25,"Buy",IF(D19<-0.25,"Sell",IF(D19=0,"",IF(D19<0.25,""))))) -> Sell | P19: EURAUD | Q19: =IF(P19="","",VLOOKUP(P19,HM_Calc_Array,13,FALSE)) -> -3.9824141 | R19: % | X19: =IF(P19="","",IF(Q19>0.25,"Buy",IF(Q19<-0.25,"Sell",IF(Q19=0,"",IF(Q19<0.25,""))))) -> Sell
C20: CHFJPY | D20: =IF(C20="","",VLOOKUP(C20,HM_Calc_Array,13,FALSE)) -> -14.866358 | E20: % | K20: =IF(C20="","",IF(D20>0.25,"Buy",IF(D20<-0.25,"Sell",IF(D20=0,"",IF(D20<0.25,""))))) -> Sell | P20: GBPAUD | Q20: =IF(P20="","",VLOOKUP(P20,HM_Calc_Array,13,FALSE)) -> -17.807456 | R20: % | X20: =IF(P20="","",IF(Q20>0.25,"Buy",IF(Q20<-0.25,"Sell",IF(Q20=0,"",IF(Q20<0.25,""))))) -> Sell
D21: =SUM(D14:D20) -> -16.396452 | Q21: =SUM(Q14:Q20) -> -22.575663
B23: EUR | O23: CAD
C24: EURUSD | D24: =IF(C24="","",VLOOKUP(C24,HM_Calc_Array,13,FALSE)) -> 1.782386 | E24: % | K24: =IF(C24="","",IF(D24>0.25,"Buy",IF(D24<-0.25,"Sell",IF(D24=0,"",IF(D24<0.25,""))))) -> Buy | P24: USDCAD | Q24: =IF(P24="","",VLOOKUP(P24,HM_Calc_Array,13,FALSE)) -> -2.2337567 | R24: % | X24: =IF(P24="","",IF(Q24>0.25,"Buy",IF(Q24<-0.25,"Sell",IF(Q24=0,"",IF(Q24<0.25,""))))) -> Sell
C25: EURGBP | D25: =IF(C25="","",VLOOKUP(C25,HM_Calc_Array,13,FALSE)) -> 16.826302 | E25: % | K25: =IF(C25="","",IF(D25>0.25,"Buy",IF(D25<-0.25,"Sell",IF(D25=0,"",IF(D25<0.25,""))))) -> Buy | P25: NZDCAD | Q25: =IF(P25="","",VLOOKUP(P25,HM_Calc_Array,13,FALSE)) -> 7.759965 | R25: % | X25: =IF(P25="","",IF(Q25>0.25,"Buy",IF(Q25<-0.25,"Sell",IF(Q25=0,"",IF(Q25<0.25,""))))) -> Buy
C26: EURJPY | D26: =IF(C26="","",VLOOKUP(C26,HM_Calc_Array,13,FALSE)) -> -14.646676 | E26: % | K26: =IF(C26="","",IF(D26>0.25,"Buy",IF(D26<-0.25,"Sell",IF(D26=0,"",IF(D26<0.25,""))))) -> Sell | P26: GBPCAD | Q26: =IF(P26="","",VLOOKUP(P26,HM_Calc_Array,13,FALSE)) -> -14.82008 | R26: % | X26: =IF(P26="","",IF(Q26>0.25,"Buy",IF(Q26<-0.25,"Sell",IF(Q26=0,"",IF(Q26<0.25,""))))) -> Sell
C27: EURCHF | D27: =IF(C27="","",VLOOKUP(C27,HM_Calc_Array,13,FALSE)) -> 0.27342527 | E27: % | K27: =IF(C27="","",IF(D27>0.25,"Buy",IF(D27<-0.25,"Sell",IF(D27=0,"",IF(D27<0.25,""))))) -> Buy | P27: EURCAD | Q27: =IF(P27="","",VLOOKUP(P27,HM_Calc_Array,13,FALSE)) -> -0.49507677 | R27: % | X27: =IF(P27="","",IF(Q27>0.25,"Buy",IF(Q27<-0.25,"Sell",IF(Q27=0,"",IF(Q27<0.25,""))))) -> Sell
C28: EURCAD | D28: =IF(C28="","",VLOOKUP(C28,HM_Calc_Array,13,FALSE)) -> -0.49507677 | E28: % | K28: =IF(C28="","",IF(D28>0.25,"Buy",IF(D28<-0.25,"Sell",IF(D28=0,"",IF(D28<0.25,""))))) -> Sell | P28: AUDCAD | Q28: =IF(P28="","",VLOOKUP(P28,HM_Calc_Array,13,FALSE)) -> 3.6374322 | R28: % | X28: =IF(P28="","",IF(Q28>0.25,"Buy",IF(Q28<-0.25,"Sell",IF(Q28=0,"",IF(Q28<0.25,""))))) -> Buy
C29: EURAUD | D29: =IF(C29="","",VLOOKUP(C29,HM_Calc_Array,13,FALSE)) -> -3.9824141 | E29: % | K29: =IF(C29="","",IF(D29>0.25,"Buy",IF(D29<-0.25,"Sell",IF(D29=0,"",IF(D29<0.25,""))))) -> Sell | P29: CADCHF | Q29: =IF(P29="","",VLOOKUP(P29,HM_Calc_Array,13,FALSE)) -> 0.78901266 | R29: % | X29: =IF(P29="","",IF(Q29>0.25,"Buy",IF(Q29<-0.25,"Sell",IF(Q29=0,"",IF(Q29<0.25,""))))) -> Buy
C30: EURNZD | D30: =IF(C30="","",VLOOKUP(C30,HM_Calc_Array,13,FALSE)) -> -7.6366204 | E30: % | K30: =IF(C30="","",IF(D30>0.25,"Buy",IF(D30<-0.25,"Sell",IF(D30=0,"",IF(D30<0.25,""))))) -> Sell | P30: CADJPY | Q30: =IF(P30="","",VLOOKUP(P30,HM_Calc_Array,13,FALSE)) -> -14.207971 | R30: % | X30: =IF(P30="","",IF(Q30>0.25,"Buy",IF(Q30<-0.25,"Sell",IF(Q30=0,"",IF(Q30<0.25,""))))) -> Sell
D31: =SUM(D24:D30) -> -7.8786746 | Q31: =SUM(Q24:Q30) -> -19.570475
B33: JPY | O33: NZD
C34: USDJPY | D34: =IF(C34="","",VLOOKUP(C34,HM_Calc_Array,13,FALSE)) -> -16.134925 | E34: % | K34: =IF(C34="","",IF(D34>0.25,"Buy",IF(D34<-0.25,"Sell",IF(D34=0,"",IF(D34<0.25,""))))) -> Sell | P34: NZDUSD | Q34: =IF(P34="","",VLOOKUP(P34,HM_Calc_Array,13,FALSE)) -> 10.222583 | R34: % | X34: =IF(P34="","",IF(Q34>0.25,"Buy",IF(Q34<-0.25,"Sell",IF(Q34=0,"",IF(Q34<0.25,""))))) -> Buy
C35: EURJPY | D35: =IF(C35="","",VLOOKUP(C35,HM_Calc_Array,13,FALSE)) -> -14.646676 | E35: % | K35: =IF(C35="","",IF(D35>0.25,"Buy",IF(D35<-0.25,"Sell",IF(D35=0,"",IF(D35<0.25,""))))) -> Sell | P35: NZDCHF | Q35: =IF(P35="","",VLOOKUP(P35,HM_Calc_Array,13,FALSE)) -> 8.5971018 | R35: % | X35: =IF(P35="","",IF(Q35>0.25,"Buy",IF(Q35<-0.25,"Sell",IF(Q35=0,"",IF(Q35<0.25,""))))) -> Buy
C36: GBPJPY | D36: =IF(C36="","",VLOOKUP(C36,HM_Calc_Array,13,FALSE)) -> -26.933257 | E36: % | K36: =IF(C36="","",IF(D36>0.25,"Buy",IF(D36<-0.25,"Sell",IF(D36=0,"",IF(D36<0.25,""))))) -> Sell | P36: NZDCAD | Q36: =IF(P36="","",VLOOKUP(P36,HM_Calc_Array,13,FALSE)) -> 7.759965 | R36: % | X36: =IF(P36="","",IF(Q36>0.25,"Buy",IF(Q36<-0.25,"Sell",IF(Q36=0,"",IF(Q36<0.25,""))))) -> Buy
C37: AUDJPY | D37: =IF(C37="","",VLOOKUP(C37,HM_Calc_Array,13,FALSE)) -> -11.091607 | E37: % | K37: =IF(C37="","",IF(D37>0.25,"Buy",IF(D37<-0.25,"Sell",IF(D37=0,"",IF(D37<0.25,""))))) -> Sell | P37: NZDJPY | Q37: =IF(P37="","",VLOOKUP(P37,HM_Calc_Array,13,FALSE)) -> -7.5569636 | R37: % | X37: =IF(P37="","",IF(Q37>0.25,"Buy",IF(Q37<-0.25,"Sell",IF(Q37=0,"",IF(Q37<0.25,""))))) -> Sell
C38: CHFJPY | D38: =IF(C38="","",VLOOKUP(C38,HM_Calc_Array,13,FALSE)) -> -14.866358 | E38: % | K38: =IF(C38="","",IF(D38>0.25,"Buy",IF(D38<-0.25,"Sell",IF(D38=0,"",IF(D38<0.25,""))))) -> Sell | P38: AUDNZD | Q38: =IF(P38="","",VLOOKUP(P38,HM_Calc_Array,13,FALSE)) -> -3.7939974 | R38: % | X38: =IF(P38="","",IF(Q38>0.25,"Buy",IF(Q38<-0.25,"Sell",IF(Q38=0,"",IF(Q38<0.25,""))))) -> Sell
C39: NZDJPY | D39: =IF(C39="","",VLOOKUP(C39,HM_Calc_Array,13,FALSE)) -> -7.5569636 | E39: % | K39: =IF(C39="","",IF(D39>0.25,"Buy",IF(D39<-0.25,"Sell",IF(D39=0,"",IF(D39<0.25,""))))) -> Sell | P39: GBPNZD | Q39: =IF(P39="","",VLOOKUP(P39,HM_Calc_Array,13,FALSE)) -> -22.798225 | R39: % | X39: =IF(P39="","",IF(Q39>0.25,"Buy",IF(Q39<-0.25,"Sell",IF(Q39=0,"",IF(Q39<0.25,""))))) -> Sell
C40: CADJPY | D40: =IF(C40="","",VLOOKUP(C40,HM_Calc_Array,13,FALSE)) -> -14.207971 | E40: % | K40: =IF(C40="","",IF(D40>0.25,"Buy",IF(D40<-0.25,"Sell",IF(D40=0,"",IF(D40<0.25,""))))) -> Sell | P40: EURNZD | Q40: =IF(P40="","",VLOOKUP(P40,HM_Calc_Array,13,FALSE)) -> -7.6366204 | R40: % | X40: =IF(P40="","",IF(Q40>0.25,"Buy",IF(Q40<-0.25,"Sell",IF(Q40=0,"",IF(Q40<0.25,""))))) -> Sell
D41: =SUM(D34:D40) -> -105.43776 | Q41: =SUM(Q34:Q40) -> -15.206157

Sheet Stren_Dir
B5: 4Hour Strength Direction
A7: Spread | B7: Pair | C7: BidRatio | D7: HeatMapH4 | E7: 0 | F7: Dir1 | G7: 0.16666667 | H7: Dir2 | I7: 0.33333333 | J7: Dir3 | K7: 0.5 | L7: Dir4 | M7: 0.66666667 | N7: Dir5 | O7: 0.83333333 | P7: Dir6
A8: =IF(B8="","",HLOOKUP(B8,pArray,6,FALSE)) -> 0.9 | B8: AUDCAD | C8: =IF(B8="","",HLOOKUP(B8,pArray,9,FALSE)) -> 0.93957115 | D8: =IF(B8="","",VLOOKUP(B8,HM_Calc_Array,13,FALSE)) -> 3.6374322 | E8: 0.67692308 | F8: =IF(B8="","",IF(E8>O8,"Buy",IF(E8<O8,"Sell",IF(E8=O8,"Wait")))) -> Buy | G8: 0.41342756 | H8: =IF(B8="","",IF(G8>E8,"Buy",IF(G8<E8,"Sell",IF(G8=E8,"Wait")))) -> Sell | I8: 0.57142857 | J8: =IF(B8="","",IF(I8>G8,"Buy",IF(I8<G8,"Sell",IF(I8=G8,"Wait")))) -> Buy | K8: 0.70808679 | L8: =IF(B8="","",IF(K8>I8,"Buy",IF(K8<I8,"Sell",IF(K8=I8,"Wait")))) -> Buy | M8: 0.9668435 | N8: =IF(B8="","",IF(M8>K8,"Buy",IF(M8<K8,"Sell",IF(M8=K8,"Wait")))) -> Buy | O8: 0.56923077 | P8: =IF(B8="","",IF(O8>M8,"Buy",IF(O8<M8,"Sell",IF(O8=M8,"Wait")))) -> Sell
A9: =IF(B9="","",HLOOKUP(B9,pArray,6,FALSE)) -> 1 | B9: AUDCHF | C9: =IF(B9="","",HLOOKUP(B9,pArray,9,FALSE)) -> 0.62935323 | D9: =IF(B9="","",VLOOKUP(B9,HM_Calc_Array,13,FALSE)) -> 4.4542992 | E9: 0.91881443 | F9: =IF(B9="","",IF(E9>O9,"Buy",IF(E9<O9,"Sell",IF(E9=O9,"Wait")))) -> Buy | G9: 0.61057692 | H9: =IF(B9="","",IF(G9>E9,"Buy",IF(G9<E9,"Sell",IF(G9=E9,"Wait")))) -> Sell | I9: 0.89781022 | J9: =IF(B9="","",IF(I9>G9,"Buy",IF(I9<G9,"Sell",IF(I9=G9,"Wait")))) -> Buy | K9: 0.64864865 | L9: =IF(B9="","",IF(K9>I9,"Buy",IF(K9<I9,"Sell",IF(K9=I9,"Wait")))) -> Sell | M9: 0.61496599 | N9: =IF(B9="","",IF(M9>K9,"Buy",IF(M9<K9,"Sell",IF(M9=K9,"Wait")))) -> Sell | O9: 0.65721649 | P9: =IF(B9="","",IF(O9>M9,"Buy",IF(O9<M9,"Sell",IF(O9=M9,"Wait")))) -> Buy
A10: =IF(B10="","",HLOOKUP(B10,pArray,6,FALSE)) -> 0.7 | B10: AUDJPY | C10: =IF(B10="","",HLOOKUP(B10,pArray,9,FALSE)) -> 0.4867052 | D10: =IF(B10="","",VLOOKUP(B10,HM_Calc_Array,13,FALSE)) -> -11.091607 | E10: 0.87927425 | F10: =IF(B10="","",IF(E10>O10,"Buy",IF(E10<O10,"Sell",IF(E10=O10,"Wait")))) -> Buy | G10: 0.63207547 | H10: =IF(B10="","",IF(G10>E10,"Buy",IF(G10<E10,"Sell",IF(G10=E10,"Wait")))) -> Sell | I10: 0.875 | J10: =IF(B10="","",IF(I10>G10,"Buy",IF(I10<G10,"Sell",IF(I10=G10,"Wait")))) -> Buy | K10: 0.65553869 | L10: =IF(B10="","",IF(K10>I10,"Buy",IF(K10<I10,"Sell",IF(K10=I10,"Wait")))) -> Sell | M10: 0.86043266 | N10: =IF(B10="","",IF(M10>K10,"Buy",IF(M10<K10,"Sell",IF(M10=K10,"Wait")))) -> Buy | O10: 0.8764829 | P10: =IF(B10="","",IF(O10>M10,"Buy",IF(O10<M10,"Sell",IF(O10=M10,"Wait")))) -> Buy
A11: =IF(B11="","",HLOOKUP(B11,pArray,6,FALSE)) -> 1.6 | B11: AUDNZD | C11: =IF(B11="","",HLOOKUP(B11,pArray,9,FALSE)) -> 0.14773777 | D11: =IF(B11="","",VLOOKUP(B11,HM_Calc_Array,13,FALSE)) -> -3.7939974 | E11: 0.84198646 | F11: =IF(B11="","",IF(E11>O11,"Buy",IF(E11<O11,"Sell",IF(E11=O11,"Wait")))) -> Buy | G11: 0.67015707 | H11: =IF(B11="","",IF(G11>E11,"Buy",IF(G11<E11,"Sell",IF(G11=E11,"Wait")))) -> Sell | I11: 0.94811321 | J11: =IF(B11="","",IF(I11>G11,"Buy",IF(I11<G11,"Sell",IF(I11=G11,"Wait")))) -> Buy | K11: 0.33988439 | L11: =IF(B11="","",IF(K11>I11,"Buy",IF(K11<I11,"Sell",IF(K11=I11,"Wait")))) -> Sell | M11: 0.98362573 | N11: =IF(B11="","",IF(M11>K11,"Buy",IF(M11<K11,"Sell",IF(M11=K11,"Wait")))) -> Buy | O11: 0.75282167 | P11: =IF(B11="","",IF(O11>M11,"Buy",IF(O11<M11,"Sell",IF(O11=M11,"Wait")))) -> Sell
A12: =IF(B12="","",HLOOKUP(B12,pArray,6,FALSE)) -> 0.2 | B12: AUDUSD | C12: =IF(B12="","",HLOOKUP(B12,pArray,9,FALSE)) -> 0.97587131 | D12: =IF(B12="","",VLOOKUP(B12,HM_Calc_Array,13,FALSE)) -> 6.0080806 | E12: 0.92901235 | F12: =IF(B12="","",IF(E12>O12,"Buy",IF(E12<O12,"Sell",IF(E12=O12,"Wait")))) -> Buy | G12: 0.72332016 | H12: =IF(B12="","",IF(G12>E12,"Buy",IF(G12<E12,"Sell",IF(G12=E12,"Wait")))) -> Sell | I12: 0.88729017 | J12: =IF(B12="","",IF(I12>G12,"Buy",IF(I12<G12,"Sell",IF(I12=G12,"Wait")))) -> Buy | K12: 0.7006079 | L12: =IF(B12="","",IF(K12>I12,"Buy",IF(K12<I12,"Sell",IF(K12=I12,"Wait")))) -> Sell | M12: 0.84876543 | N12: =IF(B12="","",IF(M12>K12,"Buy",IF(M12<K12,"Sell",IF(M12=K12,"Wait")))) -> Buy | O12: 0.86419753 | P12: =IF(B12="","",IF(O12>M12,"Buy",IF(O12<M12,"Sell",IF(O12=M12,"Wait")))) -> Buy
A13: =IF(B13="","",HLOOKUP(B13,pArray,6,FALSE)) -> 1.2 | B13: CADCHF | C13: =IF(B13="","",HLOOKUP(B13,pArray,9,FALSE)) -> 0.19130435 | D13: =IF(B13="","",VLOOKUP(B13,HM_Calc_Array,13,FALSE)) -> 0.78901266 | E13: 0.5142003 | F13: =IF(B13="","",IF(E13>O13,"Buy",IF(E13<O13,"Sell",IF(E13=O13,"Wait")))) -> Buy | G13: 0.84 | H13: =IF(B13="","",IF(G13>E13,"Buy",IF(G13<E13,"Sell",IF(G13=E13,"Wait")))) -> Buy | I13: 0.95287958 | J13: =IF(B13="","",IF(I13>G13,"Buy",IF(I13<G13,"Sell",IF(I13=G13,"Wait")))) -> Buy | K13: 0.60287081 | L13: =IF(B13="","",IF(K13>I13,"Buy",IF(K13<I13,"Sell",IF(K13=I13,"Wait")))) -> Sell | M13: 0.040358744 | N13: =IF(B13="","",IF(M13>K13,"Buy",IF(M13<K13,"Sell",IF(M13=K13,"Wait")))) -> Sell | O13: 0.46188341 | P13: =IF(B13="","",IF(O13>M13,"Buy",IF(O13<M13,"Sell",IF(O13=M13,"Wait")))) -> Buy
A14: =IF(B14="","",HLOOKUP(B14,pArray,6,FALSE)) -> 0.6 | B14: CADJPY | C14: =IF(B14="","",HLOOKUP(B14,pArray,9,FALSE)) -> 0.32503458 | D14: =IF(B14="","",VLOOKUP(B14,HM_Calc_Array,13,FALSE)) -> -14.207971 | E14: 0.65453006 | F14: =IF(B14="","",IF(E14>O14,"Buy",IF(E14<O14,"Sell",IF(E14=O14,"Wait")))) -> Sell | G14: 0.63033175 | H14: =IF(B14="","",IF(G14>E14,"Buy",IF(G14<E14,"Sell",IF(G14=E14,"Wait")))) -> Sell | I14: 0.94704684 | J14: =IF(B14="","",IF(I14>G14,"Buy",IF(I14<G14,"Sell",IF(I14=G14,"Wait")))) -> Buy | K14: 0.65972222 | L14: =IF(B14="","",IF(K14>I14,"Buy",IF(K14<I14,"Sell",IF(K14=I14,"Wait")))) -> Sell | M14: 0.55376799 | N14: =IF(B14="","",IF(M14>K14,"Buy",IF(M14<K14,"Sell",IF(M14=K14,"Wait")))) -> Sell | O14: 0.80779001 | P14: =IF(B14="","",IF(O14>M14,"Buy",IF(O14<M14,"Sell",IF(O14=M14,"Wait")))) -> Buy
A15: =IF(B15="","",HLOOKUP(B15,pArray,6,FALSE)) -> 1.2 | B15: CHFJPY | C15: =IF(B15="","",HLOOKUP(B15,pArray,9,FALSE)) -> 0.49464668 | D15: =IF(B15="","",VLOOKUP(B15,HM_Calc_Array,13,FALSE)) -> -14.866358 | E15: 0.74526453 | F15: =IF(B15="","",IF(E15>O15,"Buy",IF(E15<O15,"Sell",IF(E15=O15,"Wait")))) -> Sell | G15: 0.42325581 | H15: =IF(B15="","",IF(G15>E15,"Buy",IF(G15<E15,"Sell",IF(G15=E15,"Wait")))) -> Sell | I15: 0.91081081 | J15: =IF(B15="","",IF(I15>G15,"Buy",IF(I15<G15,"Sell",IF(I15=G15,"Wait")))) -> Buy | K15: 0.36567164 | L15: =IF(B15="","",IF(K15>I15,"Buy",IF(K15<I15,"Sell",IF(K15=I15,"Wait")))) -> Sell | M15: 0.96472894 | N15: =IF(B15="","",IF(M15>K15,"Buy",IF(M15<K15,"Sell",IF(M15=K15,"Wait")))) -> Buy | O15: 0.91770085 | P15: =IF(B15="","",IF(O15>M15,"Buy",IF(O15<M15,"Sell",IF(O15=M15,"Wait")))) -> Sell
A16: =IF(B16="","",HLOOKUP(B16,pArray,6,FALSE)) -> 1.1 | B16: EURAUD | C16: =IF(B16="","",HLOOKUP(B16,pArray,9,FALSE)) -> 0.033873343 | D16: =IF(B16="","",VLOOKUP(B16,HM_Calc_Array,13,FALSE)) -> -3.9824141 | E16: 0.18600531 | F16: =IF(B16="","",IF(E16>O16,"Buy",IF(E16<O16,"Sell",IF(E16=O16,"Wait")))) -> Sell | G16: 0.55752212 | H16: =IF(B16="","",IF(G16>E16,"Buy",IF(G16<E16,"Sell",IF(G16=E16,"Wait")))) -> Buy | I16: 0.1097852 | J16: =IF(B16="","",IF(I16>G16,"Buy",IF(I16<G16,"Sell",IF(I16=G16,"Wait")))) -> Sell | K16: 0.27165775 | L16: =IF(B16="","",IF(K16>I16,"Buy",IF(K16<I16,"Sell",IF(K16=I16,"Wait")))) -> Buy | M16: 0.54561559 | N16: =IF(B16="","",IF(M16>K16,"Buy",IF(M16<K16,"Sell",IF(M16=K16,"Wait")))) -> Buy | O16: 0.64747564 | P16: =IF(B16="","",IF(O16>M16,"Buy",IF(O16<M16,"Sell",IF(O16=M16,"Wait")))) -> Buy
A17: =IF(B17="","",HLOOKUP(B17,pArray,6,FALSE)) -> 0.7 | B17: EURCAD | C17: =IF(B17="","",HLOOKUP(B17,pArray,9,FALSE)) -> 0.66772152 | D17: =IF(B17="","",VLOOKUP(B17,HM_Calc_Array,13,FALSE)) -> -0.49507677 | E17: 0.59073652 | F17: =IF(B17="","",IF(E17>O17,"Buy",IF(E17<O17,"Sell",IF(E17=O17,"Wait")))) -> Sell | G17: 0.41706161 | H17: =IF(B17="","",IF(G17>E17,"Buy",IF(G17<E17,"Sell",IF(G17=E17,"Wait")))) -> Sell | I17: 0.033388982 | J17: =IF(B17="","",IF(I17>G17,"Buy",IF(I17<G17,"Sell",IF(I17=G17,"Wait")))) -> Sell | K17: 0.29865471 | L17: =IF(B17="","",IF(K17>I17,"Buy",IF(K17<I17,"Sell",IF(K17=I17,"Wait")))) -> Buy | M17: 0.96886864 | N17: =IF(B17="","",IF(M17>K17,"Buy",IF(M17<K17,"Sell",IF(M17=K17,"Wait")))) -> Buy | O17: 0.72589218 | P17: =IF(B17="","",IF(O17>M17,"Buy",IF(O17<M17,"Sell",IF(O17=M17,"Wait")))) -> Sell
A18: =IF(B18="","",HLOOKUP(B18,pArray,6,FALSE)) -> 0.8 | B18: EURCHF | C18: =IF(B18="","",HLOOKUP(B18,pArray,9,FALSE)) -> 0.13289037 | D18: =IF(B18="","",VLOOKUP(B18,HM_Calc_Array,13,FALSE)) -> 0.27342527 | E18: 0.86720322 | F18: =IF(B18="","",IF(E18>O18,"Buy",IF(E18<O18,"Sell",IF(E18=O18,"Wait")))) -> Sell | G18: 0.86382979 | H18: =IF(B18="","",IF(G18>E18,"Buy",IF(G18<E18,"Sell",IF(G18=E18,"Wait")))) -> Sell | I18: 0.55769231 | J18: =IF(B18="","",IF(I18>G18,"Buy",IF(I18<G18,"Sell",IF(I18=G18,"Wait")))) -> Sell | K18: 0.24087591 | L18: =IF(B18="","",IF(K18>I18,"Buy",IF(K18<I18,"Sell",IF(K18=I18,"Wait")))) -> Sell | M18: 0.70959596 | N18: =IF(B18="","",IF(M18>K18,"Buy",IF(M18<K18,"Sell",IF(M18=K18,"Wait")))) -> Buy | O18: 0.92354125 | P18: =IF(B18="","",IF(O18>M18,"Buy",IF(O18<M18,"Sell",IF(O18=M18,"Wait")))) -> Buy
A19: =IF(B19="","",HLOOKUP(B19,pArray,6,FALSE)) -> 0.4 | B19: EURGBP | C19: =IF(B19="","",HLOOKUP(B19,pArray,9,FALSE)) -> 0.7364532 | D19: =IF(B19="","",VLOOKUP(B19,HM_Calc_Array,13,FALSE)) -> 16.826302 | E19: 0.83528162 | F19: =IF(B19="","",IF(E19>O19,"Buy",IF(E19<O19,"Sell",IF(E19=O19,"Wait")))) -> Sell | G19: 0.75 | H19: =IF(B19="","",IF(G19>E19,"Buy",IF(G19<E19,"Sell",IF(G19=E19,"Wait")))) -> Sell | I19: 0.30769231 | J19: =IF(B19="","",IF(I19>G19,"Buy",IF(I19<G19,"Sell",IF(I19=G19,"Wait")))) -> Sell | K19: 0.1255814 | L19: =IF(B19="","",IF(K19>I19,"Buy",IF(K19<I19,"Sell",IF(K19=I19,"Wait")))) -> Sell | M19: 0.90628853 | N19: =IF(B19="","",IF(M19>K19,"Buy",IF(M19<K19,"Sell",IF(M19=K19,"Wait")))) -> Buy | O19: 0.94686504 | P19: =IF(B19="","",IF(O19>M19,"Buy",IF(O19<M19,"Sell",IF(O19=M19,"Wait")))) -> Buy
... A35: =IF(B35="","",HLOOKUP(B35,pArray,6,FALSE)) -> 0.4 | B35: USDJPY | C35: =IF(B35="","",HLOOKUP(B35,pArray,9,FALSE)) -> 0.27856366 | D35: =IF(B35="","",VLOOKUP(B35,HM_Calc_Array,13,FALSE)) -> -16.134925 | E35: 0.76653696 | F35: =IF(B35="","",IF(E35>O35,"Buy",IF(E35<O35,"Sell",IF(E35=O35,"Wait")))) -> Sell | G35: 0.081871345 | H35: =IF(B35="","",IF(G35>E35,"Buy",IF(G35<E35,"Sell",IF(G35=E35,"Wait")))) -> Sell | I35: 0.82941176 | J35: =IF(B35="","",IF(I35>G35,"Buy",IF(I35<G35,"Sell",IF(I35=G35,"Wait")))) -> Buy | K35: 0.47457627 | L35: =IF(B35="","",IF(K35>I35,"Buy",IF(K35<I35,"Sell",IF(K35=I35,"Wait")))) -> Sell | M35: 0.79571984 | N35: =IF(B35="","",IF(M35>K35,"Buy",IF(M35<K35,"Sell",IF(M35=K35,"Wait")))) -> Buy | O35: 0.81322957 | P35: =IF(B35="","",IF(O35>M35,"Buy",IF(O35<M35,"Sell",IF(O35=M35,"Wait")))) -> Buy

Sheet SendOrder
A1: OrderSend | B1: AUDCADi | C1: OP_BUY | D1: 0.02 | E1: Ask | F1: 5 | G1: 0 | H1: 0 | I1: OrderFromExcel_14:15:53 | J1: 9991 | K1: 0 | L1: Blue

Sheet CloseOrder
A1: OrderClose | B1: OrderFromExcel_01:08:38 | C1: 0.02 | D1: Bid | E1: 5 | F1: Blue
