Workbook
Name Array_getValues: getValues!$A$7:$AE$34
Name arrayHeatMap: getValues!$A$7:$G$34
Name AUDx: #REF!
Name bSR_GAP: GAP_test!$A$8:$I$35
Name bSR_GAP2: GAP_test!$B$8:$I$35
Name CADx: #REF!
Name CHFx: #REF!
Name CurrArray: Strength28!$E$24:$H$51
Name daily: [1]main!$B$4:$E$33
Name dayx: #REF!
Name EURx: #REF!
Name EUx: #REF!
Name GAP: Strength28!$L$24:$L$51
Name gapHM: Strength28!$D$24:$L$51
Name GAPs: Strength28!$E$24:$L$51
Name gapsHM: Strength28!$E$24:$L$51
Name GBPx: #REF!
Name heatmap: #REF!
Name HM_Calc: HeatMapM30_Mn!$K$3:$P$30
Name HM_Calc_Array: HeatMapM30_Mn!$A$3:$P$30
Name JPYx: #REF!
Name lastdata: [1]main!$B$4:$G$33
Name month: [1]week!$B$5:$E$34
Name montin: #REF!
Name montinx: #REF!
Name NZDx: #REF!
Name openorders: OpenOrder!$A$1:$I$52
Name openorders.txt: OpenOrder!$A$1:$I$52
Name openorders_1: OpenOrder!$A$1:$I$52
Name openorders_10: OpenOrder!$A$1:$I$31
Name openorders_11: OpenOrder!$A$1:$I$31
Name openorders_12: OpenOrder!$A$1:$I$30
Name openorders_13: OpenOrder!$A$1:$I$30
Name openorders_14: OpenOrder!$A$1:$I$31
Name openorders_15: OpenOrder!$A$1:$I$32
Name openorders_16: OpenOrder!$A$1:$I$35
Name openorders_17: OpenOrder!$A$1:$I$36
Name openorders_18: OpenOrder!$A$1:$I$37
Name openorders_19: OpenOrder!$A$1:$I$38
Name openorders_2: OpenOrder!$A$1:$I$52
Name openorders_20: OpenOrder!$A$1:$I$39
Name openorders_21: OpenOrder!$A$1:$I$40
Name openorders_22: OpenOrder!$A$1:$I$41
Name openorders_23: OpenOrder!$A$1:$I$42
Name openorders_24: OpenOrder!$A$1:$I$43
Name openorders_25: OpenOrder!$A$1:$I$44
Name openorders_26: OpenOrder!$A$1:$I$45
Name openorders_3: OpenOrder!$A$1:$I$32
Name openorders_4: OpenOrder!$A$1:$I$31
Name openorders_5: OpenOrder!$A$1:$I$31
Name openorders_6: OpenOrder!$A$1:$I$31
Name openorders_7: OpenOrder!$A$1:$I$30
Name openorders_8: OpenOrder!$A$1:$I$30
Name openorders_9: OpenOrder!$A$1:$I$30
Name pArray: Strength28!$B$3:$AD$16
Name RS_Array: Strength28!$AK$6:$AL$9678
Name smArray: Strength28!$N$25:$U$28
Name sYNC: Strength28!$V$27:$AC$28
Name sYNC2: Strength28!$V$19:$AC$28
Name USDx: #REF!

Sheet Arkusz1
D3: =[2]!i -> N\A | E3: =[3]!i -> N\A | F3: =[4]!i -> N\A | G3: =[5]!i -> N\A
D4: =[2]!i -> N\A | E4: =[3]!i -> N\A | F4: =[4]!i -> N\A | G4: =[5]!i -> N\A
D5: =[2]!i -> N\A | E5: =[3]!i -> N\A | F5: =[4]!i -> N\A | G5: =[5]!i -> N\A
D6: =[2]!i -> N\A | E6: =[3]!i -> N\A | F6: =[4]!i -> N\A | G6: =[5]!i -> N\A
D7: =[2]!i -> N\A | E7: =[3]!i -> N\A | F7: =[4]!i -> N\A | G7: =[5]!i -> N\A
D8: =[2]!i -> N\A | E8: =[3]!i -> N\A | F8: =[4]!i -> N\A | G8: =[5]!i -> N\A | S8: =Strength28!N25 -> USD | T8: =Strength28!O25 -> JPY | U8: =Strength28!P25 -> GBP | V8: =Strength28!Q25 -> EUR | W8: =Strength28!R25 -> AUD | X8: =Strength28!S25 -> NZD | Y8: =Strength28!T25 -> CAD | Z8: =Strength28!U25 -> CHF
D9: =[2]!i -> N\A | E9: =[3]!i -> N\A | F9: =[4]!i -> N\A | G9: =[5]!i -> N\A | H9: =Strength28!G23 -> Sell | S9: =Strength28!N26 -> 2.7142857 | T9: =Strength28!O26 -> 5.1428571 | U9: =Strength28!P26 -> 2.1428571 | V9: =Strength28!Q26 -> 3.2857143 | W9: =Strength28!R26 -> 6.4285714 | X9: =Strength28!S26 -> 8.2857143 | Y9: =Strength28!T26 -> 3 | Z9: =Strength28!U26 -> 5
B10: =$W$11 -> WAIT | C10: =$Y$11 -> WAIT | D10: =[2]!WAITi -> N\A | E10: =[3]!WAITi -> N\A | F10: =[4]!WAITi -> N\A | G10: =[5]!WAITi -> N\A | H10: =Strength28!G24 -> 3 | I10: =GAP_test!G8 -> 0 | J10: =Strength28!H24*10 -> 34.285714 | K10: =GAP_test!C8 -> 0.93957115 | L10: =GAP_test!D8 -> 7 | M10: =GAP_test!E8 -> 3.4285714 | N10: =GAP_test!H8 -> 3.6374322 | S10: =Strength28!N27 -> -5 | T10: =Strength28!O27 -> 3 | U10: =Strength28!P27 -> -7 | V10: =Strength28!Q27 -> -1 | W10: =Strength28!R27 -> 5 | X10: =Strength28!S27 -> 7 | Y10: =Strength28!T27 -> -3 | Z10: =Strength28!U27 -> 1
B11: =$W$11 -> WAIT | C11: =$Z$11 -> WAIT | D11: =[2]!WAITi -> N\A | E11: =[3]!WAITi -> N\A | F11: =[4]!WAITi -> N\A | G11: =[5]!WAITi -> N\A | H11: =Strength28!G25 -> 5 | I11: =GAP_test!G9 -> -2.1428571 | J11: =Strength28!H25*10 -> 14.285714 | K11: =GAP_test!C9 -> 0.62935323 | L11: =GAP_test!D9 -> 3 | M11: =GAP_test!E9 -> 1.4285714 | N11: =GAP_test!H9 -> 4.4542992 | S11: =GAP_SYNC!$V$20 -> SELL | T11: =GAP_SYNC!$J$20 -> WAIT | U11: =GAP_SYNC!$D$20 -> SELL | V11: =GAP_SYNC!$V$4 -> WAIT | W11: =GAP_SYNC!$D$4 -> WAIT | X11: =GAP_SYNC!$P$20 -> BUY | Y11: =GAP_SYNC!$J$4 -> WAIT | Z11: =GAP_SYNC!$P$4 -> WAIT
B12: =$W$11 -> WAIT | C12: =$T$11 -> WAIT | D12: =[2]!WAITi -> N\A | E12: =[3]!WAITi -> N\A | F12: =[4]!WAITi -> N\A | G12: =[5]!WAITi -> N\A | H12: =Strength28!G26 -> 5.1428571 | I12: =GAP_test!G10 -> 0.71428571 | J12: =Strength28!H26*10 -> 12.857143 | K12: =GAP_test!C10 -> 0.4867052 | L12: =GAP_test!D10 -> -1 | M12: =GAP_test!E10 -> 1.2857143 | N12: =GAP_test!H10 -> -11.091607 | S12: =GAP_SYNC!$X$20 -> -5 | T12: =GAP_SYNC!$L$20 -> -2 | U12: =GAP_SYNC!$F$20 -> -6 | V12: =GAP_SYNC!$X$4 -> 2 | W12: =GAP_SYNC!$F$4 -> 2 | X12: =GAP_SYNC!$R$20 -> 5 | Y12: =GAP_SYNC!$L$4 -> 2 | Z12: =GAP_SYNC!$R$4 -> 3
B13: =$W$11 -> WAIT | C13: =$X$11 -> BUY | D13: =[2]!WAITi -> N\A | E13: =[3]!WAITi -> N\A | F13: =[4]!WAITi -> N\A | G13: =[5]!WAITi -> N\A | H13: =Strength28!G27 -> 8.2857143 | I13: =GAP_test!G11 -> -2.5714286 | J13: =Strength28!H27*10 -> -18.571429 | K13: =GAP_test!C11 -> 0.14773777 | L13: =GAP_test!D11 -> -5 | M13: =GAP_test!E11 -> -1.8571429 | N13: =GAP_test!H11 -> -3.7939974 | S13: =CRS!T2 -> -3.5714286 | T13: =CRS!T5 -> 1.5714286 | U13: =CRS!T4 -> -2 | V13: =CRS!T3 -> -0.57142857 | W13: =CRS!T7 -> 1.5714286 | X13: =CRS!T9 -> 4.5714286 | Y13: =CRS!T8 -> -1.4285714 | Z13: =CRS!T6 -> -0.14285714
B14: =$W$11 -> WAIT | C14: =$S$11 -> SELL | D14: =[2]!WAITi -> N\A | E14: =[3]!WAITi -> N\A | F14: =[4]!WAITi -> N\A | G14: =[5]!WAITi -> N\A | H14: =Strength28!G28 -> 2.7142857 | I14: =GAP_test!G12 -> 2.8571429 | J14: =Strength28!H28*10 -> 37.142857 | K14: =GAP_test!C12 -> 0.97587131 | L14: =GAP_test!D12 -> 9 | M14: =GAP_test!E12 -> 3.7142857 | N14: =GAP_test!H12 -> 6.0080806
B15: =$Y$11 -> WAIT | C15: =$Z$11 -> WAIT | D15: =[2]!WAITi -> N\A | E15: =[3]!WAITi -> N\A | F15: =[4]!WAITi -> N\A | G15: =[5]!WAITi -> N\A | H15: =Strength28!G29 -> 5 | I15: =GAP_test!G13 -> -2.1428571 | J15: =Strength28!H29*10 -> -20 | K15: =GAP_test!C13 -> 0.19130435 | L15: =GAP_test!D13 -> -5 | M15: =GAP_test!E13 -> -2 | N15: =GAP_test!H13 -> 0.78901266
B16: =$Y$11 -> WAIT | C16: =$T$11 -> WAIT | D16: =[2]!WAITi -> N\A | E16: =[3]!WAITi -> N\A | F16: =[4]!WAITi -> N\A | G16: =[5]!WAITi -> N\A | H16: =Strength28!G30 -> 5.1428571 | I16: =GAP_test!G14 -> 0.71428571 | J16: =Strength28!H30*10 -> -21.428571 | K16: =GAP_test!C14 -> 0.32503458 | L16: =GAP_test!D14 -> -3 | M16: =GAP_test!E14 -> -2.1428571 | N16: =GAP_test!H14 -> -14.207971
B17: =$Y$11 -> WAIT | C17: =$T$11 -> WAIT | D17: =[2]!WAITi -> N\A | E17: =[3]!WAITi -> N\A | F17: =[4]!WAITi -> N\A | G17: =[5]!WAITi -> N\A | H17: =Strength28!G31 -> 5.1428571 | I17: =GAP_test!G15 -> 2.8571429 | J17: =Strength28!H31*10 -> -1.4285714 | K17: =GAP_test!C15 -> 0.49464668 | L17: =GAP_test!D15 -> -1 | M17: =GAP_test!E15 -> -0.14285714 | N17: =GAP_test!H15 -> -14.866358
B18: =$V$11 -> WAIT | C18: =$W$11 -> WAIT | D18: =[2]!WAITi -> N\A | E18: =[3]!WAITi -> N\A | F18: =[4]!WAITi -> N\A | G18: =[5]!WAITi -> N\A | H18: =Strength28!G32 -> 6.4285714 | I18: =GAP_test!G16 -> 0.14285714 | J18: =Strength28!H32*10 -> -31.428571 | K18: =GAP_test!C16 -> 0.033873343 | L18: =GAP_test!D16 -> -7 | M18: =GAP_test!E16 -> -3.1428571 | N18: =GAP_test!H16 -> -3.9824141
B19: =$V$11 -> WAIT | C19: =$Y$11 -> WAIT | D19: =[2]!WAITi -> N\A | E19: =[3]!WAITi -> N\A | F19: =[4]!WAITi -> N\A | G19: =[5]!WAITi -> N\A | H19: =Strength28!G33 -> 3 | I19: =GAP_test!G17 -> 0.14285714 | J19: =Strength28!H33*10 -> 2.8571429 | K19: =GAP_test!C17 -> 0.66772152 | L19: =GAP_test!D17 -> 3 | M19: =GAP_test!E17 -> 0.28571429 | N19: =GAP_test!H17 -> -0.49507677
B20: =$V$11 -> WAIT | C20: =$Z$11 -> WAIT | D20: =[2]!WAITi -> N\A | E20: =[3]!WAITi -> N\A | F20: =[4]!WAITi -> N\A | G20: =[5]!WAITi -> N\A | H20: =Strength28!G34 -> 5 | I20: =GAP_test!G18 -> -2 | J20: =Strength28!H34*10 -> -17.142857 | K20: =GAP_test!C18 -> 0.13289037 | L20: =GAP_test!D18 -> -5 | M20: =GAP_test!E18 -> -1.7142857 | N20: =GAP_test!H18 -> 0.27342527
B21: =$V$11 -> WAIT | C21: =$U$11 -> SELL | D21: =[2]!WAITi -> N\A | E21: =[3]!WAITi -> N\A | F21: =[4]!WAITi -> N\A | G21: =[5]!WAITi -> N\A | H21: =Strength28!G35 -> 2.1428571 | I21: =GAP_test!G19 -> 3.7142857 | J21: =Strength28!H35*10 -> 11.428571 | K21: =GAP_test!C19 -> 0.7364532 | L21: =GAP_test!D19 -> 3 | M21: =GAP_test!E19 -> 1.1428571 | N21: =GAP_test!H19 -> 16.826302
B22: =$V$11 -> WAIT | C22: =$T$11 -> WAIT | D22: =[2]!WAITi -> N\A | E22: =[3]!WAITi -> N\A | F22: =[4]!WAITi -> N\A | G22: =[5]!WAITi -> N\A | H22: =Strength28!G36 -> 5.1428571 | I22: =GAP_test!G20 -> 0.85714286 | J22: =Strength28!H36*10 -> -18.571429 | K22: =GAP_test!C20 -> 0.3009434 | L22: =GAP_test!D20 -> -3 | M22: =GAP_test!E20 -> -1.8571429 | N22: =GAP_test!H20 -> -14.646676
B23: =$V$11 -> WAIT | C23: =$X$11 -> BUY | D23: =[2]!WAITi -> N\A | E23: =[3]!WAITi -> N\A | F23: =[4]!WAITi -> N\A | G23: =[5]!WAITi -> N\A | H23: =Strength28!G37 -> 8.2857143 | I23: =GAP_test!G21 -> -2.4285714 | J23: =Strength28!H37*10 -> -50 | K23: =GAP_test!C21 -> 0.016066838 | L23: =GAP_test!D21 -> -9 | M23: =GAP_test!E21 -> -5 | N23: =GAP_test!H21 -> -7.6366204
B24: =$V$11 -> WAIT | C24: =$S$11 -> SELL | D24: =[2]!WAITi -> N\A | E24: =[3]!WAITi -> N\A | F24: =[4]!WAITi -> N\A | G24: =[5]!WAITi -> N\A | H24: =Strength28!G38 -> 2.7142857 | I24: =GAP_test!G22 -> 3 | J24: =Strength28!H38*10 -> 5.7142857 | K24: =GAP_test!C22 -> 0.56056338 | L24: =GAP_test!D22 -> 1 | M24: =GAP_test!E22 -> 0.57142857 | N24: =GAP_test!H22 -> 1.782386
B25: =$U$11 -> SELL | C25: =$W$11 -> WAIT | D25: =[2]!WAITi -> N\A | E25: =[3]!WAITi -> N\A | F25: =[4]!WAITi -> N\A | G25: =[5]!WAITi -> N\A | H25: =Strength28!G39 -> 6.4285714 | I25: =GAP_test!G23 -> -3.5714286 | J25: =Strength28!H39*10 -> -42.857143 | K25: =GAP_test!C23 -> 0.05090312 | L25: =GAP_test!D23 -> -7 | M25: =GAP_test!E23 -> -4.2857143 | N25: =GAP_test!H23 -> -17.807456
B26: =$U$11 -> SELL | C26: =$Y$11 -> WAIT | D26: =[2]!WAITi -> N\A | E26: =[3]!WAITi -> N\A | F26: =[4]!WAITi -> N\A | G26: =[5]!WAITi -> N\A | H26: =Strength28!G40 -> 3 | I26: =GAP_test!G24 -> -3.5714286 | J26: =Strength28!H40*10 -> -8.5714286 | K26: =GAP_test!C24 -> 0.36329234 | L26: =GAP_test!D24 -> -3 | M26: =GAP_test!E24 -> -0.85714286 | N26: =GAP_test!H24 -> -14.82008
B27: =$U$11 -> SELL | C27: =$Z$11 -> WAIT | D27: =[2]!WAITi -> N\A | E27: =[3]!WAITi -> N\A | F27: =[4]!WAITi -> N\A | G27: =[5]!WAITi -> N\A | H27: =Strength28!G41 -> 5 | I27: =GAP_test!G25 -> -5.7142857 | J27: =Strength28!H41*10 -> -28.571429 | K27: =GAP_test!C25 -> 0.21743929 | L27: =GAP_test!D25 -> -5 | M27: =GAP_test!E25 -> -2.8571429 | N27: =GAP_test!H25 -> -14.166402
B28: =$U$11 -> SELL | C28: =$T$11 -> WAIT | D28: =[2]!WAITi -> N\A | E28: =[3]!WAITi -> N\A | F28: =[4]!WAITi -> N\A | G28: =[5]!WAITi -> N\A | H28: =Strength28!G42 -> 5.1428571 | I28: =GAP_test!G26 -> -2.8571429 | J28: =Strength28!H42*10 -> -30 | K28: =GAP_test!C26 -> 0.11397558 | L28: =GAP_test!D26 -> -5 | M28: =GAP_test!E26 -> -3 | N28: =GAP_test!H26 -> -26.933257
B29: =$U$11 -> SELL | C29: =$X$11 -> BUY | D29: =[2]!WAITi -> N\A | E29: =[3]!WAITi -> N\A | F29: =[4]!WAITi -> N\A | G29: =[5]!WAITi -> N\A | H29: =Strength28!G43 -> 8.2857143 | I29: =GAP_test!G27 -> -6.1428571 | J29: =Strength28!H43*10 -> -61.428571 | K29: =GAP_test!C27 -> 0.082593593 | L29: =GAP_test!D27 -> -7 | M29: =GAP_test!E27 -> -6.1428571 | N29: =GAP_test!H27 -> -22.798225
B30: =$U$11 -> SELL | C30: =$S$11 -> SELL | D30: =[2]!WAITi -> N\A | E30: =[3]!WAITi -> N\A | F30: =[4]!WAITi -> N\A | G30: =[5]!WAITi -> N\A | H30: =Strength28!G44 -> 2.7142857 | I30: =GAP_test!G28 -> -0.71428571 | J30: =Strength28!H44*10 -> -5.7142857 | K30: =GAP_test!C28 -> 0.32916145 | L30: =GAP_test!D28 -> -3 | M30: =GAP_test!E28 -> -0.57142857 | N30: =GAP_test!H28 -> -12.875321
B31: =$X$11 -> BUY | C31: =$Y$11 -> WAIT | D31: =[2]!WAITi -> N\A | E31: =[3]!WAITi -> N\A | F31: =[4]!WAITi -> N\A | G31: =[5]!WAITi -> N\A | H31: =Strength28!G45 -> 3 | I31: =GAP_test!G29 -> 2.5714286 | J31: =Strength28!H45*10 -> 52.857143 | K31: =GAP_test!C29 -> 0.96923077 | L31: =GAP_test!D29 -> 7 | M31: =GAP_test!E29 -> 5.2857143 | N31: =GAP_test!H29 -> 7.759965
B32: =$X$11 -> BUY | C32: =$Z$11 -> WAIT | D32: =$X$12 -> 5 | E32: =$Z$12 -> 3 | F32: =Strength28!E46 -> NZDCHF | G32: =Strength28!F46 -> 8.2857143 | H32: =Strength28!G46 -> 5 | I32: =GAP_test!G30 -> 0.42857143 | J32: =Strength28!H46*10 -> 32.857143 | K32: =GAP_test!C30 -> 0.97630332 | L32: =GAP_test!D30 -> 9 | M32: =GAP_test!E30 -> 3.2857143 | N32: =GAP_test!H30 -> 8.5971018 | R32: i
B33: =$X$11 -> BUY | C33: =$T$11 -> WAIT | D33: =$X$12 -> 5 | E33: =$T$12 -> -2 | F33: =Strength28!E47 -> NZDJPY | G33: =Strength28!F47 -> 8.2857143 | H33: =Strength28!G47 -> 5.1428571 | I33: =GAP_test!G31 -> 3.2857143 | J33: =Strength28!H47*10 -> 31.428571 | K33: =GAP_test!C31 -> 0.90518192 | L33: =GAP_test!D31 -> 7 | M33: =GAP_test!E31 -> 3.1428571 | N33: =GAP_test!H31 -> -7.5569636
B34: =$X$11 -> BUY | C34: =$S$11 -> SELL | D34: =$X$12 -> 5 | E34: =$S$12 -> -5 | F34: =Strength28!E48 -> NZDUSD | G34: =Strength28!F48 -> 8.2857143 | H34: =Strength28!G48 -> 2.7142857 | I34: =GAP_test!G32 -> 5.4285714 | J34: =Strength28!H48*10 -> 55.714286 | K34: =GAP_test!C32 -> 0.97934386 | L34: =GAP_test!D32 -> 9 | M34: =GAP_test!E32 -> 5.5714286 | N34: =GAP_test!H32 -> 10.222583 | S34: Lot Size
B35: =$S$11 -> SELL | C35: =$Y$11 -> WAIT | D35: =$S$12 -> -5 | E35: =$Y$12 -> 2 | F35: =Strength28!E49 -> USDCAD | G35: =Strength28!F49 -> 2.7142857 | H35: =Strength28!G49 -> 3 | I35: =GAP_test!G33 -> -2.8571429 | J35: =Strength28!H49*10 -> -2.8571429 | K35: =GAP_test!C33 -> 0.48051948 | L35: =GAP_test!D33 -> -1 | M35: =GAP_test!E33 -> -0.28571429 | N35: =GAP_test!H33 -> -2.2337567 | S35: 0.02
B36: =$S$11 -> SELL | C36: =$Z$11 -> WAIT | D36: =$S$12 -> -5 | E36: =$Z$12 -> 3 | F36: =Strength28!E50 -> USDCHF | G36: =Strength28!F50 -> 2.7142857 | H36: =Strength28!G50 -> 5 | I36: =GAP_test!G34 -> -5 | J36: =Strength28!H50*10 -> -22.857143 | K36: =GAP_test!C34 -> 0.14826498 | L36: =GAP_test!D34 -> -5 | M36: =GAP_test!E34 -> -2.2857143 | N36: =GAP_test!H34 -> -1.4775317
B37: =$S$11 -> SELL | C37: =$T$11 -> WAIT | D37: =$S$12 -> -5 | E37: =$T$12 -> -2 | F37: =Strength28!E51 -> USDJPY | G37: =Strength28!F51 -> 2.7142857 | H37: =Strength28!G51 -> 5.1428571
R38: GAP | S38: =Strength28!N25 -> USD | T38: =Strength28!O25 -> JPY | U38: =Strength28!P25 -> GBP | V38: =Strength28!Q25 -> EUR | W38: =Strength28!R25 -> AUD | X38: =Strength28!S25 -> NZD | Y38: =Strength28!T25 -> CAD | Z38: =Strength28!U25 -> CHF
R39: D1 | S39: =CRS!W2 -> 2.7142857 | T39: =CRS!W5 -> 5.1428571 | U39: =CRS!W4 -> 2.1428571 | V39: =CRS!W3 -> 3.2857143 | W39: =CRS!W7 -> 6.4285714 | X39: =CRS!W9 -> 8.2857143 | Y39: =CRS!W8 -> 3 | Z39: =CRS!W6 -> 5
R40: H4 | S40: =CRS!V2 -> 2.7142857 | T40: =CRS!V5 -> 5.1428571 | U40: =CRS!V4 -> 2.1428571 | V40: =CRS!V3 -> 3.2857143 | W40: =CRS!V7 -> 6.4285714 | X40: =CRS!V9 -> 8.2857143 | Y40: =CRS!V8 -> 3 | Z40: =CRS!V6 -> 5
R41: H1 | S41: =CRS!U2 -> -2.1428571 | T41: =CRS!U5 -> -0.14285714 | U41: =CRS!U4 -> -2.8571429 | V41: =CRS!U3 -> 0.28571429 | W41: =CRS!U7 -> -0.14285714 | X41: =CRS!U9 -> 2.2857143 | Y41: =CRS!U8 -> 0.57142857 | Z41: =CRS!U6 -> 2.1428571
R42: M30 | S42: =CRS!T2 -> -3.5714286 | T42: =CRS!T5 -> 1.5714286 | U42: =CRS!T4 -> -2 | V42: =CRS!T3 -> -0.57142857 | W42: =CRS!T7 -> 1.5714286 | X42: =CRS!T9 -> 4.5714286 | Y42: =CRS!T8 -> -1.4285714 | Z42: =CRS!T6 -> -0.14285714
...

Sheet OpenOrder
A1: OrderOpenTime | B1: OrderComment | C1: OrderMagicNumber | D1: OrderSymbol | E1: OrderType | F1: OrderLots | G1: OrderOpenPrice | H1: OrderStopLoss | I1: OrderTakeProfit
A2: 2015.12.11 20:00 | B2: CliveH | C2: 5678765 | D2: AUDCHF | E2: OP_SELL | F2: 0.01 | G2: 0.70659 | H2: 0.71131 | I2: 0.70541
A3: 2015.12.11 20:35 | B3: OrderFromExcel_19:35:26 | C3: 9991 | D3: AUDCHF | E3: OP_SELL | F3: 0.02 | G3: 0.70695 | H3: 0 | I3: 0
A4: 2015.12.10 17:57 | B4: Order2 | C4: 9998 | D4: AUDJPY | E4: OP_BUY | F4: 0.01 | G4: 88.796 | H4: 0 | I4: 0
A5: 2015.12.11 18:02 | B5: OrderFromExcel_17:02:07 | C5: 9991 | D5: AUDJPY | E5: OP_SELL | F5: 0.02 | G5: 87.208 | H5: 0 | I5: 0
A6: 2015.12.11 18:57 | B6: OrderFromExcel_17:57:23 | C6: 9991 | D6: AUDJPY | E6: OP_SELL | F6: 0.02 | G6: 87.264 | H6: 0 | I6: 0
A7: 2015.12.11 20:35 | B7: OrderFromExcel_19:35:02 | C7: 9991 | D7: AUDJPY | E7: OP_SELL | F7: 0.02 | G7: 86.861 | H7: 0 | I7: 0
A8: 2015.12.11 20:38 | B8: OrderFromExcel_19:38:39 | C8: 9991 | D8: AUDJPY | E8: OP_SELL | F8: 0.02 | G8: 86.888 | H8: 0 | I8: 0
A9: 2015.12.11 01:52 | B9: OrderFromExcel_00:52:08 | C9: 9991 | D9: AUDNZD | E9: OP_SELL | F9: 0.02 | G9: 1.0753 | H9: 0 | I9: 0
A10: 2015.12.11 02:10 | B10: OrderFromExcel_01:10:11 | C10: 9991 | D10: AUDNZD | E10: OP_SELL | F10: 0.02 | G10: 1.07492 | H10: 0 | I10: 0
A11: 2015.12.10 18:13 | B11: OrderFromExcel17:13:46 | C11: 9999 | D11: AUDUSD | E11: OP_BUY | F11: 0.01 | G11: 0.7306 | H11: 0 | I11: 0
A12: 2015.12.11 01:39 | B12: OrderFromExcel_00:39:47 | C12: 9991 | D12: AUDUSD | E12: OP_SELL | F12: 0.02 | G12: 0.72667 | H12: 0 | I12: 0
A13: 2015.12.11 02:09 | B13: OrderFromExcel_01:09:11 | C13: 9991 | D13: AUDUSD | E13: OP_SELL | F13: 0.02 | G13: 0.7263 | H13: 0 | I13: 0
... A52: 2015.12.11 02:11 | B52: OrderFromExcel_01:11:30 | C52: 9991 | D52: USDJPY | E52: OP_BUY | F52: 0.02 | G52: 121.843 | H52: 0 | I52: 0

Sheet Strength28
B1: BROKERS SUFFIX | C1: X: | Q1: =CORREL(Q5:Q7,R5:R7) -> 0.96867499 | R1: =CORREL(Q4:Q6, R4:R6) -> 0.99993874
B3: Pair | C3: AUDCAD | D3: AUDCHF | E3: AUDJPY | F3: AUDNZD | G3: AUDUSD | H3: CADCHF | I3: CADJPY | J3: CHFJPY | K3: EURAUD | L3: EURCAD | M3: EURCHF | N3: EURGBP | O3: EURJPY | P3: EURNZD | Q3: EURUSD | R3: GBPAUD | S3: GBPCAD | T3: GBPCHF | U3: GBPJPY | V3: GBPNZD | W3: GBPUSD | X3: NZDCAD | Y3: NZDCHF | Z3: NZDJPY | AA3: NZDUSD | AB3: USDCAD | AC3: USDCHF | AD3: USDJPY
B4: High | C4: =[2]!AUDCAD -> 0.98784 | D4: =[2]!AUDCHF -> 0.7458 | E4: =[2]!AUDJPY -> 78.446 | F4: =[2]!AUDNZD -> 1.03722 | G4: =[2]!AUDUSD -> 0.76885 | H4: =[2]!CADCHF -> 0.75553 | I4: =[2]!CADJPY -> 79.469 | J4: =[2]!CHFJPY -> 105.263 | K4: =[2]!EURAUD -> 1.46982 | L4: =[2]!EURCAD -> 1.44616 | M4: =[2]!EURCHF -> 1.0918 | N4: =[2]!EURGBP -> 0.84146 | O4: =[2]!EURJPY -> 114.884 | P4: =[2]!EURNZD -> 1.51954 | Q4: =[2]!EURUSD -> 1.12652 | R4: =[2]!GBPAUD -> 1.75262 | S4: =[2]!GBPCAD -> 1.72624 | T4: =[2]!GBPCHF -> 1.30304 | U4: =[2]!GBPJPY -> 137.121 | V4: =[2]!GBPNZD -> 1.81367 | W4: =[2]!GBPUSD -> 1.3439 | X4: =[2]!NZDCAD -> 0.96084 | Y4: =[2]!NZDCHF -> 0.72408 | Z4: =[2]!NZDJPY -> 75.954 | AA4: =[2]!NZDUSD -> 0.74792 | AB4: =[2]!USDCAD -> 1.28618 | AC4: =[2]!USDCHF -> 0.9709 | AD4: =[2]!USDJPY -> 102.128 | AE4: =[2]!i -> N\A | AF4: 0 | AG4: 0
B5: Ask | C5: =[3]!AUDCAD -> 0.98762 | D5: =[3]!AUDCHF -> 0.74441 | E5: =[3]!AUDJPY -> 78.009 | F5: =[3]!AUDNZD -> 1.02815 | G5: =[3]!AUDUSD -> 0.76878 | H5: =[3]!CADCHF -> 0.75379 | I5: =[3]!CADJPY -> 78.987 | J5: =[3]!CHFJPY -> 104.803 | K5: =[3]!EURAUD -> 1.46337 | L5: =[3]!EURCAD -> 1.44518 | M5: =[3]!EURCHF -> 1.08927 | N5: =[3]!EURGBP -> 0.84043 | O5: =[3]!EURJPY -> 114.149 | P5: =[3]!EURNZD -> 1.50454 | Q5: =[3]!EURUSD -> 1.12497 | R5: =[3]!GBPAUD -> 1.74128 | S5: =[3]!GBPCAD -> 1.71964 | T5: =[3]!GBPCHF -> 1.29615 | U5: =[3]!GBPJPY -> 135.824 | V5: =[3]!GBPNZD -> 1.79022 | W5: =[3]!GBPUSD -> 1.33859 | X5: =[3]!NZDCAD -> 0.96067 | Y5: =[3]!NZDCHF -> 0.72411 | Z5: =[3]!NZDJPY -> 75.88 | AA5: =[3]!NZDUSD -> 0.74783 | AB5: =[3]!USDCAD -> 1.28463 | AC5: =[3]!USDCHF -> 0.96827 | AD5: =[3]!USDJPY -> 101.469 | AE5: =[3]!i -> N\A | AF5: 3 | AG5: 1 | AK5: T | AL5: S
B6: Bid | C6: =[4]!AUDCAD -> 0.98753 | D6: =[4]!AUDCHF -> 0.74431 | E6: =[4]!AUDJPY -> 78.002 | F6: =[4]!AUDNZD -> 1.02799 | G6: =[4]!AUDUSD -> 0.76876 | H6: =[4]!CADCHF -> 0.75367 | I6: =[4]!CADJPY -> 78.981 | J6: =[4]!CHFJPY -> 104.791 | K6: =[4]!EURAUD -> 1.46326 | L6: =[4]!EURCAD -> 1.44511 | M6: =[4]!EURCHF -> 1.08919 | N6: =[4]!EURGBP -> 0.84039 | O6: =[4]!EURJPY -> 114.143 | P6: =[4]!EURNZD -> 1.50423 | Q6: =[4]!EURUSD -> 1.12496 | R6: =[4]!GBPAUD -> 1.74106 | S6: =[4]!GBPCAD -> 1.71951 | T6: =[4]!GBPCHF -> 1.29595 | U6: =[4]!GBPJPY -> 135.815 | V6: =[4]!GBPNZD -> 1.7899 | W6: =[4]!GBPUSD -> 1.33854 | X6: =[4]!NZDCAD -> 0.96054 | Y6: =[4]!NZDCHF -> 0.72393 | Z6: =[4]!NZDJPY -> 75.868 | AA6: =[4]!NZDUSD -> 0.74775 | AB6: =[4]!USDCAD -> 1.28458 | AC6: =[4]!USDCHF -> 0.9682 | AD6: =[4]!USDJPY -> 101.465 | AE6: =[4]!i -> N\A | AF6: 10 | AG6: 2 | AK6: 0 | AL6: 0.09065
B7: Low | C7: =[5]!AUDCAD -> 0.98271 | D7: =[5]!AUDCHF -> 0.74178 | E7: =[5]!AUDJPY -> 77.581 | F7: =[5]!AUDNZD -> 1.02639 | G7: =[5]!AUDUSD -> 0.76512 | H7: =[5]!CADCHF -> 0.75323 | I7: =[5]!CADJPY -> 78.746 | J7: =[5]!CHFJPY -> 104.329 | K7: =[5]!EURAUD -> 1.46303 | L7: =[5]!EURCAD -> 1.443 | M7: =[5]!EURCHF -> 1.08879 | N7: =[5]!EURGBP -> 0.8374 | O7: =[5]!EURJPY -> 113.824 | P7: =[5]!EURNZD -> 1.50398 | Q7: =[5]!EURUSD -> 1.12297 | R7: =[5]!GBPAUD -> 1.74044 | S7: =[5]!GBPCAD -> 1.71567 | T7: =[5]!GBPCHF -> 1.29398 | U7: =[5]!GBPJPY -> 135.647 | V7: =[5]!GBPNZD -> 1.78776 | W7: =[5]!GBPUSD -> 1.33591 | X7: =[5]!NZDCAD -> 0.95109 | Y7: =[5]!NZDCHF -> 0.71775 | Z7: =[5]!NZDJPY -> 75.047 | AA7: =[5]!NZDUSD -> 0.73969 | AB7: =[5]!USDCAD -> 1.2831 | AC7: =[5]!USDCHF -> 0.96773 | AD7: =[5]!USDJPY -> 101.209 | AE7: =[5]!i -> N\A | AF7: 25 | AG7: 3 | AK7: 1 | AL7: 0.093597725
B8: Spread | C8: =(C5-C6)*IF(RIGHT(C$3,3)="JPY",100,10000) -> 0.9 | D8: =(D5-D6)*IF(RIGHT(D$3,3)="JPY",100,10000) -> 1 | E8: =(E5-E6)*IF(RIGHT(E$3,3)="JPY",100,10000) -> 0.7 | F8: =(F5-F6)*IF(RIGHT(F$3,3)="JPY",100,10000) -> 1.6 | G8: =(G5-G6)*IF(RIGHT(G$3,3)="JPY",100,10000) -> 0.2 | H8: =(H5-H6)*IF(RIGHT(H$3,3)="JPY",100,10000) -> 1.2 | I8: =(I5-I6)*IF(RIGHT(I$3,3)="JPY",100,10000) -> 0.6 | J8: =(J5-J6)*IF(RIGHT(J$3,3)="JPY",100,10000) -> 1.2 | ... AD8: =(AD5-AD6)*IF(RIGHT(AD$3,3)="JPY",100,10000) -> 0.4 | AF8: 40 | AG8: 4 | AK8: 2 | AL8: 0.096542703
AF9: 50 | AG9: 5 | AK9: 3 | AL9: 0.099484934
B10: Point Range | C10: =($C4:$AD4-$C7:$AD7)*IF(RIGHT(C$3,3)="JPY",100,10000) -> 51.3 | D10: =($C4:$AD4-$C7:$AD7)*IF(RIGHT(D$3,3)="JPY",100,10000) -> 40.2 | E10: =($C4:$AD4-$C7:$AD7)*IF(RIGHT(E$3,3)="JPY",100,10000) -> 86.5 | F10: =($C4:$AD4-$C7:$AD7)*IF(RIGHT(F$3,3)="JPY",100,10000) -> 108.3 | G10: =($C4:$AD4-$C7:$AD7)*IF(RIGHT(G$3,3)="JPY",100,10000) -> 37.3 | H10: =($C4:$AD4-$C7:$AD7)*IF(RIGHT(H$3,3)="JPY",100,10000) -> 23 | I10: =($C4:$AD4-$C7:$AD7)*IF(RIGHT(I$3,3)="JPY",100,10000) -> 72.3 | J10: =($C4:$AD4-$C7:$AD7)*IF(RIGHT(J$3,3)="JPY",100,10000) -> 93.4 | ... AD10: =($C4:$AD4-$C7:$AD7)*IF(RIGHT(AD$3,3)="JPY",100,10000) -> 91.9 | AF10: 60 | AG10: 6 | AK10: 4 | AL10: 0.10242442
B11: Bid Ratio | C11: =($C6:$AD6-$C7:$AD7)/$C10:$AD10*IF(RIGHT(C$3,3)="JPY",100,10000) -> 0.93957115 | D11: =($C6:$AD6-$C7:$AD7)/$C10:$AD10*IF(RIGHT(D$3,3)="JPY",100,10000) -> 0.62935323 | E11: =($C6:$AD6-$C7:$AD7)/$C10:$AD10*IF(RIGHT(E$3,3)="JPY",100,10000) -> 0.4867052 | F11: =($C6:$AD6-$C7:$AD7)/$C10:$AD10*IF(RIGHT(F$3,3)="JPY",100,10000) -> 0.14773777 | G11: =($C6:$AD6-$C7:$AD7)/$C10:$AD10*IF(RIGHT(G$3,3)="JPY",100,10000) -> 0.97587131 | H11: =($C6:$AD6-$C7:$AD7)/$C10:$AD10*IF(RIGHT(H$3,3)="JPY",100,10000) -> 0.19130435 | I11: =($C6:$AD6-$C7:$AD7)/$C10:$AD10*IF(RIGHT(I$3,3)="JPY",100,10000) -> 0.32503458 | J11: =($C6:$AD6-$C7:$AD7)/$C10:$AD10*IF(RIGHT(J$3,3)="JPY",100,10000) -> 0.49464668 | ... AD11: =($C6:$AD6-$C7:$AD7)/$C10:$AD10*IF(RIGHT(AD$3,3)="JPY",100,10000) -> 0.27856366 | AF11: 75 | AG11: 7 | AK11: 5 | AL11: 0.10536117
AF12: 90 | AG12: 8 | AK12: 6 | AL12: 0.10829518
B13: Relative | C13: =LEFT(C3,3) -> AUD | D13: =LEFT(D3,3) -> AUD | E13: =LEFT(E3,3) -> AUD | F13: =LEFT(F3,3) -> AUD | G13: =LEFT(G3,3) -> AUD | H13: =LEFT(H3,3) -> CAD | I13: =LEFT(I3,3) -> CAD | J13: =LEFT(J3,3) -> CHF | ... AD13: =LEFT(AD3,3) -> USD | AF13: 97 | AG13: 9 | AK13: 7 | AL13: 0.11122645
C14: =LOOKUP(100*C11,$AF4:$AF13,$AG4:$AG13) -> 8 | D14: =LOOKUP(100*D11,$AF4:$AF13,$AG4:$AG13) -> 6 | E14: =LOOKUP(100*E11,$AF4:$AF13,$AG4:$AG13) -> 4 | F14: =LOOKUP(100*F11,$AF4:$AF13,$AG4:$AG13) -> 2 | G14: =LOOKUP(100*G11,$AF4:$AF13,$AG4:$AG13) -> 9 | H14: =LOOKUP(100*H11,$AF4:$AF13,$AG4:$AG13) -> 2 | I14: =LOOKUP(100*I11,$AF4:$AF13,$AG4:$AG13) -> 3 | J14: =LOOKUP(100*J11,$AF4:$AF13,$AG4:$AG13) -> 4 | ... AD14: =LOOKUP(100*AD11,$AF4:$AF13,$AG4:$AG13) -> 3 | AK14: 8 | AL14: 0.11415498
B15: Strength | C15: =RIGHT(C3,3) -> CAD | D15: =RIGHT(D3,3) -> CHF | E15: =RIGHT(E3,3) -> JPY | F15: =RIGHT(F3,3) -> NZD | G15: =RIGHT(G3,3) -> USD | H15: =RIGHT(H3,3) -> CHF | I15: =RIGHT(I3,3) -> JPY | J15: =RIGHT(J3,3) -> JPY | ... AD15: =RIGHT(AD3,3) -> JPY | AK15: 9 | AL15: 0.11708078
C16: =9-C14 -> 1 | D16: =9-D14 -> 3 | E16: =9-E14 -> 5 | F16: =9-F14 -> 7 | G16: =9-G14 -> 0 | H16: =9-H14 -> 7 | I16: =9-I14 -> 6 | J16: =9-J14 -> 5 | ... AD16: =9-AD14 -> 6 | AK16: 10 | AL16: 0.12000385
AK17: 11 | AL17: 0.12292419
B18: Total Strength | D18: USD | E18: EUR | F18: GBP | G18: CHF | H18: CAD | I18: AUD | J18: NZD | K18: JPY | AB18: cad | AK18: 12 | AL18: 0.12584181
D19: =(G16+Q16+W16+AA16+AB14+AC14+AD14)/7 -> 2.7142857 | E19: =(K14+L14+M14+N14+O14+P14+Q14)/7 -> 3.2857143 | F19: =(N16+R14+S14+T14+U14+V14+W14)/7 -> 2.1428571 | G19: =(D16+H16+J14+M16+T16+Y16+AC16)/7 -> 5 | H19: =(C16+H14+I14+L16+S16+X16+AB16)/7 -> 3 | I19: =(C14+D14+E14+F14+G14+K16+R16)/7 -> 6.4285714 | J19: =(F16+P16+V16+X14+Y14+Z14+AA14)/7 -> 8.2857143 | K19: =(E16+I16+J16+O16+U16+Z16+AD16)/7 -> 5.1428571 | V19: usd | W19: jpy | X19: gbp | Y19: eur | Z19: aud | AA19: nzd | AB19: cad | AC19: chf | AK19: 13 | AL19: 0.1287567
C20: # of evaluation points | D20: =COUNTIF($C$13:$AD$16,"=USD") -> 7 | E20: =COUNTIF($C$13:$AD$16,"=EUR") -> 7 | F20: 7 | G20: =COUNTIF($C$13:$AD$16,"=CHF") -> 7 | H20: =COUNTIF($C$13:$AD$16,"=CAD") -> 7 | I20: =COUNTIF($C$13:$AD$16,"=AUD") -> 7 | J20: 7 | K20: =COUNTIF($C$13:$AD$16,"=JPY") -> 7 | V20: =(H28*-1) -> -3.7142857 | W20: =(H26*-1) -> -1.2857143 | X20: =(H35*-1) -> -1.1428571 | Y20: =H32 -> -3.1428571 | Z20: =H24 -> 3.4285714 | AA20: =(H27*-1) -> 1.8571429 | AB20: =(H24*-1) -> -3.4285714 | AC20: =(H25*-1) -> -1.4285714 | AK20: 14 | AL20: 0.13166886
V21: =(H38*-1) -> -0.57142857 | W21: =(H30*-1) -> 2.1428571 | X21: =H39 -> -4.2857143 | Y21: =H33 -> 0.28571429 | Z21: =H25 -> 1.4285714 | AA21: =(H37*-1) -> 5 | AB21: =H29 -> -2 | AC21: =(H29*-1) -> 2 | AK21: 15 | AL21: 0.13457831
H22: Current | V22: =(H44*-1) -> 0.57142857 | W22: =(H31*-1) -> 0.14285714 | X22: =H40 -> -0.85714286 | Y22: =H34 -> -1.7142857 | Z22: =H26 -> 1.2857143 | AA22: =(H43*-1) -> 6.1428571 | AB22: =H30 -> -2.1428571 | AC22: =H31 -> -0.14285714 | AK22: 16 | AL22: 0.13748504
D23: Spread | E23: Pair | F23: Buy | G23: Sell | H23: δ | V23: =H49 -> -0.28571429 | W23: =(H36*-1) -> 1.8571429 | X23: =H41 -> -2.8571429 | Y23: =H35 -> 1.1428571 | Z23: =H27 -> -1.8571429 | AA23: =H45 -> 5.2857143 | AB23: =(H33*-1) -> -0.28571429 | AC23: =(H34*-1) -> 1.7142857 | AK23: 17 | AL23: 0.14038905
D24: =$C$8 -> 0.9 | E24: AUDCAD | F24: =HLOOKUP(LEFT(E24,3),$D$18:$K$19,2,FALSE) -> 6.4285714 | G24: =HLOOKUP(RIGHT(E24,3),$D$18:$K$19,2,FALSE) -> 3 | H24: =+F24-G24 -> 3.4285714 | I24: -1.5714286 | J24: =IF(E24="","",IF((H24-I24)>1,"Buy",IF((H24-I24)<-1,"Sell",IF((H24-I24)=0,"",IF((H24-I24)<1,""))))) -> Buy | K24: =IF(E24="","",IF((B24-C24)>0.1,"Buy",IF((B24-C24)<-0.1,"Sell",IF((B24-C24)=0,"",IF((B24-C24)<0.1,""))))) | V24: =H50 -> -2.2857143 | W24: =(H42*-1) -> 3 | X24: =H42 -> -3 | Y24: =H36 -> -1.8571429 | Z24: =H28 -> 3.7142857 | AA24: =H46 -> 3.2857143 | AB24: =(H40*-1) -> 0.85714286 | AC24: =(H41*-1) -> 2.8571429 | AK24: 18 | AL24: 0.14329034
D25: =$D$8 -> 1 | E25: AUDCHF | F25: =HLOOKUP(LEFT(E25,3),$D$18:$K$19,2,FALSE) -> 6.4285714 | G25: =HLOOKUP(RIGHT(E25,3),$D$18:$K$19,2,FALSE) -> 5 | H25: =+F25-G25 -> 1.4285714 | I25: -5 | J25: =IF(E25="","",IF((H25-I25)>1,"Buy",IF((H25-I25)<-1,"Sell",IF((H25-I25)=0,"",IF((H25-I25)<1,""))))) -> Buy | K25: =IF(E25="","",IF((B25-C25)>0.1,"Buy",IF((B25-C25)<-0.1,"Sell",IF((B25-C25)=0,"",IF((B25-C25)<0.1,""))))) | N25: USD | O25: JPY | P25: GBP | Q25: EUR | R25: AUD | S25: NZD | T25: CAD | U25: CHF | V25: =H51 -> -2.4285714 | W25: =(H47*-1) -> -3.1428571 | X25: =H43 -> -6.1428571 | Y25: =H37 -> -5 | Z25: =(H32*-1) -> 3.1428571 | AA25: =H47 -> 3.1428571 | AB25: =(H45*-1) -> -5.2857143 | AC25: =(H46*-1) -> -3.2857143 | AF25: 95 | AG25: 9 | AK25: 19 | AL25: 0.14618893
D26: =$E$8 -> 0.7 | E26: AUDJPY | F26: =HLOOKUP(LEFT(E26,3),$D$18:$K$19,2,FALSE) -> 6.4285714 | G26: =HLOOKUP(RIGHT(E26,3),$D$18:$K$19,2,FALSE) -> 5.1428571 | H26: =+F26-G26 -> 1.2857143 | I26: 1.1428571 | J26: =IF(E26="","",IF((H26-I26)>1,"Buy",IF((H26-I26)<-1,"Sell",IF((H26-I26)=0,"",IF((H26-I26)<1,""))))) | K26: =IF(E26="","",IF((B26-C26)>0.1,"Buy",IF((B26-C26)<-0.1,"Sell",IF((B26-C26)=0,"",IF((B26-C26)<0.1,""))))) | M26: SM | N26: =(G16+Q16+W16+AA16+AB14+AC14+AD14)/7 -> 2.7142857 | O26: =(E16+I16+J16+O16+U16+Z16+AD16)/7 -> 5.1428571 | P26: =(N16+R14+S14+T14+U14+V14+W14)/7 -> 2.1428571 | Q26: =(K14+L14+M14+N14+O14+P14+Q14)/7 -> 3.2857143 | R26: =(C14+D14+E14+F14+G14+K16+R16)/7 -> 6.4285714 | S26: =(F16+P16+V16+X14+Y14+Z14+AA14)/7 -> 8.2857143 | T26: =(C16+H14+I14+L16+S16+X16+AB16)/7 -> 3 | U26: =(D16+H16+J14+M16+T16+Y16+AC16)/7 -> 5 | V26: =(H48*-1) -> -5.5714286 | W26: =(H51*-1) -> 2.4285714 | X26: =H44 -> -0.57142857 | Y26: =H38 -> 0.57142857 | Z26: =(H39*-1) -> 4.2857143 | AA26: =H48 -> 5.5714286 | AB26: =(H49*-1) -> 0.28571429 | AC26: =(H50*-1) -> 2.2857143 | AF26: 90 | AG26: 8 | AK26: 20 | AL26: 0.1490848
D27: =$F$8 -> 1.6 | E27: AUDNZD | F27: =HLOOKUP(LEFT(E27,3),$D$18:$K$19,2,FALSE) -> 6.4285714 | G27: =HLOOKUP(RIGHT(E27,3),$D$18:$K$19,2,FALSE) -> 8.2857143 | H27: =+F27-G27 -> -1.8571429 | I27: -1.8571429 | J27: =IF(E27="","",IF((H27-I27)>1,"Buy",IF((H27-I27)<-1,"Sell",IF((H27-I27)=0,"",IF((H27-I27)<1,""))))) | K27: =IF(E27="","",IF((B27-C27)>0.1,"Buy",IF((B27-C27)<-0.1,"Sell",IF((B27-C27)=0,"",IF((B27-C27)<0.1,""))))) | M27: BIAS | N27: =V27-V28 -> -5 | O27: =W27-W28 -> 3 | P27: =X27-X28 -> -7 | Q27: =Y27-Y28 -> -1 | R27: =Z27-Z28 -> 5 | S27: =AA27-AA28 -> 7 | T27: =AB27-AB28 -> -3 | U27: =AC27-AC28 -> 1 | V27: =COUNTIF(V20:V26,">0") -> 1 | W27: =COUNTIF(W20:W26,">0") -> 5 | X27: =COUNTIF(X20:X26,">0") -> 0 | Y27: =COUNTIF(Y20:Y26,">0") -> 3 | Z27: =COUNTIF(Z20:Z26,">0") -> 6 | AA27: =COUNTIF(AA20:AA26,">0") -> 7 | AB27: =COUNTIF(AB20:AB26,">0") -> 2 | AC27: =COUNTIF(AC20:AC26,">0") -> 4 | AF27: 85 | AG27: 7 | AK27: 21 | AL27: 0.15197797
D28: =$G$8 -> 0.2 | E28: AUDUSD | F28: =HLOOKUP(LEFT(E28,3),$D$18:$K$19,2,FALSE) -> 6.4285714 | G28: =HLOOKUP(RIGHT(E28,3),$D$18:$K$19,2,FALSE) -> 2.7142857 | H28: =+F28-G28 -> 3.7142857 | I28: -1.1428571 | J28: =IF(E28="","",IF((H28-I28)>1,"Buy",IF((H28-I28)<-1,"Sell",IF((H28-I28)=0,"",IF((H28-I28)<1,""))))) -> Buy | K28: =IF(E28="","",IF((B28-C28)>0.1,"Buy",IF((B28-C28)<-0.1,"Sell",IF((B28-C28)=0,"",IF((B28-C28)<0.1,""))))) | M28: CRS | N28: =(G16-G14)+(Q16-Q14)+(W16-W14)+(AA16-AA14)+(AB14-AB16)+(AC14-AC16)+(AD14-AD16) -> -25 | O28: =(E16-E14)+(I16-I14)+(J16-J14)+(O16-O14)+(U16-U14)+(Z16-Z14)+(AD16-AD14) -> 9 | P28: =(N16-N14)+(R14-R16)+(S14-S16)+(T14-T16)+(U14-U16)+(V14-V16)+(W14-W16) -> -33 | Q28: =(K14-K16)+(L14-L16)+(M14-M16)+(N14-N16)+(O14-O16)+(P14-P16)+(Q14-Q16) -> -17 | R28: =(C14-C16)+(D14-D16)+(E14-E16)+(F14-F16)+(G14-G16)+(K16-K14)+(R16-R14) -> 27 | S28: =(F16-F14)+(P16-P14)+(V16-V14)+(X14-X16)+(Y14-Y16)+(Z14-Z16)+(AA14-AA16) -> 53 | T28: =(C16-C14)+(H14-H16)+(I14-I16)+(L16-L14)+(S16-S14)+(X16-X14)+(AB16-AB14) -> -21 | U28: =(D16-D14)+(H16-H14)+(J14-J16)+(M16-M14)+(T16-T14)+(Y16-Y14)+(AC16-AC14) -> 7 | V28: =COUNTIF(V20:V26,"<0") -> 6 | W28: =COUNTIF(W20:W26,"<0") -> 2 | X28: =COUNTIF(X20:X26,"<0") -> 7 | Y28: =COUNTIF(Y20:Y26,"<0") -> 4 | Z28: =COUNTIF(Z20:Z26,"<0") -> 1 | AA28: =COUNTIF(AA20:AA26,"<0") -> 0 | AB28: =COUNTIF(AB20:AB26,"<0") -> 5 | AC28: =COUNTIF(AC20:AC26,"<0") -> 3 | AF28: 80 | AG28: 6 | AK28: 22 | AL28: 0.15486843
D29: =$H$8 -> 1.2 | E29: CADCHF | F29: =HLOOKUP(LEFT(E29,3),$D$18:$K$19,2,FALSE) -> 3 | G29: =HLOOKUP(RIGHT(E29,3),$D$18:$K$19,2,FALSE) -> 5 | H29: =+F29-G29 -> -2 | I29: -3.4285714 | J29: =IF(E29="","",IF((H29-I29)>1,"Buy",IF((H29-I29)<-1,"Sell",IF((H29-I29)=0,"",IF((H29-I29)<1,""))))) -> Buy | K29: =IF(E29="","",IF((B29-C29)>0.1,"Buy",IF((B29-C29)<-0.1,"Sell",IF((B29-C29)=0,"",IF((B29-C29)<0.1,""))))) | AF29: 75 | AG29: 5 | AK29: 23 | AL29: 0.15775619
D30: =$I$8 -> 0.6 | E30: CADJPY | F30: =HLOOKUP(LEFT(E30,3),$D$18:$K$19,2,FALSE) -> 3 | G30: =HLOOKUP(RIGHT(E30,3),$D$18:$K$19,2,FALSE) -> 5.1428571 | H30: =+F30-G30 -> -2.1428571 | I30: 2.7142857 | J30: =IF(E30="","",IF((H30-I30)>1,"Buy",IF((H30-I30)<-1,"Sell",IF((H30-I30)=0,"",IF((H30-I30)<1,""))))) -> Sell | K30: =IF(E30="","",IF((B30-C30)>0.1,"Buy",IF((B30-C30)<-0.1,"Sell",IF((B30-C30)=0,"",IF((B30-C30)<0.1,""))))) | AF30: 70 | AG30: 4 | AK30: 24 | AL30: 0.16064124
D31: =$J$8 -> 1.2 | E31: CHFJPY | F31: =HLOOKUP(LEFT(E31,3),$D$18:$K$19,2,FALSE) -> 5 | G31: =HLOOKUP(RIGHT(E31,3),$D$18:$K$19,2,FALSE) -> 5.1428571 | H31: =+F31-G31 -> -0.14285714 | I31: 6.1428571 | J31: =IF(E31="","",IF((H31-I31)>1,"Buy",IF((H31-I31)<-1,"Sell",IF((H31-I31)=0,"",IF((H31-I31)<1,""))))) -> Sell | K31: =IF(E31="","",IF((B31-C31)>0.1,"Buy",IF((B31-C31)<-0.1,"Sell",IF((B31-C31)=0,"",IF((B31-C31)<0.1,""))))) | AF31: 65 | AG31: 3 | AK31: 25 | AL31: 0.1635236
D32: =$K$8 -> 1.1 | E32: EURAUD | F32: =HLOOKUP(LEFT(E32,3),$D$18:$K$19,2,FALSE) -> 3.2857143 | G32: =HLOOKUP(RIGHT(E32,3),$D$18:$K$19,2,FALSE) -> 6.4285714 | H32: =+F32-G32 -> -3.1428571 | I32: 3.5714286 | J32: =IF(E32="","",IF((H32-I32)>1,"Buy",IF((H32-I32)<-1,"Sell",IF((H32-I32)=0,"",IF((H32-I32)<1,""))))) -> Sell | K32: =IF(E32="","",IF((B32-C32)>0.1,"Buy",IF((B32-C32)<-0.1,"Sell",IF((B32-C32)=0,"",IF((B32-C32)<0.1,""))))) | Q32: =(D19+E19+F19+G19+H19+I19+J19+K19)/8 -> 4.5 | R32: =SUM((N26+O26+P26+Q26+R26+S26+T26+U26)/8) -> 4.5 | AF32: 60 | AG32: 2 | AK32: 26 | AL32: 0.16640326
D33: =$L$8 -> 0.7 | E33: EURCAD | F33: =HLOOKUP(LEFT(E33,3),$D$18:$K$19,2,FALSE) -> 3.2857143 | G33: =HLOOKUP(RIGHT(E33,3),$D$18:$K$19,2,FALSE) -> 3 | H33: =+F33-G33 -> 0.28571429 | I33: 2 | J33: =IF(E33="","",IF((H33-I33)>1,"Buy",IF((H33-I33)<-1,"Sell",IF((H33-I33)=0,"",IF((H33-I33)<1,""))))) -> Sell | K33: =IF(E33="","",IF((B33-C33)>0.1,"Buy",IF((B33-C33)<-0.1,"Sell",IF((B33-C33)=0,"",IF((B33-C33)<0.1,""))))) | AF33: 55 | AG33: 1 | AK33: 27 | AL33: 0.16928022
D34: =$M$8 -> 0.8 | E34: EURCHF | F34: =HLOOKUP(LEFT(E34,3),$D$18:$K$19,2,FALSE) -> 3.2857143 | G34: =HLOOKUP(RIGHT(E34,3),$D$18:$K$19,2,FALSE) -> 5 | H34: =+F34-G34 -> -1.7142857 | I34: -1.4285714 | J34: =IF(E34="","",IF((H34-I34)>1,"Buy",IF((H34-I34)<-1,"Sell",IF((H34-I34)=0,"",IF((H34-I34)<1,""))))) | K34: =IF(E34="","",IF((B34-C34)>0.1,"Buy",IF((B34-C34)<-0.1,"Sell",IF((B34-C34)=0,"",IF((B34-C34)<0.1,""))))) | N34: =(G16+Q16+W16+AA16+AB14+AC14+AD14) -> 19 | O34: =(E16+I16+J16+O16+U16+Z16+AD16) -> 36 | AF34: 50 | AG34: 0 | AK34: 28 | AL34: 0.17215449
D35: =$N$8 -> 0.4 | E35: EURGBP | F35: =HLOOKUP(LEFT(E35,3),$D$18:$K$19,2,FALSE) -> 3.2857143 | G35: =HLOOKUP(RIGHT(E35,3),$D$18:$K$19,2,FALSE) -> 2.1428571 | H35: =+F35-G35 -> 1.1428571 | I35: 0.14285714 | J35: =IF(E35="","",IF((H35-I35)>1,"Buy",IF((H35-I35)<-1,"Sell",IF((H35-I35)=0,"",IF((H35-I35)<1,""))))) -> FALSE | K35: =IF(E35="","",IF((B35-C35)>0.1,"Buy",IF((B35-C35)<-0.1,"Sell",IF((B35-C35)=0,"",IF((B35-C35)<0.1,""))))) | AF35: 45 | AG35: -1 | AK35: 29 | AL35: 0.17502607
D36: =$O$8 -> 0.6 | E36: EURJPY | F36: =HLOOKUP(LEFT(E36,3),$D$18:$K$19,2,FALSE) -> 3.2857143 | G36: =HLOOKUP(RIGHT(E36,3),$D$18:$K$19,2,FALSE) -> 5.1428571 | H36: =+F36-G36 -> -1.8571429 | I36: 4.7142857 | J36: =IF(E36="","",IF((H36-I36)>1,"Buy",IF((H36-I36)<-1,"Sell",IF((H36-I36)=0,"",IF((H36-I36)<1,""))))) -> Sell | K36: =IF(E36="","",IF((B36-C36)>0.1,"Buy",IF((B36-C36)<-0.1,"Sell",IF((B36-C36)=0,"",IF((B36-C36)<0.1,""))))) | AF36: 40 | AG36: -2 | AK36: 30 | AL36: 0.17789495
D37: =$P$8 -> 3.1 | E37: EURNZD | F37: =HLOOKUP(LEFT(E37,3),$D$18:$K$19,2,FALSE) -> 3.2857143 | G37: =HLOOKUP(RIGHT(E37,3),$D$18:$K$19,2,FALSE) -> 8.2857143 | H37: =+F37-G37 -> -5 | I37: 1.7142857 | J37: =IF(E37="","",IF((H37-I37)>1,"Buy",IF((H37-I37)<-1,"Sell",IF((H37-I37)=0,"",IF((H37-I37)<1,""))))) -> Sell | K37: =IF(E37="","",IF((B37-C37)>0.1,"Buy",IF((B37-C37)<-0.1,"Sell",IF((B37-C37)=0,"",IF((B37-C37)<0.1,""))))) | AF37: 35 | AG37: -3 | AK37: 31 | AL37: 0.18076116
D38: =$Q$8 -> 0.1 | E38: EURUSD | F38: =HLOOKUP(LEFT(E38,3),$D$18:$K$19,2,FALSE) -> 3.2857143 | G38: =HLOOKUP(RIGHT(E38,3),$D$18:$K$19,2,FALSE) -> 2.7142857 | H38: =+F38-G38 -> 0.57142857 | I38: 2.4285714 | J38: =IF(E38="","",IF((H38-I38)>1,"Buy",IF((H38-I38)<-1,"Sell",IF((H38-I38)=0,"",IF((H38-I38)<1,""))))) -> Sell | K38: =IF(E38="","",IF((B38-C38)>0.1,"Buy",IF((B38-C38)<-0.1,"Sell",IF((B38-C38)=0,"",IF((B38-C38)<0.1,""))))) | AF38: 30 | AG38: -4 | AK38: 32 | AL38: 0.18362467
D39: =$R$8 -> 2.2 | E39: GBPAUD | F39: =HLOOKUP(LEFT(E39,3),$D$18:$K$19,2,FALSE) -> 2.1428571 | G39: =HLOOKUP(RIGHT(E39,3),$D$18:$K$19,2,FALSE) -> 6.4285714 | H39: =+F39-G39 -> -4.2857143 | I39: 3.4285714 | J39: =IF(E39="","",IF((H39-I39)>1,"Buy",IF((H39-I39)<-1,"Sell",IF((H39-I39)=0,"",IF((H39-I39)<1,""))))) -> Sell | K39: =IF(E39="","",IF((B39-C39)>0.1,"Buy",IF((B39-C39)<-0.1,"Sell",IF((B39-C39)=0,"",IF((B39-C39)<0.1,""))))) | AF39: 25 | AG39: -5 | AK39: 33 | AL39: 0.1864855
D40: =$S$8 -> 1.3 | E40: GBPCAD | F40: =HLOOKUP(LEFT(E40,3),$D$18:$K$19,2,FALSE) -> 2.1428571 | G40: =HLOOKUP(RIGHT(E40,3),$D$18:$K$19,2,FALSE) -> 3 | H40: =+F40-G40 -> -0.85714286 | I40: 1.8571429 | J40: =IF(E40="","",IF((H40-I40)>1,"Buy",IF((H40-I40)<-1,"Sell",IF((H40-I40)=0,"",IF((H40-I40)<1,""))))) -> Sell | K40: =IF(E40="","",IF((B40-C40)>0.1,"Buy",IF((B40-C40)<-0.1,"Sell",IF((B40-C40)=0,"",IF((B40-C40)<0.1,""))))) | AF40: 20 | AG40: -6 | AK40: 34 | AL40: 0.18934366
D41: =$T$8 -> 2 | E41: GBPCHF | F41: =HLOOKUP(LEFT(E41,3),$D$18:$K$19,2,FALSE) -> 2.1428571 | G41: =HLOOKUP(RIGHT(E41,3),$D$18:$K$19,2,FALSE) -> 5 | H41: =+F41-G41 -> -2.8571429 | I41: -1.5714286 | J41: =IF(E41="","",IF((H41-I41)>1,"Buy",IF((H41-I41)<-1,"Sell",IF((H41-I41)=0,"",IF((H41-I41)<1,""))))) -> Sell | K41: =IF(E41="","",IF((B41-C41)>0.1,"Buy",IF((B41-C41)<-0.1,"Sell",IF((B41-C41)=0,"",IF((B41-C41)<0.1,""))))) | AF41: 15 | AG41: -7 | AK41: 35 | AL41: 0.19219913
...

Sheet CRS
A1: 0 | C1: =B14*0.66 -> 15.84 | D1: =-B14*0.66 -> -15.84 | E1: CRS | F1: Current | G1: New=30MIN | H1: Old=1HOUR | I1: DIRECTION | K1: Strength | L1: Current_S | M1: 15Min | N1: 30Min | O1: 1Hour | P1: 4Hour | Q1: D1 | S1: 15_GAP | T1: 30_GAP | U1: H1_GAP | V1: H4_GAP | W1: D1_GAP
A2: USD | B2: =IF(A2="","",HLOOKUP(A2,smArray,4,FALSE)) -> -25 | C2: =B2+C1 -> -9.16 | D2: =C2+D1 -> -25 | F2: =B2 -> -25 | G2: -31 | H2: -17 | I2: =IF(A2="","",IF(G2>H2,"Buy",IF(G2<H2,"Sell",IF(G2=H2,"Wait")))) -> Sell | J2: =IF(A2="","",IF(F2>G2,"Buy",IF(F2<G2,"Sell",IF(F2=G2,"Wait")))) -> Buy | K2: =A2 -> USD | L2: =IF(A2="","",HLOOKUP(A2,smArray,2,FALSE)) -> 2.7142857 | M2: 6.2857143 | N2: 6.2857143 | O2: 4.8571429 | S2: =L2-M2 -> -3.5714286 | T2: =L2-N2 -> -3.5714286 | U2: =L2-O2 -> -2.1428571 | V2: =L2-P2 -> 2.7142857 | W2: =L2-Q2 -> 2.7142857
A3: EUR | B3: =IF(A3="","",HLOOKUP(A3,smArray,4,FALSE)) -> -17 | C3: =B3+C1 -> -1.16 | D3: =C3+D1 -> -17 | F3: =B3 -> -17 | G3: 31 | H3: 27 | I3: =IF(A3="","",IF(G3>H3,"Buy",IF(G3<H3,"Sell",IF(G3=H3,"Wait")))) -> Buy | J3: =IF(A3="","",IF(F3>G3,"Buy",IF(F3<G3,"Sell",IF(F3=G3,"Wait")))) -> Sell | K3: =A3 -> EUR | L3: =IF(A3="","",HLOOKUP(A3,smArray,2,FALSE)) -> 3.2857143 | M3: 3.8571429 | N3: 3.8571429 | O3: 3 | S3: =L3-M3 -> -0.57142857 | T3: =L3-N3 -> -0.57142857 | U3: =L3-O3 -> 0.28571429 | V3: =L3-P3 -> 3.2857143 | W3: =L3-Q3 -> 3.2857143
A4: GBP | B4: =IF(A4="","",HLOOKUP(A4,smArray,4,FALSE)) -> -33 | C4: =B4+C1 -> -17.16 | D4: =C4+D1 -> -33 | F4: =B4 -> -33 | G4: 1 | H4: 15 | I4: =IF(A4="","",IF(G4>H4,"Buy",IF(G4<H4,"Sell",IF(G4=H4,"Wait")))) -> Sell | J4: =IF(A4="","",IF(F4>G4,"Buy",IF(F4<G4,"Sell",IF(F4=G4,"Wait")))) -> Sell | K4: =A4 -> GBP | L4: =IF(A4="","",HLOOKUP(A4,smArray,2,FALSE)) -> 2.1428571 | M4: 4.1428571 | N4: 4.1428571 | O4: 5 | S4: =L4-M4 -> -2 | T4: =L4-N4 -> -2 | U4: =L4-O4 -> -2.8571429 | V4: =L4-P4 -> 2.1428571 | W4: =L4-Q4 -> 2.1428571
A5: JPY | B5: =IF(A5="","",HLOOKUP(A5,smArray,4,FALSE)) -> 9 | C5: =B5+C1 -> 24.84 | D5: =C5+D1 -> 9 | F5: =B5 -> 9 | G5: -9 | H5: 1 | I5: =IF(A5="","",IF(G5>H5,"Buy",IF(G5<H5,"Sell",IF(G5=H5,"Wait")))) -> Sell | J5: =IF(A5="","",IF(F5>G5,"Buy",IF(F5<G5,"Sell",IF(F5=G5,"Wait")))) -> Buy | K5: =A5 -> JPY | L5: =IF(A5="","",HLOOKUP(A5,smArray,2,FALSE)) -> 5.1428571 | M5: 3.5714286 | N5: 3.5714286 | O5: 5.2857143 | S5: =L5-M5 -> 1.5714286 | T5: =L5-N5 -> 1.5714286 | U5: =L5-O5 -> -0.14285714 | V5: =L5-P5 -> 5.1428571 | W5: =L5-Q5 -> 5.1428571
A6: CHF | B6: =IF(A6="","",HLOOKUP(A6,smArray,4,FALSE)) -> 7 | C6: =B6+C1 -> 22.84 | D6: =C6+D1 -> 7 | F6: =B6 -> 7 | G6: 29 | H6: 11 | I6: =IF(A6="","",IF(G6>H6,"Buy",IF(G6<H6,"Sell",IF(G6=H6,"Wait")))) -> Buy | J6: =IF(A6="","",IF(F6>G6,"Buy",IF(F6<G6,"Sell",IF(F6=G6,"Wait")))) -> Sell | K6: =A6 -> CHF | L6: =IF(A6="","",HLOOKUP(A6,smArray,2,FALSE)) -> 5 | M6: 5.1428571 | N6: 5.1428571 | O6: 2.8571429 | S6: =L6-M6 -> -0.14285714 | T6: =L6-N6 -> -0.14285714 | U6: =L6-O6 -> 2.1428571 | V6: =L6-P6 -> 5 | W6: =L6-Q6 -> 5
A7: AUD | B7: =IF(A7="","",HLOOKUP(A7,smArray,4,FALSE)) -> 27 | C7: =B7+C1 -> 42.84 | D7: =C7+D1 -> 27 | F7: =B7 -> 27 | G7: -31 | H7: -27 | I7: =IF(A7="","",IF(G7>H7,"Buy",IF(G7<H7,"Sell",IF(G7=H7,"Wait")))) -> Sell | J7: =IF(A7="","",IF(F7>G7,"Buy",IF(F7<G7,"Sell",IF(F7=G7,"Wait")))) -> Buy | K7: =A7 -> AUD | L7: =IF(A7="","",HLOOKUP(A7,smArray,2,FALSE)) -> 6.4285714 | M7: 4.8571429 | N7: 4.8571429 | O7: 6.5714286 | S7: =L7-M7 -> 1.5714286 | T7: =L7-N7 -> 1.5714286 | U7: =L7-O7 -> -0.14285714 | V7: =L7-P7 -> 6.4285714 | W7: =L7-Q7 -> 6.4285714
A8: CAD | B8: =IF(A8="","",HLOOKUP(A8,smArray,4,FALSE)) -> -21 | C8: =B8+C1 -> -5.16 | D8: =C8+D1 -> -21 | F8: =B8 -> -21 | G8: 11 | H8: 9 | I8: =IF(A8="","",IF(G8>H8,"Buy",IF(G8<H8,"Sell",IF(G8=H8,"Wait")))) -> Buy | J8: =IF(A8="","",IF(F8>G8,"Buy",IF(F8<G8,"Sell",IF(F8=G8,"Wait")))) -> Sell | K8: =A8 -> CAD | L8: =IF(A8="","",HLOOKUP(A8,smArray,2,FALSE)) -> 3 | M8: 4.4285714 | N8: 4.4285714 | O8: 2.4285714 | S8: =L8-M8 -> -1.4285714 | T8: =L8-N8 -> -1.4285714 | U8: =L8-O8 -> 0.57142857 | V8: =L8-P8 -> 3 | W8: =L8-Q8 -> 3
A9: NZD | B9: =IF(A9="","",HLOOKUP(A9,smArray,4,FALSE)) -> 53 | C9: =B9+C1 -> 68.84 | D9: =C9+D1 -> 53 | F9: =B9 -> 53 | G9: -1 | H9: -19 | I9: =IF(A9="","",IF(G9>H9,"Buy",IF(G9<H9,"Sell",IF(G9=H9,"Wait")))) -> Buy | J9: =IF(A9="","",IF(F9>G9,"Buy",IF(F9<G9,"Sell",IF(F9=G9,"Wait")))) -> Buy | K9: =A9 -> NZD | L9: =IF(A9="","",HLOOKUP(A9,smArray,2,FALSE)) -> 8.2857143 | M9: 3.7142857 | N9: 3.7142857 | O9: 6 | S9: =L9-M9 -> 4.5714286 | T9: =L9-N9 -> 4.5714286 | U9: =L9-O9 -> 2.2857143 | V9: =L9-P9 -> 8.2857143 | W9: =L9-Q9 -> 8.2857143
A11: sell | B11: =SUMIF(B2:B9,"<0") -> -96 | C11: =SUMIF(C2:C9,"<0") -> -32.64 | D11: =SUMIF(D2:D9,"<0") -> -96
A12: buy | B12: =SUMIF(B2:B9,">0") -> 96 | C12: =SUMIF(C2:C9,">0") -> 159.36 | D12: =SUMIF(D2:D9,">0") -> 96
A13: sell+buy | B13: =B11*-1+B12 -> 192 | C13: =C11*-1+C12 -> 192 | D13: =D11*-1+D12 -> 192
A14: Avarage | B14: =B13/8 -> 24 | C14: =C13/8 -> 24 | D14: =D13/8 -> 24 | F14: USD | G14: JPY | H14: GBP | I14: EUR | J14: AUD | K14: NZD | L14: CAD | M14: CHF
F15: =IF(F14="","",HLOOKUP(F14,sYNC2,2,FALSE)) -> -3.7142857 | G15: =IF(G14="","",HLOOKUP(G14,sYNC2,2,FALSE)) -> -1.2857143 | H15: =IF(H14="","",HLOOKUP(H14,sYNC2,2,FALSE)) -> -1.1428571 | I15: =IF(I14="","",HLOOKUP(I14,sYNC2,2,FALSE)) -> -3.1428571 | J15: =IF(J14="","",HLOOKUP(J14,sYNC2,2,FALSE)) -> 3.4285714 | K15: =IF(K14="","",HLOOKUP(K14,sYNC2,2,FALSE)) -> 1.8571429 | L15: =IF(L14="","",HLOOKUP(L14,sYNC2,2,FALSE)) -> -3.4285714 | M15: =IF(M14="","",HLOOKUP(M14,sYNC2,2,FALSE)) -> -1.4285714
A16: Data RSI | C16: Market RSI | F16: =IF(F14="","",HLOOKUP(F14,sYNC2,3,FALSE)) -> -0.57142857 | G16: =IF(G14="","",HLOOKUP(G14,sYNC2,3,FALSE)) -> 2.1428571 | H16: =IF(H14="","",HLOOKUP(H14,sYNC2,3,FALSE)) -> -4.2857143 | I16: =IF(I14="","",HLOOKUP(I14,sYNC2,3,FALSE)) -> 0.28571429 | J16: =IF(J14="","",HLOOKUP(J14,sYNC2,3,FALSE)) -> 1.4285714 | K16: =IF(K14="","",HLOOKUP(K14,sYNC2,3,FALSE)) -> 5 | L16: =IF(L14="","",HLOOKUP(L14,sYNC2,3,FALSE)) -> -2 | M16: =IF(M14="","",HLOOKUP(M14,sYNC2,3,FALSE)) -> 2
A17: MAX | B17: 0.6 | C17: MAX | D17: =E32 -> 0.8 | F17: =IF(F14="","",HLOOKUP(F14,sYNC2,4,FALSE)) -> 0.57142857 | G17: =IF(G14="","",HLOOKUP(G14,sYNC2,4,FALSE)) -> 0.14285714 | H17: =IF(H14="","",HLOOKUP(H14,sYNC2,4,FALSE)) -> -0.85714286 | I17: =IF(I14="","",HLOOKUP(I14,sYNC2,4,FALSE)) -> -1.7142857 | J17: =IF(J14="","",HLOOKUP(J14,sYNC2,4,FALSE)) -> 1.2857143 | K17: =IF(K14="","",HLOOKUP(K14,sYNC2,4,FALSE)) -> 6.1428571 | L17: =IF(L14="","",HLOOKUP(L14,sYNC2,4,FALSE)) -> -2.1428571 | M17: =IF(M14="","",HLOOKUP(M14,sYNC2,4,FALSE)) -> -0.14285714
A18: MIN | B18: 0.4 | C18: MIN | D18: =E33 -> 0.3 | F18: =IF(F14="","",HLOOKUP(F14,sYNC2,5,FALSE)) -> -0.28571429 | G18: =IF(G14="","",HLOOKUP(G14,sYNC2,5,FALSE)) -> 1.8571429 | H18: =IF(H14="","",HLOOKUP(H14,sYNC2,5,FALSE)) -> -2.8571429 | I18: =IF(I14="","",HLOOKUP(I14,sYNC2,5,FALSE)) -> 1.1428571 | J18: =IF(J14="","",HLOOKUP(J14,sYNC2,5,FALSE)) -> -1.8571429 | K18: =IF(K14="","",HLOOKUP(K14,sYNC2,5,FALSE)) -> 5.2857143 | L18: =IF(L14="","",HLOOKUP(L14,sYNC2,5,FALSE)) -> -0.28571429 | M18: =IF(M14="","",HLOOKUP(M14,sYNC2,5,FALSE)) -> 1.7142857
A19: CRS Work | C19: short | D19: long | F19: =IF(F14="","",HLOOKUP(F14,sYNC2,6,FALSE)) -> -2.2857143 | G19: =IF(G14="","",HLOOKUP(G14,sYNC2,6,FALSE)) -> 3 | H19: =IF(H14="","",HLOOKUP(H14,sYNC2,6,FALSE)) -> -3 | I19: =IF(I14="","",HLOOKUP(I14,sYNC2,6,FALSE)) -> -1.8571429 | J19: =IF(J14="","",HLOOKUP(J14,sYNC2,6,FALSE)) -> 3.7142857 | K19: =IF(K14="","",HLOOKUP(K14,sYNC2,6,FALSE)) -> 3.2857143 | L19: =IF(L14="","",HLOOKUP(L14,sYNC2,6,FALSE)) -> 0.85714286 | M19: =IF(M14="","",HLOOKUP(M14,sYNC2,6,FALSE)) -> 2.8571429
A20: Zero | B20: =(B11+B12)/8 -> 0 | C20: =C1 -> 15.84 | D20: =D1 -> -15.84 | E20: CRS_tradzone midpoint | F20: =IF(F14="","",HLOOKUP(F14,sYNC2,7,FALSE)) -> -2.4285714 | G20: =IF(G14="","",HLOOKUP(G14,sYNC2,7,FALSE)) -> -3.1428571 | H20: =IF(H14="","",HLOOKUP(H14,sYNC2,7,FALSE)) -> -6.1428571 | I20: =IF(I14="","",HLOOKUP(I14,sYNC2,7,FALSE)) -> -5 | J20: =IF(J14="","",HLOOKUP(J14,sYNC2,7,FALSE)) -> 3.1428571 | K20: =IF(K14="","",HLOOKUP(K14,sYNC2,7,FALSE)) -> 3.1428571 | L20: =IF(L14="","",HLOOKUP(L14,sYNC2,7,FALSE)) -> -5.2857143 | M20: =IF(M14="","",HLOOKUP(M14,sYNC2,7,FALSE)) -> -3.2857143
A21: Avarage | B21: =B14 -> 24 | C21: =C14 -> 24 | D21: =D14 -> 24 | E21: CRS_traderoom | F21: =IF(F14="","",HLOOKUP(F14,sYNC2,8,FALSE)) -> -5.5714286 | G21: =IF(G14="","",HLOOKUP(G14,sYNC2,8,FALSE)) -> 2.4285714 | H21: =IF(H14="","",HLOOKUP(H14,sYNC2,8,FALSE)) -> -0.57142857 | I21: =IF(I14="","",HLOOKUP(I14,sYNC2,8,FALSE)) -> 0.57142857 | J21: =IF(J14="","",HLOOKUP(J14,sYNC2,8,FALSE)) -> 4.2857143 | K21: =IF(K14="","",HLOOKUP(K14,sYNC2,8,FALSE)) -> 5.5714286 | L21: =IF(L14="","",HLOOKUP(L14,sYNC2,8,FALSE)) -> 0.28571429 | M21: =IF(M14="","",HLOOKUP(M14,sYNC2,8,FALSE)) -> 2.2857143
A22: MAX | B22: =B20+B21*B25 -> 19.2 | C22: =C20+C21*B25 -> 35.04 | D22: =D20+D21*B25 -> 3.36 | E22: CRS_min (minmax) | F22: =IF(F14="","",HLOOKUP(F14,sYNC2,9,FALSE)) -> 1 | G22: =IF(G14="","",HLOOKUP(G14,sYNC2,9,FALSE)) -> 5 | H22: =IF(H14="","",HLOOKUP(H14,sYNC2,9,FALSE)) -> 0 | I22: =IF(I14="","",HLOOKUP(I14,sYNC2,9,FALSE)) -> 3 | J22: =IF(J14="","",HLOOKUP(J14,sYNC2,9,FALSE)) -> 6 | K22: =IF(K14="","",HLOOKUP(K14,sYNC2,9,FALSE)) -> 7 | L22: =IF(L14="","",HLOOKUP(L14,sYNC2,9,FALSE)) -> 2 | M22: =IF(M14="","",HLOOKUP(M14,sYNC2,9,FALSE)) -> 4
A23: MIN | B23: =B20-B14*(1-B26) -> -16.8 | C23: =C20-C14*(1-B26) -> -0.96 | D23: =D20-D14*(1-B26) -> -32.64 | E23: CRS max (minmax) | F23: =IF(F14="","",HLOOKUP(F14,sYNC2,10,FALSE))*-1 -> -6 | G23: =IF(G14="","",HLOOKUP(G14,sYNC2,10,FALSE))*-1 -> -2 | H23: =IF(H14="","",HLOOKUP(H14,sYNC2,10,FALSE))*-1 -> -7 | I23: =IF(I14="","",HLOOKUP(I14,sYNC2,10,FALSE))*-1 -> -4 | J23: =IF(J14="","",HLOOKUP(J14,sYNC2,10,FALSE))*-1 -> -1 | K23: =IF(K14="","",HLOOKUP(K14,sYNC2,10,FALSE))*-1 -> 0 | L23: =IF(L14="","",HLOOKUP(L14,sYNC2,10,FALSE))*-1 -> -5 | M23: =IF(M14="","",HLOOKUP(M14,sYNC2,10,FALSE))*-1 -> -3
A24: CRS level | F24: =I2 -> Sell | G24: =I5 -> Sell | H24: =I4 -> Sell | I24: =I3 -> Buy | J24: =I7 -> Sell | K24: =I9 -> Buy | L24: =I8 -> Buy | M24: =I6 -> Buy
A25: Buy | B25: =E32 -> 0.8 | C25: =B20+B21*B25 -> 19.2
A26: Sell | B26: =E33 -> 0.3 | C26: =B20-B21*(1-B26) -> -16.8
A27: Correlation
A28: Corel D1 | B28: 25
A29: Corel H1 | B29: 25
A30: RSI Work
A31: % | B31: цена пая | C31: доля | D31: вес доли | E31: RSI
A32: =B12/B13 -> 0.5 | B32: =A32/0.5 -> 1 | C32: =1-B17 -> 0.4 | D32: =B12*B32*C32 -> 38.4 | E32: =1-D32/B13 -> 0.8
A33: =B11/B13 -> -0.5 | B33: =A33/0.5 -> -1 | C33: =B18 -> 0.4 | D33: =B11*B33*C33 -> 38.4 | E33: =0.5-D33/B13 -> 0.3

Sheet GAP_test
C1: =[6]!AUDCAD -> 42620.651 | D1: =NOW() -> 42622.496 | E1: =C1 -> 42620.651
M2: Curr | N2: USD | O2: JPY | P2: GBP | Q2: EUR | R2: AUD | S2: NZD | T2: CAD | U2: CHF
M3: SM | N3: =IF(N2="","",HLOOKUP(N2,smArray,2,FALSE)) -> 2.7142857 | O3: =IF(O2="","",HLOOKUP(O2,smArray,2,FALSE)) -> 5.1428571 | P3: =IF(P2="","",HLOOKUP(P2,smArray,2,FALSE)) -> 2.1428571 | Q3: =IF(Q2="","",HLOOKUP(Q2,smArray,2,FALSE)) -> 3.2857143 | R3: =IF(R2="","",HLOOKUP(R2,smArray,2,FALSE)) -> 6.4285714 | S3: =IF(S2="","",HLOOKUP(S2,smArray,2,FALSE)) -> 8.2857143 | T3: =IF(T2="","",HLOOKUP(T2,smArray,2,FALSE)) -> 3 | U3: =IF(U2="","",HLOOKUP(U2,smArray,2,FALSE)) -> 5
M4: BIAS | N4: =IF(N2="","",HLOOKUP(N2,smArray,3,FALSE)) -> -5 | O4: =IF(O2="","",HLOOKUP(O2,smArray,3,FALSE)) -> 3 | P4: =IF(P2="","",HLOOKUP(P2,smArray,3,FALSE)) -> -7 | Q4: =IF(Q2="","",HLOOKUP(Q2,smArray,3,FALSE)) -> -1 | R4: =IF(R2="","",HLOOKUP(R2,smArray,3,FALSE)) -> 5 | S4: =IF(S2="","",HLOOKUP(S2,smArray,3,FALSE)) -> 7 | T4: =IF(T2="","",HLOOKUP(T2,smArray,3,FALSE)) -> -3 | U4: =IF(U2="","",HLOOKUP(U2,smArray,3,FALSE)) -> 1
M5: CRS | N5: =IF(N2="","",HLOOKUP(N2,smArray,4,FALSE)) -> -25 | O5: =IF(O2="","",HLOOKUP(O2,smArray,4,FALSE)) -> 9 | P5: =IF(P2="","",HLOOKUP(P2,smArray,4,FALSE)) -> -33 | Q5: =IF(Q2="","",HLOOKUP(Q2,smArray,4,FALSE)) -> -17 | R5: =IF(R2="","",HLOOKUP(R2,smArray,4,FALSE)) -> 27 | S5: =IF(S2="","",HLOOKUP(S2,smArray,4,FALSE)) -> 53 | T5: =IF(T2="","",HLOOKUP(T2,smArray,4,FALSE)) -> -21 | U5: =IF(U2="","",HLOOKUP(U2,smArray,4,FALSE)) -> 7
A7: Spread | B7: Pair | C7: BidRatio | D7: Rstrength | E7: BS Ratio | F7: Previous | G7: <> | H7: =Stren_Dir!D7 -> HeatMapH4 | I7: Sync/Bias | K7: CRS | M7: HM_M30 | N7: HM_H1 | O7: HM_H4 | P7: HM_D1 | Q7: HM_W1 | R7: HM_Mn | S7: m30RSI2 | AL7: RS_BASE | AM7: RS_QUOTE
A8: =IF(B8="","",HLOOKUP(B8,pArray,6,FALSE)) -> 0.9 | B8: AUDCAD | C8: =IF(B8="","",HLOOKUP(B8,pArray,9,FALSE)) -> 0.93957115 | D8: =SUM(IF(B8="","",HLOOKUP(B8,pArray,12,FALSE))-IF(B8="","",HLOOKUP(B8,pArray,14,FALSE))) -> 7 | E8: =IF(B8="","",VLOOKUP(B8,CurrArray,4,FALSE)) -> 3.4285714 | F8: 3.4285714 | G8: =SUM(E8-F8) -> 0 | H8: =Stren_Dir!D8 -> 3.6374322 | I8: =R4 -> 5 | J8: =T4 -> -3 | K8: =R5 -> 27 | L8: =T5 -> -21 | M8: =IF(B8="","",VLOOKUP(B8,HM_Calc_Array,11,FALSE)) -> 3.4886402 | N8: =IF(B8="","",VLOOKUP(B8,HM_Calc_Array,12,FALSE)) -> 3.51359 | O8: =IF(B8="","",VLOOKUP(B8,HM_Calc_Array,13,FALSE)) -> 3.6374322 | P8: =IF(B8="","",VLOOKUP(B8,HM_Calc_Array,14,FALSE)) -> 4.0534845 | Q8: =IF(B8="","",VLOOKUP(B8,HM_Calc_Array,15,FALSE)) -> 4.0534845 | R8: =IF(B8="","",VLOOKUP(B8,HM_Calc_Array,16,FALSE)) -> 5.7550413 | S8: =IF(B8="","",VLOOKUP(B8,Array_getValues,26,FALSE)) -> 91.23087 | AL8: =IF(B8="","",HLOOKUP(B8,pArray,12,FALSE)) -> 8 | AM8: =IF(B8="","",HLOOKUP(B8,pArray,14,FALSE)) -> 1
A9: =IF(B9="","",HLOOKUP(B9,pArray,6,FALSE)) -> 1 | B9: AUDCHF | C9: =IF(B9="","",HLOOKUP(B9,pArray,9,FALSE)) -> 0.62935323 | D9: =SUM(IF(B9="","",HLOOKUP(B9,pArray,12,FALSE))-IF(B9="","",HLOOKUP(B9,pArray,14,FALSE))) -> 3 | E9: =IF(B9="","",VLOOKUP(B9,CurrArray,4,FALSE)) -> 1.4285714 | F9: 3.5714286 | G9: =SUM(E9-F9) -> -2.1428571 | H9: =Stren_Dir!D9 -> 4.4542992 | I9: =R4 -> 5 | J9: =U4 -> 1 | K9: =R5 -> 27 | L9: =U5 -> 7 | M9: =IF(B9="","",VLOOKUP(B9,HM_Calc_Array,11,FALSE)) -> 4.4645614 | N9: =IF(B9="","",VLOOKUP(B9,HM_Calc_Array,12,FALSE)) -> 4.4015541 | O9: =IF(B9="","",VLOOKUP(B9,HM_Calc_Array,13,FALSE)) -> 4.4542992 | P9: =IF(B9="","",VLOOKUP(B9,HM_Calc_Array,14,FALSE)) -> 5.4816263 | Q9: =IF(B9="","",VLOOKUP(B9,HM_Calc_Array,15,FALSE)) -> 5.4816263 | R9: =IF(B9="","",VLOOKUP(B9,HM_Calc_Array,16,FALSE)) -> 9.0436286 | S9: =IF(B9="","",VLOOKUP(B9,Array_getValues,26,FALSE)) -> 18.562145 | AL9: =IF(B9="","",HLOOKUP(B9,pArray,12,FALSE)) -> 6 | AM9: =IF(B9="","",HLOOKUP(B9,pArray,14,FALSE)) -> 3
A10: =IF(B10="","",HLOOKUP(B10,pArray,6,FALSE)) -> 0.7 | B10: AUDJPY | C10: =IF(B10="","",HLOOKUP(B10,pArray,9,FALSE)) -> 0.4867052 | D10: =SUM(IF(B10="","",HLOOKUP(B10,pArray,12,FALSE))-IF(B10="","",HLOOKUP(B10,pArray,14,FALSE))) -> -1 | E10: =IF(B10="","",VLOOKUP(B10,CurrArray,4,FALSE)) -> 1.2857143 | F10: 0.57142857 | G10: =SUM(E10-F10) -> 0.71428571 | H10: =Stren_Dir!D10 -> -11.091607 | I10: =R4 -> 5 | J10: =O4 -> 3 | K10: =R5 -> 27 | L10: =O5 -> 9 | M10: =IF(B10="","",VLOOKUP(B10,HM_Calc_Array,11,FALSE)) -> -11.079445 | N10: =IF(B10="","",VLOOKUP(B10,HM_Calc_Array,12,FALSE)) -> -11.10478 | O10: =IF(B10="","",VLOOKUP(B10,HM_Calc_Array,13,FALSE)) -> -11.091607 | P10: =IF(B10="","",VLOOKUP(B10,HM_Calc_Array,14,FALSE)) -> -10.918995 | Q10: =IF(B10="","",VLOOKUP(B10,HM_Calc_Array,15,FALSE)) -> -10.918995 | R10: =IF(B10="","",VLOOKUP(B10,HM_Calc_Array,16,FALSE)) -> -7.2431713 | S10: =IF(B10="","",VLOOKUP(B10,Array_getValues,26,FALSE)) -> 18.362585 | AL10: =IF(B10="","",HLOOKUP(B10,pArray,12,FALSE)) -> 4 | AM10: =IF(B10="","",HLOOKUP(B10,pArray,14,FALSE)) -> 5
A11: =IF(B11="","",HLOOKUP(B11,pArray,6,FALSE)) -> 1.6 | B11: AUDNZD | C11: =IF(B11="","",HLOOKUP(B11,pArray,9,FALSE)) -> 0.14773777 | D11: =SUM(IF(B11="","",HLOOKUP(B11,pArray,12,FALSE))-IF(B11="","",HLOOKUP(B11,pArray,14,FALSE))) -> -5 | E11: =IF(B11="","",VLOOKUP(B11,CurrArray,4,FALSE)) -> -1.8571429 | F11: 0.71428571 | G11: =SUM(E11-F11) -> -2.5714286 | H11: =Stren_Dir!D11 -> -3.7939974 | I11: =R4 -> 5 | J11: =S4 -> 7 | K11: =R5 -> 27 | L11: =S5 -> 53 | M11: =IF(B11="","",VLOOKUP(B11,HM_Calc_Array,11,FALSE)) -> -3.7390441 | N11: =IF(B11="","",VLOOKUP(B11,HM_Calc_Array,12,FALSE)) -> -3.7246198 | O11: =IF(B11="","",VLOOKUP(B11,HM_Calc_Array,13,FALSE)) -> -3.7939974 | P11: =IF(B11="","",VLOOKUP(B11,HM_Calc_Array,14,FALSE)) -> -3.7399455 | Q11: =IF(B11="","",VLOOKUP(B11,HM_Calc_Array,15,FALSE)) -> -3.7399455 | R11: =IF(B11="","",VLOOKUP(B11,HM_Calc_Array,16,FALSE)) -> -6.2181271 | S11: =IF(B11="","",VLOOKUP(B11,Array_getValues,26,FALSE)) -> 42.143911 | AL11: =IF(B11="","",HLOOKUP(B11,pArray,12,FALSE)) -> 2 | AM11: =IF(B11="","",HLOOKUP(B11,pArray,14,FALSE)) -> 7
A12: =IF(B12="","",HLOOKUP(B12,pArray,6,FALSE)) -> 0.2 | B12: AUDUSD | C12: =IF(B12="","",HLOOKUP(B12,pArray,9,FALSE)) -> 0.97587131 | D12: =SUM(IF(B12="","",HLOOKUP(B12,pArray,12,FALSE))-IF(B12="","",HLOOKUP(B12,pArray,14,FALSE))) -> 9 | E12: =IF(B12="","",VLOOKUP(B12,CurrArray,4,FALSE)) -> 3.7142857 | F12: 0.85714286 | G12: =SUM(E12-F12) -> 2.8571429 | H12: =Stren_Dir!D12 -> 6.0080806 | I12: =R4 -> 5 | J12: =N4 -> -5 | K12: =R5 -> 27 | L12: =N5 -> -25 | M12: =IF(B12="","",VLOOKUP(B12,HM_Calc_Array,11,FALSE)) -> 6.0504897 | N12: =IF(B12="","",VLOOKUP(B12,HM_Calc_Array,12,FALSE)) -> 6.0563419 | O12: =IF(B12="","",VLOOKUP(B12,HM_Calc_Array,13,FALSE)) -> 6.0080806 | P12: =IF(B12="","",VLOOKUP(B12,HM_Calc_Array,14,FALSE)) -> 6.6492793 | Q12: =IF(B12="","",VLOOKUP(B12,HM_Calc_Array,15,FALSE)) -> 6.6492793 | R12: =IF(B12="","",VLOOKUP(B12,HM_Calc_Array,16,FALSE)) -> 9.6364751 | S12: =IF(B12="","",VLOOKUP(B12,Array_getValues,26,FALSE)) -> 22.573398 | AL12: =IF(B12="","",HLOOKUP(B12,pArray,12,FALSE)) -> 9 | AM12: =IF(B12="","",HLOOKUP(B12,pArray,14,FALSE)) -> 0
A13: =IF(B13="","",HLOOKUP(B13,pArray,6,FALSE)) -> 1.2 | B13: CADCHF | C13: =IF(B13="","",HLOOKUP(B13,pArray,9,FALSE)) -> 0.19130435 | D13: =SUM(IF(B13="","",HLOOKUP(B13,pArray,12,FALSE))-IF(B13="","",HLOOKUP(B13,pArray,14,FALSE))) -> -5 | E13: =IF(B13="","",VLOOKUP(B13,CurrArray,4,FALSE)) -> -2 | F13: 0.14285714 | G13: =SUM(E13-F13) -> -2.1428571 | H13: =Stren_Dir!D13 -> 0.78901266 | I13: =T4 -> -3 | J13: =U4 -> 1 | K13: =T5 -> -21 | L13: =U5 -> 7 | M13: =IF(B13="","",VLOOKUP(B13,HM_Calc_Array,11,FALSE)) -> 0.9523682 | N13: =IF(B13="","",VLOOKUP(B13,HM_Calc_Array,12,FALSE)) -> 0.86724929 | O13: =IF(B13="","",VLOOKUP(B13,HM_Calc_Array,13,FALSE)) -> 0.78901266 | P13: =IF(B13="","",VLOOKUP(B13,HM_Calc_Array,14,FALSE)) -> 1.4620159 | Q13: =IF(B13="","",VLOOKUP(B13,HM_Calc_Array,15,FALSE)) -> 1.4620159 | R13: =IF(B13="","",VLOOKUP(B13,HM_Calc_Array,16,FALSE)) -> 3.1407379 | S13: =IF(B13="","",VLOOKUP(B13,Array_getValues,26,FALSE)) -> 3.9409824 | AL13: =IF(B13="","",HLOOKUP(B13,pArray,12,FALSE)) -> 2 | AM13: =IF(B13="","",HLOOKUP(B13,pArray,14,FALSE)) -> 7
A14: =IF(B14="","",HLOOKUP(B14,pArray,6,FALSE)) -> 0.6 | B14: CADJPY | C14: =IF(B14="","",HLOOKUP(B14,pArray,9,FALSE)) -> 0.32503458 | D14: =SUM(IF(B14="","",HLOOKUP(B14,pArray,12,FALSE))-IF(B14="","",HLOOKUP(B14,pArray,14,FALSE))) -> -3 | E14: =IF(B14="","",VLOOKUP(B14,CurrArray,4,FALSE)) -> -2.1428571 | F14: -2.8571429 | G14: =SUM(E14-F14) -> 0.71428571 | H14: =Stren_Dir!D14 -> -14.207971 | I14: =T4 -> -3 | J14: =O4 -> 3 | K14: =T5 -> -21 | L14: =O5 -> 9 | M14: =IF(B14="","",VLOOKUP(B14,HM_Calc_Array,11,FALSE)) -> -14.070762 | N14: =IF(B14="","",VLOOKUP(B14,HM_Calc_Array,12,FALSE)) -> -14.115613 | O14: =IF(B14="","",VLOOKUP(B14,HM_Calc_Array,13,FALSE)) -> -14.207971 | P14: =IF(B14="","",VLOOKUP(B14,HM_Calc_Array,14,FALSE)) -> -14.780967 | Q14: =IF(B14="","",VLOOKUP(B14,HM_Calc_Array,15,FALSE)) -> -14.329877 | R14: =IF(B14="","",VLOOKUP(B14,HM_Calc_Array,16,FALSE)) -> -12.274525 | S14: =IF(B14="","",VLOOKUP(B14,Array_getValues,26,FALSE)) -> 2.9810706 | AL14: =IF(B14="","",HLOOKUP(B14,pArray,12,FALSE)) -> 3 | AM14: =IF(B14="","",HLOOKUP(B14,pArray,14,FALSE)) -> 6
A15: =IF(B15="","",HLOOKUP(B15,pArray,6,FALSE)) -> 1.2 | B15: CHFJPY | C15: =IF(B15="","",HLOOKUP(B15,pArray,9,FALSE)) -> 0.49464668 | D15: =SUM(IF(B15="","",HLOOKUP(B15,pArray,12,FALSE))-IF(B15="","",HLOOKUP(B15,pArray,14,FALSE))) -> -1 | E15: =IF(B15="","",VLOOKUP(B15,CurrArray,4,FALSE)) -> -0.14285714 | F15: -3 | G15: =SUM(E15-F15) -> 2.8571429 | H15: =Stren_Dir!D15 -> -14.866358 | I15: =U4 -> 1 | J15: =O4 -> 3 | K15: =U5 -> 7 | L15: =O5 -> 9 | M15: =IF(B15="","",VLOOKUP(B15,HM_Calc_Array,11,FALSE)) -> -14.862208 | N15: =IF(B15="","",VLOOKUP(B15,HM_Calc_Array,12,FALSE)) -> -14.835915 | O15: =IF(B15="","",VLOOKUP(B15,HM_Calc_Array,13,FALSE)) -> -14.866358 | P15: =IF(B15="","",VLOOKUP(B15,HM_Calc_Array,14,FALSE)) -> -15.539489 | Q15: =IF(B15="","",VLOOKUP(B15,HM_Calc_Array,15,FALSE)) -> -15.539489 | R15: =IF(B15="","",VLOOKUP(B15,HM_Calc_Array,16,FALSE)) -> -14.907836 | S15: =IF(B15="","",VLOOKUP(B15,Array_getValues,26,FALSE)) -> 65.392048 | AL15: =IF(B15="","",HLOOKUP(B15,pArray,12,FALSE)) -> 4 | AM15: =IF(B15="","",HLOOKUP(B15,pArray,14,FALSE)) -> 5
