Workbook

Sheet Sheet1
A1: Date | B1: Cells | D1: Volume
A2: From | B2: =COUNTA(Sheet2!A1:'Sheet2'!A10000) -> 495 | D2: Bulls | E2: Bears | F2: Undecided
A3: =LEFT(Sheet2!A1,16) -> 2015.04.20,00:00 | D3: =SUM(Sheet2!L1:INDIRECT("Sheet2!"&"L"&$B$2)) -> 339110 | E3: =SUM(Sheet2!K1:INDIRECT("Sheet2!"&"K"&$B$2)) -> 314237 | F3: =SUM(Sheet2!M1:INDIRECT("Sheet2!"&"M"&$B$2)) -> 1402
A4: To
A5: =LEFT(INDIRECT("Sheet2!"&"A"&$B$2),16) -> 2015.05.04,07:00 | D5: Candles
D6: Bulls | E6: Bears | F6: Undecided
D7: =COUNTIF(Sheet2!L1:INDIRECT("Sheet2!"&"L"&$B$2),">0") -> 253 | E7: =COUNTIF(Sheet2!K1:INDIRECT("Sheet2!"&"K"&$B$2),">0") -> 239 | F7: =COUNTIF(Sheet2!M1:INDIRECT("Sheet2!"&"M"&$B$2),">0") -> 3

Sheet Sheet2
A1: 2015.04.20,00:00,0.78245,0.78245,0.78129,0.78160,272 | G1: =VALUE(MID($A1,18,7)) -> 0.78245 | H1: =VALUE(MID($A1,42,7)) -> 0.7816 | I1: =VALUE(MID($A1,50,7)) -> 272 | K1: =IF(G1>H1,I1,0) -> 272 | L1: =IF(G1<H1,I1,0) -> 0 | M1: =IF(G1=H1,I1,0) -> 0
A2: 2015.04.20,00:30,0.78158,0.78158,0.78029,0.78054,371 | G2: =VALUE(MID($A2,18,7)) -> 0.78158 | H2: =VALUE(MID($A2,42,7)) -> 0.78054 | I2: =VALUE(MID($A2,50,7)) -> 371 | K2: =IF(G2>H2,I2,0) -> 371 | L2: =IF(G2<H2,I2,0) -> 0 | M2: =IF(G2=H2,I2,0) -> 0
A3: 2015.04.20,01:00,0.78052,0.78106,0.77946,0.77991,808 | G3: =VALUE(MID($A3,18,7)) -> 0.78052 | H3: =VALUE(MID($A3,42,7)) -> 0.77991 | I3: =VALUE(MID($A3,50,7)) -> 808 | K3: =IF(G3>H3,I3,0) -> 808 | L3: =IF(G3<H3,I3,0) -> 0 | M3: =IF(G3=H3,I3,0) -> 0
A4: 2015.04.20,01:30,0.78007,0.78118,0.77942,0.77951,683 | G4: =VALUE(MID($A4,18,7)) -> 0.78007 | H4: =VALUE(MID($A4,42,7)) -> 0.77951 | I4: =VALUE(MID($A4,50,7)) -> 683 | K4: =IF(G4>H4,I4,0) -> 683 | L4: =IF(G4<H4,I4,0) -> 0 | M4: =IF(G4=H4,I4,0) -> 0
A5: 2015.04.20,02:00,0.77954,0.78096,0.77906,0.78086,849 | G5: =VALUE(MID($A5,18,7)) -> 0.77954 | H5: =VALUE(MID($A5,42,7)) -> 0.78086 | I5: =VALUE(MID($A5,50,7)) -> 849 | K5: =IF(G5>H5,I5,0) -> 0 | L5: =IF(G5<H5,I5,0) -> 849 | M5: =IF(G5=H5,I5,0) -> 0
A6: 2015.04.20,02:30,0.78085,0.78126,0.78020,0.78058,855 | G6: =VALUE(MID($A6,18,7)) -> 0.78085 | H6: =VALUE(MID($A6,42,7)) -> 0.78058 | I6: =VALUE(MID($A6,50,7)) -> 855 | K6: =IF(G6>H6,I6,0) -> 855 | L6: =IF(G6<H6,I6,0) -> 0 | M6: =IF(G6=H6,I6,0) -> 0
A7: 2015.04.20,03:00,0.78044,0.78203,0.78010,0.78188,1376 | G7: =VALUE(MID($A7,18,7)) -> 0.78044 | H7: =VALUE(MID($A7,42,7)) -> 0.78188 | I7: =VALUE(MID($A7,50,7)) -> 1376 | K7: =IF(G7>H7,I7,0) -> 0 | L7: =IF(G7<H7,I7,0) -> 1376 | M7: =IF(G7=H7,I7,0) -> 0
A8: 2015.04.20,03:30,0.78188,0.78253,0.78130,0.78130,933 | G8: =VALUE(MID($A8,18,7)) -> 0.78188 | H8: =VALUE(MID($A8,42,7)) -> 0.7813 | I8: =VALUE(MID($A8,50,7)) -> 933 | K8: =IF(G8>H8,I8,0) -> 933 | L8: =IF(G8<H8,I8,0) -> 0 | M8: =IF(G8=H8,I8,0) -> 0
A9: 2015.04.20,04:00,0.78129,0.78186,0.78074,0.78175,1207 | G9: =VALUE(MID($A9,18,7)) -> 0.78129 | H9: =VALUE(MID($A9,42,7)) -> 0.78175 | I9: =VALUE(MID($A9,50,7)) -> 1207 | K9: =IF(G9>H9,I9,0) -> 0 | L9: =IF(G9<H9,I9,0) -> 1207 | M9: =IF(G9=H9,I9,0) -> 0
A10: 2015.04.20,04:30,0.78179,0.78190,0.78039,0.78043,1222 | G10: =VALUE(MID($A10,18,7)) -> 0.78179 | H10: =VALUE(MID($A10,42,7)) -> 0.78043 | I10: =VALUE(MID($A10,50,7)) -> 1222 | K10: =IF(G10>H10,I10,0) -> 1222 | L10: =IF(G10<H10,I10,0) -> 0 | M10: =IF(G10=H10,I10,0) -> 0
A11: 2015.04.20,05:00,0.78043,0.78123,0.78040,0.78044,829 | G11: =VALUE(MID($A11,18,7)) -> 0.78043 | H11: =VALUE(MID($A11,42,7)) -> 0.78044 | I11: =VALUE(MID($A11,50,7)) -> 829 | K11: =IF(G11>H11,I11,0) -> 0 | L11: =IF(G11<H11,I11,0) -> 829 | M11: =IF(G11=H11,I11,0) -> 0
A12: 2015.04.20,05:30,0.78043,0.78076,0.78037,0.78072,764 | G12: =VALUE(MID($A12,18,7)) -> 0.78043 | H12: =VALUE(MID($A12,42,7)) -> 0.78072 | I12: =VALUE(MID($A12,50,7)) -> 764 | K12: =IF(G12>H12,I12,0) -> 0 | L12: =IF(G12<H12,I12,0) -> 764 | M12: =IF(G12=H12,I12,0) -> 0
... A495: 2015.05.04,07:00,0.78324,0.78342,0.78268,0.78280,658 | G495: =VALUE(MID($A495,18,7)) -> 0.78324 | H495: =VALUE(MID($A495,42,7)) -> 0.7828 | I495: =VALUE(MID($A495,50,7)) -> 658 | K495: =IF(G495>H495,I495,0) -> 658 | L495: =IF(G495<H495,I495,0) -> 0 | M495: =IF(G495=H495,I495,0) -> 0
G496: =VALUE(MID($A496,18,7)) -> #VALUE! | H496: =VALUE(MID($A496,42,7)) -> #VALUE! | I496: =VALUE(MID($A496,50,7)) -> #VALUE! | K496: =IF(G496>H496,I496,0) -> #VALUE! | L496: =IF(G496<H496,I496,0) -> #VALUE! | M496: =IF(G496=H496,I496,0) -> #VALUE!
G497: =VALUE(MID($A497,18,7)) -> #VALUE! | H497: =VALUE(MID($A497,42,7)) -> #VALUE! | I497: =VALUE(MID($A497,50,7)) -> #VALUE! | K497: =IF(G497>H497,I497,0) -> #VALUE! | L497: =IF(G497<H497,I497,0) -> #VALUE! | M497: =IF(G497=H497,I497,0) -> #VALUE!
G498: =VALUE(MID($A498,18,7)) -> #VALUE! | H498: =VALUE(MID($A498,42,7)) -> #VALUE! | I498: =VALUE(MID($A498,50,7)) -> #VALUE! | K498: =IF(G498>H498,I498,0) -> #VALUE! | L498: =IF(G498<H498,I498,0) -> #VALUE! | M498: =IF(G498=H498,I498,0) -> #VALUE!
G499: =VALUE(MID($A499,18,7)) -> #VALUE! | H499: =VALUE(MID($A499,42,7)) -> #VALUE! | I499: =VALUE(MID($A499,50,7)) -> #VALUE! | K499: =IF(G499>H499,I499,0) -> #VALUE! | L499: =IF(G499<H499,I499,0) -> #VALUE! | M499: =IF(G499=H499,I499,0) -> #VALUE!
G500: =VALUE(MID($A500,18,7)) -> #VALUE! | H500: =VALUE(MID($A500,42,7)) -> #VALUE! | I500: =VALUE(MID($A500,50,7)) -> #VALUE! | K500: =IF(G500>H500,I500,0) -> #VALUE! | L500: =IF(G500<H500,I500,0) -> #VALUE! | M500: =IF(G500=H500,I500,0) -> #VALUE!
G501: =VALUE(MID($A501,18,7)) -> #VALUE! | H501: =VALUE(MID($A501,42,7)) -> #VALUE! | I501: =VALUE(MID($A501,50,7)) -> #VALUE! | K501: =IF(G501>H501,I501,0) -> #VALUE! | L501: =IF(G501<H501,I501,0) -> #VALUE! | M501: =IF(G501=H501,I501,0) -> #VALUE!
G502: =VALUE(MID($A502,18,7)) -> #VALUE! | H502: =VALUE(MID($A502,42,7)) -> #VALUE! | I502: =VALUE(MID($A502,50,7)) -> #VALUE! | K502: =IF(G502>H502,I502,0) -> #VALUE! | L502: =IF(G502<H502,I502,0) -> #VALUE! | M502: =IF(G502=H502,I502,0) -> #VALUE!
G503: =VALUE(MID($A503,18,7)) -> #VALUE! | H503: =VALUE(MID($A503,42,7)) -> #VALUE! | I503: =VALUE(MID($A503,50,7)) -> #VALUE! | K503: =IF(G503>H503,I503,0) -> #VALUE! | L503: =IF(G503<H503,I503,0) -> #VALUE! | M503: =IF(G503=H503,I503,0) -> #VALUE!
G504: =VALUE(MID($A504,18,7)) -> #VALUE! | H504: =VALUE(MID($A504,42,7)) -> #VALUE! | I504: =VALUE(MID($A504,50,7)) -> #VALUE! | K504: =IF(G504>H504,I504,0) -> #VALUE! | L504: =IF(G504<H504,I504,0) -> #VALUE! | M504: =IF(G504=H504,I504,0) -> #VALUE!
G505: =VALUE(MID($A505,18,7)) -> #VALUE! | H505: =VALUE(MID($A505,42,7)) -> #VALUE! | I505: =VALUE(MID($A505,50,7)) -> #VALUE! | K505: =IF(G505>H505,I505,0) -> #VALUE! | L505: =IF(G505<H505,I505,0) -> #VALUE! | M505: =IF(G505=H505,I505,0) -> #VALUE!
G506: =VALUE(MID($A506,18,7)) -> #VALUE! | H506: =VALUE(MID($A506,42,7)) -> #VALUE! | I506: =VALUE(MID($A506,50,7)) -> #VALUE! | K506: =IF(G506>H506,I506,0) -> #VALUE! | L506: =IF(G506<H506,I506,0) -> #VALUE! | M506: =IF(G506=H506,I506,0) -> #VALUE!
G507: =VALUE(MID($A507,18,7)) -> #VALUE! | H507: =VALUE(MID($A507,42,7)) -> #VALUE! | I507: =VALUE(MID($A507,50,7)) -> #VALUE! | K507: =IF(G507>H507,I507,0) -> #VALUE! | L507: =IF(G507<H507,I507,0) -> #VALUE! | M507: =IF(G507=H507,I507,0) -> #VALUE!
... G1000: =VALUE(MID($A1000,18,7)) -> #VALUE! | H1000: =VALUE(MID($A1000,42,7)) -> #VALUE! | I1000: =VALUE(MID($A1000,50,7)) -> #VALUE! | K1000: =IF(G1000>H1000,I1000,0) -> #VALUE! | L1000: =IF(G1000<H1000,I1000,0) -> #VALUE! | M1000: =IF(G1000=H1000,I1000,0) -> #VALUE!
