Workbook

Sheet _FX_
B1: USD | C1: CZK | D1: % | F1: Exposure | G1: =G3/B3 -> 10000 | I1: CZK/USD | J1: 22.9
A2: Start | B2: 1 | C2: 1 | F2: Type | G2: Size
A3: Balance | B3: 1 | C3: =B3*$J$3 -> 22.5 | D3: =B3/B2 -> 1 | F3: S EU | G3: =SUM(P_EU!C7:C1048576) -> 10000 | I3: CZK/USD | J3: 22.5
A4: PL | B4: 0 | C4: =C3-C2 -> 21.5 | D4: =C4/$C$3 -> 0.95555556
A5: Floating | B5: =P_EU!J6 -> 71.44 | C5: =P_EU!M6 -> 1635.976 | D5: =C5/$C$3 -> 72.710044 | I5: CZK/USD | J5: 22.5
A6: Equity | B6: =B3+B5 -> 72.44 | C6: =SUM(C3:C5) -> 1679.976 | D6: =C6/$C$2 -> 1679.976
I7: EUR/USD | J7: USD/YEN | K7: USD/CHF | L7: EUR/CHF | M7: YEN/CHF
I8: 1.1882 | J8: 99.67 | K8: 0.9141 | L8: 1.23286 | M8: 0.0092

Sheet P_EU
B2: EUR/USD | C2: USD/YEN | D2: USD/CHF | E2: EUR/CHF | F2: YEN/CHF
B3: 1.18103 | C3: 99.67 | D3: 0.9141 | E3: 1.23286 | F3: 0.0092
G4: % | J4: Base currency | M4: CZK | P4: Technical | R4: Comm | S4: Swap
B5: Type | C5: Units | D5: Open | E5: TP | F5: SL | G5: P/L | H5: TP | I5: SL | J5: P/L: | K5: TP | L5: SL | M5: PL | N5: TP | O5: SL | P5: Lvg | Q5: R/R
G6: =SUM(G7:G16) -> 71.44 | H6: =SUM(H7:H16) -> 130.76 | I6: =SUM(I7:I16) -> 3.74 | J6: =SUM(J7:J16) -> 71.44 | K6: =SUM(K7:K16) -> 130.76 | L6: =SUM(L7:L16) -> 3.74 | M6: =SUM(M7:M16) -> 1635.976 | N6: =SUM(N7:N16) -> 2994.404 | ... P6: =SUM(P7:P16) -> 10000 | Q6: =AVERAGE(Q7:Q16) -> 10.381874
B7: sell | C7: 1000 | D7: 1.19541 | E7: 1.1655 | F7: 1.1878 | G7: =IF(J7="NA","NA",J7/_FX_!$B$3) -> 14.38 | H7: =IF(K7="NA","NA",K7/_FX_!$B$3) -> 29.91 | I7: =IF(L7="na","NA",L7/_FX_!$B$3) -> 7.61 | J7: =IF(D7=0,"NA",(D7-$B$3)*C7) -> 14.38 | K7: =IF(E7=0,"NA",(D7-E7)*C7) -> 29.91 | L7: =IF(F7=0,"NA",(D7-F7)*C7) -> 7.61 | M7: =IF(J7="NA","NA",J7*_FX_!$J$1) -> 329.302 | N7: =IF(E7=0,"NA",K7*_FX_!$J$1) -> 684.939 | O7: =IF(F7=0,"NA",L7*_FX_!$J$1) -> 174.269 | P7: =IF(C7=0,"NA",ABS(C7)/_FX_!$B$3) -> 1000 | Q7: =IF(K7="NA","NA",(K7/ABS(L7))) -> 3.9303548
B8: sell | C8: 1000 | D8: 1.19445 | E8: 0 | F8: 1.1878 | G8: =IF(J8="NA","NA",J8/_FX_!$B$3) -> 13.42 | H8: =IF(K8="NA","NA",K8/_FX_!$B$3) -> NA | I8: =IF(L8="na","NA",L8/_FX_!$B$3) -> 6.65 | J8: =IF(D8=0,"NA",(D8-$B$3)*C8) -> 13.42 | K8: =IF(E8=0,"NA",(D8-E8)*C8) -> NA | L8: =IF(F8=0,"NA",(D8-F8)*C8) -> 6.65 | M8: =IF(J8="NA","NA",J8*_FX_!$J$1) -> 307.318 | N8: =IF(E8=0,"NA",K8*_FX_!$J$1) -> NA | O8: =IF(F8=0,"NA",L8*_FX_!$J$1) -> 152.285 | P8: =IF(C8=0,"NA",ABS(C8)/_FX_!$B$3) -> 1000 | Q8: =IF(K8="NA","NA",(K8/ABS(L8))) -> NA
B9: sell | C9: 1000 | D9: 1.18677 | E9: 1.1655 | F9: 1.1878 | G9: =IF(J9="NA","NA",J9/_FX_!$B$3) -> 5.74 | H9: =IF(K9="NA","NA",K9/_FX_!$B$3) -> 21.27 | I9: =IF(L9="na","NA",L9/_FX_!$B$3) -> -1.03 | J9: =IF(D9=0,"NA",(D9-$B$3)*C9) -> 5.74 | K9: =IF(E9=0,"NA",(D9-E9)*C9) -> 21.27 | L9: =IF(F9=0,"NA",(D9-F9)*C9) -> -1.03 | M9: =IF(J9="NA","NA",J9*_FX_!$J$1) -> 131.446 | N9: =IF(E9=0,"NA",K9*_FX_!$J$1) -> 487.083 | O9: =IF(F9=0,"NA",L9*_FX_!$J$1) -> -23.587 | P9: =IF(C9=0,"NA",ABS(C9)/_FX_!$B$3) -> 1000 | Q9: =IF(K9="NA","NA",(K9/ABS(L9))) -> 20.650485
B10: sell | C10: 1000 | D10: 1.18677 | E10: 1.1655 | F10: 1.1878 | G10: =IF(J10="NA","NA",J10/_FX_!$B$3) -> 5.74 | H10: =IF(K10="NA","NA",K10/_FX_!$B$3) -> 21.27 | I10: =IF(L10="na","NA",L10/_FX_!$B$3) -> -1.03 | J10: =IF(D10=0,"NA",(D10-$B$3)*C10) -> 5.74 | K10: =IF(E10=0,"NA",(D10-E10)*C10) -> 21.27 | L10: =IF(F10=0,"NA",(D10-F10)*C10) -> -1.03 | M10: =IF(J10="NA","NA",J10*_FX_!$J$1) -> 131.446 | N10: =IF(E10=0,"NA",K10*_FX_!$J$1) -> 487.083 | O10: =IF(F10=0,"NA",L10*_FX_!$J$1) -> -23.587 | P10: =IF(C10=0,"NA",ABS(C10)/_FX_!$B$3) -> 1000 | Q10: =IF(K10="NA","NA",(K10/ABS(L10))) -> 20.650485
B11: sell | C11: 1000 | D11: 1.18675 | E11: 1.168 | F11: 1.1878 | G11: =IF(J11="NA","NA",J11/_FX_!$B$3) -> 5.72 | H11: =IF(K11="NA","NA",K11/_FX_!$B$3) -> 18.75 | I11: =IF(L11="na","NA",L11/_FX_!$B$3) -> -1.05 | J11: =IF(D11=0,"NA",(D11-$B$3)*C11) -> 5.72 | K11: =IF(E11=0,"NA",(D11-E11)*C11) -> 18.75 | L11: =IF(F11=0,"NA",(D11-F11)*C11) -> -1.05 | M11: =IF(J11="NA","NA",J11*_FX_!$J$1) -> 130.988 | N11: =IF(E11=0,"NA",K11*_FX_!$J$1) -> 429.375 | O11: =IF(F11=0,"NA",L11*_FX_!$J$1) -> -24.045 | P11: =IF(C11=0,"NA",ABS(C11)/_FX_!$B$3) -> 1000 | Q11: =IF(K11="NA","NA",(K11/ABS(L11))) -> 17.857143
B12: sell | C12: 1000 | D12: 1.18668 | E12: 1.171 | F12: 1.1878 | G12: =IF(J12="NA","NA",J12/_FX_!$B$3) -> 5.65 | H12: =IF(K12="NA","NA",K12/_FX_!$B$3) -> 15.68 | I12: =IF(L12="na","NA",L12/_FX_!$B$3) -> -1.12 | J12: =IF(D12=0,"NA",(D12-$B$3)*C12) -> 5.65 | K12: =IF(E12=0,"NA",(D12-E12)*C12) -> 15.68 | L12: =IF(F12=0,"NA",(D12-F12)*C12) -> -1.12 | M12: =IF(J12="NA","NA",J12*_FX_!$J$1) -> 129.385 | N12: =IF(E12=0,"NA",K12*_FX_!$J$1) -> 359.072 | O12: =IF(F12=0,"NA",L12*_FX_!$J$1) -> -25.648 | P12: =IF(C12=0,"NA",ABS(C12)/_FX_!$B$3) -> 1000 | Q12: =IF(K12="NA","NA",(K12/ABS(L12))) -> 14
B13: sell | C13: 1000 | D13: 1.18655 | E13: 1.1765 | F13: 1.1878 | G13: =IF(J13="NA","NA",J13/_FX_!$B$3) -> 5.52 | H13: =IF(K13="NA","NA",K13/_FX_!$B$3) -> 10.05 | I13: =IF(L13="na","NA",L13/_FX_!$B$3) -> -1.25 | J13: =IF(D13=0,"NA",(D13-$B$3)*C13) -> 5.52 | K13: =IF(E13=0,"NA",(D13-E13)*C13) -> 10.05 | L13: =IF(F13=0,"NA",(D13-F13)*C13) -> -1.25 | M13: =IF(J13="NA","NA",J13*_FX_!$J$1) -> 126.408 | N13: =IF(E13=0,"NA",K13*_FX_!$J$1) -> 230.145 | O13: =IF(F13=0,"NA",L13*_FX_!$J$1) -> -28.625 | P13: =IF(C13=0,"NA",ABS(C13)/_FX_!$B$3) -> 1000 | Q13: =IF(K13="NA","NA",(K13/ABS(L13))) -> 8.04
B14: sell | C14: 1000 | D14: 1.18616 | E14: 1.1785 | F14: 1.1878 | G14: =IF(J14="NA","NA",J14/_FX_!$B$3) -> 5.13 | H14: =IF(K14="NA","NA",K14/_FX_!$B$3) -> 7.66 | I14: =IF(L14="na","NA",L14/_FX_!$B$3) -> -1.64 | J14: =IF(D14=0,"NA",(D14-$B$3)*C14) -> 5.13 | K14: =IF(E14=0,"NA",(D14-E14)*C14) -> 7.66 | L14: =IF(F14=0,"NA",(D14-F14)*C14) -> -1.64 | M14: =IF(J14="NA","NA",J14*_FX_!$J$1) -> 117.477 | N14: =IF(E14=0,"NA",K14*_FX_!$J$1) -> 175.414 | O14: =IF(F14=0,"NA",L14*_FX_!$J$1) -> -37.556 | P14: =IF(C14=0,"NA",ABS(C14)/_FX_!$B$3) -> 1000 | Q14: =IF(K14="NA","NA",(K14/ABS(L14))) -> 4.6707317
B15: sell | C15: 1000 | D15: 1.18611 | E15: 1.18185 | F15: 1.1878 | G15: =IF(J15="NA","NA",J15/_FX_!$B$3) -> 5.08 | H15: =IF(K15="NA","NA",K15/_FX_!$B$3) -> 4.26 | I15: =IF(L15="na","NA",L15/_FX_!$B$3) -> -1.69 | J15: =IF(D15=0,"NA",(D15-$B$3)*C15) -> 5.08 | K15: =IF(E15=0,"NA",(D15-E15)*C15) -> 4.26 | L15: =IF(F15=0,"NA",(D15-F15)*C15) -> -1.69 | M15: =IF(J15="NA","NA",J15*_FX_!$J$1) -> 116.332 | N15: =IF(E15=0,"NA",K15*_FX_!$J$1) -> 97.554 | O15: =IF(F15=0,"NA",L15*_FX_!$J$1) -> -38.701 | P15: =IF(C15=0,"NA",ABS(C15)/_FX_!$B$3) -> 1000 | Q15: =IF(K15="NA","NA",(K15/ABS(L15))) -> 2.5207101
B16: sell | C16: 1000 | D16: 1.18609 | E16: 1.18418 | F16: 1.1878 | G16: =IF(J16="NA","NA",J16/_FX_!$B$3) -> 5.06 | H16: =IF(K16="NA","NA",K16/_FX_!$B$3) -> 1.91 | I16: =IF(L16="na","NA",L16/_FX_!$B$3) -> -1.71 | J16: =IF(D16=0,"NA",(D16-$B$3)*C16) -> 5.06 | K16: =IF(E16=0,"NA",(D16-E16)*C16) -> 1.91 | L16: =IF(F16=0,"NA",(D16-F16)*C16) -> -1.71 | M16: =IF(J16="NA","NA",J16*_FX_!$J$1) -> 115.874 | N16: =IF(E16=0,"NA",K16*_FX_!$J$1) -> 43.739 | O16: =IF(F16=0,"NA",L16*_FX_!$J$1) -> -39.159 | P16: =IF(C16=0,"NA",ABS(C16)/_FX_!$B$3) -> 1000 | Q16: =IF(K16="NA","NA",(K16/ABS(L16))) -> 1.1169591
