Workbook
Name Infinitus_Currency_Strength: Data!$A$1:$T$30
Name Infinitus_Currency_Strength_past_period: Datap!$A$1:$T$30

Sheet RT daily
A1: Currency Strength
B3: Open | C3: Bid | D3: High | E3: Low | F3: Mid | G3: Bid>Mid | H3: % above/below Mid | I3: Reziprok | K3: actual | L3: USD | M3: EUR | N3: GBP | O3: AUD | P3: JPY | Q3: CAD | R3: Summe
A4: EURUSD | C4: =[1]!EURUSD/100000 -> 1.31786 | D4: =[2]!EURUSD/100000 -> 1.31878 | E4: =[3]!EURUSD/100000 -> 1.31515 | F4: =(D4+E4)/2 -> 1.316965 | G4: =IF(C4>F4,"YES","NO") -> YES | H4: =IF(G4="YES",100/(D4-F4)*(C4-F4),100/(F4-E4)*(F4-C4)*-1) -> 49.311295 | I4: =H4*-1 -> -49.311295 | K4: USD | M4: =I4 -> -49.311295 | N4: =I5 -> -74.59854 | O4: =I6 -> -70.485437 | P4: =H7 -> -48.031496 | Q4: =H8 -> -86.445783 | R4: =SUM(L4:Q4)/5 -> -65.77451 | S4: USD
A5: GBPUSD | C5: =[1]!GBPUSD/100000 -> 1.65956 | D5: =[2]!GBPUSD/100000 -> 1.66043 | E5: =[3]!GBPUSD/100000 -> 1.65358 | F5: =(D5+E5)/2 -> 1.657005 | G5: =IF(C5>F5,"YES","NO") -> YES | H5: =IF(G5="YES",100/(D5-F5)*(C5-F5),100/(F5-E5)*(F5-C5)*-1) -> 74.59854 | I5: =H5*-1 -> -74.59854 | K5: EUR | L5: =H4 -> 49.311295 | N5: =H9 -> -78.947368 | O5: =H10 -> -68.144499 | P5: =H11 -> -41.520468 | Q5: =H12 -> -93.112948 | R5: =SUM(L5:Q5)/5 -> -46.482798 | S5: EUR
A6: AUDUSD | C6: =REPLACE([1]!AUDUSD,2,1,",")*1 -> 0.93427 | D6: =REPLACE([2]!AUDUSD,2,1,",")*1 -> 0.93503 | E6: =REPLACE([3]!AUDUSD,2,1,",")*1 -> 0.92988 | F6: =(D6+E6)/2 -> 0.932455 | G6: =IF(C6>F6,"YES","NO") -> YES | H6: =IF(G6="YES",100/(D6-F6)*(C6-F6),100/(F6-E6)*(F6-C6)*-1) -> 70.485437 | I6: =H6*-1 -> -70.485437 | K6: GBP | L6: =H5 -> 74.59854 | M6: =I9 -> 78.947368 | O6: =H13 -> 16.008316 | P6: =H14 -> 46.320346 | Q6: =H15 -> -2.3945268 | R6: =SUM(L6:Q6)/5 -> 42.696009 | S6: GBP
A7: USDJPY | C7: =[1]!USDJPY/1000 -> 103.869 | D7: =[2]!USDJPY/1000 -> 104.151 | E7: =[3]!USDJPY/1000 -> 103.77 | F7: =(D7+E7)/2 -> 103.9605 | G7: =IF(C7>F7,"YES","NO") -> NO | H7: =IF(G7="YES",100/(D7-F7)*(C7-F7),100/(F7-E7)*(F7-C7)*-1) -> -48.031496 | I7: =H7*-1 -> 48.031496 | K7: AUD | L7: =H6 -> 70.485437 | M7: =I10 -> 68.144499 | N7: =I13 -> -16.008316 | P7: =H16 -> 46.315789 | Q7: =H17 -> -17.117117 | R7: =SUM(L7:Q7)/5 -> 30.364058 | S7: AUD
A8: USDCAD | C8: =[1]!USDCAD/100000 -> 1.08928 | D8: =[2]!USDCAD/100000 -> 1.09547 | E8: =[3]!USDCAD/100000 -> 1.08883 | F8: =(D8+E8)/2 -> 1.09215 | G8: =IF(C8>F8,"YES","NO") -> NO | H8: =IF(G8="YES",100/(D8-F8)*(C8-F8),100/(F8-E8)*(F8-C8)*-1) -> -86.445783 | I8: =H8*-1 -> 86.445783 | K8: JPY | L8: =I7 -> 48.031496 | M8: =I11 -> 41.520468 | N8: =I14 -> -46.320346 | O8: =I16 -> -46.315789 | Q8: =I18 -> -65.995526 | R8: =SUM(L8:Q8)/5 -> -13.81594 | S8: JPY
A9: EURGBP | C9: =REPLACE([1]!EURGBP,2,1,",")*1 -> 0.794 | D9: =REPLACE([2]!EURGBP,2,1,",")*1 -> 0.79621 | E9: =REPLACE([3]!EURGBP,2,1,",")*1 -> 0.79374 | F9: =(D9+E9)/2 -> 0.794975 | G9: =IF(C9>F9,"YES","NO") -> NO | H9: =IF(G9="YES",100/(D9-F9)*(C9-F9),100/(F9-E9)*(F9-C9)*-1) -> -78.947368 | I9: =H9*-1 -> 78.947368 | K9: CAD | L9: =I8 -> 86.445783 | M9: =I12 -> 93.112948 | N9: =I15 -> 2.3945268 | O9: =I17 -> 17.117117 | P9: =H18 -> 65.995526 | R9: =SUM(L9:Q9)/5 -> 53.01318 | S9: CAD
A10: EURAUD | C10: =[1]!EURAUD/100000 -> 1.41043 | D10: =[2]!EURAUD/100000 -> 1.41555 | E10: =[3]!EURAUD/100000 -> 1.40946 | F10: =(D10+E10)/2 -> 1.412505 | G10: =IF(C10>F10,"YES","NO") -> NO | H10: =IF(G10="YES",100/(D10-F10)*(C10-F10),100/(F10-E10)*(F10-C10)*-1) -> -68.144499 | I10: =H10*-1 -> 68.144499 | K10: Summe | L10: =R4 -> -65.77451 | M10: =R5 -> -46.482798 | N10: =R6 -> 42.696009 | O10: =R7 -> 30.364058 | P10: =R8 -> -13.81594 | Q10: =R9 -> 53.01318 | S10: Summe
A11: EURJPY | C11: =[1]!EURJPY/1000 -> 136.896 | D11: =[2]!EURJPY/1000 -> 137.138 | E11: =[3]!EURJPY/1000 -> 136.796 | F11: =(D11+E11)/2 -> 136.967 | G11: =IF(C11>F11,"YES","NO") -> NO | H11: =IF(G11="YES",100/(D11-F11)*(C11-F11),100/(F11-E11)*(F11-C11)*-1) -> -41.520468 | I11: =H11*-1 -> 41.520468
A12: EURCAD | C12: =[1]!EURCAD/100000 -> 1.43569 | D12: =[2]!EURCAD/100000 -> 1.4427 | E12: =[3]!EURCAD/100000 -> 1.43544 | F12: =(D12+E12)/2 -> 1.43907 | G12: =IF(C12>F12,"YES","NO") -> NO | H12: =IF(G12="YES",100/(D12-F12)*(C12-F12),100/(F12-E12)*(F12-C12)*-1) -> -93.112948 | I12: =H12*-1 -> 93.112948
A13: GBPAUD | C13: =[1]!GBPAUD/100000 -> 1.77603 | D13: =[2]!GBPAUD/100000 -> 1.77805 | E13: =[3]!GBPAUD/100000 -> 1.77324 | F13: =(D13+E13)/2 -> 1.775645 | G13: =IF(C13>F13,"YES","NO") -> YES | H13: =IF(G13="YES",100/(D13-F13)*(C13-F13),100/(F13-E13)*(F13-C13)*-1) -> 16.008316 | I13: =H13*-1 -> -16.008316
A14: GBPJPY | C14: =[1]!GBPJPY/1000 -> 172.387 | D14: =[2]!GBPJPY/1000 -> 172.511 | E14: =[3]!GBPJPY/1000 -> 172.049 | F14: =(D14+E14)/2 -> 172.28 | G14: =IF(C14>F14,"YES","NO") -> YES | H14: =IF(G14="YES",100/(D14-F14)*(C14-F14),100/(F14-E14)*(F14-C14)*-1) -> 46.320346 | I14: =H14*-1 -> -46.320346
A15: GBPCAD | C15: =[1]!GBPCAD/100000 -> 1.80788 | D15: =[2]!GBPCAD/100000 -> 1.81237 | E15: =[3]!GBPCAD/100000 -> 1.8036 | F15: =(D15+E15)/2 -> 1.807985 | G15: =IF(C15>F15,"YES","NO") -> NO | H15: =IF(G15="YES",100/(D15-F15)*(C15-F15),100/(F15-E15)*(F15-C15)*-1) -> -2.3945268 | I15: =H15*-1 -> 2.3945268
A16: AUDJPY | C16: =[1]!AUDJPY/1000 -> 97.047 | D16: =[2]!AUDJPY/1000 -> 97.149 | E16: =[3]!AUDJPY/1000 -> 96.769 | F16: =(D16+E16)/2 -> 96.959 | G16: =IF(C16>F16,"YES","NO") -> YES | H16: =IF(G16="YES",100/(D16-F16)*(C16-F16),100/(F16-E16)*(F16-C16)*-1) -> 46.315789 | I16: =H16*-1 -> -46.315789
A17: AUDCAD | C17: =REPLACE([1]!AUDCAD,2,1,",")*1 -> 1.1777 | D17: =REPLACE([2]!AUDCAD,2,1,",")*1 -> 1.2037 | E17: =REPLACE([3]!AUDCAD,2,1,",")*1 -> 1.1593 | F17: =(D17+E17)/2 -> 1.1815 | G17: =IF(C17>F17,"YES","NO") -> NO | H17: =IF(G17="YES",100/(D17-F17)*(C17-F17),100/(F17-E17)*(F17-C17)*-1) -> -17.117117 | I17: =H17*-1 -> 17.117117
A18: CADJPY | C18: =[1]!CADJPY/1000 -> 95.34 | D18: =[2]!CADJPY/1000 -> 95.416 | E18: =[3]!CADJPY/1000 -> 94.969 | F18: =(D18+E18)/2 -> 95.1925 | G18: =IF(C18>F18,"YES","NO") -> YES | H18: =IF(G18="YES",100/(D18-F18)*(C18-F18),100/(F18-E18)*(F18-C18)*-1) -> 65.995526 | I18: =H18*-1 -> -65.995526
B20: open not provided by MT4 via DDE

Sheet running 1h
A1: Currency Strength
A3: actual | B3: Open | C3: Bid | D3: High | E3: Low | F3: Mid | G3: Bid>Mid | H3: % above/below Mid | I3: Reziprok | K3: actual | L3: USD | M3: EUR | N3: GBP | O3: AUD | P3: JPY | Q3: CAD | R3: Summe
A4: EURUSD | B4: =Data!$T$2 -> 1.3186 | C4: =Data!$O$2 -> 1.318 | D4: =Data!$N$2 -> 1.3186 | E4: =Data!$M$2 -> 1.3176 | F4: =(D4+E4)/2 -> 1.3181 | G4: =IF(C4>F4,"YES","NO") -> NO | H4: =IF(G4="YES",100/(D4-F4)*(C4-F4),100/(F4-E4)*(F4-C4)*-1) -> -20 | I4: =H4*-1 -> 20 | K4: USD | M4: =I4 -> 20 | N4: =I5 -> 77.777778 | O4: =I6 -> 0 | P4: =H7 -> 81.052632 | Q4: =H8 -> -60 | R4: =SUM(L4:Q4)/5 -> 23.766082 | S4: USD
A5: GBPUSD | B5: =Data!$T$24 -> 1.6599 | C5: =Data!$O$24 -> 1.6595 | D5: =Data!$N$24 -> 1.6603 | E5: =Data!$M$24 -> 1.6594 | F5: =(D5+E5)/2 -> 1.65985 | G5: =IF(C5>F5,"YES","NO") -> NO | H5: =IF(G5="YES",100/(D5-F5)*(C5-F5),100/(F5-E5)*(F5-C5)*-1) -> -77.777778 | I5: =H5*-1 -> 77.777778 | K5: EUR | L5: =H4 -> -20 | N5: =H9 -> 33.333333 | O5: =H10 -> -55.555556 | P5: =H11 -> 23.529412 | Q5: =H12 -> -88.235294 | R5: =SUM(L5:Q5)/5 -> -21.385621 | S5: EUR
A6: AUDUSD | B6: =Data!$T$26 -> 0.9344 | C6: =Data!$O$26 -> 0.9343 | D6: =Data!$N$26 -> 0.9345 | E6: =Data!$M$26 -> 0.9341 | F6: =(D6+E6)/2 -> 0.9343 | G6: =IF(C6>F6,"YES","NO") -> NO | H6: =IF(G6="YES",100/(D6-F6)*(C6-F6),100/(F6-E6)*(F6-C6)*-1) -> 0 | I6: =H6*-1 -> 0 | K6: GBP | L6: =H5 -> -77.777778 | M6: =I9 -> -33.333333 | O6: =H13 -> -80 | P6: =H14 -> 14.285714 | Q6: =H15 -> -90.909091 | R6: =SUM(L6:Q6)/5 -> -53.546898 | S6: GBP
A7: USDJPY | B7: =Data!T28 -> 103.789 | C7: =Data!$O$28 -> 103.874 | D7: =Data!$N$28 -> 103.883 | E7: =Data!$M$28 -> 103.788 | F7: =(D7+E7)/2 -> 103.8355 | G7: =IF(C7>F7,"YES","NO") -> YES | H7: =IF(G7="YES",100/(D7-F7)*(C7-F7),100/(F7-E7)*(F7-C7)*-1) -> 81.052632 | I7: =H7*-1 -> -81.052632 | K7: AUD | L7: =H6 -> 0 | M7: =I10 -> 55.555556 | N7: =I13 -> 80 | P7: =H16 -> 64.556962 | Q7: =H17 -> -63.636364 | R7: =SUM(L7:Q7)/5 -> 27.295231 | S7: AUD
A8: USDCAD | B8: =Data!$T$30 -> 1.0899 | C8: =Data!$O$30 -> 1.0893 | D8: =Data!$N$30 -> 1.0901 | E8: =Data!$M$30 -> 1.0891 | F8: =(D8+E8)/2 -> 1.0896 | G8: =IF(C8>F8,"YES","NO") -> NO | H8: =IF(G8="YES",100/(D8-F8)*(C8-F8),100/(F8-E8)*(F8-C8)*-1) -> -60 | I8: =H8*-1 -> 60 | K8: JPY | L8: =I7 -> -81.052632 | M8: =I11 -> -23.529412 | N8: =I14 -> -14.285714 | O8: =I16 -> -64.556962 | Q8: =I18 -> -80.89172 | R8: =SUM(L8:Q8)/5 -> -52.863288 | S8: JPY
A9: EURGBP | B9: =Data!$T$4 -> 0.7943 | C9: =Data!$O$4 -> 0.7941 | D9: =Data!$N$4 -> 0.7943 | E9: =Data!$M$4 -> 0.7937 | F9: =(D9+E9)/2 -> 0.794 | G9: =IF(C9>F9,"YES","NO") -> YES | H9: =IF(G9="YES",100/(D9-F9)*(C9-F9),100/(F9-E9)*(F9-C9)*-1) -> 33.333333 | I9: =H9*-1 -> -33.333333 | K9: CAD | L9: =I8 -> 60 | M9: =I12 -> 88.235294 | N9: =I15 -> 90.909091 | O9: =I17 -> 63.636364 | P9: =H18 -> 80.89172 | R9: =SUM(L9:Q9)/5 -> 76.734494 | S9: CAD
A10: EURAUD | B10: =Data!$T$6 -> 1.4109 | C10: =Data!$O$6 -> 1.4105 | D10: =Data!$N$6 -> 1.4112 | E10: =Data!$M$6 -> 1.4103 | F10: =(D10+E10)/2 -> 1.41075 | G10: =IF(C10>F10,"YES","NO") -> NO | H10: =IF(G10="YES",100/(D10-F10)*(C10-F10),100/(F10-E10)*(F10-C10)*-1) -> -55.555556 | I10: =H10*-1 -> 55.555556 | K10: Summe | L10: =R4 -> 23.766082 | M10: =R5 -> -21.385621 | N10: =R6 -> -53.546898 | O10: =R7 -> 27.295231 | P10: =R8 -> -52.863288 | Q10: =R9 -> 76.734494 | S10: Summe
A11: EURJPY | B11: =Data!$T$8 -> 136.866 | C11: =Data!$O$8 -> 136.912 | D11: =Data!$N$8 -> 136.951 | E11: =Data!$M$8 -> 136.849 | F11: =(D11+E11)/2 -> 136.9 | G11: =IF(C11>F11,"YES","NO") -> YES | H11: =IF(G11="YES",100/(D11-F11)*(C11-F11),100/(F11-E11)*(F11-C11)*-1) -> 23.529412 | I11: =H11*-1 -> -23.529412
A12: EURCAD | B12: =Data!$T$10 -> 1.4373 | C12: =Data!$O$10 -> 1.4357 | D12: =Data!$N$10 -> 1.4373 | E12: =Data!$M$10 -> 1.4356 | F12: =(D12+E12)/2 -> 1.43645 | G12: =IF(C12>F12,"YES","NO") -> NO | H12: =IF(G12="YES",100/(D12-F12)*(C12-F12),100/(F12-E12)*(F12-C12)*-1) -> -88.235294 | I12: =H12*-1 -> 88.235294
A13: GBPAUD | B13: =Data!$T$18 -> 1.7761 | C13: =Data!$O$18 -> 1.776 | D13: =Data!$N$18 -> 1.7769 | E13: =Data!$M$18 -> 1.7759 | F13: =(D13+E13)/2 -> 1.7764 | G13: =IF(C13>F13,"YES","NO") -> NO | H13: =IF(G13="YES",100/(D13-F13)*(C13-F13),100/(F13-E13)*(F13-C13)*-1) -> -80 | I13: =H13*-1 -> 80
A14: GBPJPY | B14: =Data!$T$20 -> 172.287 | C14: =Data!$O$20 -> 172.389 | D14: =Data!$N$20 -> 172.47 | E14: =Data!$M$20 -> 172.281 | F14: =(D14+E14)/2 -> 172.3755 | G14: =IF(C14>F14,"YES","NO") -> YES | H14: =IF(G14="YES",100/(D14-F14)*(C14-F14),100/(F14-E14)*(F14-C14)*-1) -> 14.285714 | I14: =H14*-1 -> -14.285714
A15: GBPCAD | B15: =Data!$T$22 -> 1.8094 | C15: =Data!$O$22 -> 1.8078 | D15: =Data!$N$22 -> 1.8099 | E15: =Data!$M$22 -> 1.8077 | F15: =(D15+E15)/2 -> 1.8088 | G15: =IF(C15>F15,"YES","NO") -> NO | H15: =IF(G15="YES",100/(D15-F15)*(C15-F15),100/(F15-E15)*(F15-C15)*-1) -> -90.909091 | I15: =H15*-1 -> 90.909091
A16: AUDJPY | B16: =Data!$T$14 -> 96.99 | C16: =Data!$O$14 -> 97.055 | D16: =Data!$N$14 -> 97.069 | E16: =Data!$M$14 -> 96.99 | F16: =(D16+E16)/2 -> 97.0295 | G16: =IF(C16>F16,"YES","NO") -> YES | H16: =IF(G16="YES",100/(D16-F16)*(C16-F16),100/(F16-E16)*(F16-C16)*-1) -> 64.556962 | I16: =H16*-1 -> -64.556962
A17: AUDCAD | B17: =Data!$T$12 -> 1.0186 | C17: =Data!$O$12 -> 1.0178 | D17: =Data!$N$12 -> 1.0187 | E17: =Data!$M$12 -> 1.0176 | F17: =(D17+E17)/2 -> 1.01815 | G17: =IF(C17>F17,"YES","NO") -> NO | H17: =IF(G17="YES",100/(D17-F17)*(C17-F17),100/(F17-E17)*(F17-C17)*-1) -> -63.636364 | I17: =H17*-1 -> 63.636364
A18: CADJPY | B18: =Data!$T$16 -> 95.21 | C18: =Data!$O$16 -> 95.346 | D18: =Data!$N$16 -> 95.361 | E18: =Data!$M$16 -> 95.204 | F18: =(D18+E18)/2 -> 95.2825 | G18: =IF(C18>F18,"YES","NO") -> YES | H18: =IF(G18="YES",100/(D18-F18)*(C18-F18),100/(F18-E18)*(F18-C18)*-1) -> 80.89172 | I18: =H18*-1 -> -80.89172
A20: past | B20: Open | C20: Bid | D20: High | E20: Low | F20: Mid | G20: Bid>Mid | H20: % above/below Mid | I20: Reziprok | K20: past | L20: USD | M20: EUR | N20: GBP | O20: AUD | P20: JPY | Q20: CAD | R20: Summe
A21: EURUSD | B21: =Datap!$T$2 -> 1.3183 | C21: =Datap!$O$2 -> 1.3186 | D21: =Datap!$N$2 -> 1.3186 | E21: =Datap!$M$2 -> 1.3176 | F21: =(D21+E21)/2 -> 1.3181 | G21: =IF(C21>F21,"YES","NO") -> YES | H21: =IF(G21="YES",100/(D21-F21)*(C21-F21),100/(F21-E21)*(F21-C21)*-1) -> 100 | I21: =H21*-1 -> -100 | K21: USD | M21: =I21 -> -100 | N21: =I22 -> -41.176471 | O21: =I23 -> 9.0909091 | P21: =H24 -> -69.105691 | Q21: =H25 -> -55.555556 | R21: =SUM(L21:Q21)/5 -> -51.349362 | S21: USD
A22: GBPUSD | B22: =Datap!$T$24 -> 1.6591 | C22: =Datap!$O$24 -> 1.6599 | D22: =Datap!$N$24 -> 1.6604 | E22: =Datap!$M$24 -> 1.6587 | F22: =(D22+E22)/2 -> 1.65955 | G22: =IF(C22>F22,"YES","NO") -> YES | H22: =IF(G22="YES",100/(D22-F22)*(C22-F22),100/(F22-E22)*(F22-C22)*-1) -> 41.176471 | I22: =H22*-1 -> -41.176471 | K22: EUR | L22: =H21 -> 100 | N22: =H26 -> 42.857143 | O22: =H27 -> 86.666667 | P22: =H28 -> -19.075145 | Q22: =H29 -> 27.272727 | R22: =SUM(L22:Q22)/5 -> 47.544278 | S22: EUR
A23: AUDUSD | B23: =Datap!$T$26 -> 0.9343 | C23: =Datap!$O$26 -> 0.9344 | D23: =Datap!$N$26 -> 0.935 | E23: =Datap!$M$26 -> 0.9339 | F23: =(D23+E23)/2 -> 0.93445 | G23: =IF(C23>F23,"YES","NO") -> NO | H23: =IF(G23="YES",100/(D23-F23)*(C23-F23),100/(F23-E23)*(F23-C23)*-1) -> -9.0909091 | I23: =H23*-1 -> 9.0909091 | K23: GBP | L23: =H22 -> 41.176471 | M23: =I26 -> -42.857143 | O23: =H30 -> 54.545455 | P23: =H31 -> -40.243902 | Q23: =H32 -> -6.6666667 | R23: =SUM(L23:Q23)/5 -> 1.1908426 | S23: GBP
A24: USDJPY | B24: =Datap!T28 -> 103.89 | C24: =Datap!$O$28 -> 103.789 | D24: =Datap!$N$28 -> 103.893 | E24: =Datap!$M$28 -> 103.77 | F24: =(D24+E24)/2 -> 103.8315 | G24: =IF(C24>F24,"YES","NO") -> NO | H24: =IF(G24="YES",100/(D24-F24)*(C24-F24),100/(F24-E24)*(F24-C24)*-1) -> -69.105691 | I24: =H24*-1 -> 69.105691 | K24: AUD | L24: =H23 -> -9.0909091 | M24: =I27 -> -86.666667 | N24: =I30 -> -54.545455 | P24: =H33 -> -60.683761 | Q24: =H34 -> -80 | R24: =SUM(L24:Q24)/5 -> -58.197358 | S24: AUD
A25: USDCAD | B25: =Datap!$T$30 -> 1.0904 | C25: =Datap!$O$30 -> 1.09 | D25: =Datap!$N$30 -> 1.0907 | E25: =Datap!$M$30 -> 1.0898 | F25: =(D25+E25)/2 -> 1.09025 | G25: =IF(C25>F25,"YES","NO") -> NO | H25: =IF(G25="YES",100/(D25-F25)*(C25-F25),100/(F25-E25)*(F25-C25)*-1) -> -55.555556 | I25: =H25*-1 -> 55.555556 | K25: JPY | L25: =I24 -> 69.105691 | M25: =I28 -> 19.075145 | N25: =I31 -> 40.243902 | O25: =I33 -> 60.683761 | Q25: =I35 -> 17.894737 | R25: =SUM(L25:Q25)/5 -> 41.400647 | S25: JPY
A26: EURGBP | B26: =Datap!$T$4 -> 0.7945 | C26: =Datap!$O$4 -> 0.7943 | D26: =Datap!$N$4 -> 0.7945 | E26: =Datap!$M$4 -> 0.7938 | F26: =(D26+E26)/2 -> 0.79415 | G26: =IF(C26>F26,"YES","NO") -> YES | H26: =IF(G26="YES",100/(D26-F26)*(C26-F26),100/(F26-E26)*(F26-C26)*-1) -> 42.857143 | I26: =H26*-1 -> -42.857143 | K26: CAD | L26: =I25 -> 55.555556 | M26: =I29 -> -27.272727 | N26: =I32 -> 6.6666667 | O26: =I34 -> 80 | P26: =H35 -> -17.894737 | R26: =SUM(L26:Q26)/5 -> 19.410952 | S26: CAD
A27: EURAUD | B27: =Datap!$T$6 -> 1.4513 | C27: =Datap!$O$6 -> 1.4109 | D27: =Datap!$N$6 -> 1.411 | E27: =Datap!$M$6 -> 1.4095 | F27: =(D27+E27)/2 -> 1.41025 | G27: =IF(C27>F27,"YES","NO") -> YES | H27: =IF(G27="YES",100/(D27-F27)*(C27-F27),100/(F27-E27)*(F27-C27)*-1) -> 86.666667 | I27: =H27*-1 -> -86.666667 | K27: Summe | L27: =R21 -> -51.349362 | M27: =R22 -> 47.544278 | N27: =R23 -> 1.1908426 | O27: =R24 -> -58.197358 | P27: =R25 -> 41.400647 | Q27: =R26 -> 19.410952 | S27: Summe
A28: EURJPY | B28: =Datap!$T$8 -> 138.71 | C28: =Datap!$O$8 -> 136.866 | D28: =Datap!$N$8 -> 136.969 | E28: =Datap!$M$8 -> 136.796 | F28: =(D28+E28)/2 -> 136.8825 | G28: =IF(C28>F28,"YES","NO") -> NO | H28: =IF(G28="YES",100/(D28-F28)*(C28-F28),100/(F28-E28)*(F28-C28)*-1) -> -19.075145 | I28: =H28*-1 -> 19.075145
A29: EURCAD | B29: =Datap!$T$10 -> 1.4608 | C29: =Datap!$O$10 -> 1.4373 | D29: =Datap!$N$10 -> 1.4377 | E29: =Datap!$M$10 -> 1.4366 | F29: =(D29+E29)/2 -> 1.43715 | G29: =IF(C29>F29,"YES","NO") -> YES | H29: =IF(G29="YES",100/(D29-F29)*(C29-F29),100/(F29-E29)*(F29-C29)*-1) -> 27.272727 | I29: =H29*-1 -> -27.272727
A30: GBPAUD | B30: =Datap!$T$18 -> 1.7756 | C30: =Datap!$O$18 -> 1.7761 | D30: =Datap!$N$18 -> 1.7766 | E30: =Datap!$M$18 -> 1.7744 | F30: =(D30+E30)/2 -> 1.7755 | G30: =IF(C30>F30,"YES","NO") -> YES | H30: =IF(G30="YES",100/(D30-F30)*(C30-F30),100/(F30-E30)*(F30-C30)*-1) -> 54.545455 | I30: =H30*-1 -> -54.545455
A31: GBPJPY | B31: =Datap!$T$20 -> 172.376 | C31: =Datap!$O$20 -> 172.287 | D31: =Datap!$N$20 -> 172.402 | E31: =Datap!$M$20 -> 172.238 | F31: =(D31+E31)/2 -> 172.32 | G31: =IF(C31>F31,"YES","NO") -> NO | H31: =IF(G31="YES",100/(D31-F31)*(C31-F31),100/(F31-E31)*(F31-C31)*-1) -> -40.243902 | I31: =H31*-1 -> 40.243902
A32: GBPCAD | B32: =Datap!$T$22 -> 1.8094 | C32: =Datap!$O$22 -> 1.8094 | D32: =Datap!$N$22 -> 1.8102 | E32: =Datap!$M$22 -> 1.8087 | F32: =(D32+E32)/2 -> 1.80945 | G32: =IF(C32>F32,"YES","NO") -> NO | H32: =IF(G32="YES",100/(D32-F32)*(C32-F32),100/(F32-E32)*(F32-C32)*-1) -> -6.6666667 | I32: =H32*-1 -> 6.6666667
A33: AUDJPY | B33: =Datap!$T$14 -> 97.066 | C33: =Datap!$O$14 -> 96.99 | D33: =Datap!$N$14 -> 97.084 | E33: =Datap!$M$14 -> 96.967 | F33: =(D33+E33)/2 -> 97.0255 | G33: =IF(C33>F33,"YES","NO") -> NO | H33: =IF(G33="YES",100/(D33-F33)*(C33-F33),100/(F33-E33)*(F33-C33)*-1) -> -60.683761 | I33: =H33*-1 -> 60.683761
A34: AUDCAD | B34: =Datap!$T$12 -> 1.0188 | C34: =Datap!$O$12 -> 1.0186 | D34: =Datap!$N$12 -> 1.0195 | E34: =Datap!$M$12 -> 1.0185 | F34: =(D34+E34)/2 -> 1.019 | G34: =IF(C34>F34,"YES","NO") -> NO | H34: =IF(G34="YES",100/(D34-F34)*(C34-F34),100/(F34-E34)*(F34-C34)*-1) -> -80 | I34: =H34*-1 -> 80
A35: CADJPY | B35: =Datap!$T$16 -> 95.256 | C35: =Datap!$O$16 -> 95.208 | D35: =Datap!$N$16 -> 95.264 | E35: =Datap!$M$16 -> 95.169 | F35: =(D35+E35)/2 -> 95.2165 | G35: =IF(C35>F35,"YES","NO") -> NO | H35: =IF(G35="YES",100/(D35-F35)*(C35-F35),100/(F35-E35)*(F35-C35)*-1) -> -17.894737 | I35: =H35*-1 -> 17.894737

Sheet running 4h
A1: Currency Strength
A3: actual | B3: Open | C3: Bid | D3: High | E3: Low | F3: Mid | G3: Bid>Mid | H3: % above/below Mid | I3: Reziprok | K3: actual | L3: USD | M3: EUR | N3: GBP | O3: AUD | P3: JPY | Q3: CAD | R3: Summe
A4: EURUSD | B4: =Data!$S$2 -> 1.3186 | C4: =Data!$L$2 -> 1.318 | D4: =Data!$K$2 -> 1.3186 | E4: =Data!$J$2 -> 1.3176 | F4: =(D4+E4)/2 -> 1.3181 | G4: =IF(C4>F4,"YES","NO") -> NO | H4: =IF(G4="YES",100/(D4-F4)*(C4-F4),100/(F4-E4)*(F4-C4)*-1) -> -20 | I4: =H4*-1 -> 20 | K4: USD | M4: =I4 -> 20 | N4: =I5 -> 77.777778 | O4: =I6 -> 0 | P4: =H7 -> 81.052632 | Q4: =H8 -> -60 | R4: =SUM(L4:Q4)/5 -> 23.766082 | S4: USD
A5: GBPUSD | B5: =Data!$S$24 -> 1.6599 | C5: =Data!$L$24 -> 1.6595 | D5: =Data!$K$24 -> 1.6603 | E5: =Data!$J$24 -> 1.6594 | F5: =(D5+E5)/2 -> 1.65985 | G5: =IF(C5>F5,"YES","NO") -> NO | H5: =IF(G5="YES",100/(D5-F5)*(C5-F5),100/(F5-E5)*(F5-C5)*-1) -> -77.777778 | I5: =H5*-1 -> 77.777778 | K5: EUR | L5: =H4 -> -20 | N5: =H9 -> 33.333333 | O5: =H10 -> -55.555556 | P5: =H11 -> 23.529412 | Q5: =H12 -> -88.235294 | R5: =SUM(L5:Q5)/5 -> -21.385621 | S5: EUR
A6: AUDUSD | B6: =Data!$S$26 -> 0.9344 | C6: =Data!$L$26 -> 0.9343 | D6: =Data!$K$26 -> 0.9345 | E6: =Data!$J$26 -> 0.9341 | F6: =(D6+E6)/2 -> 0.9343 | G6: =IF(C6>F6,"YES","NO") -> NO | H6: =IF(G6="YES",100/(D6-F6)*(C6-F6),100/(F6-E6)*(F6-C6)*-1) -> 0 | I6: =H6*-1 -> 0 | K6: GBP | L6: =H5 -> -77.777778 | M6: =I9 -> -33.333333 | O6: =H13 -> -80 | P6: =H14 -> 14.285714 | Q6: =H15 -> -90.909091 | R6: =SUM(L6:Q6)/5 -> -53.546898 | S6: GBP
A7: USDJPY | B7: =Data!$S$28 -> 103.789 | C7: =Data!$L$28 -> 103.874 | D7: =Data!$K$28 -> 103.883 | E7: =Data!$J$28 -> 103.788 | F7: =(D7+E7)/2 -> 103.8355 | G7: =IF(C7>F7,"YES","NO") -> YES | H7: =IF(G7="YES",100/(D7-F7)*(C7-F7),100/(F7-E7)*(F7-C7)*-1) -> 81.052632 | I7: =H7*-1 -> -81.052632 | K7: AUD | L7: =H6 -> 0 | M7: =I10 -> 55.555556 | N7: =I13 -> 80 | P7: =H16 -> 64.556962 | Q7: =H17 -> -63.636364 | R7: =SUM(L7:Q7)/5 -> 27.295231 | S7: AUD
A8: USDCAD | B8: =Data!$S$30 -> 1.0899 | C8: =Data!$L$30 -> 1.0893 | D8: =Data!$K$30 -> 1.0901 | E8: =Data!$J$30 -> 1.0891 | F8: =(D8+E8)/2 -> 1.0896 | G8: =IF(C8>F8,"YES","NO") -> NO | H8: =IF(G8="YES",100/(D8-F8)*(C8-F8),100/(F8-E8)*(F8-C8)*-1) -> -60 | I8: =H8*-1 -> 60 | K8: JPY | L8: =I7 -> -81.052632 | M8: =I11 -> -23.529412 | N8: =I14 -> -14.285714 | O8: =I16 -> -64.556962 | Q8: =I18 -> -80.89172 | R8: =SUM(L8:Q8)/5 -> -52.863288 | S8: JPY
A9: EURGBP | B9: =Data!$S$4 -> 0.7943 | C9: =Data!$L$4 -> 0.7941 | D9: =Data!$K$4 -> 0.7943 | E9: =Data!$J$4 -> 0.7937 | F9: =(D9+E9)/2 -> 0.794 | G9: =IF(C9>F9,"YES","NO") -> YES | H9: =IF(G9="YES",100/(D9-F9)*(C9-F9),100/(F9-E9)*(F9-C9)*-1) -> 33.333333 | I9: =H9*-1 -> -33.333333 | K9: CAD | L9: =I8 -> 60 | M9: =I12 -> 88.235294 | N9: =I15 -> 90.909091 | O9: =I17 -> 63.636364 | P9: =H18 -> 80.89172 | R9: =SUM(L9:Q9)/5 -> 76.734494 | S9: CAD
A10: EURAUD | B10: =Data!$S$6 -> 1.4109 | C10: =Data!$L$6 -> 1.4105 | D10: =Data!$K$6 -> 1.4112 | E10: =Data!$J$6 -> 1.4103 | F10: =(D10+E10)/2 -> 1.41075 | G10: =IF(C10>F10,"YES","NO") -> NO | H10: =IF(G10="YES",100/(D10-F10)*(C10-F10),100/(F10-E10)*(F10-C10)*-1) -> -55.555556 | I10: =H10*-1 -> 55.555556 | K10: Summe | L10: =R4 -> 23.766082 | M10: =R5 -> -21.385621 | N10: =R6 -> -53.546898 | O10: =R7 -> 27.295231 | P10: =R8 -> -52.863288 | Q10: =R9 -> 76.734494 | S10: Summe
A11: EURJPY | B11: =Data!$S$8 -> 136.866 | C11: =Data!$L$8 -> 136.912 | D11: =Data!$K$8 -> 136.951 | E11: =Data!$J$8 -> 136.849 | F11: =(D11+E11)/2 -> 136.9 | G11: =IF(C11>F11,"YES","NO") -> YES | H11: =IF(G11="YES",100/(D11-F11)*(C11-F11),100/(F11-E11)*(F11-C11)*-1) -> 23.529412 | I11: =H11*-1 -> -23.529412
A12: EURCAD | B12: =Data!$S$10 -> 1.4373 | C12: =Data!$L$10 -> 1.4357 | D12: =Data!$K$10 -> 1.4373 | E12: =Data!$J$10 -> 1.4356 | F12: =(D12+E12)/2 -> 1.43645 | G12: =IF(C12>F12,"YES","NO") -> NO | H12: =IF(G12="YES",100/(D12-F12)*(C12-F12),100/(F12-E12)*(F12-C12)*-1) -> -88.235294 | I12: =H12*-1 -> 88.235294
A13: GBPAUD | B13: =Data!$S$18 -> 1.7761 | C13: =Data!$L$18 -> 1.776 | D13: =Data!$K$18 -> 1.7769 | E13: =Data!$J$18 -> 1.7759 | F13: =(D13+E13)/2 -> 1.7764 | G13: =IF(C13>F13,"YES","NO") -> NO | H13: =IF(G13="YES",100/(D13-F13)*(C13-F13),100/(F13-E13)*(F13-C13)*-1) -> -80 | I13: =H13*-1 -> 80
A14: GBPJPY | B14: =Data!$S$20 -> 172.287 | C14: =Data!$L$20 -> 172.389 | D14: =Data!$K$20 -> 172.47 | E14: =Data!$J$20 -> 172.281 | F14: =(D14+E14)/2 -> 172.3755 | G14: =IF(C14>F14,"YES","NO") -> YES | H14: =IF(G14="YES",100/(D14-F14)*(C14-F14),100/(F14-E14)*(F14-C14)*-1) -> 14.285714 | I14: =H14*-1 -> -14.285714
A15: GBPCAD | B15: =Data!$S$22 -> 1.8094 | C15: =Data!$L$22 -> 1.8078 | D15: =Data!$K$22 -> 1.8099 | E15: =Data!$J$22 -> 1.8077 | F15: =(D15+E15)/2 -> 1.8088 | G15: =IF(C15>F15,"YES","NO") -> NO | H15: =IF(G15="YES",100/(D15-F15)*(C15-F15),100/(F15-E15)*(F15-C15)*-1) -> -90.909091 | I15: =H15*-1 -> 90.909091
A16: AUDJPY | B16: =Data!$S$14 -> 96.99 | C16: =Data!$L$14 -> 97.055 | D16: =Data!$K$14 -> 97.069 | E16: =Data!$J$14 -> 96.99 | F16: =(D16+E16)/2 -> 97.0295 | G16: =IF(C16>F16,"YES","NO") -> YES | H16: =IF(G16="YES",100/(D16-F16)*(C16-F16),100/(F16-E16)*(F16-C16)*-1) -> 64.556962 | I16: =H16*-1 -> -64.556962
A17: AUDCAD | B17: =Data!$S$12 -> 1.0186 | C17: =Data!$L$12 -> 1.0178 | D17: =Data!$K$12 -> 1.0187 | E17: =Data!$J$12 -> 1.0176 | F17: =(D17+E17)/2 -> 1.01815 | G17: =IF(C17>F17,"YES","NO") -> NO | H17: =IF(G17="YES",100/(D17-F17)*(C17-F17),100/(F17-E17)*(F17-C17)*-1) -> -63.636364 | I17: =H17*-1 -> 63.636364
A18: CADJPY | B18: =Data!$S$16 -> 95.21 | C18: =Data!$L$16 -> 95.346 | D18: =Data!$K$16 -> 95.361 | E18: =Data!$J$16 -> 95.204 | F18: =(D18+E18)/2 -> 95.2825 | G18: =IF(C18>F18,"YES","NO") -> YES | H18: =IF(G18="YES",100/(D18-F18)*(C18-F18),100/(F18-E18)*(F18-C18)*-1) -> 80.89172 | I18: =H18*-1 -> -80.89172
A20: past | B20: Open | C20: Bid | D20: High | E20: Low | F20: Mid | G20: Bid>Mid | H20: % above/below Mid | I20: Reziprok | K20: past | L20: USD | M20: EUR | N20: GBP | O20: AUD | P20: JPY | Q20: CAD | R20: Summe
A21: EURUSD | B21: =Datap!$S$2 -> 1.3181 | C21: =Datap!$L$2 -> 1.3186 | D21: =Datap!$K$2 -> 1.3187 | E21: =Datap!$J$2 -> 1.3174 | F21: =(D21+E21)/2 -> 1.31805 | G21: =IF(C21>F21,"YES","NO") -> YES | H21: =IF(G21="YES",100/(D21-F21)*(C21-F21),100/(F21-E21)*(F21-C21)*-1) -> 84.615385 | I21: =H21*-1 -> -84.615385 | K21: USD | M21: =I21 -> -84.615385 | N21: =I22 -> -75 | O21: =I23 -> -36.842105 | P21: =H24 -> -78.531073 | Q21: =H25 -> 26.315789 | R21: =SUM(L21:Q21)/5 -> -49.734555 | S21: USD
A22: GBPUSD | B22: =Datap!$S$24 -> 1.8094 | C22: =Datap!$L$24 -> 1.6599 | D22: =Datap!$K$24 -> 1.6604 | E22: =Datap!$J$24 -> 1.6564 | F22: =(D22+E22)/2 -> 1.6584 | G22: =IF(C22>F22,"YES","NO") -> YES | H22: =IF(G22="YES",100/(D22-F22)*(C22-F22),100/(F22-E22)*(F22-C22)*-1) -> 75 | I22: =H22*-1 -> -75 | K22: EUR | L22: =H21 -> 84.615385 | N22: =H26 -> -47.368421 | O22: =H27 -> -6.6666667 | P22: =H28 -> -44.664032 | Q22: =H29 -> 30.769231 | R22: =SUM(L22:Q22)/5 -> 3.3370992 | S22: EUR
A23: AUDUSD | B23: =Datap!$S$26 -> 1.6591 | C23: =Datap!$L$26 -> 0.9344 | D23: =Datap!$K$26 -> 0.935 | E23: =Datap!$J$26 -> 0.9331 | F23: =(D23+E23)/2 -> 0.93405 | G23: =IF(C23>F23,"YES","NO") -> YES | H23: =IF(G23="YES",100/(D23-F23)*(C23-F23),100/(F23-E23)*(F23-C23)*-1) -> 36.842105 | I23: =H23*-1 -> -36.842105 | K23: GBP | L23: =H22 -> 75 | M23: =I26 -> 47.368421 | O23: =H30 -> 31.818182 | P23: =H31 -> -6.4133017 | Q23: =H32 -> 55.555556 | R23: =SUM(L23:Q23)/5 -> 40.665771 | S23: GBP
A24: USDJPY | B24: =Datap!$S$28 -> 0.9343 | C24: =Datap!$L$28 -> 103.789 | D24: =Datap!$K$28 -> 103.947 | E24: =Datap!$J$28 -> 103.77 | F24: =(D24+E24)/2 -> 103.8585 | G24: =IF(C24>F24,"YES","NO") -> NO | H24: =IF(G24="YES",100/(D24-F24)*(C24-F24),100/(F24-E24)*(F24-C24)*-1) -> -78.531073 | I24: =H24*-1 -> 78.531073 | K24: AUD | L24: =H23 -> 36.842105 | M24: =I27 -> 6.6666667 | N24: =I30 -> -31.818182 | P24: =H33 -> -74.725275 | Q24: =H34 -> 37.931034 | R24: =SUM(L24:Q24)/5 -> -5.02073 | S24: AUD
A25: USDCAD | B25: =Datap!$S$30 -> 103.89 | C25: =Datap!$L$30 -> 1.09 | D25: =Datap!$K$30 -> 1.0907 | E25: =Datap!$J$30 -> 1.0888 | F25: =(D25+E25)/2 -> 1.08975 | G25: =IF(C25>F25,"YES","NO") -> YES | H25: =IF(G25="YES",100/(D25-F25)*(C25-F25),100/(F25-E25)*(F25-C25)*-1) -> 26.315789 | I25: =H25*-1 -> -26.315789 | K25: JPY | L25: =I24 -> 78.531073 | M25: =I28 -> 44.664032 | N25: =I31 -> 6.4133017 | O25: =I33 -> 74.725275 | Q25: =I35 -> 68.421053 | R25: =SUM(L25:Q25)/5 -> 54.550947 | S25: JPY
A26: EURGBP | B26: =Datap!$S$4 -> 0.7957 | C26: =Datap!$L$4 -> 0.7943 | D26: =Datap!$K$4 -> 0.7957 | E26: =Datap!$J$4 -> 0.7938 | F26: =(D26+E26)/2 -> 0.79475 | G26: =IF(C26>F26,"YES","NO") -> NO | H26: =IF(G26="YES",100/(D26-F26)*(C26-F26),100/(F26-E26)*(F26-C26)*-1) -> -47.368421 | I26: =H26*-1 -> 47.368421 | K26: CAD | L26: =I25 -> -26.315789 | M26: =I29 -> -30.769231 | N26: =I32 -> -55.555556 | O26: =I34 -> -37.931034 | P26: =H35 -> -68.421053 | R26: =SUM(L26:Q26)/5 -> -43.798533 | S26: CAD
A27: EURAUD | B27: =Datap!$S$6 -> 1.4513 | C27: =Datap!$L$6 -> 1.4109 | D27: =Datap!$K$6 -> 1.4125 | E27: =Datap!$J$6 -> 1.4095 | F27: =(D27+E27)/2 -> 1.411 | G27: =IF(C27>F27,"YES","NO") -> NO | H27: =IF(G27="YES",100/(D27-F27)*(C27-F27),100/(F27-E27)*(F27-C27)*-1) -> -6.6666667 | I27: =H27*-1 -> 6.6666667 | K27: Summe | L27: =R21 -> -49.734555 | M27: =R22 -> 3.3370992 | N27: =R23 -> 40.665771 | O27: =R24 -> -5.02073 | P27: =R25 -> 54.550947 | Q27: =R26 -> -43.798533 | S27: Summe
A28: EURJPY | B28: =Datap!$S$8 -> 138.71 | C28: =Datap!$L$8 -> 136.866 | D28: =Datap!$K$8 -> 137.049 | E28: =Datap!$J$8 -> 136.796 | F28: =(D28+E28)/2 -> 136.9225 | G28: =IF(C28>F28,"YES","NO") -> NO | H28: =IF(G28="YES",100/(D28-F28)*(C28-F28),100/(F28-E28)*(F28-C28)*-1) -> -44.664032 | I28: =H28*-1 -> 44.664032
A29: EURCAD | B29: =Datap!$S$10 -> 1.4608 | C29: =Datap!$L$10 -> 1.4373 | D29: =Datap!$K$10 -> 1.4382 | E29: =Datap!$J$10 -> 1.4356 | F29: =(D29+E29)/2 -> 1.4369 | G29: =IF(C29>F29,"YES","NO") -> YES | H29: =IF(G29="YES",100/(D29-F29)*(C29-F29),100/(F29-E29)*(F29-C29)*-1) -> 30.769231 | I29: =H29*-1 -> -30.769231
A30: GBPAUD | B30: =Datap!$S$18 -> 95.256 | C30: =Datap!$L$18 -> 1.7761 | D30: =Datap!$K$18 -> 1.7776 | E30: =Datap!$J$18 -> 1.7732 | F30: =(D30+E30)/2 -> 1.7754 | G30: =IF(C30>F30,"YES","NO") -> YES | H30: =IF(G30="YES",100/(D30-F30)*(C30-F30),100/(F30-E30)*(F30-C30)*-1) -> 31.818182 | I30: =H30*-1 -> -31.818182
A31: GBPJPY | B31: =Datap!$S$20 -> 1.7756 | C31: =Datap!$L$20 -> 172.287 | D31: =Datap!$K$20 -> 172.511 | E31: =Datap!$J$20 -> 172.09 | F31: =(D31+E31)/2 -> 172.3005 | G31: =IF(C31>F31,"YES","NO") -> NO | H31: =IF(G31="YES",100/(D31-F31)*(C31-F31),100/(F31-E31)*(F31-C31)*-1) -> -6.4133017 | I31: =H31*-1 -> 6.4133017
A32: GBPCAD | B32: =Datap!$S$22 -> 172.376 | C32: =Datap!$L$22 -> 1.8094 | D32: =Datap!$K$22 -> 1.8108 | E32: =Datap!$J$22 -> 1.8045 | F32: =(D32+E32)/2 -> 1.80765 | G32: =IF(C32>F32,"YES","NO") -> YES | H32: =IF(G32="YES",100/(D32-F32)*(C32-F32),100/(F32-E32)*(F32-C32)*-1) -> 55.555556 | I32: =H32*-1 -> -55.555556
A33: AUDJPY | B33: =Datap!$S$14 -> 1.0188 | C33: =Datap!$L$14 -> 96.99 | D33: =Datap!$K$14 -> 97.149 | E33: =Datap!$J$14 -> 96.967 | F33: =(D33+E33)/2 -> 97.058 | G33: =IF(C33>F33,"YES","NO") -> NO | H33: =IF(G33="YES",100/(D33-F33)*(C33-F33),100/(F33-E33)*(F33-C33)*-1) -> -74.725275 | I33: =H33*-1 -> 74.725275
A34: AUDCAD | B34: =Datap!$S$12 -> 1.4377 | C34: =Datap!$L$12 -> 1.0186 | D34: =Datap!$K$12 -> 1.0195 | E34: =Datap!$J$12 -> 1.0166 | F34: =(D34+E34)/2 -> 1.01805 | G34: =IF(C34>F34,"YES","NO") -> YES | H34: =IF(G34="YES",100/(D34-F34)*(C34-F34),100/(F34-E34)*(F34-C34)*-1) -> 37.931034 | I34: =H34*-1 -> -37.931034
A35: CADJPY | B35: =Datap!$S$16 -> 97.066 | C35: =Datap!$L$16 -> 95.208 | D35: =Datap!$K$16 -> 95.416 | E35: =Datap!$J$16 -> 95.169 | F35: =(D35+E35)/2 -> 95.2925 | G35: =IF(C35>F35,"YES","NO") -> NO | H35: =IF(G35="YES",100/(D35-F35)*(C35-F35),100/(F35-E35)*(F35-C35)*-1) -> -68.421053 | I35: =H35*-1 -> 68.421053

Sheet running daily
A1: Currency Strength
A3: actual | B3: Open | C3: Bid | D3: High | E3: Low | F3: Mid | G3: Bid>Mid | H3: % above/below Mid | I3: Reziprok | K3: actual | L3: USD | M3: EUR | N3: GBP | O3: AUD | P3: JPY | Q3: CAD | R3: Summe
A4: EURUSD | B4: =Data!$R$2 -> 1.3166 | C4: =Data!$I$2 -> 1.318 | D4: =Data!$H$2 -> 1.3188 | E4: =Data!$G$2 -> 1.3152 | F4: =(D4+E4)/2 -> 1.317 | G4: =IF(C4>F4,"YES","NO") -> YES | H4: =IF(G4="YES",100/(D4-F4)*(C4-F4),100/(F4-E4)*(F4-C4)*-1) -> 55.555556 | I4: =H4*-1 -> -55.555556 | K4: USD | M4: =I4 -> -55.555556 | N4: =I5 -> -73.529412 | O4: =I6 -> -72.54902 | P4: =H7 -> -45.406824 | Q4: =H8 -> -85.074627 | R4: =SUM(L4:Q4)/5 -> -66.423088 | S4: USD
A5: GBPUSD | B5: =Data!$R$24 -> 1.6538 | C5: =Data!$I$24 -> 1.6595 | D5: =Data!$H$24 -> 1.6604 | E5: =Data!$G$24 -> 1.6536 | F5: =(D5+E5)/2 -> 1.657 | G5: =IF(C5>F5,"YES","NO") -> YES | H5: =IF(G5="YES",100/(D5-F5)*(C5-F5),100/(F5-E5)*(F5-C5)*-1) -> 73.529412 | I5: =H5*-1 -> -73.529412 | K5: EUR | L5: =H4 -> 55.555556 | N5: =H9 -> -68 | O5: =H10 -> -67.213115 | P5: =H11 -> -32.163743 | Q5: =H12 -> -91.780822 | R5: =SUM(L5:Q5)/5 -> -40.720425 | S5: EUR
A6: AUDUSD | B6: =Data!$R$26 -> 0.9305 | C6: =Data!$I$26 -> 0.9343 | D6: =Data!$H$26 -> 0.935 | E6: =Data!$G$26 -> 0.9299 | F6: =(D6+E6)/2 -> 0.93245 | G6: =IF(C6>F6,"YES","NO") -> YES | H6: =IF(G6="YES",100/(D6-F6)*(C6-F6),100/(F6-E6)*(F6-C6)*-1) -> 72.54902 | I6: =H6*-1 -> -72.54902 | K6: GBP | L6: =H5 -> 73.529412 | M6: =I9 -> 68 | O6: =H13 -> 16.666667 | P6: =H14 -> 47.186147 | Q6: =H15 -> -4.5454545 | R6: =SUM(L6:Q6)/5 -> 40.167354 | S6: GBP
A7: USDJPY | B7: =Data!$R$28 -> 104.05 | C7: =Data!$I$28 -> 103.874 | D7: =Data!$H$28 -> 104.151 | E7: =Data!$G$28 -> 103.77 | F7: =(D7+E7)/2 -> 103.9605 | G7: =IF(C7>F7,"YES","NO") -> NO | H7: =IF(G7="YES",100/(D7-F7)*(C7-F7),100/(F7-E7)*(F7-C7)*-1) -> -45.406824 | I7: =H7*-1 -> 45.406824 | K7: AUD | L7: =H6 -> 72.54902 | M7: =I10 -> 67.213115 | N7: =I13 -> -16.666667 | P7: =H16 -> 50.526316 | Q7: =H17 -> -15.555556 | R7: =SUM(L7:Q7)/5 -> 31.613246 | S7: AUD
A8: USDCAD | B8: =Data!$R$30 -> 1.0949 | C8: =Data!$I$30 -> 1.0893 | D8: =Data!$H$30 -> 1.0955 | E8: =Data!$G$30 -> 1.0888 | F8: =(D8+E8)/2 -> 1.09215 | G8: =IF(C8>F8,"YES","NO") -> NO | H8: =IF(G8="YES",100/(D8-F8)*(C8-F8),100/(F8-E8)*(F8-C8)*-1) -> -85.074627 | I8: =H8*-1 -> 85.074627 | K8: JPY | L8: =I7 -> 45.406824 | M8: =I11 -> 32.163743 | N8: =I14 -> -47.186147 | O8: =I16 -> -50.526316 | Q8: =I18 -> -68.680089 | R8: =SUM(L8:Q8)/5 -> -17.764397 | S8: JPY
A9: EURGBP | B9: =Data!$R$4 -> 0.7959 | C9: =Data!$I$4 -> 0.7941 | D9: =Data!$H$4 -> 0.7962 | E9: =Data!$G$4 -> 0.7937 | F9: =(D9+E9)/2 -> 0.79495 | G9: =IF(C9>F9,"YES","NO") -> NO | H9: =IF(G9="YES",100/(D9-F9)*(C9-F9),100/(F9-E9)*(F9-C9)*-1) -> -68 | I9: =H9*-1 -> 68 | K9: CAD | L9: =I8 -> 85.074627 | M9: =I12 -> 91.780822 | N9: =I15 -> 4.5454545 | O9: =I17 -> 15.555556 | P9: =H18 -> 68.680089 | R9: =SUM(L9:Q9)/5 -> 53.12731 | S9: CAD
A10: EURAUD | B10: =Data!$R$6 -> 1.4145 | C10: =Data!$I$6 -> 1.4105 | D10: =Data!$H$6 -> 1.4156 | E10: =Data!$G$6 -> 1.4095 | F10: =(D10+E10)/2 -> 1.41255 | G10: =IF(C10>F10,"YES","NO") -> NO | H10: =IF(G10="YES",100/(D10-F10)*(C10-F10),100/(F10-E10)*(F10-C10)*-1) -> -67.213115 | I10: =H10*-1 -> 67.213115 | K10: Summe | L10: =R4 -> -66.423088 | M10: =R5 -> -40.720425 | N10: =R6 -> 40.167354 | O10: =R7 -> 31.613246 | P10: =R8 -> -17.764397 | Q10: =R9 -> 53.12731 | S10: Summe
A11: EURJPY | B11: =Data!$R$8 -> 136.985 | C11: =Data!$I$8 -> 136.912 | D11: =Data!$H$8 -> 137.138 | E11: =Data!$G$8 -> 136.796 | F11: =(D11+E11)/2 -> 136.967 | G11: =IF(C11>F11,"YES","NO") -> NO | H11: =IF(G11="YES",100/(D11-F11)*(C11-F11),100/(F11-E11)*(F11-C11)*-1) -> -32.163743 | I11: =H11*-1 -> 32.163743
A12: EURCAD | B12: =Data!$R$10 -> 1.4418 | C12: =Data!$I$10 -> 1.4357 | D12: =Data!$H$10 -> 1.4427 | E12: =Data!$G$10 -> 1.4354 | F12: =(D12+E12)/2 -> 1.43905 | G12: =IF(C12>F12,"YES","NO") -> NO | H12: =IF(G12="YES",100/(D12-F12)*(C12-F12),100/(F12-E12)*(F12-C12)*-1) -> -91.780822 | I12: =H12*-1 -> 91.780822
A13: GBPAUD | B13: =Data!$R$18 -> 1.7767 | C13: =Data!$I$18 -> 1.776 | D13: =Data!$H$18 -> 1.778 | E13: =Data!$G$18 -> 1.7732 | F13: =(D13+E13)/2 -> 1.7756 | G13: =IF(C13>F13,"YES","NO") -> YES | H13: =IF(G13="YES",100/(D13-F13)*(C13-F13),100/(F13-E13)*(F13-C13)*-1) -> 16.666667 | I13: =H13*-1 -> -16.666667
A14: GBPJPY | B14: =Data!$R$20 -> 172.085 | C14: =Data!$I$20 -> 172.389 | D14: =Data!$H$20 -> 172.511 | E14: =Data!$G$20 -> 172.049 | F14: =(D14+E14)/2 -> 172.28 | G14: =IF(C14>F14,"YES","NO") -> YES | H14: =IF(G14="YES",100/(D14-F14)*(C14-F14),100/(F14-E14)*(F14-C14)*-1) -> 47.186147 | I14: =H14*-1 -> -47.186147
A15: GBPCAD | B15: =Data!$R$22 -> 1.811 | C15: =Data!$I$22 -> 1.8078 | D15: =Data!$H$22 -> 1.8124 | E15: =Data!$G$22 -> 1.8036 | F15: =(D15+E15)/2 -> 1.808 | G15: =IF(C15>F15,"YES","NO") -> NO | H15: =IF(G15="YES",100/(D15-F15)*(C15-F15),100/(F15-E15)*(F15-C15)*-1) -> -4.5454545 | I15: =H15*-1 -> 4.5454545
A16: AUDJPY | B16: =Data!$R$14 -> 96.831 | C16: =Data!$I$14 -> 97.055 | D16: =Data!$H$14 -> 97.149 | E16: =Data!$G$14 -> 96.769 | F16: =(D16+E16)/2 -> 96.959 | G16: =IF(C16>F16,"YES","NO") -> YES | H16: =IF(G16="YES",100/(D16-F16)*(C16-F16),100/(F16-E16)*(F16-C16)*-1) -> 50.526316 | I16: =H16*-1 -> -50.526316
A17: AUDCAD | B17: =Data!$R$12 -> 1.0188 | C17: =Data!$I$12 -> 1.0178 | D17: =Data!$H$12 -> 1.0204 | E17: =Data!$G$12 -> 1.0159 | F17: =(D17+E17)/2 -> 1.01815 | G17: =IF(C17>F17,"YES","NO") -> NO | H17: =IF(G17="YES",100/(D17-F17)*(C17-F17),100/(F17-E17)*(F17-C17)*-1) -> -15.555556 | I17: =H17*-1 -> 15.555556
A18: CADJPY | B18: =Data!$R$16 -> 94.994 | C18: =Data!$I$16 -> 95.346 | D18: =Data!$H$16 -> 95.416 | E18: =Data!$G$16 -> 94.969 | F18: =(D18+E18)/2 -> 95.1925 | G18: =IF(C18>F18,"YES","NO") -> YES | H18: =IF(G18="YES",100/(D18-F18)*(C18-F18),100/(F18-E18)*(F18-C18)*-1) -> 68.680089 | I18: =H18*-1 -> -68.680089
A20: past | B20: Open | C20: Bid | D20: High | E20: Low | F20: Mid | G20: Bid>Mid | H20: % above/below Mid | I20: Reziprok | K20: pat | L20: USD | M20: EUR | N20: GBP | O20: AUD | P20: JPY | Q20: CAD | R20: Summe
A21: EURUSD | B21: =Datap!$R$2 -> 1.3191 | C21: =Datap!$I$2 -> 1.3166 | D21: =Datap!$H$2 -> 1.3214 | E21: =Datap!$G$2 -> 1.3164 | F21: =(D21+E21)/2 -> 1.3189 | G21: =IF(C21>F21,"YES","NO") -> NO | H21: =IF(G21="YES",100/(D21-F21)*(C21-F21),100/(F21-E21)*(F21-C21)*-1) -> -92 | I21: =H21*-1 -> 92 | K21: USD | M21: =I21 -> 92 | N21: =I22 -> 96.491228 | O21: =I23 -> -15.254237 | P21: =H24 -> 45.882353 | Q21: =H25 -> -68.421053 | R21: =SUM(L21:Q21)/5 -> 30.139658 | S21: USD
A22: GBPUSD | B22: =Datap!$R$24 -> 1.8094 | C22: =Datap!$I$24 -> 1.6538 | D22: =Datap!$H$24 -> 1.6594 | E22: =Datap!$G$24 -> 1.6537 | F22: =(D22+E22)/2 -> 1.65655 | G22: =IF(C22>F22,"YES","NO") -> NO | H22: =IF(G22="YES",100/(D22-F22)*(C22-F22),100/(F22-E22)*(F22-C22)*-1) -> -96.491228 | I22: =H22*-1 -> 96.491228 | K22: EUR | L22: =H21 -> -92 | N22: =H26 -> -14.285714 | O22: =H27 -> -94.805195 | P22: =H28 -> -100 | Q22: =H29 -> -93.023256 | R22: =SUM(L22:Q22)/5 -> -78.822833 | S22: EUR
A23: AUDUSD | B23: =Datap!$R$26 -> 1.6591 | C23: =Datap!$I$26 -> 0.9305 | D23: =Datap!$H$26 -> 0.933 | E23: =Datap!$G$26 -> 0.9271 | F23: =(D23+E23)/2 -> 0.93005 | G23: =IF(C23>F23,"YES","NO") -> YES | H23: =IF(G23="YES",100/(D23-F23)*(C23-F23),100/(F23-E23)*(F23-C23)*-1) -> 15.254237 | I23: =H23*-1 -> -15.254237 | K23: GBP | L23: =H22 -> -96.491228 | M23: =I26 -> 14.285714 | O23: =H30 -> -96.078431 | P23: =H31 -> -97.975709 | Q23: =H32 -> -98.214286 | R23: =SUM(L23:Q23)/5 -> -74.894788 | S23: GBP
A24: USDJPY | B24: =Datap!$R$28 -> 0.9343 | C24: =Datap!$I$28 -> 104.048 | D24: =Datap!$H$28 -> 104.163 | E24: =Datap!$G$28 -> 103.738 | F24: =(D24+E24)/2 -> 103.9505 | G24: =IF(C24>F24,"YES","NO") -> YES | H24: =IF(G24="YES",100/(D24-F24)*(C24-F24),100/(F24-E24)*(F24-C24)*-1) -> 45.882353 | I24: =H24*-1 -> -45.882353 | K24: AUD | L24: =H23 -> 15.254237 | M24: =I27 -> 94.805195 | N24: =I30 -> 96.078431 | P24: =H33 -> 22.666667 | Q24: =H34 -> -89.74359 | R24: =SUM(L24:Q24)/5 -> 27.812188 | S24: AUD
A25: USDCAD | B25: =Datap!$R$30 -> 103.89 | C25: =Datap!$I$30 -> 1.0949 | D25: =Datap!$H$30 -> 1.0997 | E25: =Datap!$G$30 -> 1.094 | F25: =(D25+E25)/2 -> 1.09685 | G25: =IF(C25>F25,"YES","NO") -> NO | H25: =IF(G25="YES",100/(D25-F25)*(C25-F25),100/(F25-E25)*(F25-C25)*-1) -> -68.421053 | I25: =H25*-1 -> 68.421053 | K25: JPY | L25: =I24 -> -45.882353 | M25: =I28 -> 100 | N25: =I31 -> 97.975709 | O25: =I33 -> -22.666667 | Q25: =I35 -> -53.277311 | R25: =SUM(L25:Q25)/5 -> 15.229876 | S25: JPY
A26: EURGBP | B26: =Datap!$R$4 -> 0.7954 | C26: =Datap!$I$4 -> 0.7959 | D26: =Datap!$H$4 -> 0.7967 | E26: =Datap!$G$4 -> 0.7953 | F26: =(D26+E26)/2 -> 0.796 | G26: =IF(C26>F26,"YES","NO") -> NO | H26: =IF(G26="YES",100/(D26-F26)*(C26-F26),100/(F26-E26)*(F26-C26)*-1) -> -14.285714 | I26: =H26*-1 -> 14.285714 | K26: CAD | L26: =I25 -> 68.421053 | M26: =I29 -> 93.023256 | N26: =I32 -> 98.214286 | O26: =I34 -> 89.74359 | P26: =H35 -> 53.277311 | R26: =SUM(L26:Q26)/5 -> 80.535899 | S26: CAD
A27: EURAUD | B27: =Datap!$R$6 -> 1.4513 | C27: =Datap!$I$6 -> 1.4145 | D27: =Datap!$H$6 -> 1.422 | E27: =Datap!$G$6 -> 1.4143 | F27: =(D27+E27)/2 -> 1.41815 | G27: =IF(C27>F27,"YES","NO") -> NO | H27: =IF(G27="YES",100/(D27-F27)*(C27-F27),100/(F27-E27)*(F27-C27)*-1) -> -94.805195 | I27: =H27*-1 -> 94.805195 | K27: Summe | L27: =R21 -> 30.139658 | M27: =R22 -> -78.822833 | N27: =R23 -> -74.894788 | O27: =R24 -> 27.812188 | P27: =R25 -> 15.229876 | Q27: =R26 -> 80.535899 | S27: Summe
A28: EURJPY | B28: =Datap!$R$8 -> 138.71 | C28: =Datap!$I$8 -> 136.982 | D28: =Datap!$H$8 -> 137.408 | E28: =Datap!$G$8 -> 136.982 | F28: =(D28+E28)/2 -> 137.195 | G28: =IF(C28>F28,"YES","NO") -> NO | H28: =IF(G28="YES",100/(D28-F28)*(C28-F28),100/(F28-E28)*(F28-C28)*-1) -> -100 | I28: =H28*-1 -> 100
A29: EURCAD | B29: =Datap!$R$10 -> 1.4608 | C29: =Datap!$I$10 -> 1.4418 | D29: =Datap!$H$10 -> 1.4501 | E29: =Datap!$G$10 -> 1.4415 | F29: =(D29+E29)/2 -> 1.4458 | G29: =IF(C29>F29,"YES","NO") -> NO | H29: =IF(G29="YES",100/(D29-F29)*(C29-F29),100/(F29-E29)*(F29-C29)*-1) -> -93.023256 | I29: =H29*-1 -> 93.023256
A30: GBPAUD | B30: =Datap!$R$18 -> 95.256 | C30: =Datap!$I$18 -> 1.7767 | D30: =Datap!$H$18 -> 1.7867 | E30: =Datap!$G$18 -> 1.7765 | F30: =(D30+E30)/2 -> 1.7816 | G30: =IF(C30>F30,"YES","NO") -> NO | H30: =IF(G30="YES",100/(D30-F30)*(C30-F30),100/(F30-E30)*(F30-C30)*-1) -> -96.078431 | I30: =H30*-1 -> 96.078431
A31: GBPJPY | B31: =Datap!$R$20 -> 1.7756 | C31: =Datap!$I$20 -> 172.085 | D31: =Datap!$H$20 -> 172.574 | E31: =Datap!$G$20 -> 172.08 | F31: =(D31+E31)/2 -> 172.327 | G31: =IF(C31>F31,"YES","NO") -> NO | H31: =IF(G31="YES",100/(D31-F31)*(C31-F31),100/(F31-E31)*(F31-C31)*-1) -> -97.975709 | I31: =H31*-1 -> 97.975709
A32: GBPCAD | B32: =Datap!$R$22 -> 172.376 | C32: =Datap!$I$22 -> 1.811 | D32: =Datap!$H$22 -> 1.8221 | E32: =Datap!$G$22 -> 1.8109 | F32: =(D32+E32)/2 -> 1.8165 | G32: =IF(C32>F32,"YES","NO") -> NO | H32: =IF(G32="YES",100/(D32-F32)*(C32-F32),100/(F32-E32)*(F32-C32)*-1) -> -98.214286 | I32: =H32*-1 -> 98.214286
A33: AUDJPY | B33: =Datap!$R$14 -> 1.0188 | C33: =Datap!$I$14 -> 96.83 | D33: =Datap!$H$14 -> 97.062 | E33: =Datap!$G$14 -> 96.462 | F33: =(D33+E33)/2 -> 96.762 | G33: =IF(C33>F33,"YES","NO") -> YES | H33: =IF(G33="YES",100/(D33-F33)*(C33-F33),100/(F33-E33)*(F33-C33)*-1) -> 22.666667 | I33: =H33*-1 -> -22.666667
A34: AUDCAD | B34: =Datap!$R$12 -> 1.4377 | C34: =Datap!$I$12 -> 1.0188 | D34: =Datap!$H$12 -> 1.0225 | E34: =Datap!$G$12 -> 1.0186 | F34: =(D34+E34)/2 -> 1.02055 | G34: =IF(C34>F34,"YES","NO") -> NO | H34: =IF(G34="YES",100/(D34-F34)*(C34-F34),100/(F34-E34)*(F34-C34)*-1) -> -89.74359 | I34: =H34*-1 -> 89.74359
A35: CADJPY | B35: =Datap!$R$16 -> 97.066 | C35: =Datap!$I$16 -> 94.989 | D35: =Datap!$H$16 -> 95.128 | E35: =Datap!$G$16 -> 94.533 | F35: =(D35+E35)/2 -> 94.8305 | G35: =IF(C35>F35,"YES","NO") -> YES | H35: =IF(G35="YES",100/(D35-F35)*(C35-F35),100/(F35-E35)*(F35-C35)*-1) -> 53.277311 | I35: =H35*-1 -> -53.277311

Sheet running weekly
A1: Currency Strength
A3: actual | B3: Open | C3: Bid | D3: High | E3: Low | F3: Mid | G3: Bid>Mid | H3: % above/below Mid | I3: Reziprok | K3: actual | L3: USD | M3: EUR | N3: GBP | O3: AUD | P3: JPY | Q3: CAD | R3: Summe
A4: EURUSD | B4: =Data!$Q$2 -> 1.3193 | C4: =Data!$F$2 -> 1.318 | D4: =Data!$E$2 -> 1.3214 | E4: =Data!$D$2 -> 1.3152 | F4: =(D4+E4)/2 -> 1.3183 | G4: =IF(C4>F4,"YES","NO") -> NO | H4: =IF(G4="YES",100/(D4-F4)*(C4-F4),100/(F4-E4)*(F4-C4)*-1) -> -9.6774194 | I4: =H4*-1 -> 9.6774194 | K4: USD | M4: =I4 -> 9.6774194 | N4: =I5 -> -74.285714 | O4: =I6 -> -82.278481 | P4: =H7 -> -48.288973 | Q4: =H8 -> -90.825688 | R4: =SUM(L4:Q4)/5 -> -57.200287 | S4: USD
A5: GBPUSD | B5: =Data!$Q$24 -> 1.6554 | C5: =Data!$F$24 -> 1.6595 | D5: =Data!$E$24 -> 1.6604 | E5: =Data!$D$24 -> 1.6534 | F5: =(D5+E5)/2 -> 1.6569 | G5: =IF(C5>F5,"YES","NO") -> YES | H5: =IF(G5="YES",100/(D5-F5)*(C5-F5),100/(F5-E5)*(F5-C5)*-1) -> 74.285714 | I5: =H5*-1 -> -74.285714 | K5: EUR | L5: =H4 -> -9.6774194 | N5: =H9 -> -80.487805 | O5: =H10 -> -84 | P5: =H11 -> -73.117034 | Q5: =H12 -> -95.918367 | R5: =SUM(L5:Q5)/5 -> -68.640125 | S5: EUR
A6: AUDUSD | B6: =Data!$Q$26 -> 0.9303 | C6: =Data!$F$26 -> 0.9343 | D6: =Data!$E$26 -> 0.935 | E6: =Data!$D$26 -> 0.9271 | F6: =(D6+E6)/2 -> 0.93105 | G6: =IF(C6>F6,"YES","NO") -> YES | H6: =IF(G6="YES",100/(D6-F6)*(C6-F6),100/(F6-E6)*(F6-C6)*-1) -> 82.278481 | I6: =H6*-1 -> -82.278481 | K6: GBP | L6: =H5 -> 74.285714 | M6: =I9 -> 80.487805 | O6: =H13 -> -58.518519 | P6: =H14 -> 8.6261981 | Q6: =H15 -> -54.594595 | R6: =SUM(L6:Q6)/5 -> 10.057321 | S6: GBP
A7: USDJPY | B7: =Data!$Q$28 -> 104.25 | C7: =Data!$F$28 -> 103.874 | D7: =Data!$E$28 -> 104.264 | E7: =Data!$D$28 -> 103.738 | F7: =(D7+E7)/2 -> 104.001 | G7: =IF(C7>F7,"YES","NO") -> NO | H7: =IF(G7="YES",100/(D7-F7)*(C7-F7),100/(F7-E7)*(F7-C7)*-1) -> -48.288973 | I7: =H7*-1 -> 48.288973 | K7: AUD | L7: =H6 -> 82.278481 | M7: =I10 -> 84 | N7: =I13 -> 58.518519 | P7: =H16 -> 72.634643 | Q7: =H17 -> -42.424242 | R7: =SUM(L7:Q7)/5 -> 51.00148 | S7: AUD
A8: USDCAD | B8: =Data!$Q$30 -> 1.0961 | C8: =Data!$F$30 -> 1.0893 | D8: =Data!$E$30 -> 1.0997 | E8: =Data!$D$30 -> 1.0888 | F8: =(D8+E8)/2 -> 1.09425 | G8: =IF(C8>F8,"YES","NO") -> NO | H8: =IF(G8="YES",100/(D8-F8)*(C8-F8),100/(F8-E8)*(F8-C8)*-1) -> -90.825688 | I8: =H8*-1 -> 90.825688 | K8: JPY | L8: =I7 -> 48.288973 | M8: =I11 -> 73.117034 | N8: =I14 -> -8.6261981 | O8: =I16 -> -72.634643 | Q8: =I18 -> -84.14496 | R8: =SUM(L8:Q8)/5 -> -8.799959 | S8: JPY
A9: EURGBP | B9: =Data!$Q$4 -> 0.7968 | C9: =Data!$F$4 -> 0.7941 | D9: =Data!$E$4 -> 0.7978 | E9: =Data!$D$4 -> 0.7937 | F9: =(D9+E9)/2 -> 0.79575 | G9: =IF(C9>F9,"YES","NO") -> NO | H9: =IF(G9="YES",100/(D9-F9)*(C9-F9),100/(F9-E9)*(F9-C9)*-1) -> -80.487805 | I9: =H9*-1 -> 80.487805 | K9: CAD | L9: =I8 -> 90.825688 | M9: =I12 -> 95.918367 | N9: =I15 -> 54.594595 | O9: =I17 -> 42.424242 | P9: =H18 -> 84.14496 | R9: =SUM(L9:Q9)/5 -> 73.581571 | S9: CAD
A10: EURAUD | B10: =Data!$Q$6 -> 1.4169 | C10: =Data!$F$6 -> 1.4105 | D10: =Data!$E$6 -> 1.422 | E10: =Data!$D$6 -> 1.4095 | F10: =(D10+E10)/2 -> 1.41575 | G10: =IF(C10>F10,"YES","NO") -> NO | H10: =IF(G10="YES",100/(D10-F10)*(C10-F10),100/(F10-E10)*(F10-C10)*-1) -> -84 | I10: =H10*-1 -> 84 | K10: Summe | L10: =R4 -> -57.200287 | M10: =R5 -> -68.640125 | N10: =R6 -> 10.057321 | O10: =R7 -> 51.00148 | P10: =R8 -> -8.799959 | Q10: =R9 -> 73.581571 | S10: Summe
A11: EURJPY | B11: =Data!$Q$8 -> 137.552 | C11: =Data!$F$8 -> 136.912 | D11: =Data!$E$8 -> 137.659 | E11: =Data!$D$8 -> 136.796 | F11: =(D11+E11)/2 -> 137.2275 | G11: =IF(C11>F11,"YES","NO") -> NO | H11: =IF(G11="YES",100/(D11-F11)*(C11-F11),100/(F11-E11)*(F11-C11)*-1) -> -73.117034 | I11: =H11*-1 -> 73.117034
A12: EURCAD | B12: =Data!$Q$10 -> 1.4464 | C12: =Data!$F$10 -> 1.4357 | D12: =Data!$E$10 -> 1.4501 | E12: =Data!$D$10 -> 1.4354 | F12: =(D12+E12)/2 -> 1.44275 | G12: =IF(C12>F12,"YES","NO") -> NO | H12: =IF(G12="YES",100/(D12-F12)*(C12-F12),100/(F12-E12)*(F12-C12)*-1) -> -95.918367 | I12: =H12*-1 -> 95.918367
A13: GBPAUD | B13: =Data!$Q$18 -> 1.777 | C13: =Data!$F$18 -> 1.776 | D13: =Data!$E$18 -> 1.7867 | E13: =Data!$D$18 -> 1.7732 | F13: =(D13+E13)/2 -> 1.77995 | G13: =IF(C13>F13,"YES","NO") -> NO | H13: =IF(G13="YES",100/(D13-F13)*(C13-F13),100/(F13-E13)*(F13-C13)*-1) -> -58.518519 | I13: =H13*-1 -> 58.518519
A14: GBPJPY | B14: =Data!$Q$20 -> 172.565 | C14: =Data!$F$20 -> 172.389 | D14: =Data!$E$20 -> 172.675 | E14: =Data!$D$20 -> 172.049 | F14: =(D14+E14)/2 -> 172.362 | G14: =IF(C14>F14,"YES","NO") -> YES | H14: =IF(G14="YES",100/(D14-F14)*(C14-F14),100/(F14-E14)*(F14-C14)*-1) -> 8.6261981 | I14: =H14*-1 -> -8.6261981
A15: GBPCAD | B15: =Data!$Q$22 -> 1.8148 | C15: =Data!$F$22 -> 1.8078 | D15: =Data!$E$22 -> 1.8221 | E15: =Data!$D$22 -> 1.8036 | F15: =(D15+E15)/2 -> 1.81285 | G15: =IF(C15>F15,"YES","NO") -> NO | H15: =IF(G15="YES",100/(D15-F15)*(C15-F15),100/(F15-E15)*(F15-C15)*-1) -> -54.594595 | I15: =H15*-1 -> 54.594595
A16: AUDJPY | B16: =Data!$Q$14 -> 96.984 | C16: =Data!$F$14 -> 97.055 | D16: =Data!$E$14 -> 97.149 | E16: =Data!$D$14 -> 96.462 | F16: =(D16+E16)/2 -> 96.8055 | G16: =IF(C16>F16,"YES","NO") -> YES | H16: =IF(G16="YES",100/(D16-F16)*(C16-F16),100/(F16-E16)*(F16-C16)*-1) -> 72.634643 | I16: =H16*-1 -> -72.634643
A17: AUDCAD | B17: =Data!$Q$12 -> 1.0201 | C17: =Data!$F$12 -> 1.0178 | D17: =Data!$E$12 -> 1.0225 | E17: =Data!$D$12 -> 1.0159 | F17: =(D17+E17)/2 -> 1.0192 | G17: =IF(C17>F17,"YES","NO") -> NO | H17: =IF(G17="YES",100/(D17-F17)*(C17-F17),100/(F17-E17)*(F17-C17)*-1) -> -42.424242 | I17: =H17*-1 -> 42.424242
A18: CADJPY | B18: =Data!$Q$16 -> 95.039 | C18: =Data!$F$16 -> 95.346 | D18: =Data!$E$16 -> 95.416 | E18: =Data!$D$16 -> 94.533 | F18: =(D18+E18)/2 -> 94.9745 | G18: =IF(C18>F18,"YES","NO") -> YES | H18: =IF(G18="YES",100/(D18-F18)*(C18-F18),100/(F18-E18)*(F18-C18)*-1) -> 84.14496 | I18: =H18*-1 -> -84.14496
A20: past | B20: Open | C20: Bid | D20: High | E20: Low | F20: Mid | G20: Bid>Mid | H20: % above/below Mid | I20: Reziprok | K20: past | L20: USD | M20: EUR | N20: GBP | O20: AUD | P20: JPY | Q20: CAD | R20: Summe
A21: EURUSD | B21: =Datap!$Q$2 -> 1.3387 | C21: =Datap!$F$2 -> 1.3242 | D21: =Datap!$E$2 -> 1.3398 | E21: =Datap!$D$2 -> 1.322 | F21: =(D21+E21)/2 -> 1.3309 | G21: =IF(C21>F21,"YES","NO") -> NO | H21: =IF(G21="YES",100/(D21-F21)*(C21-F21),100/(F21-E21)*(F21-C21)*-1) -> -75.280899 | I21: =H21*-1 -> 75.280899 | K21: USD | M21: =I21 -> 75.280899 | N21: =I22 -> 87.5 | O21: =I23 -> -47.272727 | P21: =H24 -> 67.24846 | Q21: =H25 -> 29.72973 | R21: =SUM(L21:Q21)/5 -> 42.497272 | S21: USD
A22: GBPUSD | B22: =Datap!$Q$24 -> 1.8094 | C22: =Datap!$F$24 -> 1.6571 | D22: =Datap!$E$24 -> 1.6736 | E22: =Datap!$D$24 -> 1.656 | F22: =(D22+E22)/2 -> 1.6648 | G22: =IF(C22>F22,"YES","NO") -> NO | H22: =IF(G22="YES",100/(D22-F22)*(C22-F22),100/(F22-E22)*(F22-C22)*-1) -> -87.5 | I22: =H22*-1 -> 87.5 | K22: EUR | L22: =H21 -> -75.280899 | N22: =H26 -> -28.813559 | O22: =H27 -> -89.247312 | P22: =H28 -> 26.677852 | Q22: =H29 -> -62.068966 | R22: =SUM(L22:Q22)/5 -> -45.746577 | S22: EUR
A23: AUDUSD | B23: =Datap!$Q$26 -> 1.6591 | C23: =Datap!$F$26 -> 0.9316 | D23: =Datap!$E$26 -> 0.9345 | E23: =Datap!$D$26 -> 0.9235 | F23: =(D23+E23)/2 -> 0.929 | G23: =IF(C23>F23,"YES","NO") -> YES | H23: =IF(G23="YES",100/(D23-F23)*(C23-F23),100/(F23-E23)*(F23-C23)*-1) -> 47.272727 | I23: =H23*-1 -> -47.272727 | K23: GBP | L23: =H22 -> -87.5 | M23: =I26 -> 28.813559 | O23: =H30 -> -89.528796 | P23: =H31 -> 50.571132 | Q23: =H32 -> -70.80292 | R23: =SUM(L23:Q23)/5 -> -33.689405 | S23: GBP
A24: USDJPY | B24: =Datap!$Q$28 -> 0.9343 | C24: =Datap!$F$28 -> 103.866 | D24: =Datap!$E$28 -> 104.185 | E24: =Datap!$D$28 -> 102.237 | F24: =(D24+E24)/2 -> 103.211 | G24: =IF(C24>F24,"YES","NO") -> YES | H24: =IF(G24="YES",100/(D24-F24)*(C24-F24),100/(F24-E24)*(F24-C24)*-1) -> 67.24846 | I24: =H24*-1 -> -67.24846 | K24: AUD | L24: =H23 -> 47.272727 | M24: =I27 -> 89.247312 | N24: =I30 -> 89.528796 | P24: =H33 -> 89.712186 | Q24: =H34 -> 52.808989 | R24: =SUM(L24:Q24)/5 -> 73.714002 | S24: AUD
A25: USDCAD | B25: =Datap!$Q$30 -> 103.89 | C25: =Datap!$F$30 -> 1.0946 | D25: =Datap!$E$30 -> 1.0985 | E25: =Datap!$D$30 -> 1.0874 | F25: =(D25+E25)/2 -> 1.09295 | G25: =IF(C25>F25,"YES","NO") -> YES | H25: =IF(G25="YES",100/(D25-F25)*(C25-F25),100/(F25-E25)*(F25-C25)*-1) -> 29.72973 | I25: =H25*-1 -> -29.72973 | K25: JPY | L25: =I24 -> -67.24846 | M25: =I28 -> -26.677852 | N25: =I31 -> -50.571132 | O25: =I33 -> -89.712186 | Q25: =I35 -> -67.071057 | R25: =SUM(L25:Q25)/5 -> -60.256138 | S25: JPY
A26: EURGBP | B26: =Datap!$Q$4 -> 0.7968 | C26: =Datap!$F$4 -> 0.7989 | D26: =Datap!$E$4 -> 0.8027 | E26: =Datap!$D$4 -> 0.7968 | F26: =(D26+E26)/2 -> 0.79975 | G26: =IF(C26>F26,"YES","NO") -> NO | H26: =IF(G26="YES",100/(D26-F26)*(C26-F26),100/(F26-E26)*(F26-C26)*-1) -> -28.813559 | I26: =H26*-1 -> 28.813559 | K26: CAD | L26: =I25 -> -29.72973 | M26: =I29 -> 62.068966 | N26: =I32 -> 70.80292 | O26: =I34 -> -52.808989 | P26: =H35 -> 67.071057 | R26: =SUM(L26:Q26)/5 -> 23.480845 | S26: CAD
A27: EURAUD | B27: =Datap!$Q$6 -> 1.4513 | C27: =Datap!$F$6 -> 1.421 | D27: =Datap!$E$6 -> 1.4386 | E27: =Datap!$D$6 -> 1.42 | F27: =(D27+E27)/2 -> 1.4293 | G27: =IF(C27>F27,"YES","NO") -> NO | H27: =IF(G27="YES",100/(D27-F27)*(C27-F27),100/(F27-E27)*(F27-C27)*-1) -> -89.247312 | I27: =H27*-1 -> 89.247312 | K27: Summe | L27: =R21 -> 42.497272 | M27: =R22 -> -45.746577 | N27: =R23 -> -33.689405 | O27: =R24 -> 73.714002 | P27: =R25 -> -60.256138 | Q27: =R26 -> 23.480845 | S27: Summe
A28: EURJPY | B28: =Datap!$Q$8 -> 138.71 | C28: =Datap!$F$8 -> 137.557 | D28: =Datap!$E$8 -> 137.994 | E28: =Datap!$D$8 -> 136.802 | F28: =(D28+E28)/2 -> 137.398 | G28: =IF(C28>F28,"YES","NO") -> YES | H28: =IF(G28="YES",100/(D28-F28)*(C28-F28),100/(F28-E28)*(F28-C28)*-1) -> 26.677852 | I28: =H28*-1 -> -26.677852
A29: EURCAD | B29: =Datap!$Q$10 -> 1.4608 | C29: =Datap!$F$10 -> 1.4496 | D29: =Datap!$E$10 -> 1.459 | E29: =Datap!$D$10 -> 1.4474 | F29: =(D29+E29)/2 -> 1.4532 | G29: =IF(C29>F29,"YES","NO") -> NO | H29: =IF(G29="YES",100/(D29-F29)*(C29-F29),100/(F29-E29)*(F29-C29)*-1) -> -62.068966 | I29: =H29*-1 -> 62.068966
A30: GBPAUD | B30: =Datap!$Q$18 -> 95.256 | C30: =Datap!$F$18 -> 1.7786 | D30: =Datap!$E$18 -> 1.7967 | E30: =Datap!$D$18 -> 1.7776 | F30: =(D30+E30)/2 -> 1.78715 | G30: =IF(C30>F30,"YES","NO") -> NO | H30: =IF(G30="YES",100/(D30-F30)*(C30-F30),100/(F30-E30)*(F30-C30)*-1) -> -89.528796 | I30: =H30*-1 -> 89.528796
A31: GBPJPY | B31: =Datap!$Q$20 -> 1.7756 | C31: =Datap!$F$20 -> 172.135 | D31: =Datap!$E$20 -> 172.611 | E31: =Datap!$D$20 -> 170.685 | F31: =(D31+E31)/2 -> 171.648 | G31: =IF(C31>F31,"YES","NO") -> YES | H31: =IF(G31="YES",100/(D31-F31)*(C31-F31),100/(F31-E31)*(F31-C31)*-1) -> 50.571132 | I31: =H31*-1 -> -50.571132
A32: GBPCAD | B32: =Datap!$Q$22 -> 172.376 | C32: =Datap!$F$22 -> 1.8142 | D32: =Datap!$E$22 -> 1.8259 | E32: =Datap!$D$22 -> 1.8122 | F32: =(D32+E32)/2 -> 1.81905 | G32: =IF(C32>F32,"YES","NO") -> NO | H32: =IF(G32="YES",100/(D32-F32)*(C32-F32),100/(F32-E32)*(F32-C32)*-1) -> -70.80292 | I32: =H32*-1 -> 70.80292
A33: AUDJPY | B33: =Datap!$Q$14 -> 1.0188 | C33: =Datap!$F$14 -> 96.775 | D33: =Datap!$E$14 -> 96.859 | E33: =Datap!$D$14 -> 95.226 | F33: =(D33+E33)/2 -> 96.0425 | G33: =IF(C33>F33,"YES","NO") -> YES | H33: =IF(G33="YES",100/(D33-F33)*(C33-F33),100/(F33-E33)*(F33-C33)*-1) -> 89.712186 | I33: =H33*-1 -> -89.712186
A34: AUDCAD | B34: =Datap!$Q$12 -> 1.4377 | C34: =Datap!$F$12 -> 1.0199 | D34: =Datap!$E$12 -> 1.022 | E34: =Datap!$D$12 -> 1.0131 | F34: =(D34+E34)/2 -> 1.01755 | G34: =IF(C34>F34,"YES","NO") -> YES | H34: =IF(G34="YES",100/(D34-F34)*(C34-F34),100/(F34-E34)*(F34-C34)*-1) -> 52.808989 | I34: =H34*-1 -> -52.808989
A35: CADJPY | B35: =Datap!$Q$16 -> 97.066 | C35: =Datap!$F$16 -> 94.864 | D35: =Datap!$E$16 -> 95.054 | E35: =Datap!$D$16 -> 93.9 | F35: =(D35+E35)/2 -> 94.477 | G35: =IF(C35>F35,"YES","NO") -> YES | H35: =IF(G35="YES",100/(D35-F35)*(C35-F35),100/(F35-E35)*(F35-C35)*-1) -> 67.071057 | I35: =H35*-1 -> -67.071057

Sheet running monthly
A1: Currency Strength
A3: actual | B3: Open | C3: Bid | D3: High | E3: Low | F3: Mid | G3: Bid>Mid | H3: % above/below Mid | I3: Reziprok | K3: actual | L3: USD | M3: EUR | N3: GBP | O3: AUD | P3: JPY | Q3: CAD | R3: Summe
A4: EURUSD | B4: =Data!$P$2 -> 1.3389 | C4: =Data!$C$2 -> 1.318 | D4: =Data!$B$2 -> 1.3444 | E4: =Data!$A$2 -> 1.3152 | F4: =(D4+E4)/2 -> 1.3298 | G4: =IF(C4>F4,"YES","NO") -> NO | H4: =IF(G4="YES",100/(D4-F4)*(C4-F4),100/(F4-E4)*(F4-C4)*-1) -> -80.821918 | I4: =H4*-1 -> 80.821918 | K4: USD | M4: =I4 -> 80.821918 | N4: =I5 -> 65.921788 | O4: =I6 -> -56.521739 | P4: =H7 -> 71.769815 | Q4: =H8 -> -50.724638 | R4: =SUM(L4:Q4)/5 -> 22.253429 | S4: USD
A5: GBPUSD | B5: =Data!$P$24 -> 1.6882 | C5: =Data!$C$24 -> 1.6595 | D5: =Data!$B$24 -> 1.6892 | E5: =Data!$A$24 -> 1.6534 | F5: =(D5+E5)/2 -> 1.6713 | G5: =IF(C5>F5,"YES","NO") -> NO | H5: =IF(G5="YES",100/(D5-F5)*(C5-F5),100/(F5-E5)*(F5-C5)*-1) -> -65.921788 | I5: =H5*-1 -> 65.921788 | K5: EUR | L5: =H4 -> -80.821918 | N5: =H9 -> -56.666667 | O5: =H10 -> -94.764398 | P5: =H11 -> 3.9548023 | Q5: =H12 -> -98.416887 | R5: =SUM(L5:Q5)/5 -> -65.343013 | S5: EUR
A6: AUDUSD | B6: =Data!$P$26 -> 0.9294 | C6: =Data!$C$26 -> 0.9343 | D6: =Data!$B$26 -> 0.9373 | E6: =Data!$A$26 -> 0.9235 | F6: =(D6+E6)/2 -> 0.9304 | G6: =IF(C6>F6,"YES","NO") -> YES | H6: =IF(G6="YES",100/(D6-F6)*(C6-F6),100/(F6-E6)*(F6-C6)*-1) -> 56.521739 | I6: =H6*-1 -> -56.521739 | K6: GBP | L6: =H5 -> -65.921788 | M6: =I9 -> 56.666667 | O6: =H13 -> -87.799564 | P6: =H14 -> 15.555556 | Q6: =H15 -> -82.572614 | R6: =SUM(L6:Q6)/5 -> -32.814349 | S6: GBP
A7: USDJPY | B7: =Data!$P$28 -> 102.784 | C7: =Data!$C$28 -> 103.874 | D7: =Data!$B$28 -> 104.264 | E7: =Data!$A$28 -> 101.501 | F7: =(D7+E7)/2 -> 102.8825 | G7: =IF(C7>F7,"YES","NO") -> YES | H7: =IF(G7="YES",100/(D7-F7)*(C7-F7),100/(F7-E7)*(F7-C7)*-1) -> 71.769815 | I7: =H7*-1 -> -71.769815 | K7: AUD | L7: =H6 -> 56.521739 | M7: =I10 -> 94.764398 | N7: =I13 -> 87.799564 | P7: =H16 -> 94.184968 | Q7: =H17 -> 13.846154 | R7: =SUM(L7:Q7)/5 -> 69.423365 | S7: AUD
A8: USDCAD | B8: =Data!$P$30 -> 1.0904 | C8: =Data!$C$30 -> 1.0893 | D8: =Data!$B$30 -> 1.0997 | E8: =Data!$A$30 -> 1.0859 | F8: =(D8+E8)/2 -> 1.0928 | G8: =IF(C8>F8,"YES","NO") -> NO | H8: =IF(G8="YES",100/(D8-F8)*(C8-F8),100/(F8-E8)*(F8-C8)*-1) -> -50.724638 | I8: =H8*-1 -> 50.724638 | K8: JPY | L8: =I7 -> -71.769815 | M8: =I11 -> -3.9548023 | N8: =I14 -> -15.555556 | O8: =I16 -> -94.184968 | Q8: =I18 -> -94.764398 | R8: =SUM(L8:Q8)/5 -> -56.045908 | S8: JPY
A9: EURGBP | B9: =Data!$P$4 -> 0.7928 | C9: =Data!$C$4 -> 0.7941 | D9: =Data!$B$4 -> 0.8035 | E9: =Data!$A$4 -> 0.7915 | F9: =(D9+E9)/2 -> 0.7975 | G9: =IF(C9>F9,"YES","NO") -> NO | H9: =IF(G9="YES",100/(D9-F9)*(C9-F9),100/(F9-E9)*(F9-C9)*-1) -> -56.666667 | I9: =H9*-1 -> 56.666667 | K9: CAD | L9: =I8 -> 50.724638 | M9: =I12 -> 98.416887 | N9: =I15 -> 82.572614 | O9: =I17 -> -13.846154 | P9: =H18 -> 94.764398 | R9: =SUM(L9:Q9)/5 -> 62.526476 | S9: CAD
A10: EURAUD | B10: =Data!$P$6 -> 1.4404 | C10: =Data!$C$6 -> 1.4105 | D10: =Data!$B$6 -> 1.4477 | E10: =Data!$A$6 -> 1.4095 | F10: =(D10+E10)/2 -> 1.4286 | G10: =IF(C10>F10,"YES","NO") -> NO | H10: =IF(G10="YES",100/(D10-F10)*(C10-F10),100/(F10-E10)*(F10-C10)*-1) -> -94.764398 | I10: =H10*-1 -> 94.764398 | K10: Summe | L10: =R4 -> 22.253429 | M10: =R5 -> -65.343013 | N10: =R6 -> -32.814349 | O10: =R7 -> 69.423365 | P10: =R8 -> -56.045908 | Q10: =R9 -> 62.526476 | S10: Summe
A11: EURJPY | B11: =Data!$P$8 -> 137.618 | C11: =Data!$C$8 -> 136.912 | D11: =Data!$B$8 -> 138.017 | E11: =Data!$A$8 -> 135.716 | F11: =(D11+E11)/2 -> 136.8665 | G11: =IF(C11>F11,"YES","NO") -> YES | H11: =IF(G11="YES",100/(D11-F11)*(C11-F11),100/(F11-E11)*(F11-C11)*-1) -> 3.9548023 | I11: =H11*-1 -> -3.9548023
A12: EURCAD | B12: =Data!$P$10 -> 1.4603 | C12: =Data!$C$10 -> 1.4357 | D12: =Data!$B$10 -> 1.4733 | E12: =Data!$A$10 -> 1.4354 | F12: =(D12+E12)/2 -> 1.45435 | G12: =IF(C12>F12,"YES","NO") -> NO | H12: =IF(G12="YES",100/(D12-F12)*(C12-F12),100/(F12-E12)*(F12-C12)*-1) -> -98.416887 | I12: =H12*-1 -> 98.416887
A13: GBPAUD | B13: =Data!$P$18 -> 1.8161 | C13: =Data!$C$18 -> 1.776 | D13: =Data!$B$18 -> 1.8191 | E13: =Data!$A$18 -> 1.7732 | F13: =(D13+E13)/2 -> 1.79615 | G13: =IF(C13>F13,"YES","NO") -> NO | H13: =IF(G13="YES",100/(D13-F13)*(C13-F13),100/(F13-E13)*(F13-C13)*-1) -> -87.799564 | I13: =H13*-1 -> 87.799564
A14: GBPJPY | B14: =Data!$P$20 -> 173.525 | C14: =Data!$C$20 -> 172.389 | D14: =Data!$B$20 -> 173.833 | E14: =Data!$A$20 -> 170.413 | F14: =(D14+E14)/2 -> 172.123 | G14: =IF(C14>F14,"YES","NO") -> YES | H14: =IF(G14="YES",100/(D14-F14)*(C14-F14),100/(F14-E14)*(F14-C14)*-1) -> 15.555556 | I14: =H14*-1 -> -15.555556
A15: GBPCAD | B15: =Data!$P$22 -> 1.841 | C15: =Data!$C$22 -> 1.8078 | D15: =Data!$B$22 -> 1.8518 | E15: =Data!$A$22 -> 1.8036 | F15: =(D15+E15)/2 -> 1.8277 | G15: =IF(C15>F15,"YES","NO") -> NO | H15: =IF(G15="YES",100/(D15-F15)*(C15-F15),100/(F15-E15)*(F15-C15)*-1) -> -82.572614 | I15: =H15*-1 -> 82.572614
A16: AUDJPY | B16: =Data!$P$14 -> 95.521 | C16: =Data!$C$14 -> 97.055 | D16: =Data!$B$14 -> 97.149 | E16: =Data!$A$14 -> 93.916 | F16: =(D16+E16)/2 -> 95.5325 | G16: =IF(C16>F16,"YES","NO") -> YES | H16: =IF(G16="YES",100/(D16-F16)*(C16-F16),100/(F16-E16)*(F16-C16)*-1) -> 94.184968 | I16: =H16*-1 -> -94.184968
