Workbook

Sheet Growth Plan & Statistics
A1: Statistics | K1: Growth Plan
A2: Trades | B2: =COUNT('Daily Fills'!I:I) -> 58 | D2: Trades/Day | E2: =B2/COUNT(N20:N1002) -> 5.2727273 | G2: Profits | H2: =SUMIF('Daily Fills'!I:I,">"&0) -> 23625.36 | K2: Month | L2: Balance | M2: Size | N2: Date | O2: Month | P2: Balance | Q2: Size | R2: Date
A3: Win | B3: =COUNTIF('Daily Fills'!I:I,">0") -> 44 | D3: Average Win $ | E3: =AVERAGEIF('Daily Fills'!I:I,">"&0) -> 536.94 | G3: Losses | H3: =SUMIF('Daily Fills'!I:I,"<"&0) -> -12608.55 | K3: 1 | L3: =VLOOKUP(K3,$C$20:$J$883,7,1) -> 72920.81 | M3: =VLOOKUP(K3,$C$20:$J$883,4,1) -> 14.3 | N3: =VLOOKUP(K3,$C$20:$J$883,2,1) -> 41810 | O3: 12 | P3: =VLOOKUP(O3,$C$20:$J$2009,7,1) -> 1817775.8 | Q3: =VLOOKUP(O3,$C$20:$J$883,4,1) -> 100 | R3: =VLOOKUP(O3,$C$20:$J$883,2,1) -> 42144
A4: Loss | B4: =B2-B3 -> 14 | D4: Average Loss $ | E4: =AVERAGEIF('Daily Fills'!I:I,"<"&0) -> -900.61071 | G4: NET Profit | H4: =SUM(H2:H3) -> 11016.81 | K4: 2 | L4: =VLOOKUP(K4,$C$20:$J$883,7,1) -> 110523.81 | M4: =VLOOKUP(K4,$C$20:$J$883,4,1) -> 21.67 | N4: =VLOOKUP(K4,$C$20:$J$883,2,1) -> 41840 | O4: 15 | P4: =VLOOKUP(O4,$C$20:$J$2009,7,1) -> 2447775.8 | Q4: =VLOOKUP(O4,$C$20:$J$883,4,1) -> 100 | R4: =VLOOKUP(O4,$C$20:$J$883,2,1) -> 42236
A5: Win Rate | B5: =B3/B2 -> 0.75862069 | D5: NET W:L | E5: =E3/ABS(E4) -> 0.59619544 | G5: Profit Factor | H5: =H2/ABS(H3) -> 1.8737571 | K5: 3 | L5: =VLOOKUP(K5,$C$20:$J$883,7,1) -> 167517.81 | M5: =VLOOKUP(K5,$C$20:$J$883,4,1) -> 32.85 | N5: =VLOOKUP(K5,$C$20:$J$883,2,1) -> 41871 | O5: 18 | P5: =VLOOKUP(O5,$C$20:$J$2009,7,1) -> 3067775.8 | Q5: =VLOOKUP(O5,$C$20:$J$883,4,1) -> 100 | R5: =VLOOKUP(O5,$C$20:$J$883,2,1) -> 42328
K6: 4 | L6: =VLOOKUP(K6,$C$20:$J$883,7,1) -> 253898.81 | M6: =VLOOKUP(K6,$C$20:$J$883,4,1) -> 49.78 | N6: =VLOOKUP(K6,$C$20:$J$883,2,1) -> 41902 | O6: 21 | P6: =VLOOKUP(O6,$C$20:$J$2009,7,1) -> 3697775.8 | Q6: =VLOOKUP(O6,$C$20:$J$883,4,1) -> 100 | R6: =VLOOKUP(O6,$C$20:$J$883,2,1) -> 42420
B7: Per Trade | C7: Per Day | G7: Trades within Plan | H7: =COUNTIF('Daily Fills'!J:J,"Y") -> 43 | K7: 5 | L7: =VLOOKUP(K7,$C$20:$J$883,7,1) -> 384828.81 | M7: =VLOOKUP(K7,$C$20:$J$883,4,1) -> 75.46 | N7: =VLOOKUP(K7,$C$20:$J$883,2,1) -> 41932 | O7: 24 | P7: =VLOOKUP(O7,$C$20:$J$2009,7,1) -> 4317775.8 | Q7: =VLOOKUP(O7,$C$20:$J$883,4,1) -> 100 | R7: =VLOOKUP(O7,$C$20:$J$883,2,1) -> 42510
A8: Net Expectancy (Pips) | B8: =B5*E3+(1-B5)*E4 -> 189.945 | C8: =AVERAGE(Q20:Q20002) -> 1001.5282 | G8: Trades not within Plan | H8: =COUNTIF('Daily Fills'!J:J,"N") -> 15 | K8: 6 | L8: =VLOOKUP(K8,$C$20:$J$883,7,1) -> 567775.81 | M8: =VLOOKUP(K8,$C$20:$J$883,4,1) -> 100 | N8: =VLOOKUP(K8,$C$20:$J$883,2,1) -> 41963 | O8: 36 | P8: =VLOOKUP(O8,$C$20:$J$2009,7,1) -> 6817775.8 | Q8: =VLOOKUP(O8,$C$20:$J$883,4,1) -> 100 | R8: =VLOOKUP(O8,$C$20:$J$883,2,1) -> 42875
G9: Discipline % | H9: =H7/SUM(H7:H8) -> 0.74137931 | K9: 9 | L9: =VLOOKUP(K9,$C$20:$J$883,7,1) -> 1197775.8 | M9: =VLOOKUP(K9,$C$20:$J$883,4,1) -> 100 | N9: =VLOOKUP(K9,$C$20:$J$883,2,1) -> 42055 | O9: 48 | P9: =VLOOKUP(O9,$C$20:$J$2009,7,1) -> 9317775.8 | Q9: =VLOOKUP(O9,$C$20:$J$883,4,1) -> 100 | R9: =VLOOKUP(O9,$C$20:$J$883,2,1) -> 43059
A10: Projection and Tracker | B10: -------> | C10: Base Trade Size On: | E10: Risk%
C11: Sizing Based on Margin | G11: Sizing Based on Risk
A12: Daily Goal (pips) | B12: 10 | D12: Percent of Margin to Use | E12: 0.5 | H12: Stop Size (pips) | I12: 10
A13: % Days Goal Achieved | B13: 1 | D13: Leverage Available | E13: 100 | H13: Risk per Trade | I13: 0.02
A14: Max Lots | B14: 100 | D14: Effective Leverage | E14: =E12*E13 -> 50
M15: DATE-FORMAT PROB
A18: Day | B18: Week | C18: Month | E18: Balance | F18: Lots | G18: Daily Pip Goal | H18: Net P/L ($) | I18: End Balance | J18: Cumulative Profits | K18: Daily Return | L18: Profit Factor | M18: Actual Date | N18: Gross Profit | O18: Volume(M) | P18: Commission | Q18: Net Profit | R18: LOTS
M19: 41795
A20: 1 | B20: =ROUNDUP(A20/5,0) -> 1 | C20: =ROUNDUP(A20/20.83333333,0) -> 1 | D20: =M19 | E20: 50000 | F20: =MIN($B$14,IF(SizeCalc="margin",E20*$E$13*$E$12/100000,E20*$I$13/$I$12/10)) -> 10 | G20: =$B$12*$B$13*1 -> 10 | H20: =IF(Q20="",G20*F20*10,Q20) -> -103.22 | I20: =E20+H20 -> 49896.78 | J20: =I20-E20 -> -103.22 | K20: =H20/E20 -> -0.0020644 | M20: 41796 | N20: =IF(M20="","",SUMIF('Daily Fills'!A:A,'Growth Plan & Statistics'!M20,'Daily Fills'!G:G)) -> -109.27 | O20: =IF(M20="","",SUMIF('Daily Fills'!A:A,'Growth Plan & Statistics'!M20,'Daily Fills'!D:D)*2) -> 2 | P20: =IF(M20="","",SUMIF('Daily Fills'!A:A,'Growth Plan & Statistics'!M20,'Daily Fills'!H:H)) -> -6.05 | Q20: =IF(P20="","",N20-P20) -> -103.22 | R20: =IF(N20="","",F20) -> 10
A21: 2 | B21: =ROUNDUP(A21/5,0) -> 1 | C21: =ROUNDUP(A21/20.83333333,0) -> 1 | D21: =IF(M21="",IF(C21=C20,D20,EDATE(D20,1)),M21) | E21: =I20 -> 49896.78 | F21: =ROUND(MIN($B$14,IF(SizeCalc="margin",E21*$E$13*$E$12/100000,E21*$I$13/$I$12/10)),2) -> 9.98 | G21: =$B$12*$B$13 -> 10 | H21: =IF(Q21="",G21*F21*10,Q21) -> 71.44 | I21: =E21+H21 -> 49968.22 | J21: =J20+(I21-I20) -> -31.78 | K21: =H21/E21 -> 0.0014317557 | M21: 41799 | N21: =IF(M21="","",SUMIF('Daily Fills'!A:A,'Growth Plan & Statistics'!M21,'Daily Fills'!G:G)) -> 65.39 | O21: =IF(M21="","",SUMIF('Daily Fills'!A:A,'Growth Plan & Statistics'!M21,'Daily Fills'!D:D)*2) -> 2 | P21: =IF(M21="","",SUMIF('Daily Fills'!A:A,'Growth Plan & Statistics'!M21,'Daily Fills'!H:H)) -> -6.05 | Q21: =IF(P21="","",N21-P21) -> 71.44 | R21: =IF(N21="","",F21) -> 9.98
A22: 3 | B22: =ROUNDUP(A22/5,0) -> 1 | C22: =ROUNDUP(A22/20.83333333,0) -> 1 | D22: =IF(M22="",IF(C22=C21,D21,EDATE(D21,1)),M22) | E22: =I21 -> 49968.22 | F22: =ROUND(MIN($B$14,IF(SizeCalc="margin",E22*$E$13*$E$12/100000,E22*$I$13/$I$12/10)),2) -> 9.99 | G22: =$B$12*$B$13 -> 10 | H22: =IF(Q22="",G22*F22*10,Q22) -> -122.58 | I22: =E22+H22 -> 49845.64 | J22: =J21+(I22-I21) -> -154.36 | K22: =H22/E22 -> -0.0024531592 | M22: 41800 | N22: =IF(M22="","",SUMIF('Daily Fills'!A:A,'Growth Plan & Statistics'!M22,'Daily Fills'!G:G)) -> -238.66 | O22: =IF(M22="","",SUMIF('Daily Fills'!A:A,'Growth Plan & Statistics'!M22,'Daily Fills'!D:D)*2) -> 42.8 | P22: =IF(M22="","",SUMIF('Daily Fills'!A:A,'Growth Plan & Statistics'!M22,'Daily Fills'!H:H)) -> -116.08 | Q22: =IF(P22="","",N22-P22) -> -122.58 | R22: =IF(N22="","",F22) -> 9.99
A23: 4 | B23: =ROUNDUP(A23/5,0) -> 1 | C23: =ROUNDUP(A23/20.83333333,0) -> 1 | D23: =IF(M23="",IF(C23=C22,D22,EDATE(D22,1)),M23) | E23: =I22 -> 49845.64 | F23: =ROUND(MIN($B$14,IF(SizeCalc="margin",E23*$E$13*$E$12/100000,E23*$I$13/$I$12/10)),2) -> 9.97 | G23: =$B$12*$B$13 -> 10 | H23: =IF(Q23="",G23*F23*10,Q23) -> 3902.12 | I23: =E23+H23 -> 53747.76 | J23: =J22+(I23-I22) -> 3747.76 | K23: =H23/E23 -> 0.078284079 | M23: 41801 | N23: =IF(M23="","",SUMIF('Daily Fills'!A:A,'Growth Plan & Statistics'!M23,'Daily Fills'!G:G)) -> 3558.3 | O23: =IF(M23="","",SUMIF('Daily Fills'!A:A,'Growth Plan & Statistics'!M23,'Daily Fills'!D:D)*2) -> 126.08 | P23: =IF(M23="","",SUMIF('Daily Fills'!A:A,'Growth Plan & Statistics'!M23,'Daily Fills'!H:H)) -> -343.82 | Q23: =IF(P23="","",N23-P23) -> 3902.12 | R23: =IF(N23="","",F23) -> 9.97
A24: 5 | B24: =ROUNDUP(A24/5,0) -> 1 | C24: =ROUNDUP(A24/20.83333333,0) -> 1 | D24: =IF(M24="",IF(C24=C23,D23,EDATE(D23,1)),M24) | E24: =I23 -> 53747.76 | F24: =ROUND(MIN($B$14,IF(SizeCalc="margin",E24*$E$13*$E$12/100000,E24*$I$13/$I$12/10)),2) -> 10.75 | G24: =$B$12*$B$13 -> 10 | H24: =IF(Q24="",G24*F24*10,Q24) -> 3364.77 | I24: =E24+H24 -> 57112.53 | J24: =J23+(I24-I23) -> 7112.53 | K24: =H24/E24 -> 0.062602981 | M24: 41802 | N24: =IF(M24="","",SUMIF('Daily Fills'!A:A,'Growth Plan & Statistics'!M24,'Daily Fills'!G:G)) -> 2810.6 | O24: =IF(M24="","",SUMIF('Daily Fills'!A:A,'Growth Plan & Statistics'!M24,'Daily Fills'!D:D)*2) -> 222.08 | P24: =IF(M24="","",SUMIF('Daily Fills'!A:A,'Growth Plan & Statistics'!M24,'Daily Fills'!H:H)) -> -554.17 | Q24: =IF(P24="","",N24-P24) -> 3364.77 | R24: =IF(N24="","",F24) -> 10.75
A25: 6 | B25: =ROUNDUP(A25/5,0) -> 2 | C25: =ROUNDUP(A25/20.83333333,0) -> 1 | D25: =IF(M25="",IF(C25=C24,D24,EDATE(D24,1)),M25) | E25: =I24 -> 57112.53 | F25: =ROUND(MIN($B$14,IF(SizeCalc="margin",E25*$E$13*$E$12/100000,E25*$I$13/$I$12/10)),2) -> 11.42 | G25: =$B$12*$B$13 -> 10 | H25: =IF(Q25="",G25*F25*10,Q25) -> 1881.09 | I25: =E25+H25 -> 58993.62 | J25: =J24+(I25-I24) -> 8993.62 | K25: =H25/E25 -> 0.032936555 | M25: 41803 | N25: =IF(M25="","",SUMIF('Daily Fills'!A:A,'Growth Plan & Statistics'!M25,'Daily Fills'!G:G)) -> 1649.96 | O25: =IF(M25="","",SUMIF('Daily Fills'!A:A,'Growth Plan & Statistics'!M25,'Daily Fills'!D:D)*2) -> 94.88 | P25: =IF(M25="","",SUMIF('Daily Fills'!A:A,'Growth Plan & Statistics'!M25,'Daily Fills'!H:H)) -> -231.13 | Q25: =IF(P25="","",N25-P25) -> 1881.09 | R25: =IF(N25="","",F25) -> 11.42
A26: 7 | B26: =ROUNDUP(A26/5,0) -> 2 | C26: =ROUNDUP(A26/20.83333333,0) -> 1 | D26: =IF(M26="",IF(C26=C25,D25,EDATE(D25,1)),M26) | E26: =I25 -> 58993.62 | F26: =ROUND(MIN($B$14,IF(SizeCalc="margin",E26*$E$13*$E$12/100000,E26*$I$13/$I$12/10)),2) -> 11.8 | G26: =$B$12*$B$13 -> 10 | H26: =IF(Q26="",G26*F26*10,Q26) -> 1959.34 | I26: =E26+H26 -> 60952.96 | J26: =J25+(I26-I25) -> 10952.96 | K26: =H26/E26 -> 0.033212744 | M26: 41806 | N26: =IF(M26="","",SUMIF('Daily Fills'!A:A,'Growth Plan & Statistics'!M26,'Daily Fills'!G:G)) -> 1610.8 | O26: =IF(M26="","",SUMIF('Daily Fills'!A:A,'Growth Plan & Statistics'!M26,'Daily Fills'!D:D)*2) -> 131.32 | P26: =IF(M26="","",SUMIF('Daily Fills'!A:A,'Growth Plan & Statistics'!M26,'Daily Fills'!H:H)) -> -348.54 | Q26: =IF(P26="","",N26-P26) -> 1959.34 | R26: =IF(N26="","",F26) -> 11.8
A27: 8 | B27: =ROUNDUP(A27/5,0) -> 2 | C27: =ROUNDUP(A27/20.83333333,0) -> 1 | D27: =IF(M27="",IF(C27=C26,D26,EDATE(D26,1)),M27) | E27: =I26 -> 60952.96 | F27: =ROUND(MIN($B$14,IF(SizeCalc="margin",E27*$E$13*$E$12/100000,E27*$I$13/$I$12/10)),2) -> 12.19 | G27: =$B$12*$B$13 -> 10 | H27: =IF(Q27="",G27*F27*10,Q27) -> 93.67 | I27: =E27+H27 -> 61046.63 | J27: =J26+(I27-I26) -> 11046.63 | K27: =H27/E27 -> 0.0015367588 | M27: 41807 | N27: =IF(M27="","",SUMIF('Daily Fills'!A:A,'Growth Plan & Statistics'!M27,'Daily Fills'!G:G)) -> -154.63 | O27: =IF(M27="","",SUMIF('Daily Fills'!A:A,'Growth Plan & Statistics'!M27,'Daily Fills'!D:D)*2) -> 95.76 | P27: =IF(M27="","",SUMIF('Daily Fills'!A:A,'Growth Plan & Statistics'!M27,'Daily Fills'!H:H)) -> -248.3 | Q27: =IF(P27="","",N27-P27) -> 93.67 | R27: =IF(N27="","",F27) -> 12.19
A28: 9 | B28: =ROUNDUP(A28/5,0) -> 2 | C28: =ROUNDUP(A28/20.83333333,0) -> 1 | D28: =IF(M28="",IF(C28=C27,D27,EDATE(D27,1)),M28) | E28: =I27 -> 61046.63 | F28: =ROUND(MIN($B$14,IF(SizeCalc="margin",E28*$E$13*$E$12/100000,E28*$I$13/$I$12/10)),2) -> 12.21 | G28: =$B$12*$B$13 -> 10 | H28: =IF(Q28="",G28*F28*10,Q28) -> 2551.86 | I28: =E28+H28 -> 63598.49 | J28: =J27+(I28-I27) -> 13598.49 | K28: =H28/E28 -> 0.041801816 | M28: 41808 | N28: =IF(M28="","",SUMIF('Daily Fills'!A:A,'Growth Plan & Statistics'!M28,'Daily Fills'!G:G)) -> 1993.62 | O28: =IF(M28="","",SUMIF('Daily Fills'!A:A,'Growth Plan & Statistics'!M28,'Daily Fills'!D:D)*2) -> 217.02 | P28: =IF(M28="","",SUMIF('Daily Fills'!A:A,'Growth Plan & Statistics'!M28,'Daily Fills'!H:H)) -> -558.24 | Q28: =IF(P28="","",N28-P28) -> 2551.86 | R28: =IF(N28="","",F28) -> 12.21
A29: 10 | B29: =ROUNDUP(A29/5,0) -> 2 | C29: =ROUNDUP(A29/20.83333333,0) -> 1 | D29: =IF(M29="",IF(C29=C28,D28,EDATE(D28,1)),M29) | E29: =I28 -> 63598.49 | F29: =ROUND(MIN($B$14,IF(SizeCalc="margin",E29*$E$13*$E$12/100000,E29*$I$13/$I$12/10)),2) -> 12.72 | G29: =$B$12*$B$13 -> 10 | H29: =IF(Q29="",G29*F29*10,Q29) -> 51.11 | I29: =E29+H29 -> 63649.6 | J29: =J28+(I29-I28) -> 13649.6 | K29: =H29/E29 -> 0.00080363543 | M29: 41809 | N29: =IF(M29="","",SUMIF('Daily Fills'!A:A,'Growth Plan & Statistics'!M29,'Daily Fills'!G:G)) -> -473.02 | O29: =IF(M29="","",SUMIF('Daily Fills'!A:A,'Growth Plan & Statistics'!M29,'Daily Fills'!D:D)*2) -> 195.9 | P29: =IF(M29="","",SUMIF('Daily Fills'!A:A,'Growth Plan & Statistics'!M29,'Daily Fills'!H:H)) -> -524.13 | Q29: =IF(P29="","",N29-P29) -> 51.11 | R29: =IF(N29="","",F29) -> 12.72
A30: 11 | B30: =ROUNDUP(A30/5,0) -> 3 | C30: =ROUNDUP(A30/20.83333333,0) -> 1 | D30: =IF(M30="",IF(C30=C29,D29,EDATE(D29,1)),M30) | E30: =I29 -> 63649.6 | F30: =ROUND(MIN($B$14,IF(SizeCalc="margin",E30*$E$13*$E$12/100000,E30*$I$13/$I$12/10)),2) -> 12.73 | G30: =$B$12*$B$13 -> 10 | H30: =IF(Q30="",G30*F30*10,Q30) -> -2632.79 | I30: =E30+H30 -> 61016.81 | J30: =J29+(I30-I29) -> 11016.81 | K30: =H30/E30 -> -0.041363811 | M30: 41810 | N30: =IF(M30="","",SUMIF('Daily Fills'!A:A,'Growth Plan & Statistics'!M30,'Daily Fills'!G:G)) -> -2878 | O30: =IF(M30="","",SUMIF('Daily Fills'!A:A,'Growth Plan & Statistics'!M30,'Daily Fills'!D:D)*2) -> 94.22 | P30: =IF(M30="","",SUMIF('Daily Fills'!A:A,'Growth Plan & Statistics'!M30,'Daily Fills'!H:H)) -> -245.21 | Q30: =IF(P30="","",N30-P30) -> -2632.79 | R30: =IF(N30="","",F30) -> 12.73
A31: 12 | B31: =ROUNDUP(A31/5,0) -> 3 | C31: =ROUNDUP(A31/20.83333333,0) -> 1 | D31: =IF(M31="",IF(C31=C30,D30,EDATE(D30,1)),M31) | E31: =I30 -> 61016.81 | F31: =ROUND(MIN($B$14,IF(SizeCalc="margin",E31*$E$13*$E$12/100000,E31*$I$13/$I$12/10)),2) -> 12.2 | G31: =$B$12*$B$13 -> 10 | H31: =IF(Q31="",G31*F31*10,Q31) -> 1220 | I31: =E31+H31 -> 62236.81 | J31: =J30+(I31-I30) -> 12236.81 | K31: =H31/E31 -> 0.01999449 | N31: =IF(M31="","",SUMIF('Daily Fills'!A:A,'Growth Plan & Statistics'!M31,'Daily Fills'!G:G)) | O31: =IF(M31="","",SUMIF('Daily Fills'!A:A,'Growth Plan & Statistics'!M31,'Daily Fills'!D:D)*2) | P31: =IF(M31="","",SUMIF('Daily Fills'!A:A,'Growth Plan & Statistics'!M31,'Daily Fills'!H:H)) | Q31: =IF(P31="","",N31-P31) | R31: =IF(N31="","",F31)
A32: 13 | B32: =ROUNDUP(A32/5,0) -> 3 | C32: =ROUNDUP(A32/20.83333333,0) -> 1 | D32: =IF(M32="",IF(C32=C31,D31,EDATE(D31,1)),M32) | E32: =I31 -> 62236.81 | F32: =ROUND(MIN($B$14,IF(SizeCalc="margin",E32*$E$13*$E$12/100000,E32*$I$13/$I$12/10)),2) -> 12.45 | G32: =$B$12*$B$13 -> 10 | H32: =IF(Q32="",G32*F32*10,Q32) -> 1245 | I32: =E32+H32 -> 63481.81 | J32: =J31+(I32-I31) -> 13481.81 | K32: =H32/E32 -> 0.020004239 | N32: =IF(M32="","",SUMIF('Daily Fills'!A:A,'Growth Plan & Statistics'!M32,'Daily Fills'!G:G)) | O32: =IF(M32="","",SUMIF('Daily Fills'!A:A,'Growth Plan & Statistics'!M32,'Daily Fills'!D:D)*2) | P32: =IF(M32="","",SUMIF('Daily Fills'!A:A,'Growth Plan & Statistics'!M32,'Daily Fills'!H:H)) | Q32: =IF(P32="","",N32-P32) | R32: =IF(N32="","",F32)
A33: 14 | B33: =ROUNDUP(A33/5,0) -> 3 | C33: =ROUNDUP(A33/20.83333333,0) -> 1 | D33: =IF(M33="",IF(C33=C32,D32,EDATE(D32,1)),M33) | E33: =I32 -> 63481.81 | F33: =ROUND(MIN($B$14,IF(SizeCalc="margin",E33*$E$13*$E$12/100000,E33*$I$13/$I$12/10)),2) -> 12.7 | G33: =$B$12*$B$13 -> 10 | H33: =IF(Q33="",G33*F33*10,Q33) -> 1270 | I33: =E33+H33 -> 64751.81 | J33: =J32+(I33-I32) -> 14751.81 | K33: =H33/E33 -> 0.020005731 | N33: =IF(M33="","",SUMIF('Daily Fills'!A:A,'Growth Plan & Statistics'!M33,'Daily Fills'!G:G)) | O33: =IF(M33="","",SUMIF('Daily Fills'!A:A,'Growth Plan & Statistics'!M33,'Daily Fills'!D:D)*2) | P33: =IF(M33="","",SUMIF('Daily Fills'!A:A,'Growth Plan & Statistics'!M33,'Daily Fills'!H:H)) | Q33: =IF(P33="","",N33-P33) | R33: =IF(N33="","",F33)
A34: 15 | B34: =ROUNDUP(A34/5,0) -> 3 | C34: =ROUNDUP(A34/20.83333333,0) -> 1 | D34: =IF(M34="",IF(C34=C33,D33,EDATE(D33,1)),M34) | E34: =I33 -> 64751.81 | F34: =ROUND(MIN($B$14,IF(SizeCalc="margin",E34*$E$13*$E$12/100000,E34*$I$13/$I$12/10)),2) -> 12.95 | G34: =$B$12*$B$13 -> 10 | H34: =IF(Q34="",G34*F34*10,Q34) -> 1295 | I34: =E34+H34 -> 66046.81 | J34: =J33+(I34-I33) -> 16046.81 | K34: =H34/E34 -> 0.019999441 | N34: =IF(M34="","",SUMIF('Daily Fills'!A:A,'Growth Plan & Statistics'!M34,'Daily Fills'!G:G)) | O34: =IF(M34="","",SUMIF('Daily Fills'!A:A,'Growth Plan & Statistics'!M34,'Daily Fills'!D:D)*2) | P34: =IF(M34="","",SUMIF('Daily Fills'!A:A,'Growth Plan & Statistics'!M34,'Daily Fills'!H:H)) | Q34: =IF(P34="","",N34-P34) | R34: =IF(N34="","",F34)
A35: 16 | B35: =ROUNDUP(A35/5,0) -> 4 | C35: =ROUNDUP(A35/20.83333333,0) -> 1 | D35: =IF(M35="",IF(C35=C34,D34,EDATE(D34,1)),M35) | E35: =I34 -> 66046.81 | F35: =ROUND(MIN($B$14,IF(SizeCalc="margin",E35*$E$13*$E$12/100000,E35*$I$13/$I$12/10)),2) -> 13.21 | G35: =$B$12*$B$13 -> 10 | H35: =IF(Q35="",G35*F35*10,Q35) -> 1321 | I35: =E35+H35 -> 67367.81 | J35: =J34+(I35-I34) -> 17367.81 | K35: =H35/E35 -> 0.020000966 | N35: =IF(M35="","",SUMIF('Daily Fills'!A:A,'Growth Plan & Statistics'!M35,'Daily Fills'!G:G)) | O35: =IF(M35="","",SUMIF('Daily Fills'!A:A,'Growth Plan & Statistics'!M35,'Daily Fills'!D:D)*2) | P35: =IF(M35="","",SUMIF('Daily Fills'!A:A,'Growth Plan & Statistics'!M35,'Daily Fills'!H:H)) | Q35: =IF(P35="","",N35-P35) | R35: =IF(N35="","",F35)
A36: 17 | B36: =ROUNDUP(A36/5,0) -> 4 | C36: =ROUNDUP(A36/20.83333333,0) -> 1 | D36: =IF(M36="",IF(C36=C35,D35,EDATE(D35,1)),M36) | E36: =I35 -> 67367.81 | F36: =ROUND(MIN($B$14,IF(SizeCalc="margin",E36*$E$13*$E$12/100000,E36*$I$13/$I$12/10)),2) -> 13.47 | G36: =$B$12*$B$13 -> 10 | H36: =IF(Q36="",G36*F36*10,Q36) -> 1347 | I36: =E36+H36 -> 68714.81 | J36: =J35+(I36-I35) -> 18714.81 | K36: =H36/E36 -> 0.019994713 | N36: =IF(M36="","",SUMIF('Daily Fills'!A:A,'Growth Plan & Statistics'!M36,'Daily Fills'!G:G)) | O36: =IF(M36="","",SUMIF('Daily Fills'!A:A,'Growth Plan & Statistics'!M36,'Daily Fills'!D:D)*2) | P36: =IF(M36="","",SUMIF('Daily Fills'!A:A,'Growth Plan & Statistics'!M36,'Daily Fills'!H:H)) | Q36: =IF(P36="","",N36-P36) | R36: =IF(N36="","",F36)
A37: 18 | B37: =ROUNDUP(A37/5,0) -> 4 | C37: =ROUNDUP(A37/20.83333333,0) -> 1 | D37: =IF(M37="",IF(C37=C36,D36,EDATE(D36,1)),M37) | E37: =I36 -> 68714.81 | F37: =ROUND(MIN($B$14,IF(SizeCalc="margin",E37*$E$13*$E$12/100000,E37*$I$13/$I$12/10)),2) -> 13.74 | G37: =$B$12*$B$13 -> 10 | H37: =IF(Q37="",G37*F37*10,Q37) -> 1374 | I37: =E37+H37 -> 70088.81 | J37: =J36+(I37-I36) -> 20088.81 | K37: =H37/E37 -> 0.019995689 | N37: =IF(M37="","",SUMIF('Daily Fills'!A:A,'Growth Plan & Statistics'!M37,'Daily Fills'!G:G)) | O37: =IF(M37="","",SUMIF('Daily Fills'!A:A,'Growth Plan & Statistics'!M37,'Daily Fills'!D:D)*2) | P37: =IF(M37="","",SUMIF('Daily Fills'!A:A,'Growth Plan & Statistics'!M37,'Daily Fills'!H:H)) | Q37: =IF(P37="","",N37-P37) | R37: =IF(N37="","",F37)
A38: 19 | B38: =ROUNDUP(A38/5,0) -> 4 | C38: =ROUNDUP(A38/20.83333333,0) -> 1 | D38: =IF(M38="",IF(C38=C37,D37,EDATE(D37,1)),M38) | E38: =I37 -> 70088.81 | F38: =ROUND(MIN($B$14,IF(SizeCalc="margin",E38*$E$13*$E$12/100000,E38*$I$13/$I$12/10)),2) -> 14.02 | G38: =$B$12*$B$13 -> 10 | H38: =IF(Q38="",G38*F38*10,Q38) -> 1402 | I38: =E38+H38 -> 71490.81 | J38: =J37+(I38-I37) -> 21490.81 | K38: =H38/E38 -> 0.020003193 | N38: =IF(M38="","",SUMIF('Daily Fills'!A:A,'Growth Plan & Statistics'!M38,'Daily Fills'!G:G)) | O38: =IF(M38="","",SUMIF('Daily Fills'!A:A,'Growth Plan & Statistics'!M38,'Daily Fills'!D:D)*2) | P38: =IF(M38="","",SUMIF('Daily Fills'!A:A,'Growth Plan & Statistics'!M38,'Daily Fills'!H:H)) | Q38: =IF(P38="","",N38-P38) | R38: =IF(N38="","",F38)
A39: 20 | B39: =ROUNDUP(A39/5,0) -> 4 | C39: =ROUNDUP(A39/20.83333333,0) -> 1 | D39: =IF(M39="",IF(C39=C38,D38,EDATE(D38,1)),M39) | E39: =I38 -> 71490.81 | F39: =ROUND(MIN($B$14,IF(SizeCalc="margin",E39*$E$13*$E$12/100000,E39*$I$13/$I$12/10)),2) -> 14.3 | G39: =$B$12*$B$13 -> 10 | H39: =IF(Q39="",G39*F39*10,Q39) -> 1430 | I39: =E39+H39 -> 72920.81 | J39: =J38+(I39-I38) -> 22920.81 | K39: =H39/E39 -> 0.020002571 | N39: =IF(M39="","",SUMIF('Daily Fills'!A:A,'Growth Plan & Statistics'!M39,'Daily Fills'!G:G)) | O39: =IF(M39="","",SUMIF('Daily Fills'!A:A,'Growth Plan & Statistics'!M39,'Daily Fills'!D:D)*2) | P39: =IF(M39="","",SUMIF('Daily Fills'!A:A,'Growth Plan & Statistics'!M39,'Daily Fills'!H:H)) | Q39: =IF(P39="","",N39-P39) | R39: =IF(N39="","",F39)
A40: 21 | B40: =ROUNDUP(A40/5,0) -> 5 | C40: =ROUNDUP(A40/20.83333333,0) -> 2 | D40: =IF(M40="",IF(C40=C39,D39,EDATE(D39,1)),M40) -> 41840 | E40: =I39 -> 72920.81 | F40: =ROUND(MIN($B$14,IF(SizeCalc="margin",E40*$E$13*$E$12/100000,E40*$I$13/$I$12/10)),2) -> 14.58 | G40: =$B$12*$B$13 -> 10 | H40: =IF(Q40="",G40*F40*10,Q40) -> 1458 | I40: =E40+H40 -> 74378.81 | J40: =J39+(I40-I39) -> 24378.81 | K40: =H40/E40 -> 0.019994292 | N40: =IF(M40="","",SUMIF('Daily Fills'!A:A,'Growth Plan & Statistics'!M40,'Daily Fills'!G:G)) | O40: =IF(M40="","",SUMIF('Daily Fills'!A:A,'Growth Plan & Statistics'!M40,'Daily Fills'!D:D)*2) | P40: =IF(M40="","",SUMIF('Daily Fills'!A:A,'Growth Plan & Statistics'!M40,'Daily Fills'!H:H)) | Q40: =IF(P40="","",N40-P40) | R40: =IF(N40="","",F40)
A41: 22 | B41: =ROUNDUP(A41/5,0) -> 5 | C41: =ROUNDUP(A41/20.83333333,0) -> 2 | D41: =IF(M41="",IF(C41=C40,D40,EDATE(D40,1)),M41) | E41: =I40 -> 74378.81 | F41: =ROUND(MIN($B$14,IF(SizeCalc="margin",E41*$E$13*$E$12/100000,E41*$I$13/$I$12/10)),2) -> 14.88 | G41: =$B$12*$B$13 -> 10 | H41: =IF(Q41="",G41*F41*10,Q41) -> 1488 | I41: =E41+H41 -> 75866.81 | J41: =J40+(I41-I40) -> 25866.81 | K41: =H41/E41 -> 0.020005698 | N41: =IF(M41="","",SUMIF('Daily Fills'!A:A,'Growth Plan & Statistics'!M41,'Daily Fills'!G:G)) | O41: =IF(M41="","",SUMIF('Daily Fills'!A:A,'Growth Plan & Statistics'!M41,'Daily Fills'!D:D)*2) | P41: =IF(M41="","",SUMIF('Daily Fills'!A:A,'Growth Plan & Statistics'!M41,'Daily Fills'!H:H)) | Q41: =IF(P41="","",N41-P41) | R41: =IF(N41="","",F41)
A42: 23 | B42: =ROUNDUP(A42/5,0) -> 5 | C42: =ROUNDUP(A42/20.83333333,0) -> 2 | D42: =IF(M42="",IF(C42=C41,D41,EDATE(D41,1)),M42) | E42: =I41 -> 75866.81 | F42: =ROUND(MIN($B$14,IF(SizeCalc="margin",E42*$E$13*$E$12/100000,E42*$I$13/$I$12/10)),2) -> 15.17 | G42: =$B$12*$B$13 -> 10 | H42: =IF(Q42="",G42*F42*10,Q42) -> 1517 | I42: =E42+H42 -> 77383.81 | J42: =J41+(I42-I41) -> 27383.81 | K42: =H42/E42 -> 0.019995569 | N42: =IF(M42="","",SUMIF('Daily Fills'!A:A,'Growth Plan & Statistics'!M42,'Daily Fills'!G:G)) | O42: =IF(M42="","",SUMIF('Daily Fills'!A:A,'Growth Plan & Statistics'!M42,'Daily Fills'!D:D)*2) | P42: =IF(M42="","",SUMIF('Daily Fills'!A:A,'Growth Plan & Statistics'!M42,'Daily Fills'!H:H)) | Q42: =IF(P42="","",N42-P42) | R42: =IF(N42="","",F42)
...

Sheet Daily Fills
A1: Date | B1: Trade # | C1: Pair | D1: LOTS | E1: Entry Time | F1: Exit Time | G1: Gross Profit | H1: Commission | I1: Net Profit | J1: Trade Plan Followed? Y=Yes / N=No | K1: PIPS | L1: DRAW DOWN-PNTS | M1: PEAK | N1: EXIT | O1: Type | P1: OBSERV | Q1: SESSION | S1: CHART – TR A,B,C..../PAIR | T1: CHART HYPERLINKS NOT WORKING
A2: 41796 | B2: =IF(import!A2="","",import!A2) -> 1988267429 | C2: =IF(import!E2="","",import!E2) -> GBPJPY | D2: =IF(import!D2="","",import!D2) -> 1 | E2: =IF(import!B2="","",import!B2) -> 2014.06.06 23:17:19 | F2: =IF(import!I2="","",import!I2) -> 2014.06.06 23:51:06 | G2: =IF(import!N2="","",import!N2) -> -109.27 | H2: =IF(import!K2="","",import!K2) -> -6.05 | I2: =IF(H2="","",G2-H2) -> -103.22 | J2: N | K2: =import!AA2 -> -11.2 | L2: -18 | M2: 20 | N2: TRAIL-PROB | O2: =IF(import!Y2="","",import!Y2) -> Buy | P2: TEST | S2: /home/micha/.wine/dosdevices/c:/Program Files/MetaTrader ECN - FXOpen/trades/gbpjpym15-6-6-a.png | T2: -11.2 | U2: =T2-K2 -> 0 | V2: -11.2
A3: 41799 | B3: =IF(import!A3="","",import!A3) -> 1988312023 | C3: =IF(import!E3="","",import!E3) -> GBPJPY | D3: =IF(import!D3="","",import!D3) -> 1 | E3: =IF(import!B3="","",import!B3) -> 2014.06.09 12:17:22 | F3: =IF(import!I3="","",import!I3) -> 2014.06.09 14:27:01 | G3: =IF(import!N3="","",import!N3) -> 65.39 | H3: =IF(import!K3="","",import!K3) -> -6.05 | I3: =IF(H3="","",G3-H3) -> 71.44 | J3: Y | K3: =IF(import!AA3="","",import!AA3) -> 6.7 | L3: -6.3 | M3: 18 | O3: =IF(import!Y3="","",import!Y3) -> Sell | T3: 6.7 | U3: =T3-K3 -> 0 | V3: 6.7
A4: 41800 | B4: =IF(import!A4="","",import!A4) -> 1988419519 | C4: =IF(import!E4="","",import!E4) -> GBPJPY | D4: =IF(import!D4="","",import!D4) -> 10 | E4: =IF(import!B4="","",import!B4) -> 2014.06.10 11:21:40 | F4: =IF(import!I4="","",import!I4) -> 2014.06.10 11:30:00 | G4: =IF(import!N4="","",import!N4) -> -1065.42 | H4: =IF(import!K4="","",import!K4) -> -60.43 | I4: =IF(H4="","",G4-H4) -> -1004.99 | J4: Y | K4: =IF(import!AA4="","",import!AA4) -> -10.9 | M4: 5 | N4: TRAIL-PROB ? | O4: =IF(import!Y4="","",import!Y4) -> Sell | T4: -10.9 | U4: =T4-K4 -> 0 | V4: -10.9
A5: =A4 | B5: =IF(import!A5="","",import!A5) -> 1988419699 | C5: =IF(import!E5="","",import!E5) -> EURJPY | D5: =IF(import!D5="","",import!D5) -> 1 | E5: =IF(import!B5="","",import!B5) -> 2014.06.10 11:20:28 | F5: =IF(import!I5="","",import!I5) -> 2014.06.10 11:21:46 | G5: =IF(import!N5="","",import!N5) -> 47.9 | H5: =IF(import!K5="","",import!K5) -> -4.88 | I5: =IF(H5="","",G5-H5) -> 52.78 | J5: Y | K5: =IF(import!AA5="","",import!AA5) -> 4.9 | L5: 0 | N5: TS | O5: =IF(import!Y5="","",import!Y5) -> Sell | T5: 4.9 | U5: =T5-K5 -> 0 | V5: 4.9
A6: =A5 | B6: =IF(import!A6="","",import!A6) -> 1988424234 | C6: =IF(import!E6="","",import!E6) -> EURAUD | D6: =IF(import!D6="","",import!D6) -> 10.4 | E6: =IF(import!B6="","",import!B6) -> 2014.06.10 11:47:51 | F6: =IF(import!I6="","",import!I6) -> 2014.06.10 12:48:07 | G6: =IF(import!N6="","",import!N6) -> 778.86 | H6: =IF(import!K6="","",import!K6) -> -50.77 | I6: =IF(H6="","",G6-H6) -> 829.63 | J6: Y | K6: =IF(import!AA6="","",import!AA6) -> 8 | L6: -6.1 | N6: TS | O6: =IF(import!Y6="","",import!Y6) -> Sell | P6: MPTM | T6: 8 | U6: =T6-K6 -> 0 | V6: 8
A7: 41801 | B7: =IF(import!A7="","",import!A7) -> 1988603855 | C7: =IF(import!E7="","",import!E7) -> EURJPY | D7: =IF(import!D7="","",import!D7) -> 10.14 | E7: =IF(import!B7="","",import!B7) -> 2014.06.11 10:05:12 | F7: =IF(import!I7="","",import!I7) -> 2014.06.11 12:03:47 | G7: =IF(import!N7="","",import!N7) -> 1844.79 | H7: =IF(import!K7="","",import!K7) -> -49.41 | I7: =IF(H7="","",G7-H7) -> 1894.2 | J7: N | K7: =IF(import!AA7="","",import!AA7) -> 18.6 | L7: 9.1 | N7: TS | O7: =IF(import!Y7="","",import!Y7) -> Sell | T7: 18.6 | U7: =T7-K7 -> 0 | V7: 18.6
A8: =A7 | B8: =IF(import!A8="","",import!A8) -> 1988621191 | C8: =IF(import!E8="","",import!E8) -> EURJPY | D8: =IF(import!D8="","",import!D8) -> 10.5 | E8: =IF(import!B8="","",import!B8) -> 2014.06.11 12:08:44 | F8: =IF(import!I8="","",import!I8) -> 2014.06.11 12:13:24 | G8: =IF(import!N8="","",import!N8) -> 20.57 | H8: =IF(import!K8="","",import!K8) -> -51.16 | I8: =IF(H8="","",G8-H8) -> 71.73 | J8: N | K8: =IF(import!AA8="","",import!AA8) -> 0.2 | L8: -5.4 | N8: TS | O8: =IF(import!Y8="","",import!Y8) -> Sell | T8: 0.2 | U8: =T8-K8 -> 0 | V8: 0.2
A9: =A8 | B9: =IF(import!A9="","",import!A9) -> 1988622247 | C9: =IF(import!E9="","",import!E9) -> GBPJPY | D9: =IF(import!D9="","",import!D9) -> 10.4 | E9: =IF(import!B9="","",import!B9) -> 2014.06.12 05:14:35 | F9: =IF(import!I9="","",import!I9) -> 2014.06.12 09:52:27 | G9: =IF(import!N9="","",import!N9) -> 1161.64 | H9: =IF(import!K9="","",import!K9) -> -62.89 | I9: =IF(H9="","",G9-H9) -> 1224.53 | J9: N | K9: =IF(import!AA9="","",import!AA9) -> 11.4 | L9: -9.7 | M9: 8.7 | N9: ASIAN | O9: =IF(import!Y9="","",import!Y9) -> Buy | P9: Dd:12.6.14 | T9: 11.4 | U9: =T9-K9 -> 0 | V9: 11.4
A10: =A9 | B10: =IF(import!A10="","",import!A10) -> 1988622270 | C10: =IF(import!E10="","",import!E10) -> GBPJPY | D10: =IF(import!D10="","",import!D10) -> 10.4 | E10: =IF(import!B10="","",import!B10) -> 2014.06.11 12:19:34 | F10: =IF(import!I10="","",import!I10) -> 2014.06.11 12:21:02 | G10: =IF(import!N10="","",import!N10) -> 0 | H10: =IF(import!K10="","",import!K10) -> -62.87 | I10: =IF(H10="","",G10-H10) -> 62.87 | J10: Y | K10: =IF(import!AA10="","",import!AA10) -> 0 | M10: 6.7 | N10: TRAIL-PROB | O10: =IF(import!Y10="","",import!Y10) -> Sell | P10: WUKAR-EA | T10: 0 | U10: =T10-K10 -> 0 | V10: 0
A11: =A10 | B11: =IF(import!A11="","",import!A11) -> 1988623124 | C11: =IF(import!E11="","",import!E11) -> GBPJPY | D11: =IF(import!D11="","",import!D11) -> 10.4 | E11: =IF(import!B11="","",import!B11) -> 2014.06.11 12:24:27 | F11: =IF(import!I11="","",import!I11) -> 2014.06.11 12:42:18 | G11: =IF(import!N11="","",import!N11) -> 397.39 | H11: =IF(import!K11="","",import!K11) -> -62.88 | I11: =IF(H11="","",G11-H11) -> 460.27 | J11: Y | K11: =IF(import!AA11="","",import!AA11) -> 3.9 | M11: 8.1 | O11: =IF(import!Y11="","",import!Y11) -> Sell | T11: 3.9 | U11: =T11-K11 -> 0 | V11: 3.9
A12: =A11 | B12: =IF(import!A12="","",import!A12) -> 1988650197 | C12: =IF(import!E12="","",import!E12) -> EURCAD | D12: =IF(import!D12="","",import!D12) -> 11.2 | E12: =IF(import!B12="","",import!B12) -> 2014.06.11 16:30:30 | F12: =IF(import!I12="","",import!I12) -> 2014.06.11 16:35:56 | G12: =IF(import!N12="","",import!N12) -> 133.91 | H12: =IF(import!K12="","",import!K12) -> -54.61 | I12: =IF(H12="","",G12-H12) -> 188.52 | J12: Y | K12: =IF(import!AA12="","",import!AA12) -> 1.3 | L12: 0 | M12: 4.9 | N12: TRAIL-PROB | O12: =IF(import!Y12="","",import!Y12) -> Sell | T12: 1.3 | U12: =T12-K12 -> 0 | V12: 1.3
A13: 41802 | B13: =IF(import!A13="","",import!A13) -> 1988730752 | C13: =IF(import!E13="","",import!E13) -> EURJPY | D13: =IF(import!D13="","",import!D13) -> 7 | E13: =IF(import!B13="","",import!B13) -> 2014.06.12 10:39:41 | F13: =IF(import!I13="","",import!I13) -> 2014.06.12 10:58:57 | G13: =IF(import!N13="","",import!N13) -> -356.58 | H13: =IF(import!K13="","",import!K13) -> -34.1 | I13: =IF(H13="","",G13-H13) -> -322.48 | J13: Y | K13: =IF(import!AA13="","",import!AA13) -> -5.2 | L13: -6 | M13: 13 | N13: SL-PROB | O13: =IF(import!Y13="","",import!Y13) -> Sell | T13: -5.2 | U13: =T13-K13 -> 0 | V13: -5.2
A14: =A13 | B14: =IF(import!A14="","",import!A14) -> 1988730846 | C14: =IF(import!E14="","",import!E14) -> EURJPY | D14: =IF(import!D14="","",import!D14) -> 7 | E14: =IF(import!B14="","",import!B14) -> 2014.06.12 09:50:42 | F14: =IF(import!I14="","",import!I14) -> 2014.06.12 09:56:02 | G14: =IF(import!N14="","",import!N14) -> 514.31 | H14: =IF(import!K14="","",import!K14) -> -34.12 | I14: =IF(H14="","",G14-H14) -> 548.43 | J14: Y | K14: =IF(import!AA14="","",import!AA14) -> 7.5 | L14: 0 | M14: 9 | N14: TS / FR | O14: =IF(import!Y14="","",import!Y14) -> Buy | T14: 7.5 | U14: =T14-K14 -> 0 | V14: 7.5
A15: =A14 | B15: =IF(import!A15="","",import!A15) -> 1988737641 | C15: =IF(import!E15="","",import!E15) -> EURAUD | D15: =IF(import!D15="","",import!D15) -> 11.32 | E15: =IF(import!B15="","",import!B15) -> 2014.06.12 10:35:57 | F15: =IF(import!I15="","",import!I15) -> 2014.06.12 11:05:04 | G15: =IF(import!N15="","",import!N15) -> -1084.98 | H15: =IF(import!K15="","",import!K15) -> -55.15 | I15: =IF(H15="","",G15-H15) -> -1029.83 | J15: N | K15: =IF(import!AA15="","",import!AA15) -> -10.2 | M15: 0 | N15: LATE ENTER | O15: =IF(import!Y15="","",import!Y15) -> Sell | T15: -10.2 | U15: =T15-K15 -> 0 | V15: -10.2
A16: =A15 | B16: =IF(import!A16="","",import!A16) -> 1988738059 | C16: =IF(import!E16="","",import!E16) -> EURCAD | D16: =IF(import!D16="","",import!D16) -> 10.4 | E16: =IF(import!B16="","",import!B16) -> 2014.06.12 10:39:23 | F16: =IF(import!I16="","",import!I16) -> 2014.06.12 11:09:54 | G16: =IF(import!N16="","",import!N16) -> 928.88 | H16: =IF(import!K16="","",import!K16) -> -50.66 | I16: =IF(H16="","",G16-H16) -> 979.54 | J16: Y | K16: =IF(import!AA16="","",import!AA16) -> 9.7 | L16: -1.3 | M16: 17.6 | O16: =IF(import!Y16="","",import!Y16) -> Sell | T16: 9.7 | U16: =T16-K16 -> 0 | V16: 9.7
A17: =A16 | B17: =IF(import!A17="","",import!A17) -> 1988743176 | C17: =IF(import!E17="","",import!E17) -> EURAUD | D17: =IF(import!D17="","",import!D17) -> 11.32 | E17: =IF(import!B17="","",import!B17) -> 2014.06.12 12:30:49 | F17: =IF(import!I17="","",import!I17) -> 2014.06.12 12:36:16 | G17: =IF(import!N17="","",import!N17) -> 1032.11 | H17: =IF(import!K17="","",import!K17) -> -55.12 | I17: =IF(H17="","",G17-H17) -> 1087.23 | J17: Y | K17: =IF(import!AA17="","",import!AA17) -> 9.7 | L17: 0 | M17: 22 | N17: TS | O17: =IF(import!Y17="","",import!Y17) -> Sell | T17: 9.7 | U17: =T17-K17 -> 0 | V17: 9.7
A18: =A17 | B18: =IF(import!A18="","",import!A18) -> 1988760877 | C18: =IF(import!E18="","",import!E18) -> EURJPY | D18: =IF(import!D18="","",import!D18) -> 11 | E18: =IF(import!B18="","",import!B18) -> 2014.06.13 07:06:40 | F18: =IF(import!I18="","",import!I18) -> 2014.06.13 09:24:15 | G18: =IF(import!N18="","",import!N18) -> 2684.16 | H18: =IF(import!K18="","",import!K18) -> -53.7 | I18: =IF(H18="","",G18-H18) -> 2737.86 | J18: N | K18: =IF(import!AA18="","",import!AA18) -> 24.9 | N18: TS | O18: =IF(import!Y18="","",import!Y18) -> Buy | P18: DD: 13.6.14 | T18: 24.9 | U18: =T18-K18 -> 0 | V18: 24.9
A19: =A18 | B19: =IF(import!A19="","",import!A19) -> 1988768295 | C19: =IF(import!E19="","",import!E19) -> GBPJPY | D19: =IF(import!D19="","",import!D19) -> 10.94 | E19: =IF(import!B19="","",import!B19) -> 2014.06.12 15:31:37 | F19: =IF(import!I19="","",import!I19) -> 2014.06.12 15:34:03 | G19: =IF(import!N19="","",import!N19) -> -1137.01 | H19: =IF(import!K19="","",import!K19) -> -66.32 | I19: =IF(H19="","",G19-H19) -> -1070.69 | J19: Y | K19: =IF(import!AA19="","",import!AA19) -> -10.6 | M19: 4.6 | N19: TRAIL-PROB | O19: =IF(import!Y19="","",import!Y19) -> Buy | T19: -10.6 | U19: =T19-K19 -> 0 | V19: -10.6
A20: =A19 | B20: =IF(import!A20="","",import!A20) -> 1988770866 | C20: =IF(import!E20="","",import!E20) -> EURJPY | D20: =IF(import!D20="","",import!D20) -> 7.13 | E20: =IF(import!B20="","",import!B20) -> 2014.06.12 15:44:50 | F20: =IF(import!I20="","",import!I20) -> 2014.06.12 15:45:53 | G20: =IF(import!N20="","",import!N20) -> 97.84 | H20: =IF(import!K20="","",import!K20) -> -34.74 | I20: =IF(H20="","",G20-H20) -> 132.58 | J20: N | K20: =IF(import!AA20="","",import!AA20) -> 1.4 | N20: MIS | O20: =IF(import!Y20="","",import!Y20) -> Buy | T20: 1.4 | U20: =T20-K20 -> 0 | V20: 1.4
A21: =A20 | B21: =IF(import!A21="","",import!A21) -> 1988771444 | C21: =IF(import!E21="","",import!E21) -> EURJPY | D21: =IF(import!D21="","",import!D21) -> 11 | E21: =IF(import!B21="","",import!B21) -> 2014.06.12 15:48:17 | F21: =IF(import!I21="","",import!I21) -> 2014.06.12 15:59:34 | G21: =IF(import!N21="","",import!N21) -> 172.57 | H21: =IF(import!K21="","",import!K21) -> -53.6 | I21: =IF(H21="","",G21-H21) -> 226.17 | J21: N | K21: =IF(import!AA21="","",import!AA21) -> 1.6 | L21: -7.4 | M21: 3.3 | N21: LATE ENTER | O21: =IF(import!Y21="","",import!Y21) -> Buy | T21: 1.6 | U21: =T21-K21 -> 0 | V21: 1.6
A22: =A21 | B22: =IF(import!A22="","",import!A22) -> 1988774262 | C22: =IF(import!E22="","",import!E22) -> EURCAD | D22: =IF(import!D22="","",import!D22) -> 7.62 | E22: =IF(import!B22="","",import!B22) -> 2014.06.12 16:08:44 | F22: =IF(import!I22="","",import!I22) -> 2014.06.12 16:22:58 | G22: =IF(import!N22="","",import!N22) -> 49.1 | H22: =IF(import!K22="","",import!K22) -> -37.15 | I22: =IF(H22="","",G22-H22) -> 86.25 | J22: Y | K22: =IF(import!AA22="","",import!AA22) -> 0.7 | L22: 4.6 | M22: 5 | N22: TRAIL-PROB | O22: =IF(import!Y22="","",import!Y22) -> Buy | T22: 0.7 | U22: =T22-K22 -> 0 | V22: 0.7
A23: =A22 | B23: =IF(import!A23="","",import!A23) -> 1988776015 | C23: =IF(import!E23="","",import!E23) -> EURCAD | D23: =IF(import!D23="","",import!D23) -> 5 | E23: =IF(import!B23="","",import!B23) -> 2014.06.12 16:24:28 | F23: =IF(import!I23="","",import!I23) -> 2014.06.12 16:33:25 | G23: =IF(import!N23="","",import!N23) -> -464.95 | H23: =IF(import!K23="","",import!K23) -> -24.37 | I23: =IF(H23="","",G23-H23) -> -440.58 | J23: N | K23: =IF(import!AA23="","",import!AA23) -> -10.1 | M23: 4.7 | N23: TRAIL-PROB | O23: =IF(import!Y23="","",import!Y23) -> Buy | P23: RE-ENTRY | T23: -10.1 | U23: =T23-K23 -> 0 | V23: -10.1
A24: =A23 | B24: =IF(import!A24="","",import!A24) -> 1988780302 | C24: =IF(import!E24="","",import!E24) -> EURCAD | D24: =IF(import!D24="","",import!D24) -> 11.31 | E24: =IF(import!B24="","",import!B24) -> 2014.06.12 17:01:14 | F24: =IF(import!I24="","",import!I24) -> 2014.06.12 17:03:42 | G24: =IF(import!N24="","",import!N24) -> 375.15 | H24: =IF(import!K24="","",import!K24) -> -55.14 | I24: =IF(H24="","",G24-H24) -> 430.29 | J24: Y | K24: =IF(import!AA24="","",import!AA24) -> 3.6 | L24: -5 | M24: 8.5 | N24: TRAIL-PROB | O24: =IF(import!Y24="","",import!Y24) -> Sell | T24: 3.6 | U24: =T24-K24 -> 0 | V24: 3.6
A25: 41803 | B25: =IF(import!A25="","",import!A25) -> 1988903457 | C25: =IF(import!E25="","",import!E25) -> EURAUD | D25: =IF(import!D25="","",import!D25) -> 11.73 | E25: =IF(import!B25="","",import!B25) -> 2014.06.13 15:50:39 | F25: =IF(import!I25="","",import!I25) -> 2014.06.13 15:50:53 | G25: =IF(import!N25="","",import!N25) -> 187.19 | H25: =IF(import!K25="","",import!K25) -> -57.17 | I25: =IF(H25="","",G25-H25) -> 244.36 | J25: Y | K25: =IF(import!AA25="","",import!AA25) -> 1.7 | M25: 3.9 | N25: TS | O25: =IF(import!Y25="","",import!Y25) -> Buy | T25: 1.7 | U25: =T25-K25 -> 0 | V25: 1.7
A26: =A25 | B26: =IF(import!A26="","",import!A26) -> 1988903669 | C26: =IF(import!E26="","",import!E26) -> EURJPY | D26: =IF(import!D26="","",import!D26) -> 11.26 | E26: =IF(import!B26="","",import!B26) -> 2014.06.13 16:06:34 | F26: =IF(import!I26="","",import!I26) -> 2014.06.13 16:17:36 | G26: =IF(import!N26="","",import!N26) -> 1102.74 | H26: =IF(import!K26="","",import!K26) -> -54.88 | I26: =IF(H26="","",G26-H26) -> 1157.62 | J26: Y | K26: =IF(import!AA26="","",import!AA26) -> 10 | M26: 12 | N26: TP | O26: =IF(import!Y26="","",import!Y26) -> Buy | T26: 10 | U26: =T26-K26 -> 0 | V26: 10
A27: =A26 | B27: =IF(import!A27="","",import!A27) -> 1988913759 | C27: =IF(import!E27="","",import!E27) -> EURCAD | D27: =IF(import!D27="","",import!D27) -> 12.22 | E27: =IF(import!B27="","",import!B27) -> 2014.06.13 17:49:23 | F27: =IF(import!I27="","",import!I27) -> 2014.06.13 17:51:51 | G27: =IF(import!N27="","",import!N27) -> 89.97 | H27: =IF(import!K27="","",import!K27) -> -59.52 | I27: =IF(H27="","",G27-H27) -> 149.49 | J27: Y | K27: =IF(import!AA27="","",import!AA27) -> 0.8 | M27: 5.2 | N27: TRAIL-PROB | O27: =IF(import!Y27="","",import!Y27) -> Sell | T27: 0.8 | U27: =T27-K27 -> 0 | V27: 0.8
A28: =A27 | B28: =IF(import!A28="","",import!A28) -> 1988921979 | C28: =IF(import!E28="","",import!E28) -> EURCAD | D28: =IF(import!D28="","",import!D28) -> 12.23 | E28: =IF(import!B28="","",import!B28) -> 2014.06.13 18:37:13 | F28: =IF(import!I28="","",import!I28) -> 2014.06.13 18:59:49 | G28: =IF(import!N28="","",import!N28) -> 270.06 | H28: =IF(import!K28="","",import!K28) -> -59.56 | I28: =IF(H28="","",G28-H28) -> 329.62 | J28: Y | K28: =IF(import!AA28="","",import!AA28) -> 2.4 | L28: -6 | M28: 7 | N28: TRAIL-PROB | O28: =IF(import!Y28="","",import!Y28) -> Sell | T28: 2.4 | U28: =T28-K28 -> 0 | V28: 2.4
A29: 41806 | B29: =IF(import!A29="","",import!A29) -> 1989009504 | C29: =IF(import!E29="","",import!E29) -> GBPJPY | D29: =IF(import!D29="","",import!D29) -> 11.51 | E29: =IF(import!B29="","",import!B29) -> 2014.06.16 12:19:30 | F29: =IF(import!I29="","",import!I29) -> 2014.06.16 12:33:20 | G29: =IF(import!N29="","",import!N29) -> 169.47 | H29: =IF(import!K29="","",import!K29) -> -70.29 | I29: =IF(H29="","",G29-H29) -> 239.76 | J29: Y | K29: =IF(import!AA29="","",import!AA29) -> 1.5 | L29: -5.9 | M29: 16.5 | N29: TS | O29: =IF(import!Y29="","",import!Y29) -> Sell | T29: 1.5 | U29: =T29-K29 -> 0 | V29: 1.5
A30: =A29 | B30: =IF(import!A30="","",import!A30) -> 1989009922 | C30: =IF(import!E30="","",import!E30) -> EURCAD | D30: =IF(import!D30="","",import!D30) -> 12.28 | E30: =IF(import!B30="","",import!B30) -> 2014.06.16 11:42:45 | F30: =IF(import!I30="","",import!I30) -> 2014.06.16 12:04:19 | G30: =IF(import!N30="","",import!N30) -> 508.43 | H30: =IF(import!K30="","",import!K30) -> -59.8 | I30: =IF(H30="","",G30-H30) -> 568.23 | J30: Y | K30: =IF(import!AA30="","",import!AA30) -> 4.5 | L30: -1.5 | M30: 15.9 | N30: TS | O30: =IF(import!Y30="","",import!Y30) -> Buy | T30: 4.5 | U30: =T30-K30 -> 0 | V30: 4.5
A31: =A30 | B31: =IF(import!A31="","",import!A31) -> 1989013486 | C31: =IF(import!E31="","",import!E31) -> EURAUD | D31: =IF(import!D31="","",import!D31) -> 12.13 | E31: =IF(import!B31="","",import!B31) -> 2014.06.16 12:56:43 | F31: =IF(import!I31="","",import!I31) -> 2014.06.16 12:59:28 | G31: =IF(import!N31="","",import!N31) -> 238.96 | H31: =IF(import!K31="","",import!K31) -> -59.08 | I31: =IF(H31="","",G31-H31) -> 298.04 | J31: Y | K31: =IF(import!AA31="","",import!AA31) -> 2.1 | L31: 0 | M31: 16 | N31: TS | O31: =IF(import!Y31="","",import!Y31) -> Buy | T31: 2.1 | U31: =T31-K31 -> 0 | V31: 2.1
A32: =A31 | B32: =IF(import!A32="","",import!A32) -> 1989018302 | C32: =IF(import!E32="","",import!E32) -> GBPJPY | D32: =IF(import!D32="","",import!D32) -> 11.66 | E32: =IF(import!B32="","",import!B32) -> 2014.06.16 13:11:58 | F32: =IF(import!I32="","",import!I32) -> 2014.06.16 13:25:29 | G32: =IF(import!N32="","",import!N32) -> 240.27 | H32: =IF(import!K32="","",import!K32) -> -71.23 | I32: =IF(H32="","",G32-H32) -> 311.5 | J32: N | K32: =IF(import!AA32="","",import!AA32) -> 2.1 | L32: -5.9 | M32: 16.5 | N32: TS | O32: =IF(import!Y32="","",import!Y32) -> Sell | T32: 2.1 | U32: =T32-K32 -> 0 | V32: 2.1
A33: =A32 | B33: =IF(import!A33="","",import!A33) -> 1989020950 | C33: =IF(import!E33="","",import!E33) -> EURAUD | D33: =IF(import!D33="","",import!D33) -> 12.23 | E33: =IF(import!B33="","",import!B33) -> 2014.06.16 13:46:00 | F33: =IF(import!I33="","",import!I33) -> 2014.06.16 13:46:56 | G33: =IF(import!N33="","",import!N33) -> 160.67 | H33: =IF(import!K33="","",import!K33) -> -59.62 | I33: =IF(H33="","",G33-H33) -> 220.29 | J33: Y | K33: =IF(import!AA33="","",import!AA33) -> 1.4 | L33: 0 | M33: 6 | N33: TS | O33: =IF(import!Y33="","",import!Y33) -> Buy | T33: 1.4 | U33: =T33-K33 -> 0 | V33: 1.4
A34: =A33 | B34: =IF(import!A34="","",import!A34) -> 1989023314 | C34: =IF(import!E34="","",import!E34) -> EURJPY | D34: =IF(import!D34="","",import!D34) -> 5.85 | E34: =IF(import!B34="","",import!B34) -> 2014.06.16 14:19:18 | F34: =IF(import!I34="","",import!I34) -> 2014.06.16 14:43:37 | G34: =IF(import!N34="","",import!N34) -> 293 | H34: =IF(import!K34="","",import!K34) -> -28.52 | I34: =IF(H34="","",G34-H34) -> 321.52 | J34: Y | K34: =IF(import!AA34="","",import!AA34) -> 5.1 | L34: 1 | M34: 12.8 | N34: TP | O34: =IF(import!Y34="","",import!Y34) -> Sell | P34: LATE 14:00 – 1%RISK | T34: 5.1 | U34: =T34-K34 -> 0 | V34: 5.1
A35: 41807 | B35: =IF(import!A35="","",import!A35) -> 1989116313 | C35: =IF(import!E35="","",import!E35) -> GBPJPY | D35: =IF(import!D35="","",import!D35) -> 11.77 | E35: =IF(import!B35="","",import!B35) -> 2014.06.17 10:05:57 | F35: =IF(import!I35="","",import!I35) -> 2014.06.17 10:09:58 | G35: =IF(import!N35="","",import!N35) -> 253.98 | H35: =IF(import!K35="","",import!K35) -> -71.95 | I35: =IF(H35="","",G35-H35) -> 325.93 | J35: Y | K35: =IF(import!AA35="","",import!AA35) -> 2.2 | L35: -5.4 | M35: 2.8 | N35: TS | O35: =IF(import!Y35="","",import!Y35) -> Buy | P35: 1.5H VOOR NIEUWS | T35: 2.2 | U35: =T35-K35 -> 0 | V35: 2.2
A36: =A35 | B36: =IF(import!A36="","",import!A36) -> 1989116327 | C36: =IF(import!E36="","",import!E36) -> EURJPY | D36: =IF(import!D36="","",import!D36) -> 11.77 | E36: =IF(import!B36="","",import!B36) -> 2014.06.17 10:12:37 | F36: =IF(import!I36="","",import!I36) -> 2014.06.17 10:51:41 | G36: =IF(import!N36="","",import!N36) -> 530.64 | H36: =IF(import!K36="","",import!K36) -> -57.47 | I36: =IF(H36="","",G36-H36) -> 588.11 | J36: Y | K36: =IF(import!AA36="","",import!AA36) -> 4.6 | L36: -7.3 | M36: 6.4 | N36: TS | O36: =IF(import!Y36="","",import!Y36) -> Buy | P36: 1H VOOR NIEUWS – WUKAR 1.2 | T36: 4.6 | U36: =T36-K36 -> 0 | V36: 4.6
A37: =A36 | B37: =IF(import!A37="","",import!A37) -> 1989118057 | C37: =IF(import!E37="","",import!E37) -> EURAUD | D37: =IF(import!D37="","",import!D37) -> 12.4 | E37: =IF(import!B37="","",import!B37) -> 2014.06.17 10:19:58 | F37: =IF(import!I37="","",import!I37) -> 2014.06.17 10:20:18 | G37: =IF(import!N37="","",import!N37) -> 208.46 | H37: =IF(import!K37="","",import!K37) -> -60.55 | I37: =IF(H37="","",G37-H37) -> 269.01 | J37: Y | K37: =IF(import!AA37="","",import!AA37) -> 1.8 | L37: -1.8 | M37: 5 | N37: TS | O37: =IF(import!Y37="","",import!Y37) -> Buy | T37: 1.8 | U37: =T37-K37 -> 0 | V37: 1.8
A38: =A37 | B38: =IF(import!A38="","",import!A38) -> 1989138586 | C38: =IF(import!E38="","",import!E38) -> EURJPY | D38: =IF(import!D38="","",import!D38) -> 11.94 | E38: =IF(import!B38="","",import!B38) -> 2014.06.17 13:15:23 | F38: =IF(import!I38="","",import!I38) -> 2014.06.17 13:31:14 | G38: =IF(import!N38="","",import!N38) -> -1147.71 | H38: =IF(import!K38="","",import!K38) -> -58.33 | I38: =IF(H38="","",G38-H38) -> -1089.38 | J38: Y | K38: =IF(import!AA38="","",import!AA38) -> -9.8 | M38: 0.5 | N38: SL | O38: =IF(import!Y38="","",import!Y38) -> Buy | T38: -9.8 | U38: =T38-K38 -> 0 | V38: -9.8
A39: 41808 | B39: =IF(import!A39="","",import!A39) -> 1989232618 | C39: =IF(import!E39="","",import!E39) -> GBPJPY | D39: =IF(import!D39="","",import!D39) -> 11.73 | E39: =IF(import!B39="","",import!B39) -> 2014.06.18 09:48:57 | F39: =IF(import!I39="","",import!I39) -> 2014.06.18 10:00:00 | G39: =IF(import!N39="","",import!N39) -> -1020.72 | H39: =IF(import!K39="","",import!K39) -> -71.66 | I39: =IF(H39="","",G39-H39) -> -949.06 | J39: N | K39: =IF(import!AA39="","",import!AA39) -> -8.9 | M39: 0.6 | N39: SL | O39: =IF(import!Y39="","",import!Y39) -> Buy | P39: 2ND LEVEL | Q39: FR | S39: /home/micha/.wine/dosdevices/c:/Program Files/MetaTrader ECN - FXOpen/trades/gbpjpym15-18-6-a_b.png | T39: -8.9 | U39: =T39-K39 -> 0 | V39: -8.9
A40: =A39 | B40: =IF(import!A40="","",import!A40) -> 1989236184 | C40: =IF(import!E40="","",import!E40) -> GBPJPY | D40: =IF(import!D40="","",import!D40) -> 11.5 | E40: =IF(import!B40="","",import!B40) -> 2014.06.18 10:02:35 | F40: =IF(import!I40="","",import!I40) -> 2014.06.18 10:14:32 | G40: =IF(import!N40="","",import!N40) -> 348.7 | H40: =IF(import!K40="","",import!K40) -> -70.28 | I40: =IF(H40="","",G40-H40) -> 418.98 | J40: N | K40: =IF(import!AA40="","",import!AA40) -> 3.1 | L40: -4 | M40: 6 | N40: TS | O40: =IF(import!Y40="","",import!Y40) -> Buy | P40: 1H FOUT – DAN NIEUWS | Q40: LO | S40: /home/micha/.wine/dosdevices/c:/Program Files/MetaTrader ECN - FXOpen/trades/gbpjpym15-18-6-a_b.png | T40: 3.1 | U40: =T40-K40 -> 0 | V40: 3.1
...

Sheet import
A1: order | B1: opendt | C1: type | D1: lots | E1: symbol | F1: openprice | G1: stoploss | H1: takeprofit | I1: closedt | J1: closeprice | K1: commission | L1: taxes | M1: swap | N1: profit | O1: account | P1: magicnumber | Q1: expirationdt | R1: comment | S1: closed | T1: demo | U1: pip | V1: x | W1: x | X1: x | Y1: action | Z1: net | AA1: pips | AB1: SLpips | AC1: TPpips | AD1: TimeStr | AE1: timesec | AF1: SLslip | AG1: TPadd | AH1: opentime | AI1: closetime | AJ1: expiration | AL1: IMORT SCRIPT: P4L ORDER HISTORY
A2: 1988267429 | B2: 2014.06.06 23:17:19 | C2: 0 | D2: 1 | E2: GBPJPY | F2: 172.342 | G2: 172.242 | H2: 172.377 | I2: 2014.06.06 23:51:06 | J2: 172.23 | K2: -6.05 | L2: 0 | M2: 0 | N2: -109.27 | O2: 65013881 | P2: 0 | Q2: 1970.01.01 00:00:00 | R2: [sl] | S2: 1 | T2: 1 | U2: 0.01 | Y2: Buy | Z2: -115.32 | AA2: -11.2 | AB2: -10 | AC2: 3.5 | AD2: 00:33:47 | AE2: 2027 | AF2: -1.2 | AG2: 0 | AH2: 1402096639 | AI2: 1402098666 | AJ2: 0
A3: 1988312023 | B3: 2014.06.09 12:17:22 | C3: 1 | D3: 1 | E3: GBPJPY | F3: 172.2 | G3: 172.133 | H3: 0 | I3: 2014.06.09 14:27:01 | J3: 172.133 | K3: -6.05 | L3: 0 | M3: 0 | N3: 65.39 | O3: 65013881 | P3: 0 | Q3: 1970.01.01 00:00:00 | R3: [sl] | S3: 1 | T3: 1 | U3: 0.01 | Y3: Sell | Z3: 59.34 | AA3: 6.7 | AB3: 6.7 | AC3: 0 | AD3: 02:09:39 | AE3: 7779 | AF3: 0 | AG3: 0 | AH3: 1402316242 | AI3: 1402324021 | AJ3: 0
A4: 1988419519 | B4: 2014.06.10 11:21:40 | C4: 1 | D4: 10 | E4: GBPJPY | F4: 171.701 | G4: 171.801 | H4: 0 | I4: 2014.06.10 11:30:00 | J4: 171.81 | K4: -60.43 | L4: 0 | M4: 0 | N4: -1065.42 | O4: 65013881 | P4: 0 | Q4: 1970.01.01 00:00:00 | R4: [sl] | S4: 1 | T4: 1 | U4: 0.01 | Y4: Sell | Z4: -1125.85 | AA4: -10.9 | AB4: -10 | AC4: 0 | AD4: 00:08:20 | AE4: 500 | AF4: -0.9 | AG4: 0 | AH4: 1402399300 | AI4: 1402399800 | AJ4: 0
A5: 1988419699 | B5: 2014.06.10 11:20:28 | C5: 1 | D5: 1 | E5: EURJPY | F5: 138.793 | G5: 138.743 | H5: 0 | I5: 2014.06.10 11:21:46 | J5: 138.744 | K5: -4.88 | L5: 0 | M5: 0 | N5: 47.9 | O5: 65013881 | P5: 0 | Q5: 1970.01.01 00:00:00 | R5: [sl] | S5: 1 | T5: 1 | U5: 0.01 | Y5: Sell | Z5: 43.02 | AA5: 4.9 | AB5: 5 | AC5: 0 | AD5: 00:01:18 | AE5: 78 | AF5: -0.1 | AG5: 0 | AH5: 1402399228 | AI5: 1402399306 | AJ5: 0
A6: 1988424234 | B6: 2014.06.10 11:47:51 | C6: 1 | D6: 10.4 | E6: EURAUD | F6: 1.44897 | G6: 1.44817 | H6: 0 | I6: 2014.06.10 12:48:07 | J6: 1.44817 | K6: -50.77 | L6: 0 | M6: 0 | N6: 778.86 | O6: 65013881 | P6: 0 | Q6: 1970.01.01 00:00:00 | R6: [sl] | S6: 1 | T6: 1 | U6: 0.0001 | Y6: Sell | Z6: 728.09 | AA6: 8 | AB6: 8 | AC6: 0 | AD6: 01:00:16 | AE6: 3616 | AF6: 0 | AG6: 0 | AH6: 1402400871 | AI6: 1402404487 | AJ6: 0
A7: 1988603855 | B7: 2014.06.11 10:05:12 | C7: 1 | D7: 10.14 | E7: EURJPY | F7: 138.497 | G7: 0 | H7: 0 | I7: 2014.06.11 12:03:47 | J7: 138.311 | K7: -49.41 | L7: 0 | M7: 0 | N7: 1844.79 | O7: 65013881 | P7: 0 | Q7: 1970.01.01 00:00:00 | S7: 1 | T7: 1 | U7: 0.01 | Y7: Sell | Z7: 1795.38 | AA7: 18.6 | AB7: 0 | AC7: 0 | AD7: 01:58:35 | AE7: 7115 | AF7: 0 | AG7: 0 | AH7: 1402481112 | AI7: 1402488227 | AJ7: 0
A8: 1988621191 | B8: 2014.06.11 12:08:44 | C8: 1 | D8: 10.5 | E8: EURJPY | F8: 138.201 | G8: 138.2 | H8: 0 | I8: 2014.06.11 12:13:24 | J8: 138.199 | K8: -51.16 | L8: 0 | M8: 0 | N8: 20.57 | O8: 65013881 | P8: 0 | Q8: 1970.01.01 00:00:00 | R8: [sl] | S8: 1 | T8: 1 | U8: 0.01 | Y8: Sell | Z8: -30.59 | AA8: 0.2 | AB8: 0.1 | AC8: 0 | AD8: 00:04:40 | AE8: 280 | AF8: 0 | AG8: 0 | AH8: 1402488524 | AI8: 1402488804 | AJ8: 0
A9: 1988622247 | B9: 2014.06.12 05:14:35 | C9: 0 | D9: 10.4 | E9: GBPJPY | F9: 171.501 | G9: 171.57 | H9: 0 | I9: 2014.06.12 09:52:27 | J9: 171.615 | K9: -62.89 | L9: 0 | M9: 0 | N9: 1161.64 | O9: 65013881 | P9: 0 | Q9: 1970.01.01 00:00:00 | S9: 1 | T9: 1 | U9: 0.01 | Y9: Buy | Z9: 1098.75 | AA9: 11.4 | AB9: 6.9 | AC9: 0 | AD9: 04:37:52 | AE9: 16672 | AF9: 0 | AG9: 0 | AH9: 1402550075 | AI9: 1402566747 | AJ9: 0
A10: 1988622270 | B10: 2014.06.11 12:19:34 | C10: 1 | D10: 10.4 | E10: GBPJPY | F10: 171.391 | G10: 171.391 | H10: 0 | I10: 2014.06.11 12:21:02 | J10: 171.391 | K10: -62.87 | L10: 0 | M10: 0 | N10: 0 | O10: 65013881 | P10: 0 | Q10: 1970.01.01 00:00:00 | R10: [sl] | S10: 1 | T10: 1 | U10: 0.01 | Y10: Sell | Z10: -62.87 | AA10: 0 | AB10: 0 | AC10: 0 | AD10: 00:01:28 | AE10: 88 | AF10: 0 | AG10: 0 | AH10: 1402489174 | AI10: 1402489262 | AJ10: 0
A11: 1988623124 | B11: 2014.06.11 12:24:27 | C11: 1 | D11: 10.4 | E11: GBPJPY | F11: 171.402 | G11: 171.361 | H11: 0 | I11: 2014.06.11 12:42:18 | J11: 171.363 | K11: -62.88 | L11: 0 | M11: 0 | N11: 397.39 | O11: 65013881 | P11: 0 | Q11: 1970.01.01 00:00:00 | R11: [sl] | S11: 1 | T11: 1 | U11: 0.01 | Y11: Sell | Z11: 334.51 | AA11: 3.9 | AB11: 4.1 | AC11: 0 | AD11: 00:17:51 | AE11: 1071 | AF11: -0.2 | AG11: 0 | AH11: 1402489467 | AI11: 1402490538 | AJ11: 0
A12: 1988650197 | B12: 2014.06.11 16:30:30 | C12: 1 | D12: 11.2 | E12: EURCAD | F12: 1.473 | G12: 1.47287 | H12: 0 | I12: 2014.06.11 16:35:56 | J12: 1.47287 | K12: -54.61 | L12: 0 | M12: 0 | N12: 133.91 | O12: 65013881 | P12: 0 | Q12: 1970.01.01 00:00:00 | R12: [sl] | S12: 1 | T12: 1 | U12: 0.0001 | Y12: Sell | Z12: 79.3 | AA12: 1.3 | AB12: 1.3 | AC12: 0 | AD12: 00:05:26 | AE12: 326 | AF12: 0 | AG12: 0 | AH12: 1402504230 | AI12: 1402504556 | AJ12: 0
A13: 1988730752 | B13: 2014.06.12 10:39:41 | C13: 1 | D13: 7 | E13: EURJPY | F13: 138.101 | G13: 0 | H13: 0 | I13: 2014.06.12 10:58:57 | J13: 138.153 | K13: -34.1 | L13: 0 | M13: 0 | N13: -356.58 | O13: 65013881 | P13: 0 | Q13: 1970.01.01 00:00:00 | S13: 1 | T13: 1 | U13: 0.01 | Y13: Sell | Z13: -390.68 | AA13: -5.2 | AB13: 0 | AC13: 0 | AD13: 00:19:16 | AE13: 1156 | AF13: 0 | AG13: 0 | AH13: 1402569581 | AI13: 1402570737 | AJ13: 0
A14: 1988730846 | B14: 2014.06.12 09:50:42 | C14: 0 | D14: 7 | E14: EURJPY | F14: 138.197 | G14: 138.197 | H14: 0 | I14: 2014.06.12 09:56:02 | J14: 138.272 | K14: -34.12 | L14: 0 | M14: 0 | N14: 514.31 | O14: 65013881 | P14: 0 | Q14: 1970.01.01 00:00:00 | S14: 1 | T14: 1 | U14: 0.01 | Y14: Buy | Z14: 480.19 | AA14: 7.5 | AB14: 0 | AC14: 0 | AD14: 00:05:20 | AE14: 320 | AF14: 0 | AG14: 0 | AH14: 1402566642 | AI14: 1402566962 | AJ14: 0
A15: 1988737641 | B15: 2014.06.12 10:35:57 | C15: 1 | D15: 11.32 | E15: EURAUD | F15: 1.43897 | G15: 0 | H15: 0 | I15: 2014.06.12 11:05:04 | J15: 1.43999 | K15: -55.15 | L15: 0 | M15: 0 | N15: -1084.98 | O15: 65013881 | P15: 0 | Q15: 1970.01.01 00:00:00 | S15: 1 | T15: 1 | U15: 0.0001 | Y15: Sell | Z15: -1140.13 | AA15: -10.2 | AB15: 0 | AC15: 0 | AD15: 00:29:07 | AE15: 1747 | AF15: 0 | AG15: 0 | AH15: 1402569357 | AI15: 1402571104 | AJ15: 0
A16: 1988738059 | B16: 2014.06.12 10:39:23 | C16: 1 | D16: 10.4 | E16: EURCAD | F16: 1.46997 | G16: 1.46931 | H16: 0 | I16: 2014.06.12 11:09:54 | J16: 1.469 | K16: -50.66 | L16: 0 | M16: 0 | N16: 928.88 | O16: 65013881 | P16: 0 | Q16: 1970.01.01 00:00:00 | S16: 1 | T16: 1 | U16: 0.0001 | Y16: Sell | Z16: 878.22 | AA16: 9.7 | AB16: 6.6 | AC16: 0 | AD16: 00:30:31 | AE16: 1831 | AF16: 0 | AG16: 0 | AH16: 1402569563 | AI16: 1402571394 | AJ16: 0
A17: 1988743176 | B17: 2014.06.12 12:30:49 | C17: 1 | D17: 11.32 | E17: EURAUD | F17: 1.439 | G17: 1.43834 | H17: 0 | I17: 2014.06.12 12:36:16 | J17: 1.43803 | K17: -55.12 | L17: 0 | M17: 0 | N17: 1032.11 | O17: 65013881 | P17: 0 | Q17: 1970.01.01 00:00:00 | S17: 1 | T17: 1 | U17: 0.0001 | Y17: Sell | Z17: 976.99 | AA17: 9.7 | AB17: 6.6 | AC17: 0 | AD17: 00:05:27 | AE17: 327 | AF17: 0 | AG17: 0 | AH17: 1402576249 | AI17: 1402576576 | AJ17: 0
A18: 1988760877 | B18: 2014.06.13 07:06:40 | C18: 0 | D18: 11 | E18: EURJPY | F18: 138.205 | G18: 138.414 | H18: 0 | I18: 2014.06.13 09:24:15 | J18: 138.454 | K18: -53.7 | L18: 0 | M18: 0 | N18: 2684.16 | O18: 65013881 | P18: 0 | Q18: 1970.01.01 00:00:00 | S18: 1 | T18: 1 | U18: 0.01 | Y18: Buy | Z18: 2630.46 | AA18: 24.9 | AB18: 20.9 | AC18: 0 | AD18: 02:17:35 | AE18: 8255 | AF18: 0 | AG18: 0 | AH18: 1402643200 | AI18: 1402651455 | AJ18: 0
A19: 1988768295 | B19: 2014.06.12 15:31:37 | C19: 0 | D19: 10.94 | E19: GBPJPY | F19: 171.801 | G19: 171.701 | H19: 171.901 | I19: 2014.06.12 15:34:03 | J19: 171.695 | K19: -66.32 | L19: 0 | M19: 0 | N19: -1137.01 | O19: 65013881 | P19: 789 | Q19: 1970.01.01 00:00:00 | R19: Utilitysoft | S19: 1 | T19: 1 | U19: 0.01 | Y19: Buy | Z19: -1203.33 | AA19: -10.6 | AB19: -10 | AC19: 10 | AD19: 00:02:26 | AE19: 146 | AF19: -0.6 | AG19: 0 | AH19: 1402587097 | AI19: 1402587243 | AJ19: 0
A20: 1988770866 | B20: 2014.06.12 15:44:50 | C20: 0 | D20: 7.13 | E20: EURJPY | F20: 138.1 | G20: 137.95 | H20: 138.2 | I20: 2014.06.12 15:45:53 | J20: 138.114 | K20: -34.74 | L20: 0 | M20: 0 | N20: 97.84 | O20: 65013881 | P20: 789 | Q20: 1970.01.01 00:00:00 | R20: Utilitysoft | S20: 1 | T20: 1 | U20: 0.01 | Y20: Buy | Z20: 63.1 | AA20: 1.4 | AB20: -15 | AC20: 10 | AD20: 00:01:03 | AE20: 63 | AF20: 0 | AG20: 0 | AH20: 1402587890 | AI20: 1402587953 | AJ20: 0
A21: 1988771444 | B21: 2014.06.12 15:48:17 | C21: 0 | D21: 11 | E21: EURJPY | F21: 138.12 | G21: 137.97 | H21: 0 | I21: 2014.06.12 15:59:34 | J21: 138.136 | K21: -53.6 | L21: 0 | M21: 0 | N21: 172.57 | O21: 65013881 | P21: 0 | Q21: 1970.01.01 00:00:00 | S21: 1 | T21: 1 | U21: 0.01 | Y21: Buy | Z21: 118.97 | AA21: 1.6 | AB21: -15 | AC21: 0 | AD21: 00:11:17 | AE21: 677 | AF21: 0 | AG21: 0 | AH21: 1402588097 | AI21: 1402588774 | AJ21: 0
A22: 1988774262 | B22: 2014.06.12 16:08:44 | C22: 0 | D22: 7.62 | E22: EURCAD | F22: 1.471 | G22: 1.47112 | H22: 1.472 | I22: 2014.06.12 16:22:58 | J22: 1.47107 | K22: -37.15 | L22: 0 | M22: 0 | N22: 49.1 | O22: 65013881 | P22: 789 | Q22: 1970.01.01 00:00:00 | R22: [sl]Utilitysoft | S22: 1 | T22: 1 | U22: 0.0001 | Y22: Buy | Z22: 11.95 | AA22: 0.7 | AB22: 1.2 | AC22: 10 | AD22: 00:14:14 | AE22: 854 | AF22: -0.5 | AG22: 0 | AH22: 1402589324 | AI22: 1402590178 | AJ22: 0
A23: 1988776015 | B23: 2014.06.12 16:24:28 | C23: 0 | D23: 5 | E23: EURCAD | F23: 1.47102 | G23: 1.46952 | H23: 0 | I23: 2014.06.12 16:33:25 | J23: 1.47001 | K23: -24.37 | L23: 0 | M23: 0 | N23: -464.95 | O23: 65013881 | P23: 0 | Q23: 1970.01.01 00:00:00 | S23: 1 | T23: 1 | U23: 0.0001 | Y23: Buy | Z23: -489.32 | AA23: -10.1 | AB23: -15 | AC23: 0 | AD23: 00:08:57 | AE23: 537 | AF23: 0 | AG23: 0 | AH23: 1402590268 | AI23: 1402590805 | AJ23: 0
A24: 1988780302 | B24: 2014.06.12 17:01:14 | C24: 1 | D24: 11.31 | E24: EURCAD | F24: 1.47003 | G24: 1.46966 | H24: 1.469 | I24: 2014.06.12 17:03:42 | J24: 1.46967 | K24: -55.14 | L24: 0 | M24: 0 | N24: 375.15 | O24: 65013881 | P24: 789 | Q24: 1970.01.01 00:00:00 | R24: [sl]Utilitysoft | S24: 1 | T24: 1 | U24: 0.0001 | Y24: Sell | Z24: 320.01 | AA24: 3.6 | AB24: 3.7 | AC24: 10.3 | AD24: 00:02:28 | AE24: 148 | AF24: -0.1 | AG24: 0 | AH24: 1402592474 | AI24: 1402592622 | AJ24: 0
A25: 1988903457 | B25: 2014.06.13 15:50:39 | C25: 0 | D25: 11.73 | E25: EURAUD | F25: 1.442 | G25: 1.441 | H25: 1.443 | I25: 2014.06.13 15:50:53 | J25: 1.44217 | K25: -57.17 | L25: 0 | M25: 0 | N25: 187.19 | O25: 65013881 | P25: 789 | Q25: 1970.01.01 00:00:00 | R25: Utilitysoft | S25: 1 | T25: 1 | U25: 0.0001 | Y25: Buy | Z25: 130.02 | AA25: 1.7 | AB25: -10 | AC25: 10 | AD25: 00:00:14 | AE25: 14 | AF25: 0 | AG25: 0 | AH25: 1402674639 | AI25: 1402674653 | AJ25: 0
A26: 1988903669 | B26: 2014.06.13 16:06:34 | C26: 0 | D26: 11.26 | E26: EURJPY | F26: 138.2 | G26: 138.239 | H26: 138.3 | I26: 2014.06.13 16:17:36 | J26: 138.3 | K26: -54.88 | L26: 0 | M26: 0 | N26: 1102.74 | O26: 65013881 | P26: 789 | Q26: 1970.01.01 00:00:00 | R26: [tp]Utilitysoft | S26: 1 | T26: 1 | U26: 0.01 | Y26: Buy | Z26: 1047.86 | AA26: 10 | AB26: 3.9 | AC26: 10 | AD26: 00:11:02 | AE26: 662 | AF26: 0 | AG26: 0 | AH26: 1402675594 | AI26: 1402676256 | AJ26: 0
A27: 1988913759 | B27: 2014.06.13 17:49:23 | C27: 1 | D27: 12.22 | E27: EURCAD | F27: 1.46995 | G27: 1.46985 | H27: 1.469 | I27: 2014.06.13 17:51:51 | J27: 1.46987 | K27: -59.52 | L27: 0 | M27: 0 | N27: 89.97 | O27: 65013881 | P27: 789 | Q27: 1970.01.01 00:00:00 | R27: [sl]Utilitysoft | S27: 1 | T27: 1 | U27: 0.0001 | Y27: Sell | Z27: 30.45 | AA27: 0.8 | AB27: 1 | AC27: 9.5 | AD27: 00:02:28 | AE27: 148 | AF27: -0.2 | AG27: 0 | AH27: 1402681763 | AI27: 1402681911 | AJ27: 0
A28: 1988921979 | B28: 2014.06.13 18:37:13 | C28: 1 | D28: 12.23 | E28: EURCAD | F28: 1.47 | G28: 1.46976 | H28: 1.469 | I28: 2014.06.13 18:59:49 | J28: 1.46976 | K28: -59.56 | L28: 0 | M28: 0 | N28: 270.06 | O28: 65013881 | P28: 789 | Q28: 1970.01.01 00:00:00 | R28: [sl]Utilitysoft | S28: 1 | T28: 1 | U28: 0.0001 | Y28: Sell | Z28: 210.5 | AA28: 2.4 | AB28: 2.4 | AC28: 10 | AD28: 00:22:36 | AE28: 1356 | AF28: 0 | AG28: 0 | AH28: 1402684633 | AI28: 1402685989 | AJ28: 0
A29: 1989009504 | B29: 2014.06.16 12:19:30 | C29: 1 | D29: 11.51 | E29: GBPJPY | F29: 172.898 | G29: 173 | H29: 172.8 | I29: 2014.06.16 12:33:20 | J29: 172.883 | K29: -70.29 | L29: 0 | M29: 0 | N29: 169.47 | O29: 65013881 | P29: 789 | Q29: 1970.01.01 00:00:00 | R29: Utilitysoft | S29: 1 | T29: 1 | U29: 0.01 | Y29: Sell | Z29: 99.18 | AA29: 1.5 | AB29: -10.2 | AC29: 9.8 | AD29: 00:13:50 | AE29: 830 | AF29: 0 | AG29: 0 | AH29: 1402921170 | AI29: 1402922000 | AJ29: 0
A30: 1989009922 | B30: 2014.06.16 11:42:45 | C30: 0 | D30: 12.28 | E30: EURCAD | F30: 1.47001 | G30: 1.47048 | H30: 1.471 | I30: 2014.06.16 12:04:19 | J30: 1.47046 | K30: -59.8 | L30: 0 | M30: 0 | N30: 508.43 | O30: 65013881 | P30: 789 | Q30: 1970.01.01 00:00:00 | R30: [sl]Utilitysoft | S30: 1 | T30: 1 | U30: 0.0001 | Y30: Buy | Z30: 448.63 | AA30: 4.5 | AB30: 4.7 | AC30: 9.9 | AD30: 00:21:34 | AE30: 1294 | AF30: -0.2 | AG30: 0 | AH30: 1402918965 | AI30: 1402920259 | AJ30: 0
