Workbook
Name ST_1Lot: Sheet3!$C$4:$C$1003
Name ST_2Lot: Sheet3!$D$4:$D$1003
Name ST_3Lot: Sheet3!$E$4:$E$1003
Name ST_4Lot: Sheet3!$F$4:$F$1003
Name ST_5Lot: Sheet3!$G$4:$G$1003
Name ST_Martingale: Sheet3!$B$4:$B$1003

Sheet Calculator
B2: Trade# | C2: Result | D2: Lots | E2: Gain/Loss | F2: Mart | G2: Mrisk | H2: Nlots | I2: NormG/L | J2: Comp | K2: Rev. Martingale Settings
B3: 1 | C3: 1 | D3: =L3 -> 0.5 | E3: =IF(C3=1,(($L$15-(2*$L$10))*($L$9*D3)),0-(($L$16+(2*$L$10))*(D3*$L$9)))+$L$11 -> 5185 | F3: =SUM($E$3:E3) -> 5185 | G3: =ABS((0-(($L$16+(2*$L$10))*(D3*$L$9)))/$L$11) -> 0.023 | H3: =$L$11*($L$24/($L$16*$L$9)) -> 0.25 | I3: =IF(C3=1,(H3*($L$15-(2*$L$10))*$L$9),(H3*($L$16+(2*$L$10))*$L$9))+$L$11 -> 5092.5 | J3: =SUM($I$3:I3) -> 5092.5 | K3: Initial Lots | L3: 0.5
B4: 2 | C4: =IF(RAND()<=$L$20,1,0) -> 1 | D4: =IF(AND(C3=1,D3*$L$4<=$L$6),D3*$L$4,0) -> 1 | E4: =IF(C4=1,(($L$15-(2*$L$10))*($L$9*D4)),0-(($L$16+(2*$L$10))*(D4*$L$9))) -> 370 | F4: =SUM($E$3:E4) -> 5555 | G4: =ABS((0-(($L$16+(2*$L$10))*(D4*$L$9)))/F3) -> 0.044358727 | H4: =IF(ROUNDDOWN(J3*(0.01/($L$16*$L$9)),2)<=$L$25,ROUNDDOWN(J3*(0.01/($L$16*$L$9)),2),$L$25) -> 0.25 | I4: =IF(C4=1,(H4*($L$15-(2*$L$10))*$L$9),0-(H4*($L$16+(2*$L$10))*$L$9)) -> 92.5 | J4: =SUM($I$3:I4) -> 5185 | K4: Martingale Multiplier | L4: 2
B5: 3 | C5: =IF(RAND()<=$L$20,1,0) -> 1 | D5: =IF(C4=1,IF(D4*$L$4<=$L$6,D4*$L$4,$L$6),IF(C4=0,IF(D4/$L$4>=$L$5,D4/$L$4,$L$5),0)) -> 2 | E5: =IF(C5=1,(($L$15-(2*$L$10))*($L$9*D5)),0-(($L$16+(2*$L$10))*(D5*$L$9))) -> 740 | F5: =SUM($E$3:E5) -> 6295 | G5: =ABS((0-(($L$16+(2*$L$10))*(D5*$L$9)))/F4) -> 0.082808281 | H5: =IF(ROUNDDOWN(J4*(0.01/($L$16*$L$9)),2)<=$L$25,ROUNDDOWN(J4*(0.01/($L$16*$L$9)),2),$L$25) -> 0.25 | I5: =IF(C5=1,(H5*($L$15-(2*$L$10))*$L$9),0-(H5*($L$16+(2*$L$10))*$L$9)) -> 92.5 | J5: =SUM($I$3:I5) -> 5277.5 | K5: Minimum Lots | L5: 0.5
B6: 4 | C6: =IF(RAND()<=$L$20,1,0) -> 1 | D6: =IF(C5=1,IF(D5*$L$4<=$L$6,D5*$L$4,$L$6),IF(C5=0,IF(D5/$L$4>=$L$5,D5/$L$4,$L$5),0)) -> 4 | E6: =IF(C6=1,(($L$15-(2*$L$10))*($L$9*D6)),0-(($L$16+(2*$L$10))*(D6*$L$9))) -> 1480 | F6: =SUM($E$3:E6) -> 7775 | G6: =ABS((0-(($L$16+(2*$L$10))*(D6*$L$9)))/F5) -> 0.14614774 | H6: =IF(ROUNDDOWN(J5*(0.01/($L$16*$L$9)),2)<=$L$25,ROUNDDOWN(J5*(0.01/($L$16*$L$9)),2),$L$25) -> 0.26 | I6: =IF(C6=1,(H6*($L$15-(2*$L$10))*$L$9),0-(H6*($L$16+(2*$L$10))*$L$9)) -> 96.2 | J6: =SUM($I$3:I6) -> 5373.7 | K6: Maximum Lots | L6: 5
B7: 5 | C7: =IF(RAND()<=$L$20,1,0) -> 0 | D7: =IF(C6=1,IF(D6*$L$4<=$L$6,D6*$L$4,$L$6),IF(C6=0,IF(D6/$L$4>=$L$5,D6/$L$4,$L$5),0)) -> 5 | E7: =IF(C7=1,(($L$15-(2*$L$10))*($L$9*D7)),0-(($L$16+(2*$L$10))*(D7*$L$9))) -> -1150 | F7: =SUM($E$3:E7) -> 6625 | G7: =ABS((0-(($L$16+(2*$L$10))*(D7*$L$9)))/F6) -> 0.14790997 | H7: =IF(ROUNDDOWN(J6*(0.01/($L$16*$L$9)),2)<=$L$25,ROUNDDOWN(J6*(0.01/($L$16*$L$9)),2),$L$25) -> 0.26 | I7: =IF(C7=1,(H7*($L$15-(2*$L$10))*$L$9),0-(H7*($L$16+(2*$L$10))*$L$9)) -> -59.8 | J7: =SUM($I$3:I7) -> 5313.9
B8: 6 | C8: =IF(RAND()<=$L$20,1,0) -> 0 | D8: =IF(C7=1,IF(D7*$L$4<=$L$6,D7*$L$4,$L$6),IF(C7=0,IF(D7/$L$4>=$L$5,D7/$L$4,$L$5),0)) -> 2.5 | E8: =IF(C8=1,(($L$15-(2*$L$10))*($L$9*D8)),0-(($L$16+(2*$L$10))*(D8*$L$9))) -> -575 | F8: =SUM($E$3:E8) -> 6050 | G8: =ABS((0-(($L$16+(2*$L$10))*(D8*$L$9)))/F7) -> 0.086792453 | H8: =IF(ROUNDDOWN(J7*(0.01/($L$16*$L$9)),2)<=$L$25,ROUNDDOWN(J7*(0.01/($L$16*$L$9)),2),$L$25) -> 0.26 | I8: =IF(C8=1,(H8*($L$15-(2*$L$10))*$L$9),0-(H8*($L$16+(2*$L$10))*$L$9)) -> -59.8 | J8: =SUM($I$3:I8) -> 5254.1 | K8: Market Settings
B9: 7 | C9: =IF(RAND()<=$L$20,1,0) -> 1 | D9: =IF(C8=1,IF(D8*$L$4<=$L$6,D8*$L$4,$L$6),IF(C8=0,IF(D8/$L$4>=$L$5,D8/$L$4,$L$5),0)) -> 1.25 | E9: =IF(C9=1,(($L$15-(2*$L$10))*($L$9*D9)),0-(($L$16+(2*$L$10))*(D9*$L$9))) -> 462.5 | F9: =SUM($E$3:E9) -> 6512.5 | G9: =ABS((0-(($L$16+(2*$L$10))*(D9*$L$9)))/F8) -> 0.047520661 | H9: =IF(ROUNDDOWN(J8*(0.01/($L$16*$L$9)),2)<=$L$25,ROUNDDOWN(J8*(0.01/($L$16*$L$9)),2),$L$25) -> 0.26 | I9: =IF(C9=1,(H9*($L$15-(2*$L$10))*$L$9),0-(H9*($L$16+(2*$L$10))*$L$9)) -> 96.2 | J9: =SUM($I$3:I9) -> 5350.3 | K9: Pip value | L9: 10
B10: 8 | C10: =IF(RAND()<=$L$20,1,0) -> 0 | D10: =IF(C9=1,IF(D9*$L$4<=$L$6,D9*$L$4,$L$6),IF(C9=0,IF(D9/$L$4>=$L$5,D9/$L$4,$L$5),0)) -> 2.5 | E10: =IF(C10=1,(($L$15-(2*$L$10))*($L$9*D10)),0-(($L$16+(2*$L$10))*(D10*$L$9))) -> -575 | F10: =SUM($E$3:E10) -> 5937.5 | G10: =ABS((0-(($L$16+(2*$L$10))*(D10*$L$9)))/F9) -> 0.088291747 | H10: =IF(ROUNDDOWN(J9*(0.01/($L$16*$L$9)),2)<=$L$25,ROUNDDOWN(J9*(0.01/($L$16*$L$9)),2),$L$25) -> 0.26 | I10: =IF(C10=1,(H10*($L$15-(2*$L$10))*$L$9),0-(H10*($L$16+(2*$L$10))*$L$9)) -> -59.8 | J10: =SUM($I$3:I10) -> 5290.5 | K10: Spread (pips) | L10: 1.5
B11: 9 | C11: =IF(RAND()<=$L$20,1,0) -> 0 | D11: =IF(C10=1,IF(D10*$L$4<=$L$6,D10*$L$4,$L$6),IF(C10=0,IF(D10/$L$4>=$L$5,D10/$L$4,$L$5),0)) -> 1.25 | E11: =IF(C11=1,(($L$15-(2*$L$10))*($L$9*D11)),0-(($L$16+(2*$L$10))*(D11*$L$9))) -> -287.5 | F11: =SUM($E$3:E11) -> 5650 | G11: =ABS((0-(($L$16+(2*$L$10))*(D11*$L$9)))/F10) -> 0.048421053 | H11: =IF(ROUNDDOWN(J10*(0.01/($L$16*$L$9)),2)<=$L$25,ROUNDDOWN(J10*(0.01/($L$16*$L$9)),2),$L$25) -> 0.26 | I11: =IF(C11=1,(H11*($L$15-(2*$L$10))*$L$9),0-(H11*($L$16+(2*$L$10))*$L$9)) -> -59.8 | J11: =SUM($I$3:I11) -> 5230.7 | K11: Starting Acct Size | L11: 5000
B12: 10 | C12: =IF(RAND()<=$L$20,1,0) -> 0 | D12: =IF(C11=1,IF(D11*$L$4<=$L$6,D11*$L$4,$L$6),IF(C11=0,IF(D11/$L$4>=$L$5,D11/$L$4,$L$5),0)) -> 0.625 | E12: =IF(C12=1,(($L$15-(2*$L$10))*($L$9*D12)),0-(($L$16+(2*$L$10))*(D12*$L$9))) -> -143.75 | F12: =SUM($E$3:E12) -> 5506.25 | G12: =ABS((0-(($L$16+(2*$L$10))*(D12*$L$9)))/F11) -> 0.025442478 | H12: =IF(ROUNDDOWN(J11*(0.01/($L$16*$L$9)),2)<=$L$25,ROUNDDOWN(J11*(0.01/($L$16*$L$9)),2),$L$25) -> 0.26 | I12: =IF(C12=1,(H12*($L$15-(2*$L$10))*$L$9),0-(H12*($L$16+(2*$L$10))*$L$9)) -> -59.8 | J12: =SUM($I$3:I12) -> 5170.9
B13: 11 | C13: =IF(RAND()<=$L$20,1,0) -> 0 | D13: =IF(C12=1,IF(D12*$L$4<=$L$6,D12*$L$4,$L$6),IF(C12=0,IF(D12/$L$4>=$L$5,D12/$L$4,$L$5),0)) -> 0.5 | E13: =IF(C13=1,(($L$15-(2*$L$10))*($L$9*D13)),0-(($L$16+(2*$L$10))*(D13*$L$9))) -> -115 | F13: =SUM($E$3:E13) -> 5391.25 | G13: =ABS((0-(($L$16+(2*$L$10))*(D13*$L$9)))/F12) -> 0.020885358 | H13: =IF(ROUNDDOWN(J12*(0.01/($L$16*$L$9)),2)<=$L$25,ROUNDDOWN(J12*(0.01/($L$16*$L$9)),2),$L$25) -> 0.25 | I13: =IF(C13=1,(H13*($L$15-(2*$L$10))*$L$9),0-(H13*($L$16+(2*$L$10))*$L$9)) -> -57.5 | J13: =SUM($I$3:I13) -> 5113.4 | K13: Risk:Return Settings
B14: 12 | C14: =IF(RAND()<=$L$20,1,0) -> 1 | D14: =IF(C13=1,IF(D13*$L$4<=$L$6,D13*$L$4,$L$6),IF(C13=0,IF(D13/$L$4>=$L$5,D13/$L$4,$L$5),0)) -> 0.5 | E14: =IF(C14=1,(($L$15-(2*$L$10))*($L$9*D14)),0-(($L$16+(2*$L$10))*(D14*$L$9))) -> 185 | F14: =SUM($E$3:E14) -> 5576.25 | G14: =ABS((0-(($L$16+(2*$L$10))*(D14*$L$9)))/F13) -> 0.02133086 | H14: =IF(ROUNDDOWN(J13*(0.01/($L$16*$L$9)),2)<=$L$25,ROUNDDOWN(J13*(0.01/($L$16*$L$9)),2),$L$25) -> 0.25 | I14: =IF(C14=1,(H14*($L$15-(2*$L$10))*$L$9),0-(H14*($L$16+(2*$L$10))*$L$9)) -> 92.5 | J14: =SUM($I$3:I14) -> 5205.9 | K14: Base Pips | L14: 20
B15: 13 | C15: =IF(RAND()<=$L$20,1,0) -> 0 | D15: =IF(C14=1,IF(D14*$L$4<=$L$6,D14*$L$4,$L$6),IF(C14=0,IF(D14/$L$4>=$L$5,D14/$L$4,$L$5),0)) -> 1 | E15: =IF(C15=1,(($L$15-(2*$L$10))*($L$9*D15)),0-(($L$16+(2*$L$10))*(D15*$L$9))) -> -230 | F15: =SUM($E$3:E15) -> 5346.25 | G15: =ABS((0-(($L$16+(2*$L$10))*(D15*$L$9)))/F14) -> 0.041246357 | H15: =IF(ROUNDDOWN(J14*(0.01/($L$16*$L$9)),2)<=$L$25,ROUNDDOWN(J14*(0.01/($L$16*$L$9)),2),$L$25) -> 0.26 | I15: =IF(C15=1,(H15*($L$15-(2*$L$10))*$L$9),0-(H15*($L$16+(2*$L$10))*$L$9)) -> -59.8 | J15: =SUM($I$3:I15) -> 5146.1 | K15: Pips if win | L15: =L16*L17 -> 40
B16: 14 | C16: =IF(RAND()<=$L$20,1,0) -> 0 | D16: =IF(C15=1,IF(D15*$L$4<=$L$6,D15*$L$4,$L$6),IF(C15=0,IF(D15/$L$4>=$L$5,D15/$L$4,$L$5),0)) -> 0.5 | E16: =IF(C16=1,(($L$15-(2*$L$10))*($L$9*D16)),0-(($L$16+(2*$L$10))*(D16*$L$9))) -> -115 | F16: =SUM($E$3:E16) -> 5231.25 | G16: =ABS((0-(($L$16+(2*$L$10))*(D16*$L$9)))/F15) -> 0.021510404 | H16: =IF(ROUNDDOWN(J15*(0.01/($L$16*$L$9)),2)<=$L$25,ROUNDDOWN(J15*(0.01/($L$16*$L$9)),2),$L$25) -> 0.25 | I16: =IF(C16=1,(H16*($L$15-(2*$L$10))*$L$9),0-(H16*($L$16+(2*$L$10))*$L$9)) -> -57.5 | J16: =SUM($I$3:I16) -> 5088.6 | K16: Pips if lose | L16: =L14 -> 20
B17: 15 | C17: =IF(RAND()<=$L$20,1,0) -> 1 | D17: =IF(C16=1,IF(D16*$L$4<=$L$6,D16*$L$4,$L$6),IF(C16=0,IF(D16/$L$4>=$L$5,D16/$L$4,$L$5),0)) -> 0.5 | E17: =IF(C17=1,(($L$15-(2*$L$10))*($L$9*D17)),0-(($L$16+(2*$L$10))*(D17*$L$9))) -> 185 | F17: =SUM($E$3:E17) -> 5416.25 | G17: =ABS((0-(($L$16+(2*$L$10))*(D17*$L$9)))/F16) -> 0.021983274 | H17: =IF(ROUNDDOWN(J16*(0.01/($L$16*$L$9)),2)<=$L$25,ROUNDDOWN(J16*(0.01/($L$16*$L$9)),2),$L$25) -> 0.25 | I17: =IF(C17=1,(H17*($L$15-(2*$L$10))*$L$9),0-(H17*($L$16+(2*$L$10))*$L$9)) -> 92.5 | J17: =SUM($I$3:I17) -> 5181.1 | K17: Risk:Return ratio | L17: 2
B18: 16 | C18: =IF(RAND()<=$L$20,1,0) -> 1 | D18: =IF(C17=1,IF(D17*$L$4<=$L$6,D17*$L$4,$L$6),IF(C17=0,IF(D17/$L$4>=$L$5,D17/$L$4,$L$5),0)) -> 1 | E18: =IF(C18=1,(($L$15-(2*$L$10))*($L$9*D18)),0-(($L$16+(2*$L$10))*(D18*$L$9))) -> 370 | F18: =SUM($E$3:E18) -> 5786.25 | G18: =ABS((0-(($L$16+(2*$L$10))*(D18*$L$9)))/F17) -> 0.042464805 | H18: =IF(ROUNDDOWN(J17*(0.01/($L$16*$L$9)),2)<=$L$25,ROUNDDOWN(J17*(0.01/($L$16*$L$9)),2),$L$25) -> 0.25 | I18: =IF(C18=1,(H18*($L$15-(2*$L$10))*$L$9),0-(H18*($L$16+(2*$L$10))*$L$9)) -> 92.5 | J18: =SUM($I$3:I18) -> 5273.6
B19: 17 | C19: =IF(RAND()<=$L$20,1,0) -> 0 | D19: =IF(C18=1,IF(D18*$L$4<=$L$6,D18*$L$4,$L$6),IF(C18=0,IF(D18/$L$4>=$L$5,D18/$L$4,$L$5),0)) -> 2 | E19: =IF(C19=1,(($L$15-(2*$L$10))*($L$9*D19)),0-(($L$16+(2*$L$10))*(D19*$L$9))) -> -460 | F19: =SUM($E$3:E19) -> 5326.25 | G19: =ABS((0-(($L$16+(2*$L$10))*(D19*$L$9)))/F18) -> 0.079498812 | H19: =IF(ROUNDDOWN(J18*(0.01/($L$16*$L$9)),2)<=$L$25,ROUNDDOWN(J18*(0.01/($L$16*$L$9)),2),$L$25) -> 0.26 | I19: =IF(C19=1,(H19*($L$15-(2*$L$10))*$L$9),0-(H19*($L$16+(2*$L$10))*$L$9)) -> -59.8 | J19: =SUM($I$3:I19) -> 5213.8 | K19: Win/Loss Ratio Settings
B20: 18 | C20: =IF(RAND()<=$L$20,1,0) -> 0 | D20: =IF(C19=1,IF(D19*$L$4<=$L$6,D19*$L$4,$L$6),IF(C19=0,IF(D19/$L$4>=$L$5,D19/$L$4,$L$5),0)) -> 1 | E20: =IF(C20=1,(($L$15-(2*$L$10))*($L$9*D20)),0-(($L$16+(2*$L$10))*(D20*$L$9))) -> -230 | F20: =SUM($E$3:E20) -> 5096.25 | G20: =ABS((0-(($L$16+(2*$L$10))*(D20*$L$9)))/F19) -> 0.043182352 | H20: =IF(ROUNDDOWN(J19*(0.01/($L$16*$L$9)),2)<=$L$25,ROUNDDOWN(J19*(0.01/($L$16*$L$9)),2),$L$25) -> 0.26 | I20: =IF(C20=1,(H20*($L$15-(2*$L$10))*$L$9),0-(H20*($L$16+(2*$L$10))*$L$9)) -> -59.8 | J20: =SUM($I$3:I20) -> 5154 | K20: Win % | L20: 0.5
B21: 19 | C21: =IF(RAND()<=$L$20,1,0) -> 0 | D21: =IF(C20=1,IF(D20*$L$4<=$L$6,D20*$L$4,$L$6),IF(C20=0,IF(D20/$L$4>=$L$5,D20/$L$4,$L$5),0)) -> 0.5 | E21: =IF(C21=1,(($L$15-(2*$L$10))*($L$9*D21)),0-(($L$16+(2*$L$10))*(D21*$L$9))) -> -115 | F21: =SUM($E$3:E21) -> 4981.25 | G21: =ABS((0-(($L$16+(2*$L$10))*(D21*$L$9)))/F20) -> 0.022565612 | H21: =IF(ROUNDDOWN(J20*(0.01/($L$16*$L$9)),2)<=$L$25,ROUNDDOWN(J20*(0.01/($L$16*$L$9)),2),$L$25) -> 0.25 | I21: =IF(C21=1,(H21*($L$15-(2*$L$10))*$L$9),0-(H21*($L$16+(2*$L$10))*$L$9)) -> -57.5 | J21: =SUM($I$3:I21) -> 5096.5
B22: 20 | C22: =IF(RAND()<=$L$20,1,0) -> 0 | D22: =IF(C21=1,IF(D21*$L$4<=$L$6,D21*$L$4,$L$6),IF(C21=0,IF(D21/$L$4>=$L$5,D21/$L$4,$L$5),0)) -> 0.5 | E22: =IF(C22=1,(($L$15-(2*$L$10))*($L$9*D22)),0-(($L$16+(2*$L$10))*(D22*$L$9))) -> -115 | F22: =SUM($E$3:E22) -> 4866.25 | G22: =ABS((0-(($L$16+(2*$L$10))*(D22*$L$9)))/F21) -> 0.023086575 | H22: =IF(ROUNDDOWN(J21*(0.01/($L$16*$L$9)),2)<=$L$25,ROUNDDOWN(J21*(0.01/($L$16*$L$9)),2),$L$25) -> 0.25 | I22: =IF(C22=1,(H22*($L$15-(2*$L$10))*$L$9),0-(H22*($L$16+(2*$L$10))*$L$9)) -> -57.5 | J22: =SUM($I$3:I22) -> 5039 | K22: Normal Lots Settings
B23: 21 | C23: =IF(RAND()<=$L$20,1,0) -> 1 | D23: =IF(C22=1,IF(D22*$L$4<=$L$6,D22*$L$4,$L$6),IF(C22=0,IF(D22/$L$4>=$L$5,D22/$L$4,$L$5),0)) -> 0.5 | E23: =IF(C23=1,(($L$15-(2*$L$10))*($L$9*D23)),0-(($L$16+(2*$L$10))*(D23*$L$9))) -> 185 | F23: =SUM($E$3:E23) -> 5051.25 | G23: =ABS((0-(($L$16+(2*$L$10))*(D23*$L$9)))/F22) -> 0.02363216 | H23: =IF(ROUNDDOWN(J22*(0.01/($L$16*$L$9)),2)<=$L$25,ROUNDDOWN(J22*(0.01/($L$16*$L$9)),2),$L$25) -> 0.25 | I23: =IF(C23=1,(H23*($L$15-(2*$L$10))*$L$9),0-(H23*($L$16+(2*$L$10))*$L$9)) -> 92.5 | J23: =SUM($I$3:I23) -> 5131.5 | K23: Lot Size | L23: 1
B24: 22 | C24: =IF(RAND()<=$L$20,1,0) -> 0 | D24: =IF(C23=1,IF(D23*$L$4<=$L$6,D23*$L$4,$L$6),IF(C23=0,IF(D23/$L$4>=$L$5,D23/$L$4,$L$5),0)) -> 1 | E24: =IF(C24=1,(($L$15-(2*$L$10))*($L$9*D24)),0-(($L$16+(2*$L$10))*(D24*$L$9))) -> -230 | F24: =SUM($E$3:E24) -> 4821.25 | G24: =ABS((0-(($L$16+(2*$L$10))*(D24*$L$9)))/F23) -> 0.045533284 | H24: =IF(ROUNDDOWN(J23*(0.01/($L$16*$L$9)),2)<=$L$25,ROUNDDOWN(J23*(0.01/($L$16*$L$9)),2),$L$25) -> 0.25 | I24: =IF(C24=1,(H24*($L$15-(2*$L$10))*$L$9),0-(H24*($L$16+(2*$L$10))*$L$9)) -> -57.5 | J24: =SUM($I$3:I24) -> 5074 | K24: Risk % | L24: 0.01
B25: 23 | C25: =IF(RAND()<=$L$20,1,0) -> 0 | D25: =IF(C24=1,IF(D24*$L$4<=$L$6,D24*$L$4,$L$6),IF(C24=0,IF(D24/$L$4>=$L$5,D24/$L$4,$L$5),0)) -> 0.5 | E25: =IF(C25=1,(($L$15-(2*$L$10))*($L$9*D25)),0-(($L$16+(2*$L$10))*(D25*$L$9))) -> -115 | F25: =SUM($E$3:E25) -> 4706.25 | G25: =ABS((0-(($L$16+(2*$L$10))*(D25*$L$9)))/F24) -> 0.023852735 | H25: =IF(ROUNDDOWN(J24*(0.01/($L$16*$L$9)),2)<=$L$25,ROUNDDOWN(J24*(0.01/($L$16*$L$9)),2),$L$25) -> 0.25 | I25: =IF(C25=1,(H25*($L$15-(2*$L$10))*$L$9),0-(H25*($L$16+(2*$L$10))*$L$9)) -> -57.5 | J25: =SUM($I$3:I25) -> 5016.5 | K25: Max Lots | L25: 5
B26: 24 | C26: =IF(RAND()<=$L$20,1,0) -> 1 | D26: =IF(C25=1,IF(D25*$L$4<=$L$6,D25*$L$4,$L$6),IF(C25=0,IF(D25/$L$4>=$L$5,D25/$L$4,$L$5),0)) -> 0.5 | E26: =IF(C26=1,(($L$15-(2*$L$10))*($L$9*D26)),0-(($L$16+(2*$L$10))*(D26*$L$9))) -> 185 | F26: =SUM($E$3:E26) -> 4891.25 | G26: =ABS((0-(($L$16+(2*$L$10))*(D26*$L$9)))/F25) -> 0.024435591 | H26: =IF(ROUNDDOWN(J25*(0.01/($L$16*$L$9)),2)<=$L$25,ROUNDDOWN(J25*(0.01/($L$16*$L$9)),2),$L$25) -> 0.25 | I26: =IF(C26=1,(H26*($L$15-(2*$L$10))*$L$9),0-(H26*($L$16+(2*$L$10))*$L$9)) -> 92.5 | J26: =SUM($I$3:I26) -> 5109
B27: 25 | C27: =IF(RAND()<=$L$20,1,0) -> 0 | D27: =IF(C26=1,IF(D26*$L$4<=$L$6,D26*$L$4,$L$6),IF(C26=0,IF(D26/$L$4>=$L$5,D26/$L$4,$L$5),0)) -> 1 | E27: =IF(C27=1,(($L$15-(2*$L$10))*($L$9*D27)),0-(($L$16+(2*$L$10))*(D27*$L$9))) -> -230 | F27: =SUM($E$3:E27) -> 4661.25 | G27: =ABS((0-(($L$16+(2*$L$10))*(D27*$L$9)))/F26) -> 0.047022745 | H27: =IF(ROUNDDOWN(J26*(0.01/($L$16*$L$9)),2)<=$L$25,ROUNDDOWN(J26*(0.01/($L$16*$L$9)),2),$L$25) -> 0.25 | I27: =IF(C27=1,(H27*($L$15-(2*$L$10))*$L$9),0-(H27*($L$16+(2*$L$10))*$L$9)) -> -57.5 | J27: =SUM($I$3:I27) -> 5051.5
B28: 26 | C28: =IF(RAND()<=$L$20,1,0) -> 0 | D28: =IF(C27=1,IF(D27*$L$4<=$L$6,D27*$L$4,$L$6),IF(C27=0,IF(D27/$L$4>=$L$5,D27/$L$4,$L$5),0)) -> 0.5 | E28: =IF(C28=1,(($L$15-(2*$L$10))*($L$9*D28)),0-(($L$16+(2*$L$10))*(D28*$L$9))) -> -115 | F28: =SUM($E$3:E28) -> 4546.25 | G28: =ABS((0-(($L$16+(2*$L$10))*(D28*$L$9)))/F27) -> 0.024671494 | H28: =IF(ROUNDDOWN(J27*(0.01/($L$16*$L$9)),2)<=$L$25,ROUNDDOWN(J27*(0.01/($L$16*$L$9)),2),$L$25) -> 0.25 | I28: =IF(C28=1,(H28*($L$15-(2*$L$10))*$L$9),0-(H28*($L$16+(2*$L$10))*$L$9)) -> -57.5 | J28: =SUM($I$3:I28) -> 4994
B29: 27 | C29: =IF(RAND()<=$L$20,1,0) -> 0 | D29: =IF(C28=1,IF(D28*$L$4<=$L$6,D28*$L$4,$L$6),IF(C28=0,IF(D28/$L$4>=$L$5,D28/$L$4,$L$5),0)) -> 0.5 | E29: =IF(C29=1,(($L$15-(2*$L$10))*($L$9*D29)),0-(($L$16+(2*$L$10))*(D29*$L$9))) -> -115 | F29: =SUM($E$3:E29) -> 4431.25 | G29: =ABS((0-(($L$16+(2*$L$10))*(D29*$L$9)))/F28) -> 0.025295573 | H29: =IF(ROUNDDOWN(J28*(0.01/($L$16*$L$9)),2)<=$L$25,ROUNDDOWN(J28*(0.01/($L$16*$L$9)),2),$L$25) -> 0.24 | I29: =IF(C29=1,(H29*($L$15-(2*$L$10))*$L$9),0-(H29*($L$16+(2*$L$10))*$L$9)) -> -55.2 | J29: =SUM($I$3:I29) -> 4938.8
B30: 28 | C30: =IF(RAND()<=$L$20,1,0) -> 0 | D30: =IF(C29=1,IF(D29*$L$4<=$L$6,D29*$L$4,$L$6),IF(C29=0,IF(D29/$L$4>=$L$5,D29/$L$4,$L$5),0)) -> 0.5 | E30: =IF(C30=1,(($L$15-(2*$L$10))*($L$9*D30)),0-(($L$16+(2*$L$10))*(D30*$L$9))) -> -115 | F30: =SUM($E$3:E30) -> 4316.25 | G30: =ABS((0-(($L$16+(2*$L$10))*(D30*$L$9)))/F29) -> 0.025952045 | H30: =IF(ROUNDDOWN(J29*(0.01/($L$16*$L$9)),2)<=$L$25,ROUNDDOWN(J29*(0.01/($L$16*$L$9)),2),$L$25) -> 0.24 | I30: =IF(C30=1,(H30*($L$15-(2*$L$10))*$L$9),0-(H30*($L$16+(2*$L$10))*$L$9)) -> -55.2 | J30: =SUM($I$3:I30) -> 4883.6
B31: 29 | C31: =IF(RAND()<=$L$20,1,0) -> 1 | D31: =IF(C30=1,IF(D30*$L$4<=$L$6,D30*$L$4,$L$6),IF(C30=0,IF(D30/$L$4>=$L$5,D30/$L$4,$L$5),0)) -> 0.5 | E31: =IF(C31=1,(($L$15-(2*$L$10))*($L$9*D31)),0-(($L$16+(2*$L$10))*(D31*$L$9))) -> 185 | F31: =SUM($E$3:E31) -> 4501.25 | G31: =ABS((0-(($L$16+(2*$L$10))*(D31*$L$9)))/F30) -> 0.026643498 | H31: =IF(ROUNDDOWN(J30*(0.01/($L$16*$L$9)),2)<=$L$25,ROUNDDOWN(J30*(0.01/($L$16*$L$9)),2),$L$25) -> 0.24 | I31: =IF(C31=1,(H31*($L$15-(2*$L$10))*$L$9),0-(H31*($L$16+(2*$L$10))*$L$9)) -> 88.8 | J31: =SUM($I$3:I31) -> 4972.4
B32: 30 | C32: =IF(RAND()<=$L$20,1,0) -> 1 | D32: =IF(C31=1,IF(D31*$L$4<=$L$6,D31*$L$4,$L$6),IF(C31=0,IF(D31/$L$4>=$L$5,D31/$L$4,$L$5),0)) -> 1 | E32: =IF(C32=1,(($L$15-(2*$L$10))*($L$9*D32)),0-(($L$16+(2*$L$10))*(D32*$L$9))) -> 370 | F32: =SUM($E$3:E32) -> 4871.25 | G32: =ABS((0-(($L$16+(2*$L$10))*(D32*$L$9)))/F31) -> 0.051096918 | H32: =IF(ROUNDDOWN(J31*(0.01/($L$16*$L$9)),2)<=$L$25,ROUNDDOWN(J31*(0.01/($L$16*$L$9)),2),$L$25) -> 0.24 | I32: =IF(C32=1,(H32*($L$15-(2*$L$10))*$L$9),0-(H32*($L$16+(2*$L$10))*$L$9)) -> 88.8 | J32: =SUM($I$3:I32) -> 5061.2
B33: 31 | C33: =IF(RAND()<=$L$20,1,0) -> 0 | D33: =IF(C32=1,IF(D32*$L$4<=$L$6,D32*$L$4,$L$6),IF(C32=0,IF(D32/$L$4>=$L$5,D32/$L$4,$L$5),0)) -> 2 | E33: =IF(C33=1,(($L$15-(2*$L$10))*($L$9*D33)),0-(($L$16+(2*$L$10))*(D33*$L$9))) -> -460 | F33: =SUM($E$3:E33) -> 4411.25 | G33: =ABS((0-(($L$16+(2*$L$10))*(D33*$L$9)))/F32) -> 0.094431614 | H33: =IF(ROUNDDOWN(J32*(0.01/($L$16*$L$9)),2)<=$L$25,ROUNDDOWN(J32*(0.01/($L$16*$L$9)),2),$L$25) -> 0.25 | I33: =IF(C33=1,(H33*($L$15-(2*$L$10))*$L$9),0-(H33*($L$16+(2*$L$10))*$L$9)) -> -57.5 | J33: =SUM($I$3:I33) -> 5003.7
B34: 32 | C34: =IF(RAND()<=$L$20,1,0) -> 1 | D34: =IF(C33=1,IF(D33*$L$4<=$L$6,D33*$L$4,$L$6),IF(C33=0,IF(D33/$L$4>=$L$5,D33/$L$4,$L$5),0)) -> 1 | E34: =IF(C34=1,(($L$15-(2*$L$10))*($L$9*D34)),0-(($L$16+(2*$L$10))*(D34*$L$9))) -> 370 | F34: =SUM($E$3:E34) -> 4781.25 | G34: =ABS((0-(($L$16+(2*$L$10))*(D34*$L$9)))/F33) -> 0.052139416 | H34: =IF(ROUNDDOWN(J33*(0.01/($L$16*$L$9)),2)<=$L$25,ROUNDDOWN(J33*(0.01/($L$16*$L$9)),2),$L$25) -> 0.25 | I34: =IF(C34=1,(H34*($L$15-(2*$L$10))*$L$9),0-(H34*($L$16+(2*$L$10))*$L$9)) -> 92.5 | J34: =SUM($I$3:I34) -> 5096.2
B35: 33 | C35: =IF(RAND()<=$L$20,1,0) -> 1 | D35: =IF(C34=1,IF(D34*$L$4<=$L$6,D34*$L$4,$L$6),IF(C34=0,IF(D34/$L$4>=$L$5,D34/$L$4,$L$5),0)) -> 2 | E35: =IF(C35=1,(($L$15-(2*$L$10))*($L$9*D35)),0-(($L$16+(2*$L$10))*(D35*$L$9))) -> 740 | F35: =SUM($E$3:E35) -> 5521.25 | G35: =ABS((0-(($L$16+(2*$L$10))*(D35*$L$9)))/F34) -> 0.09620915 | H35: =IF(ROUNDDOWN(J34*(0.01/($L$16*$L$9)),2)<=$L$25,ROUNDDOWN(J34*(0.01/($L$16*$L$9)),2),$L$25) -> 0.25 | I35: =IF(C35=1,(H35*($L$15-(2*$L$10))*$L$9),0-(H35*($L$16+(2*$L$10))*$L$9)) -> 92.5 | J35: =SUM($I$3:I35) -> 5188.7
B36: 34 | C36: =IF(RAND()<=$L$20,1,0) -> 1 | D36: =IF(C35=1,IF(D35*$L$4<=$L$6,D35*$L$4,$L$6),IF(C35=0,IF(D35/$L$4>=$L$5,D35/$L$4,$L$5),0)) -> 4 | E36: =IF(C36=1,(($L$15-(2*$L$10))*($L$9*D36)),0-(($L$16+(2*$L$10))*(D36*$L$9))) -> 1480 | F36: =SUM($E$3:E36) -> 7001.25 | G36: =ABS((0-(($L$16+(2*$L$10))*(D36*$L$9)))/F35) -> 0.16662893 | H36: =IF(ROUNDDOWN(J35*(0.01/($L$16*$L$9)),2)<=$L$25,ROUNDDOWN(J35*(0.01/($L$16*$L$9)),2),$L$25) -> 0.25 | I36: =IF(C36=1,(H36*($L$15-(2*$L$10))*$L$9),0-(H36*($L$16+(2*$L$10))*$L$9)) -> 92.5 | J36: =SUM($I$3:I36) -> 5281.2
B37: 35 | C37: =IF(RAND()<=$L$20,1,0) -> 0 | D37: =IF(C36=1,IF(D36*$L$4<=$L$6,D36*$L$4,$L$6),IF(C36=0,IF(D36/$L$4>=$L$5,D36/$L$4,$L$5),0)) -> 5 | E37: =IF(C37=1,(($L$15-(2*$L$10))*($L$9*D37)),0-(($L$16+(2*$L$10))*(D37*$L$9))) -> -1150 | F37: =SUM($E$3:E37) -> 5851.25 | G37: =ABS((0-(($L$16+(2*$L$10))*(D37*$L$9)))/F36) -> 0.16425638 | H37: =IF(ROUNDDOWN(J36*(0.01/($L$16*$L$9)),2)<=$L$25,ROUNDDOWN(J36*(0.01/($L$16*$L$9)),2),$L$25) -> 0.26 | I37: =IF(C37=1,(H37*($L$15-(2*$L$10))*$L$9),0-(H37*($L$16+(2*$L$10))*$L$9)) -> -59.8 | J37: =SUM($I$3:I37) -> 5221.4
... B1502: 1500 | C1502: =IF(RAND()<=$L$20,1,0) -> 0 | D1502: =IF(C1501=1,IF(D1501*$L$4<=$L$6,D1501*$L$4,$L$6),IF(C1501=0,IF(D1501/$L$4>=$L$5,D1501/$L$4,$L$5),0)) -> 0.5 | E1502: =IF(C1502=1,(($L$15-(2*$L$10))*($L$9*D1502)),0-(($L$16+(2*$L$10))*(D1502*$L$9))) -> -115 | F1502: =SUM($E$3:E1502) -> 205260 | G1502: =ABS((0-(($L$16+(2*$L$10))*(D1502*$L$9)))/F1501) -> 0.00055995131 | H1502: =IF(ROUNDDOWN(J1501*(0.01/($L$16*$L$9)),2)<=$L$25,ROUNDDOWN(J1501*(0.01/($L$16*$L$9)),2),$L$25) -> 5 | I1502: =IF(C1502=1,(H1502*($L$15-(2*$L$10))*$L$9),0-(H1502*($L$16+(2*$L$10))*$L$9)) -> -1150 | J1502: =SUM($I$3:I1502) -> 264154

Sheet Sheet3
E1: =COUNT(B4:B10003) -> 1000
B2: =Calculator!F1502 -> 205260 | C2: =Calculator!J1502 -> 264154
A3: Run | B3: Martingale | C3: Compound | D3: 2Lot | E3: 3Lot | F3: 4Lot | G3: 5Lot
A4: 1 | B4: 314005 | C4: 461585.5 | D4: =C4*2 -> 923171 | E4: =C4*3 -> 1384756.5 | F4: =C4*4 -> 1846342 | G4: =C4*5 -> 2307927.5 | I4: =AVERAGE(B4:B303) -> 229638.92 | J4: =AVERAGE(C4:C303) -> 310850.44
A5: 2 | B5: 259685 | C5: 331305.9 | D5: =C5*2 -> 662611.8 | E5: =C5*3 -> 993917.7 | F5: =C5*4 -> 1325223.6 | G5: =C5*5 -> 1656529.5
A6: 3 | B6: 206568.75 | C6: 288824.8 | D6: =C6*2 -> 577649.6 | E6: =C6*3 -> 866474.4 | F6: =C6*4 -> 1155299.2 | G6: =C6*5 -> 1444124
A7: 4 | B7: 235963.75 | C7: 343745.8 | D7: =C7*2 -> 687491.6 | E7: =C7*3 -> 1031237.4 | F7: =C7*4 -> 1374983.2 | G7: =C7*5 -> 1718729
A8: 5 | B8: 185685 | C8: 279059.3 | D8: =C8*2 -> 558118.6 | E8: =C8*3 -> 837177.9 | F8: =C8*4 -> 1116237.2 | G8: =C8*5 -> 1395296.5
A9: 6 | B9: 207780 | C9: 266209 | D9: =C9*2 -> 532418 | E9: =C9*3 -> 798627 | F9: =C9*4 -> 1064836 | G9: =C9*5 -> 1331045
A10: 7 | B10: 253728.75 | C10: 328322.2 | D10: =C10*2 -> 656644.4 | E10: =C10*3 -> 984966.6 | F10: =C10*4 -> 1313288.8 | G10: =C10*5 -> 1641611
A11: 8 | B11: 229986.25 | C11: 360796.7 | D11: =C11*2 -> 721593.4 | E11: =C11*3 -> 1082390.1 | F11: =C11*4 -> 1443186.8 | G11: =C11*5 -> 1803983.5
A12: 9 | B12: 177812.5 | C12: 238791.4 | D12: =C12*2 -> 477582.8 | E12: =C12*3 -> 716374.2 | F12: =C12*4 -> 955165.6 | G12: =C12*5 -> 1193957
A13: 10 | B13: 190612.5 | C13: 263001.8 | D13: =C13*2 -> 526003.6 | E13: =C13*3 -> 789005.4 | F13: =C13*4 -> 1052007.2 | G13: =C13*5 -> 1315009
A14: 11 | B14: 274938.75 | C14: 359099.2 | D14: =C14*2 -> 718198.4 | E14: =C14*3 -> 1077297.6 | F14: =C14*4 -> 1436396.8 | G14: =C14*5 -> 1795496
A15: 12 | B15: 288517.5 | C15: 402411 | D15: =C15*2 -> 804822 | E15: =C15*3 -> 1207233 | F15: =C15*4 -> 1609644 | G15: =C15*5 -> 2012055
A16: 13 | B16: 258602.5 | C16: 346520.1 | D16: =C16*2 -> 693040.2 | E16: =C16*3 -> 1039560.3 | F16: =C16*4 -> 1386080.4 | G16: =C16*5 -> 1732600.5
... A51: 48 | B51: 204420 | C51: 263488.7 | D51: =C51*2 -> 526977.4 | E51: =C51*3 -> 790466.1 | F51: =C51*4 -> 1053954.8 | G51: =C51*5 -> 1317443.5
A52: 49 | B52: 215500 | C52: 295922.4 | D52: =C52*2 -> 591844.8 | E52: =C52*3 -> 887767.2 | F52: =C52*4 -> 1183689.6 | G52: =C52*5 -> 1479612 | M52: Graph Data
A53: 50 | B53: 338637.5 | C53: 458888.6 | D53: =C53*2 -> 917777.2 | E53: =C53*3 -> 1376665.8 | F53: =C53*4 -> 1835554.4 | G53: =C53*5 -> 2294443 | N53: {=_xll.StatBoxPlotX([0]!ST_Martingale)} -> 231928.75 | O53: {=_xll.StatBoxPlotY(1)} -> 4 | P53: {=_xll.StatBoxPlotX([0]!ST_1Lot)} -> 313560.9 | Q53: {=_xll.StatBoxPlotY(2)} -> 14
A54: 51 | B54: 258797.5 | C54: 361491.9 | D54: =C54*2 -> 722983.8 | E54: =C54*3 -> 1084475.7 | F54: =C54*4 -> 1445967.6 | G54: =C54*5 -> 1807459.5 | N54: 206167.5 | O54: 4 | P54: 275476.5 | Q54: 14
A55: 52 | B55: 213253.75 | C55: 267562.3 | D55: =C55*2 -> 535124.6 | E55: =C55*3 -> 802686.9 | F55: =C55*4 -> 1070249.2 | G55: =C55*5 -> 1337811.5 | N55: 206167.5 | O55: 7 | P55: 275476.5 | Q55: 17
A56: 53 | B56: 227282.5 | C56: 337006 | D56: =C56*2 -> 674012 | E56: =C56*3 -> 1011018 | F56: =C56*4 -> 1348024 | G56: =C56*5 -> 1685030 | N56: 131627.5 | O56: 7 | P56: 163908.9 | Q56: 17
A57: 54 | B57: 320246.25 | C57: 438312.2 | D57: =C57*2 -> 876624.4 | E57: =C57*3 -> 1314936.6 | F57: =C57*4 -> 1753248.8 | G57: =C57*5 -> 2191561 | N57: 206167.5 | O57: 7 | P57: 275476.5 | Q57: 17
A58: 55 | B58: 254315 | C58: 280092 | D58: =C58*2 -> 560184 | E58: =C58*3 -> 840276 | F58: =C58*4 -> 1120368 | G58: =C58*5 -> 1400460 | N58: 206167.5 | O58: 10 | P58: 275476.5 | Q58: 20
A59: 56 | B59: 159772.5 | C59: 226416.4 | D59: =C59*2 -> 452832.8 | E59: =C59*3 -> 679249.2 | F59: =C59*4 -> 905665.6 | G59: =C59*5 -> 1132082 | N59: 257805 | O59: 10 | P59: 352400.5 | Q59: 20
A60: 57 | B60: 140523.75 | C60: 193233.7 | D60: =C60*2 -> 386467.4 | E60: =C60*3 -> 579701.1 | F60: =C60*4 -> 772934.8 | G60: =C60*5 -> 966168.5 | N60: 257805 | O60: 7 | P60: 352400.5 | Q60: 17
A61: 58 | B61: 243361.25 | C61: 329174.2 | D61: =C61*2 -> 658348.4 | E61: =C61*3 -> 987522.6 | F61: =C61*4 -> 1316696.8 | G61: =C61*5 -> 1645871 | N61: 333358.75 | O61: 7 | P61: 464896.5 | Q61: 17
A62: 59 | B62: 217667.5 | C62: 335151.5 | D62: =C62*2 -> 670303 | E62: =C62*3 -> 1005454.5 | F62: =C62*4 -> 1340606 | G62: =C62*5 -> 1675757.5 | N62: 257805 | O62: 7 | P62: 352400.5 | Q62: 17
A63: 60 | B63: 241613.75 | C63: 303045.3 | D63: =C63*2 -> 606090.6 | E63: =C63*3 -> 909135.9 | F63: =C63*4 -> 1212181.2 | G63: =C63*5 -> 1515226.5 | N63: 257805 | O63: 4 | P63: 352400.5 | Q63: 14
A64: 61 | B64: 178793.75 | C64: 218889.3 | D64: =C64*2 -> 437778.6 | E64: =C64*3 -> 656667.9 | F64: =C64*4 -> 875557.2 | G64: =C64*5 -> 1094446.5 | N64: 231928.75 | O64: 4 | P64: 313560.9 | Q64: 14
A65: 62 | B65: 113893.75 | C65: 132044.8 | D65: =C65*2 -> 264089.6 | E65: =C65*3 -> 396134.4 | F65: =C65*4 -> 528179.2 | G65: =C65*5 -> 660224 | N65: 231928.75 | O65: 10 | P65: 313560.9 | Q65: 20
A66: 63 | B66: 268397.5 | C66: 287666.2 | D66: =C66*2 -> 575332.4 | E66: =C66*3 -> 862998.6 | F66: =C66*4 -> 1150664.8 | G66: =C66*5 -> 1438331 | N66: 232669.91 | O66: 7 | P66: 312925.88 | Q66: 17
A67: 64 | B67: 246610 | C67: 309864.5 | D67: =C67*2 -> 619729 | E67: =C67*3 -> 929593.5 | F67: =C67*4 -> 1239458 | G67: =C67*5 -> 1549322.5 | N67: #N/A | O67: 7 | P67: #N/A | Q67: 17
A68: 65 | B68: 198870 | C68: 313780.9 | D68: =C68*2 -> 627561.8 | E68: =C68*3 -> 941342.7 | F68: =C68*4 -> 1255123.6 | G68: =C68*5 -> 1568904.5 | N68: #N/A | O68: 7 | P68: #N/A | Q68: 17
A69: 66 | B69: 257716.25 | C69: 361999.7 | D69: =C69*2 -> 723999.4 | E69: =C69*3 -> 1085999.1 | F69: =C69*4 -> 1447998.8 | G69: =C69*5 -> 1809998.5 | N69: #N/A | O69: 7 | P69: #N/A | Q69: 17
A70: 67 | B70: 262785 | C70: 350318.9 | D70: =C70*2 -> 700637.8 | E70: =C70*3 -> 1050956.7 | F70: =C70*4 -> 1401275.6 | G70: =C70*5 -> 1751594.5 | N70: #N/A | O70: 7 | P70: #N/A | Q70: 17
A71: 68 | B71: 213247.5 | C71: 263508.4 | D71: =C71*2 -> 527016.8 | E71: =C71*3 -> 790525.2 | F71: =C71*4 -> 1054033.6 | G71: =C71*5 -> 1317542 | N71: #N/A | O71: 7 | P71: #N/A | Q71: 17
A72: 69 | B72: 197591.25 | C72: 277295.5 | D72: =C72*2 -> 554591 | E72: =C72*3 -> 831886.5 | F72: =C72*4 -> 1109182 | G72: =C72*5 -> 1386477.5 | N72: #N/A | O72: 7 | P72: #N/A | Q72: 17
A73: 70 | B73: 255190 | C73: 285510.9 | D73: =C73*2 -> 571021.8 | E73: =C73*3 -> 856532.7 | F73: =C73*4 -> 1142043.6 | G73: =C73*5 -> 1427554.5 | N73: #N/A | O73: 7 | P73: #N/A | Q73: 17
A74: 71 | B74: 201303.75 | C74: 243729.4 | D74: =C74*2 -> 487458.8 | E74: =C74*3 -> 731188.2 | F74: =C74*4 -> 974917.6 | G74: =C74*5 -> 1218647 | N74: #N/A | O74: 7 | P74: #N/A | Q74: 17
A75: 72 | B75: 174290 | C75: 230389.4 | D75: =C75*2 -> 460778.8 | E75: =C75*3 -> 691168.2 | F75: =C75*4 -> 921557.6 | G75: =C75*5 -> 1151947 | N75: #N/A | O75: 7 | P75: #N/A | Q75: 17
A76: 73 | B76: 172931.25 | C76: 229935.8 | D76: =C76*2 -> 459871.6 | E76: =C76*3 -> 689807.4 | F76: =C76*4 -> 919743.2 | G76: =C76*5 -> 1149679 | N76: #N/A | O76: 7 | P76: #N/A | Q76: 17
A77: 74 | B77: 148101.25 | C77: 196788.7 | D77: =C77*2 -> 393577.4 | E77: =C77*3 -> 590366.1 | F77: =C77*4 -> 787154.8 | G77: =C77*5 -> 983943.5 | N77: #N/A | O77: 7 | P77: #N/A | Q77: 17
A78: 75 | B78: 210920 | C78: 330140.6 | D78: =C78*2 -> 660281.2 | E78: =C78*3 -> 990421.8 | F78: =C78*4 -> 1320562.4 | G78: =C78*5 -> 1650703 | N78: #N/A | O78: 7 | P78: #N/A | Q78: 17
... A194: 191 | B194: 250632.5 | C194: 368643.4 | D194: =C194*2 -> 737286.8 | E194: =C194*3 -> 1105930.2 | F194: =C194*4 -> 1474573.6 | G194: =C194*5 -> 1843217 | N194: #N/A | O194: 7 | P194: #N/A | Q194: 17
A195: 192 | B195: 182280 | C195: 282791.9 | D195: =C195*2 -> 565583.8 | E195: =C195*3 -> 848375.7 | F195: =C195*4 -> 1131167.6 | G195: =C195*5 -> 1413959.5 | N195: 113893.75 | O195: 7 | P195: 132044.8 | Q195: 17
A196: 193 | B196: 218202.5 | C196: 314173.8 | D196: =C196*2 -> 628347.6 | E196: =C196*3 -> 942521.4 | F196: =C196*4 -> 1256695.2 | G196: =C196*5 -> 1570869 | N196: 116007.5 | O196: 7 | P196: 134551.4 | Q196: 17
A197: 194 | B197: 225895 | C197: 312794.9 | D197: =C197*2 -> 625589.8 | E197: =C197*3 -> 938384.7 | F197: =C197*4 -> 1251179.6 | G197: =C197*5 -> 1563974.5 | N197: 126506.25 | O197: 7 | P197: 138099.6 | Q197: 17
A198: 195 | B198: 301102.5 | C198: 376707 | D198: =C198*2 -> 753414 | E198: =C198*3 -> 1130121 | F198: =C198*4 -> 1506828 | G198: =C198*5 -> 1883535 | N198: 126537.5 | O198: 7 | P198: 141146.6 | Q198: 17
A199: 196 | B199: 152407.5 | C199: 243320.6 | D199: =C199*2 -> 486641.2 | E199: =C199*3 -> 729961.8 | F199: =C199*4 -> 973282.4 | G199: =C199*5 -> 1216603 | N199: 126767.5 | O199: 7 | P199: 149117.9 | Q199: 17
A200: 197 | B200: 205573.75 | C200: 248971 | D200: =C200*2 -> 497942 | E200: =C200*3 -> 746913 | F200: =C200*4 -> 995884 | G200: =C200*5 -> 1244855 | N200: 127231.25 | O200: 7 | P200: 149656.5 | Q200: 17
A201: 198 | B201: 255025 | C201: 351386 | D201: =C201*2 -> 702772 | E201: =C201*3 -> 1054158 | F201: =C201*4 -> 1405544 | G201: =C201*5 -> 1756930 | N201: #N/A | O201: 7 | P201: 153952.9 | Q201: 17
A202: 199 | B202: 203935 | C202: 333308.8 | D202: =C202*2 -> 666617.6 | E202: =C202*3 -> 999926.4 | F202: =C202*4 -> 1333235.2 | G202: =C202*5 -> 1666544 | N202: #N/A | O202: 7 | P202: 155999 | Q202: 17
A203: 200 | B203: 219430 | C203: 301049 | D203: =C203*2 -> 602098 | E203: =C203*3 -> 903147 | F203: =C203*4 -> 1204196 | G203: =C203*5 -> 1505245 | N203: #N/A | O203: 7 | P203: #N/A | Q203: 17
A204: 201 | B204: 205161.25 | C204: 256710.9 | D204: =C204*2 -> 513421.8 | E204: =C204*3 -> 770132.7 | F204: =C204*4 -> 1026843.6 | G204: =C204*5 -> 1283554.5 | N204: #N/A | O204: 7 | P204: #N/A | Q204: 17
A205: 202 | B205: 176348.75 | C205: 288347.1 | D205: =C205*2 -> 576694.2 | E205: =C205*3 -> 865041.3 | F205: =C205*4 -> 1153388.4 | G205: =C205*5 -> 1441735.5 | N205: #N/A | O205: 7 | P205: #N/A | Q205: 17
A206: 203 | B206: 248801.25 | C206: 319518.8 | D206: =C206*2 -> 639037.6 | E206: =C206*3 -> 958556.4 | F206: =C206*4 -> 1278075.2 | G206: =C206*5 -> 1597594 | N206: #N/A | O206: 7 | P206: #N/A | Q206: 17
A207: 204 | B207: 235313.75 | C207: 300236.1 | D207: =C207*2 -> 600472.2 | E207: =C207*3 -> 900708.3 | F207: =C207*4 -> 1200944.4 | G207: =C207*5 -> 1501180.5 | N207: #N/A | O207: 7 | P207: #N/A | Q207: 17
A208: 205 | B208: 187030 | C208: 254394.2 | D208: =C208*2 -> 508788.4 | E208: =C208*3 -> 763182.6 | F208: =C208*4 -> 1017576.8 | G208: =C208*5 -> 1271971 | N208: #N/A | O208: 7 | P208: #N/A | Q208: 17
A209: 206 | B209: 237917.5 | C209: 359230.5 | D209: =C209*2 -> 718461 | E209: =C209*3 -> 1077691.5 | F209: =C209*4 -> 1436922 | G209: =C209*5 -> 1796152.5 | N209: #N/A | O209: 7 | P209: #N/A | Q209: 17
A210: 207 | B210: 169932.5 | C210: 165070 | D210: =C210*2 -> 330140 | E210: =C210*3 -> 495210 | F210: =C210*4 -> 660280 | G210: =C210*5 -> 825350 | N210: #N/A | O210: 7 | P210: #N/A | Q210: 17
A211: 208 | B211: 268777.5 | C211: 405164.4 | D211: =C211*2 -> 810328.8 | E211: =C211*3 -> 1215493.2 | F211: =C211*4 -> 1620657.6 | G211: =C211*5 -> 2025822 | N211: #N/A | O211: 7 | P211: #N/A | Q211: 17
A212: 209 | B212: 329510 | C212: 435349.3 | D212: =C212*2 -> 870698.6 | E212: =C212*3 -> 1306047.9 | F212: =C212*4 -> 1741397.2 | G212: =C212*5 -> 2176746.5 | N212: #N/A | O212: 7 | P212: #N/A | Q212: 17
A213: 210 | B213: 263022.5 | C213: 382943.4 | D213: =C213*2 -> 765886.8 | E213: =C213*3 -> 1148830.2 | F213: =C213*4 -> 1531773.6 | G213: =C213*5 -> 1914717 | N213: #N/A | O213: 7 | P213: #N/A | Q213: 17
A214: 211 | B214: 294391.25 | C214: 419452.2 | D214: =C214*2 -> 838904.4 | E214: =C214*3 -> 1258356.6 | F214: =C214*4 -> 1677808.8 | G214: =C214*5 -> 2097261 | N214: #N/A | O214: 7 | P214: #N/A | Q214: 17
... A258: 255 | B258: 285120 | C258: 357861.7 | D258: =C258*2 -> 715723.4 | E258: =C258*3 -> 1073585.1 | F258: =C258*4 -> 1431446.8 | G258: =C258*5 -> 1789308.5 | N258: #N/A | O258: 7 | P258: #N/A | Q258: 17
A259: 256 | B259: 280221.25 | C259: 349694 | D259: =C259*2 -> 699388 | E259: =C259*3 -> 1049082 | F259: =C259*4 -> 1398776 | G259: =C259*5 -> 1748470 | N259: 335901.25 | O259: 7 | P259: 471437.8 | Q259: 17
A260: 257 | B260: 231203.75 | C260: 262987.6 | D260: =C260*2 -> 525975.2 | E260: =C260*3 -> 788962.8 | F260: =C260*4 -> 1051950.4 | G260: =C260*5 -> 1314938 | N260: 338637.5 | O260: 7 | P260: 475794.5 | Q260: 17
A261: 258 | B261: 145501.25 | C261: 171667.3 | D261: =C261*2 -> 343334.6 | E261: =C261*3 -> 515001.9 | F261: =C261*4 -> 686669.2 | G261: =C261*5 -> 858336.5 | N261: 339362.5 | O261: 7 | P261: 477763.9 | Q261: 17
A262: 259 | B262: 290853.75 | C262: 391816 | D262: =C262*2 -> 783632 | E262: =C262*3 -> 1175448 | F262: =C262*4 -> 1567264 | G262: =C262*5 -> 1959080 | N262: 339648.75 | O262: 7 | P262: 489411.4 | Q262: 17
A263: 260 | B263: 299591.25 | C263: 390605 | D263: =C263*2 -> 781210 | E263: =C263*3 -> 1171815 | F263: =C263*4 -> 1562420 | G263: =C263*5 -> 1953025 | N263: 340348.75 | O263: 7 | P263: #N/A | Q263: 17
A264: 261 | B264: 250438.75 | C264: 344624.6 | D264: =C264*2 -> 689249.2 | E264: =C264*3 -> 1033873.8 | F264: =C264*4 -> 1378498.4 | G264: =C264*5 -> 1723123 | N264: 347610 | O264: 7 | P264: #N/A | Q264: 17
A265: 262 | B265: 303373.75 | C265: 370487.8 | D265: =C265*2 -> 740975.6 | E265: =C265*3 -> 1111463.4 | F265: =C265*4 -> 1481951.2 | G265: =C265*5 -> 1852439 | N265: 354241.25 | O265: 7 | P265: #N/A | Q265: 17
A266: 263 | B266: 226442.5 | C266: 276140.2 | D266: =C266*2 -> 552280.4 | E266: =C266*3 -> 828420.6 | F266: =C266*4 -> 1104560.8 | G266: =C266*5 -> 1380701 | N266: 354398.75 | O266: 7 | P266: #N/A | Q266: 17
A267: 264 | B267: 204648.75 | C267: 280214.1 | D267: =C267*2 -> 560428.2 | E267: =C267*3 -> 840642.3 | F267: =C267*4 -> 1120856.4 | G267: =C267*5 -> 1401070.5 | N267: #N/A | O267: 7 | P267: #N/A | Q267: 17
A268: 265 | B268: 236046.25 | C268: 321864.6 | D268: =C268*2 -> 643729.2 | E268: =C268*3 -> 965593.8 | F268: =C268*4 -> 1287458.4 | G268: =C268*5 -> 1609323 | N268: #N/A | O268: 7 | P268: #N/A | Q268: 17
A269: 266 | B269: 296430 | C269: 397802.7 | D269: =C269*2 -> 795605.4 | E269: =C269*3 -> 1193408.1 | F269: =C269*4 -> 1591210.8 | G269: =C269*5 -> 1989013.5 | N269: #N/A | O269: 7 | P269: #N/A | Q269: 17
A270: 267 | B270: 317748.75 | C270: 392520.3 | D270: =C270*2 -> 785040.6 | E270: =C270*3 -> 1177560.9 | F270: =C270*4 -> 1570081.2 | G270: =C270*5 -> 1962601.5 | N270: #N/A | O270: 7 | P270: #N/A | Q270: 17
A271: 268 | B271: 234922.5 | C271: 339048.2 | D271: =C271*2 -> 678096.4 | E271: =C271*3 -> 1017144.6 | F271: =C271*4 -> 1356192.8 | G271: =C271*5 -> 1695241 | N271: #N/A | O271: 7 | P271: #N/A | Q271: 17
A272: 269 | B272: 160055 | C272: 192653.9 | D272: =C272*2 -> 385307.8 | E272: =C272*3 -> 577961.7 | F272: =C272*4 -> 770615.6 | G272: =C272*5 -> 963269.5 | N272: #N/A | O272: 7 | P272: #N/A | Q272: 17
A273: 270 | B273: 241600 | C273: 286963.1 | D273: =C273*2 -> 573926.2 | E273: =C273*3 -> 860889.3 | F273: =C273*4 -> 1147852.4 | G273: =C273*5 -> 1434815.5 | N273: #N/A | O273: 7 | P273: #N/A | Q273: 17
A274: 271 | B274: 243172.5 | C274: 317338.1 | D274: =C274*2 -> 634676.2 | E274: =C274*3 -> 952014.3 | F274: =C274*4 -> 1269352.4 | G274: =C274*5 -> 1586690.5 | N274: #N/A | O274: 7 | P274: #N/A | Q274: 17
A275: 272 | B275: 184652.5 | C275: 299428.6 | D275: =C275*2 -> 598857.2 | E275: =C275*3 -> 898285.8 | F275: =C275*4 -> 1197714.4 | G275: =C275*5 -> 1497143 | N275: #N/A | O275: 7 | P275: #N/A | Q275: 17
A276: 273 | B276: 185860 | C276: 288356.8 | D276: =C276*2 -> 576713.6 | E276: =C276*3 -> 865070.4 | F276: =C276*4 -> 1153427.2 | G276: =C276*5 -> 1441784 | N276: #N/A | O276: 7 | P276: #N/A | Q276: 17
A277: 274 | B277: 243578.75 | C277: 315656 | D277: =C277*2 -> 631312 | E277: =C277*3 -> 946968 | F277: =C277*4 -> 1262624 | G277: =C277*5 -> 1578280 | N277: #N/A | O277: 7 | P277: #N/A | Q277: 17
A278: 275 | B278: 250457.5 | C278: 380001.1 | D278: =C278*2 -> 760002.2 | E278: =C278*3 -> 1140003.3 | F278: =C278*4 -> 1520004.4 | G278: =C278*5 -> 1900005.5 | N278: #N/A | O278: 7 | P278: #N/A | Q278: 17
... A322: 319 | B322: 220796.25 | C322: 236107.2 | D322: =C322*2 -> 472214.4 | E322: =C322*3 -> 708321.6 | F322: =C322*4 -> 944428.8 | G322: =C322*5 -> 1180536 | N322: #N/A | O322: 7 | P322: #N/A | Q322: 17
A323: 320 | B323: 231903.75 | C323: 410261.3 | D323: =C323*2 -> 820522.6 | E323: =C323*3 -> 1230783.9 | F323: =C323*4 -> 1641045.2 | G323: =C323*5 -> 2051306.5
A324: 321 | B324: 230172.5 | C324: 330642.6 | D324: =C324*2 -> 661285.2 | E324: =C324*3 -> 991927.8 | F324: =C324*4 -> 1322570.4 | G324: =C324*5 -> 1653213
A325: 322 | B325: 226186.25 | C325: 346439.1 | D325: =C325*2 -> 692878.2 | E325: =C325*3 -> 1039317.3 | F325: =C325*4 -> 1385756.4 | G325: =C325*5 -> 1732195.5
A326: 323 | B326: 268443.75 | C326: 335912.9 | D326: =C326*2 -> 671825.8 | E326: =C326*3 -> 1007738.7 | F326: =C326*4 -> 1343651.6 | G326: =C326*5 -> 1679564.5
A327: 324 | B327: 329942.5 | C327: 433137.2 | D327: =C327*2 -> 866274.4 | E327: =C327*3 -> 1299411.6 | F327: =C327*4 -> 1732548.8 | G327: =C327*5 -> 2165686
A328: 325 | B328: 213903.75 | C328: 262821 | D328: =C328*2 -> 525642 | E328: =C328*3 -> 788463 | F328: =C328*4 -> 1051284 | G328: =C328*5 -> 1314105
A329: 326 | B329: 290958.75 | C329: 342865.1 | D329: =C329*2 -> 685730.2 | E329: =C329*3 -> 1028595.3 | F329: =C329*4 -> 1371460.4 | G329: =C329*5 -> 1714325.5
A330: 327 | B330: 218838.75 | C330: 297984.5 | D330: =C330*2 -> 595969 | E330: =C330*3 -> 893953.5 | F330: =C330*4 -> 1191938 | G330: =C330*5 -> 1489922.5
A331: 328 | B331: 214228.75 | C331: 326460.2 | D331: =C331*2 -> 652920.4 | E331: =C331*3 -> 979380.6 | F331: =C331*4 -> 1305840.8 | G331: =C331*5 -> 1632301
A332: 329 | B332: 250835 | C332: 371275.4 | D332: =C332*2 -> 742550.8 | E332: =C332*3 -> 1113826.2 | F332: =C332*4 -> 1485101.6 | G332: =C332*5 -> 1856377
A333: 330 | B333: 126767.5 | C333: 155999 | D333: =C333*2 -> 311998 | E333: =C333*3 -> 467997 | F333: =C333*4 -> 623996 | G333: =C333*5 -> 779995
A334: 331 | B334: 205033.75 | C334: 282519.7 | D334: =C334*2 -> 565039.4 | E334: =C334*3 -> 847559.1 | F334: =C334*4 -> 1130078.8 | G334: =C334*5 -> 1412598.5
... A1003: 1000 | B1003: 243040 | C1003: 299538.5 | D1003: =C1003*2 -> 599077 | E1003: =C1003*3 -> 898615.5 | F1003: =C1003*4 -> 1198154 | G1003: =C1003*5 -> 1497692.5

Sheet _STDS_DG7815CB
A1: Name | B1: Data Set #1 | C1: StatTools Version that generated sheet, Major | D1: 5 | E1: StatTools Version that generated sheet, Minor | F1: 7 | G1: StatTools Version that generated sheet, Revision | H1: 0 | I1: Min. StatTools Version to Read Sheet, Major (note ST versions before 1.1.1 don't perform forward compatibility check) | J1: 1 | K1: Min. StatTools Version to Read Sheet, Minor | L1: 0 | M1: Min. StatTools Version to Read Sheet, Revision | N1: 0 | O1: Min. StatTools version to not put up warning about extra info, Major | P1: 1 | Q1: Min. StatTools version to not put up warning about extra info, Minor | R1: 0 | S1: Min. StatTools version to not put up warning about extra info, Revision | T1: 0
A2: GUID | B2: DG7815CB
A3: Format Range | B3: =IF(B10>256,"TripUpST110AndEarlier",FALSE) -> FALSE
A4: Variable Layout | B4: Columns
A5: Variable Names In Cells | B5: TRUE
A6: Variable Names In 2nd Cells | B6: TRUE
A7: Data Set Ranges | B7: =Sheet3!$B$3:$G$1003 -> 235963.75
A8: Data Sheet Format | B8: 1
A9: Formula Eval Cell | B9: =1 -> 1
A10: Num Stored Vars | B10: 6
A12: 1 : Info | B12: VGAF41C44238FB209 | C12: var1 | D12: ST_Martingale | E12: TRUE | F12: 0 | G12: 4
A13: 1 : Ranges | B13: =Sheet3!$B$3:$B$1003 -> 190612.5
A14: 1 : MultiRefs
A15: 2 : Info | B15: VG2A400A4D1E3DE2A8 | C15: var2 | D15: ST_1Lot | E15: TRUE | F15: 0 | G15: 4
A16: 2 : Ranges | B16: =Sheet3!$C$3:$C$1003 -> 346520.1
A17: 2 : MultiRefs
A18: 3 : Info | B18: VG890A47F3142C11B | C18: var3 | D18: ST_2Lot | E18: TRUE | F18: 0 | G18: 4
A19: 3 : Ranges | B19: =Sheet3!$D$3:$D$1003 -> 564475
A20: 3 : MultiRefs
A21: 4 : Info | B21: VG380E624A11D35B9B | C21: var4 | D21: ST_3Lot | E21: TRUE | F21: 0 | G21: 4
A22: 4 : Ranges | B22: =Sheet3!$E$3:$E$1003 -> 1066361.1
A23: 4 : MultiRefs
A24: 5 : Info | B24: VG2150336B1B6AD98E | C24: var5 | D24: ST_4Lot | E24: TRUE | F24: 0 | G24: 4
A25: 5 : Ranges | B25: =Sheet3!$F$3:$F$1003 -> 1635420.8
A26: 5 : MultiRefs
A27: 6 : Info | B27: VG26E345CA224DEB05 | C27: var6 | D27: ST_5Lot | E27: TRUE | F27: 0 | G27: 4
A28: 6 : Ranges | B28: =Sheet3!$G$3:$G$1003 -> 1362398
A29: 6 : MultiRefs
